{"text_format":"1","workbook":"xlsx","n_sheets":35,"sheets":["Menu","1. Cover","2. User licence","3. Herd Input","Growth curve sheet","4. Growth chart","5. Herd details","6. Deep litter","SPU","7. Assumptions","8. Feed details","9. Water","10. Effluent pre-treatment","11. Pond design","Pond depth calc","K values","12. Diet ingredient data","13. Diet input","Diet calcs","14. DM DAMP","15. Output summary","16. Nutrient and solids flow","17. GHG Input","18. GHG Output - Scope 1 & 2","19. CAP Methane Potential","20. References","Standard diet data","Examples","GHG Output - Scope 1 2 3","Waste Input & MMS Emissions","Energy emissions","Transport emissions","Enteric Emissions","GWP Factors","GHG Scope 3 Ration Emissions"],"not_rendered":{"charts":16,"images":4,"macros":1,"external_links":1,"defined_names":66,"comments":17,"pivot_tables":0},"unopened":[],"bounds":{"document_bytes":16777216,"sheet_cells":100000,"rows_first":2000,"rows_last":500,"rows_between":2000,"halvings":0,"cell_chars":16384,"cell_head_chars":4096},"cells_cut":0,"cells_raw":0,"read":"whole","date_system":"1900"}

{"sheet":"Menu","index":0,"n_rows":30,"n_cols":11,"rows_kept":30,"cut":false,"hidden":false,"merged":[[6,1,6,9],[7,1,7,9],[8,1,8,9],[10,1,10,9],[16,1,16,9],[14,1,14,9],[15,1,15,9],[11,10,11,11],[11,1,11,9],[12,1,12,9],[13,1,13,9],[13,10,13,11]]}
[]
[]
[null,"PigBal 5"]
[null,"A model for estimating piggery waste production"]
[]
[null,"General instructions:"]
[null,"The user can navigate through the various worksheets, numbered 1 to 20, by using the scroll bar below. "]
[null,"Alternatively, the user can click on the links in the Table of Contents below. A 'Menu' link is provided in the upper left-hand corner of the relevant worksheets, to allow the user to return to this menu worksheet and navigate to the next relevant tab using the Table of Contents. "]
[null,"Data may be entered in each of the worksheets having yellow or green highlighted labels.  "]
[null,"Note the green tabs are new worksheets that have been added since the last version PigBal 4)."]
[null,"The worksheets having grey shading provide output data, graphs and details of some of the model calculations."]
[null,"Most users will progress through the worksheets in numerical order, entering relevant data in the grey shaded cells, as shown to the right.",null,null,null,null,null,null,null,null,"Data entry cell"]
[null,"All other cells are locked to prevent data entry and to protect the underlying calculations."]
[null,"All cells with red triangles in the upper-right-hand corners, as shown to the right, contain explanatory comments to assist the user in selecting appropriate input values.",null,null,null,null,null,null,null,null,"Explanatory comments"]
[null,"Some of the explanatory comments include typical / default data values and ranges."]
[null,"The explanatory comments can be viewed by resting the pointer over these cells."]
[null,"More comprehensive instructions are provided in the Technical manual (McGahan et al., 2025)."]
[]
[null,"Table of Contents"]
[]
[null,"1. Cover",null,null,"11. Pond design"]
[null,"2. User licence",null,null,"12. Diet ingredients"]
[null,"3. Herd Input",null,null,"13. Diet input"]
[null,"4. Growth chart",null,null,"14. DM DAMP"]
[null,"5. Herd details",null,null,"15. Output summary"]
[null,"6. Deep litter",null,null,"16. Nutrient and solids flow"]
[null,"7. Assumptions",null,null,"17. GHG Input"]
[null,"8. Feed details",null,null,"18. GHG Output - Scope 1 & 2"]
[null,"9. Water",null,null,"19. CAP Methane Potential"]
[null,"10. Effluent pre-treatment",null,null,"20. References"]

{"sheet":"1. Cover","index":1,"n_rows":18,"n_cols":9,"rows_kept":18,"cut":false,"hidden":false,"merged":[[2,0,2,9],[14,1,14,8],[8,1,8,8],[10,1,10,8],[9,1,9,8],[12,1,12,8],[13,1,13,8],[11,1,11,8]]}
["Menu",null,null,null,null,null,null,null,"Department of Primary Industries (Qld)"]
[]
["1. Cover"]
[]
[null,"PigBal 5"]
[null,"A model for estimating piggery waste production"]
[null,"Version 5.02 - 24th June 2025"]
[]
[null,"The PigBal 5 model uses a mass balance approach to estimate piggery waste production (solids and nutrients) based on detailed dietary data."]
[null,"PigBal 5 modelling results are typically used for:"]
[null,"—  Designing piggery effluent treatment and reuse systems.\n—  Estimating the energy output and economic viability of piggery biogas collection\n      and use systems.\n—  Estimating piggery GHG emissions for statutory reporting purposes.\n—  Preparing applications for new and expanding piggery developments."]
[null,"PigBal 5 was developed by Eugene McGahan (Agricultural Engineer) and Mary-Frances Copley (Integrity Ag) Sara Willis (DPI (Qld), and Alan Skerman (formerly DPI, Qld),  with funding assistance from Australian Pork Limited (APL) under Project No 2025/0044: Future proofing PigBal. It supersedes PigBal 4."]
[null,"PigBal 4 was developed by Alan Skerman, Sara Willis, Brendan Marquardt of DAF (Queensland), and Eugene McGahan (Agricultural Engineer)."]
[null,"PigBal 4 superseded the original version of the model which was developed by Casey, K.D., McGahan, E.J., Atzeni, M.A., Gardner, E.A. and Frizzo, R.E. (1996) PigBal version 1.0 - A nutrient mass balance model for intensive piggeries, DPI (Queensland)."]
[null,"Detailed guidance on the use of this model is provided in the Technical Manual\n(McGahan et al., 2025)."]
[]
[null,"Enquiries: "]
[null,"Phone:",null,"DAF Customer Service Centre 13 25 23"]

{"sheet":"2. User licence","index":2,"n_rows":96,"n_cols":5,"rows_kept":96,"cut":false,"hidden":false,"merged":[[91,2,91,4],[18,3,18,4],[19,3,19,4],[20,3,20,4],[39,3,39,4],[40,3,40,4],[46,3,46,4],[47,3,47,4],[87,2,87,4],[89,2,89,4],[24,2,24,4],[25,2,25,4],[29,2,29,4],[61,3,61,4],[62,3,62,4],[66,3,66,4],[95,2,95,4],[1,0,1,5],[77,2,77,4],[79,2,79,4],[83,2,83,4],[85,2,85,4],[55,2,55,4],[59,2,59,4],[64,2,64,4],[75,2,75,4],[71,3,71,4],[33,2,33,4],[37,2,37,4],[44,2,44,4],[53,2,53,4],[49,2,49,4],[22,2,22,4],[16,2,16,4],[10,2,10,4],[12,2,12,4],[6,2,6,4]]}
["Menu"]
["2. PigBal user licence"]
[]
[]
[null,"Acknowledgements "]
[]
[null,null,"PigBal consists of an updated software program and user technical manual developed from the existing Queensland Government PigBal program (PigBal). PigBal is jointly owned by the State of Queensland through the Department of Primary Industries (DPI) and Australian Pork Limited (APL) (together, the Joint Owners), and is distributed through the APL website."]
[]
[null,"Grant of licence"]
[]
[null,"1.","PigBal is provided to you, the user, under the terms and conditions of this licence agreement (Licence). By using and exercising any of the rights granted by this Licence, you accept and agree to be bound by its terms and conditions.  The Joint Owners grant you the rights contained in clause 2 of this Licence in consideration of your acceptance of the terms and conditions of this Licence."]
[]
[null,"2.","The Joint Owners hereby grant you, the user, a world-wide, royalty-free, non-exclusive licence to use PigBal on the terms and conditions of this Licence."]
[]
[null,"Restrictions on Use"]
[]
[null,"3.","You must not, and must not authorise others to:"]
[]
[null,null,"(a)","use PigBal for unlawful purposes, misuse PigBal, or use PigBal with the intention of encroaching upon the privacy of an individual or company or other organisation; "]
[null,null,"(b)","sell, rent, lease, or sub-licence PigBal; or"]
[null,null,"(c)","engineer, decompile, disassemble or create modified or adapted derivative versions from PigBal. "]
[]
[null,"4.","You may distribute unaltered copies of  PigBal provided each copy includes these intact Licence terms including the attribution and acknowledgement of ownership of PigBal by the Joint Owners, the disclaimers and the below copyright notices of the Joint Owners."]
[]
[null,null,"© 2025 The State of Queensland, Department of Primary Industries ABN 66 934 348 189"]
[null,null,"© 2025 Australian Pork Limited ABN 83 092 783 278"]
[]
[null,"Proprietary Notices"]
[]
[null,"5.","All intellectual property rights in PigBal are retained by the Joint Owners. You acknowledge and agree that you have no rights of ownership in PigBal and all intellectual property rights in PigBal are retained by the Joint Owners."]
[]
[null,"Copyright "]
[]
[null,"6.","PigBal software, user and technical manual are protected by Copyright Act 1968 (Cth).  Copyright in PigBal resides with the Joint Owners. Any use of PigBal other than as authorised under this Licence or Copyright Act 1968 (Cth) is prohibited."]
[]
[null,"Use of names"]
[]
[null,"7.","Unless otherwise permitted by this Licence, you must not without written permission:"]
[]
[null,null,"(a)","use the name or any trade mark or logo DPI or APL; or "]
[null,null,"(b)","claim any sponsorship, endorsement, approval, affiliation or other association with DPI or APL."]
[]
[null,"Term"]
[]
[null,"8.","Your rights under this Licence will terminate automatically and with immediate effect if:"]
[]
[null,null,"(a)","all copies of PigBal in your possession are destroyed; or"]
[null,null,"(b)","you fail to adhere to the conditions of this Licence or the provisions of the Copyright Act 1968 (Cth)."]
[]
[null,"9.","Upon termination of this Licence, you must cease all use of PigBal and destroy all copies, full or partial, of PigBal in your possession."]
[]
[null,"Disclaimers"]
[]
[null,"10.","PigBal has been developed to assist users to identify issues and efficiencies involved in their commercial and government businesses.  You are responsible for determining that PigBal is suitable for your own use or purpose. PigBal must not be used or relied upon by you for any purpose which may expose you or any other person to loss or damage. You should conduct your own inquiries and rely on your own independent professional advice. Whilst every care has been taken in preparing PigBal and its supporting documentation, the Joint Owners accept no responsibility for decisions or actions taken as a result of any data, information, design, statement or report, express or implied, contained in or derived from PigBal. "]
[]
[null,"11.","You accept sole responsibility and risk associated with your use of PigBal and your use of reports, data or any other results produced by PigBal, irrespective of the purpose to which such use, reports, data or results are applied."]
[]
[null,"Liability, indemnity and limited warranty"]
[]
[null,"12.","Subject to clause 13, you (the user of PigBal, or the user of the data contained in PigBal) acknowledge and agree that:"]
[]
[null,null,"(a)","neither DAF nor APL make any representations or warranties in relation to PigBal; and"]
[null,null,"(b)","to the extent permitted by law, all warranties relating to accuracy, reliability, completeness, currency or suitability for any particular purpose and all liability for any loss, damage or costs (including consequential damage) incurred in any way (including but not limited to that arising from negligence) in connection with any use of or reliance on PigBal are excluded."]
[]
[null,"13.","The Competition and Consumer Act 2010 (Cth) may confer conditions, warranties, rights, guarantees and remedies on you in relation to the provision by the Joint Owners of goods and services, which cannot be excluded, restricted or modified. To the extent permitted by law, liability under any condition, warranty, right, guarantee or remedy which cannot legally be excluded is limited to:"]
[]
[null,null,"(a)","in the case of goods:"]
[]
[null,null,null,"i.","the replacement of the goods or the supply of equivalent goods; or"]
[null,null,null,"ii.","the repair of the goods; and "]
[]
[null,null,"(b)","in the case of services, supplying the services again."]
[]
[null,null,"All other statutory or implied terms, conditions, warranties and guarantees are excluded to the extent permitted by law."]
[]
[null,"14.","Except for rights, guarantees and remedies which cannot be excluded, the Joint Owner's are not liable to you or to any third party for any losses, costs or expenses, including any direct or indirect, incidental, consequential, special or exemplary damages or lost profit, resulting from any use or misuse of PigBal or the information contained on PigBal. "]
[]
[null,"15.","You agree to indemnify DAF and APL and their officers and employees against any loss, cost, expense, damage and liability of any kind (including consequential damage and liability in negligence) arising directly or indirectly from or related to any claim relating to your use of PigBal or any product made from your use of PigBal.  "]
[]
[null,"16.","Your liability to indemnify DAF will be reduced proportionally to the extent that any negligent act or omission or breach of this licence by DAF caused the loss or liability.  Your liability to indemnify APL will be reduced proportionally to the extent that any negligent act or omission or breach of this licence by APL caused the loss or liability."]
[]
[null,"General"]
[]
[null,"17.","The Joint Owners reserve the right at any time to vary this Licence.  Such variations will be effective immediately and incorporated into this Licence."]
[]
[null,"18.","You must not assign this Licence or any part of it or in any way deal with this Licence without obtaining the prior written consent of the Joint Owners."]
[]
[null,"19.","Any term which is held to be illegal, invalid or unenforceable will be severable and will not affect or impair the legality, validity or enforceability of the remaining terms."]
[]
[null,"20.","This Licence is governed by the laws of the State of Queensland, Australia."]
[]
[null,"21.","This Licence constitutes the entire agreement between the Joint Owners and you in relation to the subject matter it deals with, and supersedes all previous agreements or understandings between the parties in connection with its subject matter."]
[]
[null,"Privacy"]
[]
[null,"22.","The Joint Owners are committed to protecting user privacy as specified under the Information Privacy Act 2009 (Qld) and Privacy Act 1988 (Cth). The Joint Owners understand and appreciate that users of PigBal are concerned about their privacy and the confidentiality and security of information they provide to the Joint Owners and will collect, use, disclose and handle your information in accordance with relevant privacy legislation."]

{"sheet":"3. Herd Input","index":3,"n_rows":72,"n_cols":26,"rows_kept":72,"cut":false,"hidden":false,"merged":[[1,0,1,9],[4,2,4,8],[6,2,6,8],[8,2,8,8]]}
["Menu"]
["3. Herd input"]
[]
[]
[null,"Piggery owner(s):"]
[]
[null,"Piggery name and locality:"]
[]
[null,"PigBal run description:","1000 sow farrow to finish example"]
[]
[null,"Breeder herd","Value","Units",null,"Grower herd","Value","Units"]
[]
[null,"Number of sows",1000,"sows",null,"Pig ages (at the end of each stage)"]
[null,"Number of boars",10,"boars",null,"Sucker",{"$f":"C38","v":24},"days"]
[null,null,null,null,null,"Birth",0,"weeks",null,null,null,null,"Entered pig class","Entered exit age (wk)","Entered exit live weight (kg)",null,null,"NEGP exit live weight (kg)","NEGP pig class",null,"Combined pig class","Exit live weight (kg)",null,"Exit age (wk)","Time (wk/stage)","Mortality rate (%)"]
[null,"Sow culling percentage",50,"%",null,"Sucker",{"$f":"G14/7","v":3.4285714285714284},"weeks",null,null,null,null,"Suckers",{"$f":"G16","v":3.4285714285714284},{"$f":"G31","v":7},null,null,{"$f":"O35","v":8},{"$f":"M35","v":"NEGP Sucker"},null,{"$f":"VLOOKUP(V16, R$16:S$27,2,FALSE)","v":"Unallocated"},{"$f":"SMALL(R$16:R$27,1)","v":0},{"$f":"VLOOKUP(U16,M$16:N$27,2, FALSE)","v":0},{"$f":"IF(W16=0, X15+(W17-X15)*(V16-V15)/(V17-V15), W16)","v":{"$error":"#VALUE!"}},{"$f":"X16","v":{"$error":"#VALUE!"}},{"$f":"G51","v":12}]
[null,"Boar working life",1.5,"years",null,"Weaner",10,"weeks",null,null,null,"Weaner 1",{"$f":"IF(F17<>\"\", F17, \"Unallocated\")","v":"Weaner"},{"$f":"G17","v":10},{"$f":"G32","v":35},null,null,{"$f":"O36","v":25},{"$f":"M36","v":"NEGP Weaner"},null,"Unallocated",{"$f":"SMALL(R$16:R$27,2)","v":0},{"$f":"VLOOKUP(U17,M$16:N$27,2, FALSE)","v":0},{"$f":"IF(W17=0, W16+(W18-W16)*(V17-V16)/(V18-V16), W17)","v":0},{"$f":"X17-X16","v":{"$error":"#VALUE!"}},{"$f":"G$52*Y17/(X$27-X$16)","v":{"$error":"#VALUE!"}}]
[null,"Breeder mortalities",7.8,"%",null,"Porker",14,"weeks",null,null,null,"Weaner 2","Porker",14,60,null,null,{"$f":"O37","v":55},{"$f":"M37","v":"NEGP Grower"},null,"Suckers",{"$f":"SMALL(R$16:R$27,3)","v":7},3.4285714285714284,3.4285714285714284,{"$f":"X18-X17","v":3.4285714285714284},{"$f":"G$52*Y18/(X$27-X$16)","v":{"$error":"#VALUE!"}}]
[null,"Gilt waste rate",14,"%",null,"Grower",18,"weeks",null,null,null,"Grower 1","Grower",18,85,null,null,{"$f":"O38","v":100},{"$f":"M38","v":"NEGP Finisher"},null,"NEGP Sucker",{"$f":"SMALL(R$16:R$27,4)","v":8},0,3.2380952380952381,-0.19047619047619024,{"$error":"#VALUE!"}]
[null,null,null,null,null,"Finisher",22,"weeks",null,null,null,"Grower 2","Finisher",22,110,null,null,{"$f":"O39","v":130},{"$f":"M39","v":"NEGP Heavy finisher"},null,"NEGP Weaner",{"$f":"SMALL(R$16:R$27,5)","v":25},0,6.2962962962962967,3.0582010582010586,{"$error":"#VALUE!"}]
[null,"Percent gilts purchased",0,"%",null,"Unallocated",null,"weeks",null,null,null,"Finisher 1","Unallocated",0,0,null,null,{"$f":"O16","v":7},{"$f":"M16","v":"Suckers"},null,"Weaner",{"$f":"SMALL(R$16:R$27,6)","v":35},10,10,3.7037037037037033,{"$error":"#VALUE!"}]
[null,"Percent boars purchased",0,"% ",null,"Unallocated",null,"weeks",null,null,null,"Finisher 2","Unallocated",0,0,null,null,35,"Weaner",null,"NEGP Grower",{"$f":"SMALL(R$16:R$27,7)","v":55},0,13.2,3.1999999999999993,{"$error":"#VALUE!"}]
[null,null,null,null,null,null,null,null,null,null,null,null,{"$f":"M35","v":"NEGP Sucker"},0,null,null,null,60,"Porker",null,"Porker",{"$f":"SMALL(R$16:R$27,8)","v":60},14,14,0.80000000000000071,{"$error":"#VALUE!"}]
[null,"Farrowing rate",84.6,"%",null,"Average daily live weight gain (ADG)",null,null,null,null,null,null,{"$f":"M36","v":"NEGP Weaner"},0,null,null,null,85,"Grower",null,"Grower",{"$f":"SMALL(R$16:R$27,9)","v":85},18,18,4,{"$error":"#VALUE!"}]
[null,"Farrowing index",2.2799999999999998,"farrowings. sow-1. yr-1",null,"Average daily live weight gain (ADG)",675,"g. day-1 [birth to 100 kg live weight]",null,null,null,null,{"$f":"M37","v":"NEGP Grower"},0,null,null,null,110,"Finisher",null,"NEGP Finisher",{"$f":"SMALL(R$16:R$27,10)","v":100},0,20.399999999999999,2.3999999999999986,{"$error":"#VALUE!"}]
[null,null,null,null,null,"Weight gain rating",{"$f":"IF(G25<600, \"Outside normal range\", IF(G25<'Growth curve sheet'!U21, 'Growth curve sheet'!S21,IF(G25<'Growth curve sheet'!U22,'Growth curve sheet'!S22,IF(G25<'Growth curve sheet'!U23, 'Growth curve sheet'!S23,IF(G25>850, \"Outside normal range\", 'Growth curve sheet'!S24)))))","v":"Average"},null,null,null,null,null,{"$f":"M38","v":"NEGP Finisher"},0,null,null,null,0,"Unallocated",null,"Finisher",{"$f":"SMALL(R$16:R$27,11)","v":110},22,22,1.6000000000000014,{"$error":"#VALUE!"}]
[null,"No of piglets born alive per litter",11.8,"pigs. litter-1",null,"Average age at 100 kg live weight",{"$f":"1000*(100-1.4)/(7*G25)","v":20.867724867724867},"weeks",null,null,null,null,{"$f":"M39","v":"NEGP Heavy finisher"},0,null,null,null,0,"Unallocated",null,"NEGP Heavy finisher",{"$f":"SMALL(R$16:R$27,12)","v":130},0,26,4,{"$error":"#VALUE!"}]
[null,"No of piglets stillborn per litter",0.88,"pigs. litter-1"]
[null,null,null,null,null,"Pig live weights (at the end of each stage)",null,null,"Predicted",null,null,null,null,null,null,null,null,null,null,null,null,null,null,null,null,{"$f":"SUM(Z17:Z27)","v":{"$error":"#VALUE!"}}]
[null,"Gilt age at selection / purchase",22,"weeks",null,"Birth",1.4,"kg. pig-1",1.4,null,null,{"$f":"G19*7","v":126}]
[null,"Boar age at selection / purchase",22,"weeks",null,"Sucker",7,"kg. pig-1",{"$f":"'Growth curve sheet'!V7","v":6.4816090754454843},null,null,{"$f":"I34/L30*1000","v":649.40174341587328}]
[null,"Gilt age at mating",30,"weeks",null,{"$f":"M17","v":"Weaner"},35,"kg. pig-1",{"$f":"'Growth curve sheet'!V8","v":32.789947900000016}]
[null,"Sow live weight at mating",145,"kg",null,"Porker",60,"kg. pig-1",{"$f":"'Growth curve sheet'!V9","v":56.293222946800029},null,null,null,"National Environmental Guidelines for Piggeries: Table 4.1"]
[null,"Sow live weight at farrowing",200,"kg",null,"Grower",85,"kg. pig-1",{"$f":"'Growth curve sheet'!V10","v":81.82461967040004},null,null,null,"NEGP pig class","NEGP Entry live weight (kg)","NEGP exit live weight (kg)","SPU factor (SPU/pig)"]
[null,"Boar live weight at turnoff",300,"kg",null,"Finisher",110,"kg. pig-1",{"$f":"'Growth curve sheet'!V11","v":106.38681155560008},null,null,null,"NEGP Sucker",1.4,8,0.1]
[null,"Average cull sow dressed weight",130,"kg",null,"Unallocated",null,"kg. pig-1",{"$f":"'Growth curve sheet'!V12","v":""},null,null,null,"NEGP Weaner",8,25,0.5]
[null,null,null,null,null,"Unallocated",null,"kg. pig-1",{"$f":"'Growth curve sheet'!V13","v":""},null,null,null,"NEGP Grower",25,55,1]
[null,"Lactation duration",24,"days",null,null,null,null,null,null,null,null,"NEGP Finisher",55,100,1.6]
[null,null,null,null,null,"Pig purchases (Enter values for the START of each stage)",null,null,null,null,null,null,"NEGP Heavy finisher",100,130,1.8]
[null,"Dressing percentage of progeny",76,"% ",null,"No of pigs purchased per year"]
[null,null,null,null,null,"Gilts",{"$f":"'3. Herd Input'!C21*'3. Herd Input'!C59/100","v":0},"pigs. year-1"]
[null,"Herd performance indicators",null,null,null,"Boars",{"$f":"'3. Herd Input'!C61*'3. Herd Input'!C22/100","v":0},"pigs. year-1"]
[null,"Farrowing interval",{"$f":"IF(C25=0, 0, 365/C25)","v":160.08771929824562},"days",null,{"$f":"M17","v":"Weaner"},null,"pigs. year-1"]
[null,"Empty days",{"$f":"IF(C43=0, 0, C43-('7. Assumptions'!D25+C38))","v":22.087719298245617},"days",null,"Porker",null,"pigs. year-1"]
[null,"Matings per 4 weeks",{"$f":"IF(C24=0, 0, C13*C25/(C24/100)/(365/(7*4)))","v":206.7424463227436},"matings",null,"Grower",null,"pigs. year-1"]
[null,"Farrowings per 4 weeks",{"$f":"C13*C25/(365/(7*4))","v":174.9041095890411},"farrowings",null,"Finisher",null,"pigs. year-1"]
[null,"Farrowings per year",{"$f":"C13*C25","v":2280},"farrowings. yr-1",null,"Unallocated",null,"pigs. year-1"]
[null,"Piglets born per litter",{"$f":"C27+C28","v":12.680000000000001},"piglets. litter-1",null,"Unallocated",null,"pigs. year-1"]
[null,"Piglets born per sow per year",{"$f":"C48*C25","v":28.910399999999999},"piglets. sow-1. yr-1"]
[null,"Piglets stillborn per year",{"$f":"'3. Herd Input'!C47*'3. Herd Input'!C28","v":2006.4},"piglets. yr-1",null,"Pig mortalities"]
[null,"Pigs weaned per litter",{"$f":"C27-('5. Herd details'!X34/100*C27)","v":10.384},"pigs. litter-1",null,"Pre-weaning",12,"%"]
[null,"Pigs weaned per sow per year",{"$f":"C51*C25","v":23.675519999999999},"pigs. sow-1. yr-1",null,"Post-weaning",5,"%"]
[null,"Pigs reared per litter",{"$f":"C51* (100 -G52)/100","v":9.8648000000000007},"pigs. litter-1",null,{"$f":"M17","v":"Weaner"},{"$f":"IF(G17=\"\",0,G$52*(G17-G16)/(MAX(G$17:G$22)-G$16))","v":1.7692307692307689},"%"]
[null,"Pigs reared per sow per year",{"$f":"C53*C25","v":22.491744000000001},"pigs. sow-1. yr-1",null,"Porker",1.0769230769230769,"%"]
[null,null,null,null,null,"Grower",1.0769230769230769,"%"]
[null,"Sow deaths",{"$f":"'5. Herd details'!E31+'5. Herd details'!E32","v":78.068370012331016},"sows. yr-1",null,"Finisher",1.0769230769230769,"%"]
[null,"Sow culling",{"$f":"C16*C13/100","v":500},"sows. yr-1",null,"Unallocated",0,"%"]
[null,"Gilt wastage",{"$f":"C19*(C56+C57)/100","v":80.92957180172634},"gilts. yr-1",null,"Unallocated",0,"%"]
[null,"Gilts required per year",{"$f":"SUM(C56:C58)","v":658.9979418140573},"gilts. yr-1"]
[null,null,null,null,null,"Pig sales"]
[null,"Boars required per year",{"$f":"IF(C14=0, 0, C14/C17)","v":6.666666666666667},"boars",null,"% pigs sold at the END of each stage:",null,"%"]
[null,"Pigs sold per litter",{"$f":"IF(C13=0, 0, C51-((((C59*(100-C21)/100)+(C61*(100-C22)/100))/(C13*C25))+(('5. Herd details'!E35+'5. Herd details'!E37+'5. Herd details'!E39)/(C46*365/(7*4)))))","v":9.7996587043519661},"pigs",null,"Sucker",0,"%"]
[null,"Pigs sold per sow per year",{"$f":"C62*C25","v":22.343221845922482},"pigs",null,{"$f":"M17","v":"Weaner"},0,"%"]
[null,"Average parity",{"$f":"IF(C16=0, 0,C25/(C16/100))","v":4.5599999999999996},"farrowings. sow-1",null,"Porker",0,"%"]
[null,"Sow : Boar ratio",{"$f":"IF(C14=0, 0, C13/C14)","v":100},null,null,"Grower",0,"%"]
[null,null,null,null,null,"Finisher",100,"%"]
[null,"Backfatters sold per year",{"$f":"'5. Herd details'!G29+'5. Herd details'!G30+'5. Herd details'!G31","v":587.13759617176697},"pigs. year-1",null,"Unallocated",null,"%"]
[null,null,null,null,null,"Unallocated",null,"%"]
[]
[]
[null,"Piggery examples:",null,null,null,"Most recent example entered:"]
[null,null,null,null,null,"1000 sow farrow to finish"]

{"sheet":"Growth curve sheet","index":4,"n_rows":262,"n_cols":23,"rows_kept":262,"cut":false,"hidden":true,"merged":[]}
["Growth curve sheet",null,null,"Standard values","ADG 550 g/day","ADG 600 g/day","ADG 650 g/day","ADG 700 g/day","ADG 750 g/day","ADG 800 g/day",null,"Entered value"]
["Average daily growth (ADG) - birth to 100 kg (g/day)",null,null,500,550,600,650,700,750,800,null,{"$f":"'3. Herd Input'!G25","v":675},null,"y = -0.00006x2 + 0.0334x + 0.1301"]
["Interpolated age at 100 kg live weight (weeks)",null,null,{"$f":"VLOOKUP(100,D7:M202,10,TRUE)","v":28},{"$f":"VLOOKUP(100,E7:N202,9,TRUE)","v":25.571428571428573},{"$f":"VLOOKUP(100,F7:O202,8,TRUE)","v":23.428571428571427},{"$f":"VLOOKUP(100,G7:S202,7,TRUE)","v":21.571428571428573},{"$f":"VLOOKUP(100,H7:T202,6,TRUE)","v":20.142857142857142},{"$f":"VLOOKUP(100,I7:U202,5,TRUE)","v":18.714285714285715},{"$f":"VLOOKUP(100,J7:V202,4,TRUE)","v":17.428571428571427},null,{"$f":"VLOOKUP(100,L7:X202,2,TRUE)","v":20.857142857142858}]
["Interpolated ADG - birth to 100 kg (g/day)",null,null,{"$f":"1000*(100-1.4)/(D3*7)","v":503.0612244897959},550.8379888268156,601.21951219512198,652.9801324503311,699.29078014184392,752.67175572519079,808.19672131147547,null,{"$f":"1000*(100-1.4)/(L3*7)","v":675.34246575342468}]
[null,null,null,null,null,null,null,null,null,null,null,null,null,null,null,null,null,null,null,null,"Table lookup","Equation"]
["Age (days)","Age (weeks)",null,null,null,"Pig live weight (kg)",null,null,null,null,null,"Pig live weight (kg)","Age (weeks)","Feed ingested (kg/day)","S Feed ingested (kg)","S Feed fed (kg)","S Feed wasted (kg)",null,{"$f":"'3. Herd Input'!F30","v":"Birth"},"Entered age (weeks)","Est live weight (kg)"]
[1,{"$f":"A7/7","v":0.14285714285714285},null,{"$f":" (-0.00003006*D$2 + 0.0124848506)*$B7^3+(-0.000000811*D$2^2 + 0.0020904273*D$2 - 0.6502866461)*$B7^2+(0.000000029*D$2^3 - 0.000042999*D$2^2 + 0.0194860819*D$2 - 2.5845091041)*$B7+(-0.0000000384*D$2^3 + 0.000053716*D$2^2 - 0.0223500993*D$2 + 4.9852264783)","v":2.4479173656965032},2.5510666928539369,2.6093782649093313,2.5971592247198259,{"$f":" (-0.00003006*H$2 + 0.0124848506)*$B7^3+(-0.000000811*H$2^2 + 0.0020904273*H$2 - 0.6502866461)*$B7^2+(0.000000029*H$2^3 - 0.000042999*H$2^2 + 0.0194860819*H$2 - 2.5845091041)*$B7+(-0.0000000384*H$2^3 + 0.000053716*H$2^2 - 0.0223500993*H$2 + 4.9852264783)","v":2.4887167151425671},{"$f":" (-0.00003006*I$2 + 0.0124848506)*$B7^3+(-0.000000811*I$2^2 + 0.0020904273*I$2 - 0.6502866461)*$B7^2+(0.000000029*I$2^3 - 0.000042999*I$2^2 + 0.0194860819*I$2 - 2.5845091041)*$B7+(-0.0000000384*I$2^3 + 0.000053716*I$2^2 - 0.0223500993*I$2 + 4.9852264783)","v":2.258357879034695},1.8803898592533541,null,{"$f":" (-0.00003006*L$2 + 0.0124848506)*$B7^3+(-0.000000811*L$2^2 + 0.0020904273*L$2 - 0.6502866461)*$B7^2+(0.000000029*L$2^3 - 0.000042999*L$2^2 + 0.0194860819*L$2 - 2.5845091041)*$B7+(-0.0000000384*L$2^3 + 0.000053716*L$2^2 - 0.0223500993*L$2 + 4.9852264783)","v":2.5565717071760932},{"$f":"B7","v":0.14285714285714285},{"$f":" -0.00006*L7^2 + 0.0334*L7 + 0.1301","v":0.21509733148604551},{"$f":"N7","v":0.21509733148604551},{"$f":"O7/(1-U$56)","v":0.24952902737703092},{"$f":"P7-O7","v":3.4431695890985409E-2},null,{"$f":"'3. Herd Input'!F31","v":"Sucker"},{"$f":"IF('3. Herd Input'!G16=\"\", \"\", '3. Herd Input'!G16)","v":3.4285714285714284},{"$f":"IF(T7=\"\",\"\",VLOOKUP(T7,B$7:L$230,11,TRUE))","v":6.4914868811136976},{"$f":" IF(T7=\"\", \"\", (-0.0000300671*L$2 + 0.0124897547)*T7^3+(-0.0000008113*L$2^2 + 0.0020909087*L$2 - 0.65050342)*T7^2+(0.000000029*L$2^3 - 0.0000430323*L$2^2 + 0.0195041468*L$2 - 2.587606895)*T7+(-0.0000000384*L$2^3 + 0.0000537791*L$2^2 - 0.0223853981*L$2 + 4.991589155))","v":6.4816090754454843}]
[2,{"$f":"A8/7","v":0.2857142857142857},null,2.4644573408720136,2.5594729896621002,2.6128676180440249,2.6020555117320705,{"$f":" (-0.00003006*H$2 + 0.0124848506)*$B8^3+(-0.000000811*H$2^2 + 0.0020904273*H$2 - 0.6502866461)*$B8^2+(0.000000029*H$2^3 - 0.000042999*H$2^2 + 0.0194860819*H$2 - 2.5845091041)*$B8+(-0.0000000384*H$2^3 + 0.000053716*H$2^2 - 0.0223500993*H$2 + 4.9852264783)","v":2.5044509564405262},2.2974682378836748,1.9585216417758033,null,2.5655138973516034,0.2857142857142857,{"$f":" -0.00006*L8^2 + 0.0334*L8 + 0.1301","v":0.21539325247809329},{"$f":"O7+N8","v":0.43049058396413881},0.4994013452859154,{"$f":"P8-O8","v":6.8910761321776592E-2},null,{"$f":"'3. Herd Input'!F32","v":"Weaner"},{"$f":"IF('3. Herd Input'!G17=\"\", \"\", '3. Herd Input'!G17)","v":10},{"$f":"IF(T8=\"\",\"\",VLOOKUP(T8,B$7:L$230,11,TRUE))","v":32.842164974799971},32.789947900000016]
[3,0.42857142857142855,null,2.488752232262684,2.5781099406154531,2.6288978530498559,2.621637398137318,{"$f":" (-0.00003006*H$2 + 0.0124848506)*$B9^3+(-0.000000811*H$2^2 + 0.0020904273*H$2 - 0.6502866461)*$B9^2+(0.000000029*H$2^3 - 0.000042999*H$2^2 + 0.0194860819*H$2 - 2.5845091041)*$B9+(-0.0000000384*H$2^3 + 0.000053716*H$2^2 - 0.0223500993*H$2 + 4.9852264783)","v":2.5368500044492728},2.3550571005571443,2.0567801150323635,null,2.5901519793545185,0.42857142857142855,{"$f":" -0.00006*L9^2 + 0.0334*L9 + 0.1301","v":0.21620854287387165},{"$f":"O8+N9","v":0.64669912683801045},0.75021946116487659,0.10352033432686614,null,{"$f":"'3. Herd Input'!F33","v":"Porker"},{"$f":"IF('3. Herd Input'!G18=\"\", \"\", '3. Herd Input'!G18)","v":14},{"$f":"IF(T9=\"\",\"\",VLOOKUP(T9,B$7:L$230,11,TRUE))","v":56.372288149199946},56.293222946800029]
[4,0.5714285714285714,null,2.5207575183046669,2.6069067326049575,2.6573718652725966,2.6557814877361516,2.5857641714241999,2.4309484877653076,2.1749630081880489,null,2.6303494112128276,0.5714285714285714,0.21753854605300438,{"$f":"O9+N10","v":0.86423767289101483},1.002580480423459,0.13834280753244421,null,{"$f":"'3. Herd Input'!F34","v":"Grower"},{"$f":"IF('3. Herd Input'!G19=\"\", \"\", '3. Herd Input'!G19)","v":18},{"$f":"IF(T10=\"\",\"\",VLOOKUP(T10,B$7:L$230,11,TRUE))","v":81.931295534799915},81.82461967040004]
[5,0.7142857142857143,null,2.5604286774341127,2.6457925525215757,2.6981925500580193,2.7043643843291543,2.6510437696207014,2.524966420218369,2.3128680504078742,null,2.6859696509545183,0.7142857142857143,0.21937852036392999,1.0836161932549448,1.2570760077999805,0.17345981454503567,null,{"$f":"'3. Herd Input'!F35","v":"Finisher"},{"$f":"IF('3. Herd Input'!G20=\"\", \"\", '3. Herd Input'!G20)","v":22},{"$f":"IF(T11=\"\",\"\",VLOOKUP(T11,B$7:L$202,11,TRUE))","v":106.52181776199987},106.38681155560008]
[6,0.8571428571428571,null,2.607721188087174,2.6946965872562694,2.7512628027518971,2.7672626917169088,2.7325391112941708,2.6369349186265323,2.4702929708568542,null,2.7568761566075795,0.8571428571428571,0.22172364166212088,1.3053398349170657,1.5142920516635079,0.20895221674644215,null,{"$f":"'3. Herd Input'!F36","v":"Unallocated"},{"$f":"IF('3. Herd Input'!G21=\"\", \"\", '3. Herd Input'!G21)","v":""},{"$f":"IF(T12=\"\",\"\",VLOOKUP(T12,B$7:L$202,11,TRUE))","v":""},""]
[7,1,null,2.6625905287000022,2.7535480237000014,2.8164855187000022,2.8443530136999988,2.8301005087000015,2.7666780037000018,2.6470354987000029,null,2.8429323861999993,1,0.22456900582592967,1.5299088407429955,1.7748089312344031,0.2449000904914076,null,{"$f":"'3. Herd Input'!F37","v":"Unallocated"},{"$f":"IF('3. Herd Input'!G22=\"\", \"\", '3. Herd Input'!G22)","v":""},{"$f":"IF(T13=\"\",\"\",VLOOKUP(T13,B$7:L$202,11,TRUE))","v":""},""]
[8,1.1428571428571428,null,2.7249921777087485,2.8222760487437331,2.8937635932481069,2.9355119540790073,2.9435782740935879,2.9140196961489817,2.8428933631023359,null,2.9440017977597659,1.1428571428571428,0.22790963125006342,1.757818471993059,2.0392011866974866,0.28138271470442766,null,"Gilt at selection",{"$f":"'3. Herd Input'!C30","v":22},{"$f":"IF(T14=\"\",\"\",VLOOKUP(T14,B$7:L$230,11,TRUE))","v":106.52181776199987},{"$f":" IF(T14=\"\", \"\", (-0.0000300671*L$2 + 0.0124897547)*T14^3+(-0.0000008113*L$2^2 + 0.0020909087*L$2 - 0.65050342)*T14^2+(0.000000029*L$2^3 - 0.0000430323*L$2^2 + 0.0195041468*L$2 - 2.587606895)*T14+(-0.0000000384*L$2^3 + 0.0000537791*L$2^2 - 0.0223853981*L$2 + 4.991589155))","v":106.38681155560008}]
[9,1.2857142857142858,null,2.7948816135495651,2.9008098492784269,2.9829999217419849,3.0406161166545171,3.0728227197303228,3.0787840166836755,3.0576642932288669,null,{"$f":" (-0.00003006*L$2 + 0.0124848506)*$B15^3+(-0.000000811*L$2^2 + 0.0020904273*L$2 - 0.6502866461)*$B15^2+(0.000000029*L$2^3 - 0.000042999*L$2^2 + 0.0194860819*L$2 - 2.5845091041)*$B15+(-0.0000000384*L$2^3 + 0.000053716*L$2^2 - 0.0223500993*L$2 + 4.9852264783)","v":3.059947849314868},1.2857142857142858,0.23174046131668496,1.9895589333097439,2.3080374921818638,0.31847855887211995,null,"Gilt at mating",{"$f":"'3. Herd Input'!C32","v":30},{"$f":"IF(T15=\"\",\"\",VLOOKUP(T15,B$7:L$230,11,TRUE))","v":140.80792926279977},{"$f":" IF(T15=\"\", \"\", (-0.0000300671*L$2 + 0.0124897547)*T15^3+(-0.0000008113*L$2^2 + 0.0020909087*L$2 - 0.65050342)*T15^2+(0.000000029*L$2^3 - 0.0000430323*L$2^2 + 0.0195041468*L$2 - 2.587606895)*T15+(-0.0000000384*L$2^3 + 0.0000537791*L$2^2 - 0.0223853981*L$2 + 4.991589155))","v":140.61427475000016}]
[10,1.4285714285714286,null,2.8722143146586032,2.989078612195045,3.0840973995274075,3.1595421052271115,3.2176841578655995,3.2607949860142877,3.2911460182446102,null,3.1906339988932935,1.4285714285714286,0.23605636684414236,2.2256153001538861,2.5818805715814599,0.3562652714275738,null,"Boar at selection",{"$f":"'3. Herd Input'!C31","v":22},{"$f":"IF(T16=\"\",\"\",VLOOKUP(T16,B$7:L$230,11,TRUE))","v":106.52181776199987},{"$f":" IF(T16=\"\", \"\", (-0.0000300671*L$2 + 0.0124897547)*T16^3+(-0.0000008113*L$2^2 + 0.0020909087*L$2 - 0.65050342)*T16^2+(0.000000029*L$2^3 - 0.0000430323*L$2^2 + 0.0195041468*L$2 - 2.587606895)*T16+(-0.0000000384*L$2^3 + 0.0000537791*L$2^2 - 0.0223853981*L$2 + 4.991589155))","v":106.38681155560008}]
[11,1.5714285714285714,null,2.9569457594720143,3.0870115243845495,3.1969589219501477,3.2921665235973734,3.3780129007548121,3.459876624851022,3.5431362673145812,null,3.3359237045230308,1.5714285714285714,0.24085214851332529,2.4664674486672116,2.8612871171903125,0.39481966852310091,null,"Boar at turnoff",{"$f":"'5. Herd details'!H10","v":100.21428571428571}]
[12,1.7142857142857142,null,3.0490314264259499,3.1945377727379025,3.3214873843559789,3.4383659755658864,3.5536592606533546,3.6758529539040836,3.8134327696037942,null,3.4956804242320683,1.7142857142857142,0.24612253927164951,2.7125899879388609,3.1468077111266628,0.43421772318780194]
[13,1.8571428571428572,null,3.1484267939565624,3.3115865441460652,3.4575856820906727,3.598017064933233,3.74447354981662,3.9085479938836754,4.1018332542772642,null,3.6697676160483947,1.8571428571428572,0.25186220671466852,2.9644521946535294,3.4389867495198994,0.47453455486636997,null,"Weight gain rating","ADG - birth to 100 kg (g/day)"]
[14,2,null,3.2550873405000029,3.4380870255000016,3.6051567105000024,3.7709963954999965,3.9503060805000016,4.1577857655000017,4.408135450500005,null,3.8580487379999981,2,0.25806575544531296,3.2225179500988421,3.7383623694343902,0.51584441933554803,null,null,"Lower limit","Upper limit"]
[15,2.1428571428571428,null,3.3689685444924229,3.5739684036906718,3.7641033649297402,3.9571805710667594,4.171007164958894,4.4233902894632671,4.7321370874370308,null,4.0603872481148668,2.1428571428571428,0.26472772941075728,3.4872456795095994,4.0454663785042637,0.55822069899466431,null,"Poor",550,600]
[16,2.2857142857142856,null,3.4900258843699739,3.719159865609039,3.9343285407256587,4.156446195434107,4.4064271154486896,4.705185586483676,5.073635894253357,null,4.2766466044209892,2.2857142857142856,0.27184261421691469,3.759088293726514,4.3608241872531686,0.60173589352665457,null,"Fair",600,650]
[17,2.4285714285714284,null,{"$f":" (-0.00003006*D$2 + 0.0124848506)*$B23^3+(-0.000000811*D$2^2 + 0.0020904273*D$2 - 0.6502866461)*$B23^2+(0.000000029*D$2^3 - 0.000042999*D$2^2 + 0.0194860819*D$2 - 2.5845091041)*$B23+(-0.0000000384*D$2^3 + 0.000053716*D$2^2 - 0.0223500993*D$2 + 4.9852264783)","v":3.6182148385688073},3.8735905981460652,4.1157351332335299,4.3686698724026192,4.6564162442247827,5.0029956772714304,5.4324296001139993,null,4.5066902649463527,2.4285714285714284,0.27940483942055844,4.0384931331470728,4.6849547440730728,0.64646161092599996,null,"Average",650,700]
[18,2.5714285714285716,null,3.7534908855250766,4.0371897881927126,4.3082260377991286,4.593728205772881,4.9208248635425669,5.3166445825367372,5.8083159341839714,null,4.7503816877189484,2.5714285714285716,0.28740878079907195,4.3259019139461445,5.0183704728361391,0.69246855888999459,null,"Good",700,750]
[19,2.7142857142857144,null,3.895809503674931,4.2098866226399432,4.5117041497682244,4.8314977993454757,5.1995032856574364,5.6459563229897984,6.2010926256282852,null,5.0075843307667611,2.7142857142857144,0.29584876259782533,4.6217506765439698,5.3615772131137271,0.73982653656975739]
[20,2.8571428571428572,null,4.0451261714545224,4.3916102883787183,4.7260723644865923,5.0818552569209849,5.492301822824782,5.9907549193408185,6.610557403611959,null,5.278161652117781,2.8571428571428572,0.30471905975518065,4.9264697362991505,5.7150741629765687,0.78860442667741815]
[21,3,null,4.2013963673000037,4.5822899723000017,4.9512335773000036,5.3446771822999928,5.7990707873000016,6.350864392300001,7.0365079973000055,null,{"$f":" (-0.00003006*L$2 + 0.0124848506)*$B27^3+(-0.000000811*L$2^2 + 0.0020904273*L$2 - 0.6502866461)*$B27^2+(0.000000029*L$2^3 - 0.000042999*L$2^2 + 0.0194860819*L$2 - 2.5845091041)*$B27+(-0.0000000384*L$2^3 + 0.000053716*L$2^2 - 0.0223500993*L$2 + 4.9852264783)","v":5.5619771097999964},3,0.31401390010512353,5.2404836364042744,6.079353824350159,0.83887018794588464]
[22,3.1428571428571428,null,4.3645755696475259,4.7818548612947538,5.1870906835542296,5.6198401792830834,6.1196604913384851,6.7261087625775522,7.4787421358574404,null,5.8588941618413957,3.1428571428571428,0.32372746655752305,5.5642111029617976,6.4549019508994174,0.89069084793761988,null,"National Guidelines standard"]
[23,3.2857142857142856,null,4.5346192569332402,4.9902341422539358,5.4335465785950454,5.9072208516708375,6.4539212471956287,7.1163120508836748,7.9370575484492765,null,6.1687762662699672,3.2857142857142856,0.33385389925601916,5.8980650022178169,6.8421974984166498,0.94413249619883288,null,"Age (weeks)","Av age (wk)","Live weight (kg)","Av live weight (kg)"]
[24,3.4285714285714284,null,4.7114829075932985,5.2073570020685143,5.690504157768224,6.2066958032638411,6.8017033671268221,7.5212982779285724,8.411251964240531,null,6.4914868811136976,3.4285714285714284,0.34438729771353727,6.2424522999313545,7.2417125776868829,0.99926027775552839,null,0,null,1.4]
[25,3.5714285714285716,null,4.8951220000638527,5.4331526276294468,5.9578663164195369,6.5181416378626746,7.1628571633874651,7.9408914644224513,8.9011231123962169,null,6.826889464400578,3.5714285714285716,0.35532172292543068,6.5977740228567852,7.653912409804585,1.0561383869477998,null,4,{"$f":"(S30+S31)/2","v":2},8,{"$f":"(U30+U31)/2","v":4.7}]
[26,3.7142857142857144,null,5.0854920127810548,5.6675502058276974,6.2355359498947553,6.8414349592679216,7.537232948232945,8.3749156310755133,9.4064687220813461,null,7.1748474741585957,3.7142857142857144,0.36665119946025071,6.9644252223170362,8.0792552839158507,1.1148300615988145,null,7,5.5,16.5,12.25]
[27,3.8571428571428572,null,5.2825484241810541,5.9104789235542281,6.5234159535396543,7.176452371280166,7.9246810339186604,8.8231947985979602,9.9270865224609395,null,7.5352243684157383,3.8571428571428572,0.37836971752814369,7.3427949398451799,8.5181925173600721,1.1753975775148922,null,10,8.5,25,20.75]
[28,4,null,5.4862467127000043,6.161867967700001,6.8214092227000034,7.5230704776999904,8.3250517327000004,9.2855529877000009,10.462774242700007,null,7.9078836051999941,4,0.39047123502687636,7.7332661748720559,8.9711684181851616,1.2379022433131057,null,13,11.5,40,32.5]
[29,4.1428571428571432,null,5.6965423567740583,6.4216465251559773,7.1294186527215784,7.8811658823279789,8.7381953568323638,9.7618142190918391,11.013329611963563,null,8.2926886425393533,4.1428571428571432,0.40294967956548833,8.1362158544375447,9.4386202500103558,1.3024043955728111,null,16,14.5,55,47.5]
[30,4.2857142857142856,null,5.9133908348393627,6.6897437828131192,7.4473471389501489,8.2506151889647121,9.163962218571136,10.251802513483675,11.578550359416624,null,8.6895029384617999,4.2857142857142856,0.41579895046557191,8.5520148049031164,9.9209781992106478,1.3689633943075314,null,24,20,100,77.5]
[31,4.4285714285714288,null,6.1367476253320756,6.9660889275623914,7.7750975767314907,8.631295001410777,9.6022026301717212,10.755341891585715,12.158234214224205,null,9.0981899509953301,4.4285714285714288,0.42901292074018044,8.9810277256432975,10.418665344396926,1.4376376187536284,null,30,27,130,115]
[32,4.5714285714285712,null,6.366568206688342,7.2506111462947516,8.1125728614113726,9.0230819234667514,10.052766903889504,11.272256374108164,12.752178905551315,null,9.5186131381679235,4.5714285714285712,0.44258543905036246,9.4236131646936592,10.93209762816581,1.5084844634721506]
[33,4.7142857142857144,null,6.60280805734432,7.5432396259011671,8.4596758883355712,9.4258525589332258,10.515505351979883,11.802369981761228,13.360182162562978,null,9.9506359580075738,4.7142857142857144,0.45651033163932536,9.8801234963329847,11.461683831093282,1.5815603347602973]
[34,4.8571428571428568,null,6.8454226557361553,7.8439035532725931,8.816309552849857,9.8394835116107728,10.99026828669825,12.345506735255103,13.982041714424202,null,10.394121868542264,4.8571428571428568,0.4707814042442251,10.350904900577209,12.007825547946126,1.6569206473689171,null,null,null,null,"Willis","PRDC"]
[35,5,null,7.0943674803000052,8.1525321152999979,9.1823767503000049,10.263851385299986,11.4769060203,12.901490655300002,14.617555290300007,null,10.848934327799991,5,0.48539244398558468,10.836297344562794,12.570917166085241,1.7346198215224469,null,"Entered grower herd ADG","g/day",{"$f":"L2","v":675}]
[36,5.1428571428571432,null,7.3495980094720172,8.4690544988743461,9.5577803760317828,10.698832783801443,11.975268865040526,13.470145762606126,15.266520619355401,null,11.314936793808741,5.1428571428571432,0.50033722123433877,11.336634565797134,13.151345846034861,1.8147112802377272,null,"Age at 100 kg live weight","weeks",{"$f":"U49/7","v":20.867724867724863}]
[37,5.2857142857142856,null,7.6110697216883434,8.7933998908865885,9.9424233253909655,11.144304310915729,12.485207133175219,14.051296077883674,15.928735430755399,null,11.791992724596494,5.2857142857142856,0.5156094914565067,11.852244057253641,13.749491504191733,1.897247446938092,null,"Entered grower herd FCR",null,{"$f":"'8. Feed details'!E7","v":2.298}]
[38,5.4285714285714288,null,7.8787380953851374,9.1254974782276967,10.336208493723328,11.600142570443424,13.006571136959476,14.644765621842858,16.60399745366502,null,12.279965578191245,5.4285714285714288,0.5312029970354939,12.383447054289135,14.365726797648314,1.9822797433591788,null,"S Feed ingested - birth to 100 kg","kg",{"$f":"VLOOKUP(100,L7:O202, 4, TRUE)","v":195.31737911596016},{"$f":"7*(((0.000000000071189*U41^2 - 0.00000002477377*U41 - 0.000004038661444)*U42^5)/5+((-0.000000001002912*U41^2 - 0.000002881954697*U41 + 0.001438856666767)*U42^4)/4+((-0.000000060875126*U41^2 + 0.000145742239164*U41 - 0.047938044293907)*U42^3)/3+((0.000000001800819*U41^3 - 0.000002774275076*U41^2 + 0.001272505833082*U41 - 0.171629578799318)*U42^2)/2+(-0.000000002188792*U41^3 + 0.000003175842546*U41^2 - 0.001355216082386*U41 + 0.304300173002773)*U42)","v":215.3099235653491},{"$f":"(((0.000000000074714*U41^2 - 0.000000025998608*U41 - 0.000004239537815)*U42^5)/5+((-0.000000001052597*U41^2 - 0.000002884631599*U41 + 0.001451943218464)*U42^4)/4+((-0.000000060110521*U41^2 + 0.000143219408767*U41 - 0.047281786699292)*U42^3)/3+((0.000000001754901*U41^3 - 0.000002711196545*U41^2 + 0.001244663044207*U41 - 0.16807474928646)*U42^2)/2+(-0.000000002118293*U41^3 + 0.00000308257998*U41^2 - 0.00131804463886*U41 + 0.304334263496524)*U42)*7","v":199.62338397416312}]
[39,5.5714285714285712,null,8.1525586089985467,9.4652764477886286,10.739038776374638,12.066224166185116,13.539211188648686,15.250378415193879,17.292104417249277,null,12.77871881262098,5.5714285714285712,0.54711146907201869,12.930558523361153,15.000417111103998,2.0698585877428446,null,"S Feed wasted - birth to 100 kg","kg",{"$f":"U48-U44","v":31.265420884039827},{"$f":"$U43*(100-1.4)-V44","v":11.272876434650897},{"$f":"$U43*(100-1.4)-W44","v":26.959416025836873}]
[40,5.7142857142857144,null,8.4324867409647286,9.8126659864603489,11.150817068690674,12.542425701941383,14.08297760049825,15.867958478646937,17.992854050673181,null,13.28811588591369,5.7142857142857144,0.56332862916166893,13.493887152522822,15.653920545838456,2.1600333933156346,null,"Est feed wastage (formula)","%",{"$f":" (0.000000001717*U41^3 - 0.000003534482*U41^2 + 0.00208382022*U41 - 0.435320268193)*U43^2+(-0.000000007098*U41^3 + 0.000013738358*U41^2 - 0.007464088382*U41 + 1.851885033944)*U43-1.3415505803","v":0.11751992236972897},{"$f":"V45/(V44+V45)","v":4.9751686512175229E-2},{"$f":"W45/(W44+W45)","v":0.11898262368474957}]
[41,5.8571428571428568,null,8.7184779697198298,10.167595281133817,11.571446266017205,13.02862378151281,14.637720684763551,16.497329832912243,18.706044083101752,null,13.808020256097365,5.8571428571428568,0.57984819115008424,14.073735343672906,16.32658791072112,2.2528525670482136]
[42,6,null,9.0104877737000066,10.529993518699998,12.000829263700002,13.524695008699982,15.203290753699999,17.138316498699997,19.431472243700004,null,14.338295381199988,6,0.59666386286576711,14.670399206538674,17.018762715230846,2.3483635086921719,null,"S Feed fed - birth to 100 kg","kg",{"$f":"U43*(100-1.4)","v":226.58279999999999},{"$f":"V44+V45","v":226.58279999999999},{"$f":"W44+W45","v":226.58279999999999}]
[43,6.1428571428571432,null,9.3084716313414049,10.899789886049856,12.438868957084843,14.030515987303485,15.779538119562972,17.790742496720412,20.16893626163295,null,14.878804719249551,6.1428571428571432,0.61376934783052128,15.284168554369195,17.73078116445982,2.4466126100906251,null,"Age at 100 kg live weight","days",{"$f":"(100-1.4)/(U41/1000)","v":146.07407407407405},{"$f":"U42*7","v":146.07407407407405},{"$f":"U42*7","v":146.07407407407405}]
[44,6.2857142857142856,null,9.6123850210801809,11.276913570074342,12.885468241517493,14.545963321123889,16.366313094607868,18.454431847683672,20.918233866065606,null,15.42941172827404,6.2857142857142856,0.63115834694751694,15.915326901316712,18.462972156075754,2.5476452547590416,null,"Av Feed fed - birth to 100 kg","kg/pig/day",{"$f":"U48/U$49","v":1.5511500000000003},{"$f":"V48/V49","v":1.5511500000000003},{"$f":"W48/W49","v":1.5511500000000003}]
[45,6.4285714285714288,null,9.9221834213524858,11.661293757664431,13.340530012343738,15.070913613961793,16.963465991090086,19.129208572299998,21.67916278616298,null,15.989979866301447,6.4285714285714288,0.64882456016698475,16.564151461483696,19.215657279216394,2.6515058177326978,null,"Av Feed ingested - birth to 100 kg","kg/pig/day",{"$f":"U44/U$49","v":1.3371118752867457},{"$f":"V44/V49","v":1.4739776714666397},{"$f":"W44/W49","v":1.366590103271401}]
[46,6.5714285714285712,null,10.237822310594465,12.052859635711076,13.803957164909331,15.605243469617765,17.570847121265011,19.814896691279586,22.451520751090086,null,16.560372591359751,6.5714285714285712,0.66676168812953618,17.230913149613233,19.989150815290429,2.7582376656771963,null,"Av Feed wasted - birth to 100 kg","kg/pig/day",{"$f":"U45/U$49","v":0.21403812471325442},{"$f":"V45/V49","v":7.7172328533360618E-2},{"$f":"W45/W49","v":0.18455989672859932}]
[47,6.7142857142857144,null,10.559257167242283,12.451540391105247,14.275652594560061,16.148829491892403,18.188306797388044,20.51132022533265,23.235105490011957,null,17.140453361476954,6.7142857142857144,0.68496343378711222,17.915876583400344,20.783759740658791,2.8678831572584471]
[48,6.8571428571428568,null,10.886443469732075,12.8572652107379,14.755519196641693,16.701548284586277,18.815695331714572,21.218303195169387,24.029714732093584,null,17.730085634681032,6.8571428571428568,0.70342350400155906,18.619300087401903,21.599783731170451,2.9804836437685474,null,"FCR (no feed wastage)",null,{"$f":"U44/(100-1.4)","v":1.9809064819062898},{"$f":"V44/(100-1.4)","v":2.1836706243950212},{"$f":"W44/(100-1.4)","v":2.0245779307724456}]
[49,7,null,11.219336696500008,13.269963281499997,15.243459866500004,17.26327645149998,19.452863036499995,21.935669621499997,24.835146206500003,null,18.329132868999988,7,0.72213561112083224,19.341435698522737,22.437515168526705,3.0960794700039678]
[50,7.1428571428571432,null,11.557892325982223,13.689563790282506,15.73937749948076,17.833890596434092,20.09966022399971,22.663243525034691,25.651197642396212,null,18.937458522461792,7.1428571428571432,0.74109347453282615,20.082529173055562,23.297239148448035,3.2147099753924735,null,"Est feed wastage (interpolated)","%",{"$f":"U52/U50","v":0.1379867354628852}]
[51,7.2857142857142856,null,11.902065836614874,14.115995923976381,16.243174990929742,18.413267323189189,20.755937206469092,23.400848926483672,26.47766676894723,null,19.554926053094444,7.2857142857142856,0.76029082219683486,20.842819995252398,24.17923349061758,3.3364134953651821]
[52,7.4285714285714288,null,12.251812706834119,14.549188869472591,16.754755236192715,19.001283235565868,21.42154429616355,24.148309846557137,27.314351315318078,null,20.181398918925929,7.4285714285714288,0.77972139215263647,21.622541387405036,25.083768750375253,3.4612273629702166]
[53,7.5714285714285712,null,12.607088415076099,14.989071813662097,17.274021130615456,19.597814937364699,22.096331805338476,24.905450305965299,28.161049010673761,null,20.816740577984241,7.5714285714285712,0.79937893400720794,22.421920321412244,26.011108232136547,3.5891879107243021]
[54,7.7142857142857144,null,12.967848439776976,15.435573943435859,17.800875569543734,20.202739032386276,22.780150046249268,25.672094325418364,29.017557584179304,null,21.460814488297359,7.7142857142857144,0.81925721039906496,23.24117753181131,26.961508004510108,3.720330472698798]
[55,7.8571428571428568,null,13.334048259372892,15.888624445684837,18.335221448323328,20.815932124431171,23.472849331151306,26.448065925626523,29.883674764999711,null,22.113484107893274,7.8571428571428568,0.83934999844023239,24.080527530251544,27.935216917088095,3.8546893868365508]
[56,8,null,13.705643352300008,16.348152507299996,18.876961662300005,21.437270817299975,24.174279972299992,27.233189127299998,30.759198282300002,null,22.774612894799979,8,0.85965109113583993,24.940178621387386,28.932476618883353,3.9922979974959674]
[57,8.1428571428571423,null,14.082589196994466,16.814087315172294,19.425999106819535,22.066631714793264,24.884292281950717,28.027287951148974,31.643925865245183,null,23.444064307045458,8.1428571428571423,0.88015429878134532,25.820332920168731,29.953521578387512,4.1331886582187813,null,"FCR rating","FCR - birth to 100 kg live weight"]
[58,8.2857142857142865,null,14.464841271892428,17.286358056192707,19.982236677227704,22.703891420711638,25.602736572358886,28.830186417883674,32.537655243000295,null,24.121701802657707,8.2857142857142865,0.90085345033738695,26.721186370506118,30.998579105223978,4.2773927347178606,null,null,"Lower limit","Upper limit"]
[59,8.4285714285714288,null,14.852355055430039,17.764893917252184,20.545577268870264,23.348926538855657,26.329463155779877,29.641708548214286,33.440184144730324,null,24.807388839664704,8.4285714285714288,0.92174239478226172,27.642928765288378,32.06786937336993,4.4249406080815525,null,"Very poor",3,4.5]
[60,8.5714285714285712,null,15.245086026043449,18.249624085241685,21.115923777093005,24.001613673025915,27.064322344469087,30.461678362851018,34.351310299600293,null,25.500988876094436,8.5714285714285712,0.94281500244203253,28.58574376773041,33.161605445921332,4.5758616781909218,null,"Poor",2.8,3]
[61,8.7142857142857135,null,15.642989662168812,18.740477747052179,21.693179097241693,24.661829427022997,27.807164450681913,31.289919882504073,35.270831436775211,null,26.202365369974899,8.7142857142857135,0.964065166298262,29.549808934028672,34.279993301374979,4.7301843673463075,null,"Fair",2.6,2.8]
[62,8.8571428571428577,null,16.046021442242285,19.237384089574633,22.277246124662103,25.329450404647496,28.557839786673757,32.126257127883676,36.198545285420117,null,26.911381779334089,8.8571428571428577,0.98548680327337412,30.535295737302047,35.423231861401732,4.887936124099685,null,"Good",2.2999999999999998,2.6]
[63,9,null,16.45413684470001,19.740272299699992,22.868027754700005,26.004353209699971,29.316198664699989,32.970514119699999,37.1342495747,null,27.627901562199977,9,1.0070738554936425,31.542369592795691,36.591513020084861,5.0491434272891702,null,"Very good",1.8,2.2999999999999998]
[64,9.1428571428571423,null,16.867291347978142,20.249071564319234,23.46542688270117,26.686414445981018,30.082091397016022,33.822514878663256,38.077742033779877,null,28.351788176600557,9.1428571428571423,1.0288202915298088,32.571189884325499,37.78502167459758,5.2138317902720814]
[65,9.2857142857142865,null,17.285440430512843,20.763711070323321,24.069346404011377,27.375510717291228,30.855368295877255,34.682083425483675,39.028820391824787,null,29.08290508056383,{"$f":"B71","v":9.2857142857142865},1.0507201076153267,33.621909991940825,{"$f":"O71/(1-U$56)","v":39.00393575729391},5.3820257653530845,null,"HFC"]
[66,{"$f":"A72/7","v":9.4285714285714288},null,17.708539570740243,21.284120004603203,24.679689213976388,28.071518627431168,31.635879673539058,35.549043780871422,39.987282377999712,null,29.821115732117761,9.4285714285714288,1.0727673288422315,34.694677320783057,40.248426269186773,{"$f":"P72-O72","v":5.5537489484037152},null,"Good",3,3.4499999899999998]
[67,9.5714285714285712,null,18.136544247096509,21.810227554049845,25.296358207941982,28.774314780201419,{"$f":" (-0.00003006*H$2 + 0.0124848506)*$B73^3+(-0.000000811*H$2^2 + 0.0020904273*H$2 - 0.6502866461)*$B73^2+(0.000000029*H$2^3 - 0.000042999*H$2^2 + 0.0194860819*H$2 - 2.5845091041)*$B73+(-0.0000000384*H$2^3 + 0.000053716*H$2^2 - 0.0223500993*H$2 + 4.9852264783)","v":32.423475842256835},36.423219965536724,40.952925721469676,null,30.56628358929035,9.5714285714285712,{"$f":" -0.00006*L73^2 + 0.0334*L73 + 0.1301","v":1.0949560103346423},35.789633331117699,41.518657314787461,5.7290239836697623,null,"Average",3.5,3.849999999]
[68,9.7142857142857135,null,18.569409938017792,22.341962905554215,25.919256281253933,29.483775779402585,33.218007114285989,37.304436000189789,41.925548151399703,null,31.318272110109589,9.7142857142857135,1.1172802383998881,{"$f":"O73+N74","v":36.906913569517585},42.814786138280503,5.9078725687629188,null,"Fair",3.85,4.1999999990000001]
[69,9.8571428571428577,null,19.007092121940246,22.879255246007279,26.548286329258023,30.199778228835243,34.01932380188191,38.192515905540809,42.904947396954803,null,32.076944752603467,9.8571428571428577,1.1397341316572613,38.046647701174848,44.136963161007962,6.0903154598331142,null,"Poor",4.2,4.5]
[70,10,null,19.449546277300012,23.422033762299989,27.183351247300003,30.922198732299968,34.827276217299982,39.087283702299992,43.890921187300002,null,32.842164974799971,10,1.1623118421444003,39.208959543319246,45.485332020237223,6.2763724769179774,null,"FCR"]
[71,10.142857142857142,null,19.896727882533241,23.970227641323309,27.824353930725657,31.65091389359733,35.641714672795608,39.98856341117753,44.88326725160028,null,33.613796234727076,10.142857142857142,1.1850075564012994,40.393967099720548,46.860029609186306,6.4660625094657576,null,"Good",1.95,2.3499999900000001]
[72,10.285714285714286,null,20.348592416076105,24.523766069968215,28.471197274880762,32.385800316527948,36.462489480624178,40.896179052883674,45.881783319020698,null,34.391701990412805,10.285714285714286,1.2078154965319459,41.601782596252491,48.261186118280769,6.6594035220282777,null,"Average",2.35,2.5499999998999998]
[73,10.428571428571429,null,20.805095356364738,25.082578235125649,29.123784175111076,33.126734604892377,37.28945095304109,41.80995464812856,46.886267118726231,null,{"$f":" (-0.00003006*L$2 + 0.0124848506)*$B79^3+(-0.000000811*L$2^2 + 0.0020904273*L$2 - 0.6502866461)*$B79^2+(0.000000029*L$2^3 - 0.000042999*L$2^2 + 0.0194860819*L$2 - 2.5845091041)*$B79+(-0.0000000384*L$2^3 + 0.000053716*L$2^2 - 0.0223500993*L$2 + 4.9852264783)","v":35.175745699885091},10.428571428571429,1.2307299212435829,42.83251251749607,49.688925077616226,6.8564125601201553,null,"Fair",2.5499999999999998,2.7499999900000001]
[74,10.571428571428571,null,21.26619218183529,25.646593323686577,29.782017526762392,33.873593362491214,38.122449402301733,42.729714217622437,47.896516379881916,null,35.965790821171971,10.571428571428571,1.2537451268636062,44.086257644359677,51.143363400600549,7.0571057562408726,null,"Poor",2.75,3]
[75,10.714285714285714,null,21.731838370923917,26.215740522541967,30.445800225180463,34.626253193125024,38.96133514066149,43.655281782075498,48.912328831652758,null,36.76170081230142,10.714285714285714,1.2768554483340777,45.363113092693752,52.624611428749773,7.2614983360560217,null,"FC (birth to 100 kg)"]
[76,10.857142857142858,null,22.201989402066779,26.789949018582789,31.115035165711088,35.384590700594423,39.805958480375786,44.586481362197958,49.933502203203787,null,37.563339131301426,10.857142857142858,1.300055260183878,46.663168352877626,54.132772977611758,7.4696046247341314,null,"Good",{"$f":"T77*1.05","v":2.0474999999999999},{"$f":"U77*1.05","v":2.4674999895000003}]
[77,11,null,22.676600753700011,27.36914799869999,31.789625243700002,36.148482488699955,40.656169733699976,45.523136978699988,50.959834223699993,null,38.370569236199962,11,1.3233389774784778,47.986507330356105,55.667945383791711,7.6814380534356062,null,"Average",{"$f":"T78*1.05","v":2.4675000000000002},2.6774999998949998]
[78,11.142857142857142,null,23.155627904259777,27.953266649784535,32.469473354493005,36.917805161242235,41.511819212889478,46.46507265229183,51.991122622306399,null,39.183254585025033,11.142857142857142,1.3467010567473428,49.333208387103447,57.23021955305348,7.8970111659500333,null,"Fair",{"$f":"T79*1.05","v":2.6774999999999998},2.8874999895000002]
[79,11.285714285714286,null,23.63902633218223,28.542234158727393,33.15448239343587,37.692435322021822,42.372757230199689,47.412112403683665,53.027165128188038,null,40.001258635804625,11.285714285714286,1.3701359968889624,50.703344383992409,58.819680009470815,8.1163356254784063,null,"Poor",{"$f":"T80*1.05","v":2.8875000000000002},3.1500000000000004]
[80,11.428571428571429,null,24.126751515903511,29.13597971241952,33.844555255874347,{"$f":" (-0.00003006*G$2 + 0.0124848506)*$B86^3+(-0.000000811*G$2^2 + 0.0020904273*G$2 - 0.6502866461)*$B86^2+(0.000000029*G$2^3 - 0.000042999*G$2^2 + 0.0194860819*G$2 - 2.5845091041)*$B86+(-0.0000000384*G$2^3 + 0.000053716*G$2^2 - 0.0223500993*G$2 + 4.9852264783)","v":38.47224957483931},43.238834097885977,48.364080253585698,54.067759470509898,null,40.824444846566713,11.428571428571429,1.393638340053506,52.096982724045915,60.43640494560259,8.3394222215566742]
[81,11.571428571428571,null,{"$f":" (-0.00003006*D$2 + 0.0124848506)*$B87^3+(-0.000000811*D$2^2 + 0.0020904273*D$2 - 0.6502866461)*$B87^2+(0.000000029*D$2^3 - 0.000042999*D$2^2 + 0.0194860819*D$2 - 2.5845091041)*$B87+(-0.0000000384*D$2^3 + 0.000053716*D$2^2 - 0.0223500993*D$2 + 4.9852264783)","v":24.61875893385978},29.734432497751879,34.539594837154233,39.257124523495285,44.109900128203762,49.320800222708151,55.112703378437011,null,41.652676675339315,11.571428571428571,1.4172026725031119,53.514185396549024,62.080466273665934,8.5662808771169097]
[82,11.714285714285714,null,25.115004064487181,30.337521701615433,35.239504032621277,40.046936771790321,44.985805633408425,50.282096331761196,56.161794581134387,null,42.485817580150396,11.714285714285714,1.4408236254497941,54.955009021998819,63.751929677681517,8.7969206556826975]
[83,11.857142857142858,null,25.615442386221879,30.945176510901153,35.944185737621289,40.841562923525025,45.866400925755364,51.247792601455089,57.214830807767051,null,43.323731019027953,11.857142857142858,1.4644958758709885,56.419504897869807,65.450854666564837,9.0313497686950299]
[84,12,null,26.120029377500014,31.55732611249999,36.653542847500006,41.640879582499949,46.751536317499976,52.217713052499981,58.27160978749999,null,44.166280449999952,12,1.4882141473027155,57.90771904517252,67.177294628137645,9.2695755829651247]
[85,12.142857142857142,null,26.628720516757738,32.1738996933029,37.367478257603203,42.444763352515679,47.641062120897629,53.191681705606108,59.331929249498231,null,45.013329331094411,12.142857142857142,1.5119732106103796,59.419692255782898,68.931296884033657,9.5116046282507583]
[86,12.285714285714286,null,27.141471282431212,32.794826440200865,38.085894863276685,43.253090837372838,48.534828648203764,54.169522581483669,60.39558692292681,null,45.864741120339318,12.285714285714286,1.5357678847371883,60.955460140520088,70.712902745472306,9.7574426049522174]
[87,12.428571428571429,null,27.658237152956577,33.420035540084825,38.808695559866194,44.065738640871956,49.43268621167374,55.151059700842843,61.462380536950718,null,46.720379275762639,12.428571428571429,1.5595930374302052,62.515053177950293,72.522147569874946,10.007094391924653]
[88,12.571428571428571,null,28.178973606769983,34.049456179845755,39.5357832427175,44.882583366813648,50.334485123562942,56.136117084393859,62.532107820734979,null,47.58010725539237,12.571428571428571,1.5834435859440266,64.098496763894317,74.359060818297294,10.260564054402977]
[89,12.714285714285714,null,28.703636122307596,34.683017546374614,40.267060807176385,45.70350161899848,51.240075696126794,57.12451875284691,63.604566503444595,null,48.443788517256507,12.714285714285714,1.6073144977220868,65.705811261616404,76.223666113652214,10.517854852035811]
[90,12.857142857142858,null,29.232180178005557,35.320648826562376,41.002431148588641,46.528370001227067,52.149308241620666,58.116088726912231,64.679554314244598,null,49.311286519383046,12.857142857142858,1.6312007910555923,67.337012052671994,78.115981299696969,10.778969247024975]
[91,13,null,29.764561252300012,35.962279207299979,41.74179716230001,47.357065117299946,53.062033072299975,59.110651027299973,65.756868982299977,null,50.182464719799938,13,1.6550975357200799,68.992109588392069,80.036018500758871,11.043908912366803]
[92,13.142857142857142,null,30.300734823627124,36.607837875478403,42.485061743656267,48.189463571017725,53.978100500420091,60.108029674720377,66.836308236775778,null,51.057186576535223,13.142857142857142,1.6789998535896085,70.67110944198167,81.983784182173522,11.312674740191852]
[93,13.285714285714286,null,30.840656370423048,37.257254017988615,43.232127788003218,49.025441966180992,54.897360838236416,61.10804868988366,67.917669806837026,null,51.935315547616867,13.285714285714286,1.7029029192285714,72.374012361210248,83.959279211409537,11.585266850199289]
[94,13.428571428571429,null,31.384281371123926,37.91045682172156,43.982898190686598,49.864876906590325,55.819664398004349,62.110532093499984,69.000751421648673,null,52.816715091072837,13.428571428571429,1.7268019604611391,74.100814321671393,85.962498919853815,11.861684598182421]
[95,13.571428571428571,null,31.931565304165904,38.567375473568198,44.737275847052189,50.707644996046291,56.744861491979265,63.115303906279571,70.085350810375772,null,53.701248664931136,13.571428571428571,1.7506922589183338,75.851506580589728,87.993433165231608,12.14192658464188]
[96,13.714285714285714,null,32.482463647985142,39.227939160419517,45.495163652445775,51.553622838349497,57.672802432416574,64.122188148932636,71.171265702183348,null,54.588779727219766,13.714285714285714,1.774569150562725,77.626075731152454,90.052066394635148,12.425990663482693]
[97,13.857142857142858,null,33.0369318810178,39.892077069166447,46.256464502213134,52.402687037300517,58.603337531571697,65.131008842169379,72.258293826236425,null,55.479171735966716,13.857142857142858,1.7984280261907548,79.424503757343203,92.138377708135025,12.713873950791822]
[98,14,null,33.594925481700017,40.559718386699977,47.021081291700007,53.254714196699943,59.53631710169995,66.141590006699985,73.346232911699971,null,56.372288149199946,14,1.8222643319126925,81.246768089255895,94.252340922948449,13.005572833692554]
[99,14.142857142857142,null,34.156399928467941,41.230792299911052,47.788916916252191,54.109580920348328,60.471591455056817,67.153755663234676,74.434880687739053,null,57.267992424947458,14.142857142857142,1.8460735696102146,83.092841658866107,96.393924638138174,13.301082979272067]
[100,14.285714285714286,null,34.721310699757737,41.905227995690652,48.559874271215456,54.967163812046294,61.409010903897638,68.167329832483674,75.524034883518624,null,58.166148021237255,14.285714285714286,1.869851297371615,84.962692956237717,98.563092299816418,13.600399343578701]
[101,14.428571428571429,null,35.289613274005553,42.582954660929715,49.333856251935565,55.8273394755944,62.348425760477795,69.182136535157142,76.613493228203779,null,59.066618396097319,14.428571428571429,1.8935931299046396,86.856286086142362,100.75980226682775,13.903516180685386]
[102,14.571428571428571,null,35.861263129647533,43.263901482519216,50.110765753758315,56.689984514793217,63.289686337052721,70.197999791965287,77.703053450959445,null,59.969267007555622,14.571428571428571,1.9172947389269477,88.773580825069303,102.98400787688468,14.210427051815373]
[103,14.714285714285714,null,36.436215745119839,43.947997647350114,50.890505672029455,57.554975533443361,64.232642945877799,71.214743623618332,78.792513280950686,null,60.873957313640162,14.714285714285714,1.9409518535342083,90.714532678603504,105.23565751313065,14.521124834527143]
[104,14.857142857142858,null,37.01442659885862,44.635172342313382,51.672978902094755,58.422189135345405,65.177145899208412,72.232192050826498,79.881670447342543,null,61.780552772378933,14.857142857142858,1.9645602605458148,92.679092939149314,107.51469467110378,14.835601731954469]
[105,15,null,37.595851169300012,45.325354754299973,52.458088339299998,59.291501924299929,66.123045509299956,73.250169094299977,80.970322679299969,null,62.688916841799937,15,1.9881158048282312,94.66720874397754,109.82105802607583,15.153849282098292]
[106,15.142857142857142,null,38.180444934880185,46.018474070200853,53.245736878990961,60.162790504107512,67.070192088407836,74.268498774748963,82.058267705988015,null,63.598912979931129,15.142857142857142,2.0116143895959682,96.678823133573502,112.1546815007403,15.475858367166794]
[107,15.285714285714286,null,38.768163374035289,46.714459476906974,54.035827416513428,61.035931478568735,68.018435948787427,75.287005112883662,83.14530325657168,null,64.510404644800516,15.285714285714286,2.0350519766901836,98.713875110263686,114.51549433322376,15.80161922296007]
[108,15.428571428571429,null,39.358961965201473,47.413240161309311,54.828262847213125,61.91080145148419,68.96762740269412,76.305512129414268,84.231227060216,null,65.423255294436089,15.428571428571429,2.0584245868349078,100.77229969709859,116.90342114539439,16.131121448295801]
[109,15.571428571428571,null,39.952796186814872,48.114745310298801,55.622946066435858,62.787277026654436,69.917616762383332,77.323843845050988,85.315836846085972,null,66.337328386865821,15.571428571428571,2.0817282998709059,102.85402799696949,119.31838201144178,16.464354014472292]
[110,15.714285714285714,null,40.549621517311671,48.818904110766447,56.419779969527411,63.665234807880097,70.868254340110454,78.341824280504056,86.39893034334662,null,67.252487380117714,15.714285714285714,2.1049592549671581,104.95898725193665,121.76029252670223,16.801305274765582]
[111,15.857142857142858,null,41.149393435127998,49.525645749603179,57.218667451833539,64.54455139896173,71.819390448130861,79.359277456483653,87.480305281162956,null,68.168595732219757,15.857142857142858,2.1281136508099712,107.08710090274661,124.22906387670311,17.141962973956495]
[112,16,null,41.752067418700015,50.234899413699971,58.019511408700005,65.425103403699922,72.770875398699957,80.376027393699985,88.559759388699959,null,69.085516901199938,16,2.1511877457697191,109.23828864851633,126.72460290640107,17.486314257884743]
[113,16.142857142857142,null,42.357598946463867,50.946594289947775,58.822214735472599,66.306767425895259,73.722559504073118,81.391898112863245,89.637090395122712,null,70.003114345086232,16.142857142857142,2.1741778580452071,111.41246650656154,129.24681218958733,17.834345683025788]
[114,16.285714285714285,null,42.965943496855694,51.660659565237566,59.626680327497084,67.189420069348316,74.674293076505776,82.406713634683641,90.712096029596154,null,70.921251521906626,16.285714285714285,2.197080365785669,113.60954687234721,131.79559009843479,18.186043226087577]
[115,16.428571428571427,null,43.577056548311681,52.377024426460309,60.432811080119237,68.072937937859678,75.625926428253294,83.420297979871393,91.78457402128538,null,71.839791889689138,16.428571428571427,2.2198917071903863,115.82943857953759,134.37083087316049,18.541392293622891]
[116,16.571428571428573,null,44.19089357926795,53.095618060506972,61.240509888684855,68.95719763522996,76.577309871571089,84.432475169136723,92.854322099355358,null,72.758598906461742,16.571428571428573,2.2426083805859398,118.07204696012353,136.97242469177783,18.900377731654302]
[117,16.714285714285715,null,44.807410068160664,53.816369654268492,62.049679648539666,69.842075765259708,77.528293718714536,85.443069223189767,93.921137992971111,null,73.677536030252426,16.714285714285715,2.2652269444810824,120.33727390460461,139.60025773991251,19.262983835307892]
[118,16.857142857142858,null,45.426561493425972,54.539208394635835,62.860223255029446,70.727448931749478,78.478728281939013,86.451904162740817,94.984819431297623,null,74.59646671908915,16.857142857142858,2.2877440175992474,122.62501792220387,142.25421228065585,19.629194358451983]
[119,17,null,46.048303333500023,55.26406346849997,63.672043603500008,71.613193738499916,79.42846387349995,87.458804008499982,96.045164143499974,null,75.515254430999917,17,2.310156278888678,124.93517420109255,144.93416672443021,19.998992523337662]
[120,17.142857142857142,null,46.67259106681896,55.990864062751854,64.485043589297078,72.49918678931158,80.377350805652711,88.463592781177539,97.101969858743104,null,76.433762624012743,17.142857142857142,2.3324604675101903,127.26763466860274,147.6399956988401,20.372361030237357]
[121,17.285714285714285,null,47.299380171818967,56.719539364282468,65.299126107766469,73.385304687985041,81.325239390652698,89.466094501483639,98.155034306192093,null,77.351854756155603,17.285714285714285,2.3546533828025535,129.62228805140529,150.37157011848311,20.749282067077814]
[122,17.428571428571427,null,47.928626126936159,57.450018559982759,66.114194054253929,74.271424038320887,82.27197994075533,90.466133190128545,99.204155215011895,null,78.269394285456457,17.428571428571427,2.376731884225511,131.9990199356308,153.12875725469473,21.129737319063935]
[123,17.571428571428573,null,48.560284410606734,58.182230836743713,66.930150324105256,75.157421444119734,83.217422768215997,91.463532867822437,100.2491303143676,null,79.186244669943378,17.571428571428573,2.3986928912804206,134.39771282691123,155.91142080520109,21.513707978289858]
[124,17.714285714285715,null,49.194310501266791,58.916105381456241,67.746897812666191,76.043173509182154,84.161418185290046,92.458117555275493,101.28975733342416,null,80.10226936764424,17.714285714285715,2.4205333834085194,136.81824621031976,158.71942096365376,21.901174753334004]
[125,17.857142857142858,null,49.830659877352502,59.651571381011344,68.564339415282518,76.928556837308676,85.103816504232867,93.449711273197934,102.32583400134661,null,81.017331836587104,17.857142857142858,2.442250399866829,139.26049661018658,161.55261448902053,22.292117878833949]
[126,18,null,50.469288017300016,60.388558022299961,69.382378027300007,77.813448032299917,86.044468037299922,94.438138042299968,103.35715804729996,null,81.931295534799915,18,2.4638410395816739,141.72433764976824,164.41085477480627,22.686517125038023]
[127,18.142857142857142,null,51.110150399545496,61.126994492213086,70.200916544064427,78.697723697956448,86.983223096746585,95.423221883291788,104.38352720044924,null,82.844023920310676,18.142857142857142,2.485302460979836,144.20964011074807,167.29399191807795,23.084351807329881]
[128,18.285714285714285,null,51.753202502525085,61.866809977641644,71.019857860921576,79.581260438078928,87.919931994828204,96.404786816883643,105.40473918995941,null,83.755380451147431,18.285714285714285,2.506631881797337,146.71627199254542,170.20187278826776,23.485600795722348]
[129,18.428571428571427,null,52.398399804674938,62.607933665476629,71.839104873217195,80.46393485646783,88.854445043800212,97.38265686378567,106.42059174499556,null,84.665228585338085,{"$f":"B135","v":18.428571428571427},2.5278265788658394,149.24409857141126,{"$f":"O135/(1-U$56)","v":173.13434109572847},23.890242524317216]
[130,{"$f":"A136/7","v":18.571428571428573},null,53.045697784431226,63.350294742609009,72.658560476297112,81.345623556923826,89.786612555918026,98.356656044708146,107.4308825947227,null,85.573431780910724,18.571428571428573,2.5488838878766873,151.79298245928794,176.09123746001515,{"$f":"P136-O136","v":24.29825500072721}]
[131,18.714285714285715,null,53.695051920230057,64.093822395929706,73.478127565507023,82.226203143247432,{"$f":" (-0.00003006*H$2 + 0.0124848506)*$B137^3+(-0.000000811*H$2^2 + 0.0020904273*H$2 - 0.6502866461)*$B137^2+(0.000000029*H$2^3 - 0.000042999*H$2^2 + 0.0194860819*H$2 - 2.5845091041)*$B137+(-0.0000000384*H$2^3 + 0.000053716*H$2^2 - 0.0223500993*H$2 + 4.9852264783)","v":90.716284843436966},99.326608380361193,108.43540946830581,null,86.479853495893209,18.714285714285715,{"$f":" -0.00006*L137^2 + 0.0334*L137 + 0.1301","v":2.5698012031225641},154.36278366241049,179.07239947786704,24.709615815456544]
[132,18.857142857142858,null,54.3464176905076,64.838445812329709,74.297709036192714,83.105550219239277,91.643312218612479,100.29233789145508,109.43397009490985,null,87.384357188313601,18.857142857142858,2.5905759772167878,{"$f":"O137+N138","v":156.95335963962728},182.07766179086389,25.124302151236606]
[133,19,null,54.999750573700013,65.584094178699971,75.117207783699996,83.983541388699891,92.56754499369994,101.25366859869995,110.42636220369992,null,88.286806316199886,19,2.6112057207902244,159.5645653604175,185.1068561527307,25.542290792313196]
[134,19.142857142857142,null,55.65500604824345,66.330696681931428,75.936526703374639,84.860053255429918,93.48883348095471,102.21042452280608,111.41238352384104,null,89.187064337580068,19.142857142857142,2.6316880021658355,162.19625336258335,188.15981149626478,25.963558133681431]
[135,19.285714285714285,null,56.312139592574077,67.078182508915106,76.755568690562384,85.734962423229931,94.407027992632294,103.16242968448364,112.39183178449819,null,90.084994710482107,19.285714285714285,2.6520204470108468,164.84827380959419,191.23635399985946,26.388080190265271]
[136,19.428571428571427,null,56.971106685127999,67.826480846541941,77.57423664060903,86.608145495900473,95.321978840987953,104.10950810444282,113.36450471483639,null,90.980460892933991,19.428571428571427,2.6722007379665538,167.52047454756075,194.33630715359834,26.815832606037588]
[137,19.571428571428573,null,57.631862804341431,68.575520881702872,78.392433448860359,87.479479077242161,96.233536338277176,105.05148380339385,114.33020004402064,null,{"$f":" (-0.00003006*L$2 + 0.0124848506)*$B143^3+(-0.000000811*L$2^2 + 0.0020904273*L$2 - 0.6502866461)*$B143^2+(0.000000029*L$2^3 - 0.000042999*L$2^2 + 0.0194860819*L$2 - 2.5845091041)*$B143+(-0.0000000384*L$2^3 + 0.000053716*L$2^2 - 0.0223500993*L$2 + 4.9852264783)","v":91.87332634296375},19.571428571428573,2.6922266142557465,170.21270116181651,197.45949182489389,27.246790663077377]
[138,19.714285714285715,null,58.294363428650463,69.325231801288865,79.210062010662099,88.34883977105558,97.141550796755297,105.98818080204688,115.28871550121596,null,92.763454518599318,19.714285714285715,2.7120958712677625,172.92479703308427,200.60572632364503,27.680929290560755]
[139,19.857142857142858,null,58.958564036491282,70.07554279219093,80.027025221360077,89.216104181141304,98.045872528677762,106.91942312111222,116.23984881558741,null,93.650708877868709,19.857142857142858,2.7318063601211762,175.65660339320544,203.77482646688713,28.11822307368169]
[140,20,null,59.624420106300029,70.826383041299948,80.843225976300005,90.08114891129992,98.946351846299905,107.84503478129997,117.18339771629995,null,94.534952878799899,20,2.7513559872041013,178.40795938040955,206.96660564290892,28.558646262499366]
[141,20.142857142857142,null,60.291887116512846,71.577681735506957,81.658567170827695,90.943850565331957,99.842839061877172,108.76483980332037,118.11915993251858,null,95.416049979420904,20.142857142857142,2.7707427136921372,181.17870209410168,210.18087487480983,29.00217278070815]
[142,20.285714285714285,null,60.960920545565898,72.329368061702851,82.472951700288917,91.804085747038059,100.73518448766492,109.6786622078836,119.04693319340836,null,96.293863637759642,20.285714285714285,2.7899645550439249,183.9686666491456,213.41744288347277,29.44877623432717]
[143,20.428571428571427,null,61.631475871895347,73.081371206778655,83.286282460029426,92.661731060218813,101.62323843591855,110.58632601569995,119.96651522813433,null,97.168257311844187,20.428571428571427,2.8090195804743501,186.77768622961995,216.67611614992504,29.898429920305091]
[144,20.571428571428573,null,62.303508573937343,73.833620357625321,84.098462345395049,93.51666310867482,102.50685121889349,111.48765524747957,120.87770376586145,null,98.039094459702525,20.571428571428573,2.8279059124053556,189.6055921420253,219.95669897706273,30.351106835037427]
[145,20.714285714285715,null,{"$f":" (-0.00003006*D$2 + 0.0124848506)*$B151^3+(-0.000000811*D$2^2 + 0.0020904273*D$2 - 0.6502866461)*$B151^2+(0.000000029*D$2^3 - 0.000042999*D$2^2 + 0.0194860819*D$2 - 2.5845091041)*$B151+(-0.0000000384*D$2^3 + 0.000053716*D$2^2 - 0.0223500993*D$2 + 4.9852264783)","v":62.976974130128006},74.586044701133758,84.90939425173147,94.368758496206596,103.38587314884509,112.38247392393261,121.78029653575474,null,98.906238539362576,20.714285714285715,2.8466217258943924,192.45221386791968,223.25899355071172,30.80677968279204]
[146,20.857142857142858,null,63.651828018903529,75.338573424195005,85.71898107438453,95.217893826614755,104.26015453802877,113.27060606576934,122.67409126697922,null,99.769553008852355,20.857142857142858,2.8651652480404963,195.31737911596016,226.58279999999999,31.265420884039827]
[147,21,null,64.328025718700019,76.091135713699956,86.527125708700012,96.063945703699886,105.12954569869991,114.15187569369994,123.55888568869993,null,100.62890132619988,21,2.8835347573679915,198.20091387332815,229.92791645701459,31.727002583686442]
[148,21.142857142857142,null,65.005522707953673,76.843660756539606,87.333731050023601,96.906790731262575,105.99389694311391,115.02610682843464,124.43447753008185,null,101.48414694943311,21.142857142857142,2.9017285831878179,201.10264245651595,233.29413911571808,32.19149665920213]
[149,21.285714285714285,null,65.6842744651006,77.596077739604908,88.138699993701167,97.74630551310338,106.85305858352613,115.89312349068362,125.30066452029,null,102.33515333658003,21.285714285714285,2.9197451049364926,204.02238756145243,236.68126229009792,32.658874728645486]
[150,21.428571428571427,null,66.364236468576991,78.348315849786815,88.94193543507842,98.582366653022902,107.70688093219201,116.75274970115709,126.15724438848942,null,103.18178394566867,21.428571428571427,2.9375827514926942,206.95997031294513,240.08907847152307,33.129108158577935]
[151,21.571428571428573,null,67.045364196818994,79.100304273976334,89.743340269501161,99.414850754821742,108.55521430136696,117.60480948056525,127.0040148638451,null,104.02390223472699,21.571428571428573,2.9552400004714792,209.91521031341662,243.51737838528183,33.602168071865208]
[152,21.714285714285715,null,67.727613128262718,79.851972199064392,90.542817392315172,100.24363442230047,109.39790900330634,118.44912684961834,127.84077367552209,null,104.86137166178297,21.714285714285715,2.9727153774961161,212.88792569091274,246.96595104627494,34.0780253553622]
[153,21.857142857142858,null,68.410938741344353,80.603248811941924,91.34026969886618,101.06859425925965,110.23481535026549,119.28552582902647,128.66731855268534,null,105.69405568486459,21.857142857142858,2.9900074554475622,215.87793314636031,250.43458381383815,34.55665066747784]
[154,22,null,69.095296514500035,81.354063299499941,92.135600084499998,101.88960686949987,111.06578365449988,120.11383043949995,129.48344722449991,null,106.52181776199987,22,3.0071148536915531,218.88504800005185,253.92306244566791,35.038014445616056]
[155,22.142857142857142,null,69.780641926165927,82.104344848629395,92.928711444562381,102.70654885682173,111.89066422826491,120.93386470174894,130.28895742013086,null,107.34452135121677,22.142857142857142,3.02403623728333,221.90908423733518,257.43117115082475,35.522086913489574]
[156,22.285714285714285,null,70.466930454778151,82.854022646221239,93.719506674399128,103.51929682502583,112.70930738381591,121.74545263648363,131.08364686874307,null,108.1620299105433,22.285714285714285,3.0407703161499904,224.94985455348518,260.95869264178793,36.008838088302753]
[157,22.428571428571427,null,71.154117578772912,83.603025879166395,94.507888669355992,104.32772737791268,113.52156343340835,122.54841826441424,131.86731329950166,null,108.97420689800744,22.428571428571427,3.0573158442504647,228.00717039773565,264.5054081855356,36.498237787799951]
[158,22.571428571428573,null,71.842158776586331,84.351283734355917,95.293760324778717,105.13171711928295,114.32728268929756,123.34258560625098,132.63975444157163,null,109.78091577163718,22.571428571428573,3.0736716187131239,231.08084201644877,268.07109765362475,36.990255637175977]
[159,22.714285714285715,null,72.531009526654557,85.098725398680685,96.077024536013113,105.93114265293718,115.12631546373896,124.127778682704,133.40076802411804,null,110.58201998946051,22.714285714285715,3.0898364789510144,234.17067849539978,271.65553957124445,37.484861075844663]
[160,22.857142857142858,null,73.220625307413741,85.845280059031722,96.85758419840495,106.72588058267594,115.91851206898791,124.9038215144836,134.15015177630573,null,111.37738300950538,22.857142857142858,3.105809305754716,237.2764878011545,275.25851116521693,37.982023364062428]
[161,23,null,73.91096159730003,86.590876902299925,97.635342207299999,107.51580751229986,116.70372281729991,125.67053812229993,134.8877034272999,null,112.16686828979987,23,3.1215890203628365,240.39807682151735,278.87978841092041,38.481711589403062]
[162,23.142857142857142,null,74.601973874749604,87.335445115376316,98.410201458044043,108.30080004560949,117.4817980209302,126.4277525268632,135.61322070626554,null,112.95033928837186,23.142857142857142,3.137174583510121,243.53525140502748,282.5191460781075,38.983894673080016]
[163,23.285714285714285,null,75.293617618198567,88.078913885151835,99.182064845982794,109.0807347864054,118.25258799213428,127.17528874888362,136.32650134236758,null,113.72765946324941,23.285714285714285,3.152564994453201,246.68781639948068,286.17635777559349,39.488541376112806]
[164,23.428571428571427,null,75.985848306083113,88.821212398517417,99.950835266462065,109.85548833848817,119.0159430431675,127.91297080907133,137.02734306477103,null,114.49869227246049,23.428571428571427,3.1677592899739642,249.85557568945464,289.85119599478838,39.995620305333745]
[165,23.571428571428573,null,76.678621416839391,89.56226984236406,100.71641561482771,110.62493730565845,119.77171348628531,128.64062272813666,137.71554360264102,null,115.26330117403309,23.571428571428573,3.1827565433605538,253.03833223281518,293.5434321520471,40.505099919231924]
[166,23.714285714285715,null,77.371892428903536,90.302015403582729,101.47870878642537,111.38895829171676,120.51974963374302,129.35806852678974,138.3909006851425,null,116.02134962599521,23.714285714285715,3.1975558633659951,256.23588809618116,297.25283662981116,41.01694853363]
[167,23.857142857142858,null,78.065616820711696,91.040378269064377,102.23761767660088,112.14742790046373,121.25990179779608,130.06513222574077,139.05321204144042,null,116.77270108637478,23.857142857142858,3.2121563931444475,259.44804448932558,300.97917881651671,41.531134327191126]
[168,24,null,78.759750070700036,91.777287625699941,102.99304518070001,112.90022273569984,121.99202029069987,130.76163784569991,139.7022754006999,null,117.51721901319983,24,3.2265573091650919,262.6746017984907,304.72222714524247,42.047625346751772]
[169,24.142857142857142,null,79.45424765730472,92.512672660380417,103.74489419406852,113.6472194012258,122.71595542470978,131.44740940737751,140.33788849208594,null,118.25476686449839,24.142857142857142,3.2407578201036342,265.91535961859432,308.48174913107164,42.566389512477315]
[170,24.285714285714285,null,80.149065058961838,93.246462559996715,104.49306761205216,114.38829450084209,123.43155751208118,132.1222709314836,140.95984904476344,null,118.98520809829836,24.285714285714285,3.2547571657114429,269.17011678430578,312.25751140714192,43.087394622836143]
[171,24.428571428571427,null,80.844157754107613,93.978586511439858,105.2374683299968,115.1233246383494,124.13867686506956,132.7860464387285,141.56795478789758,null,119.70840617262783,24.428571428571427,3.2685546156623193,272.43867139996809,316.049279759358,43.610608359389914]
[172,24.571428571428573,null,81.539481221178164,94.708973701600826,105.97799924324809,115.85218641754825,124.83716379593018,133.43855994982241,142.16200345065326,null,120.4242245455147,24.571428571428573,3.2821494683768786,275.72082086834496,319.85681915973987,44.135998291394912]
[173,24.714285714285715,null,82.23499093860967,95.437553317370501,106.71456324715191,116.57475644223921,125.52686861691852,134.07963548547542,142.74179276219553,null,121.13252667498701,24.714285714285715,3.2955410498245792,279.01636191816954,323.67989379838161,44.663531880212076]
[174,24.857142857142858,null,82.930642384838237,96.164254545639864,107.44706323705395,117.29091131622287,126.20764164028995,134.70909706639787,143.3071204516894,null,121.83317601907272,24.857142857142858,3.3087287123033677,282.32509063047291,327.51826711399423,45.193176483521313]
[175,25,null,83.626391038300028,96.889006573299937,108.17540210830001,118.00052764329983,126.87933317829987,135.32676871329994,143.85778424829994,null,122.52603603579985,25,3.3217118331969471,285.64680246366987,331.37170182300724,45.724899359337371]
[176,25.142857142857142,null,84.322192377431222,97.611738587241632,108.89948275623586,118.7034820272707,127.54179354320365,135.93247444689177,144.39358188119206,null,123.21097018319634,25.142857142857142,3.3344898137096881,288.98129227737957,335.23995994720241,46.258667669822842]
[177,25.285714285714285,null,85.018001880667953,98.332379774355914,109.61920807620727,119.39965107193596,128.19487304725669,136.52603828788361,144.91431107953076,null,123.88784191929018,25.285714285714285,3.34706207757915,292.32835435495872,339.12280283985382,46.794448484895099]
[178,25.428571428571427,null,85.713775026446399,99.050859321533721,110.33448096356004,120.08891138109631,128.83842200271445,137.10728425698562,145.41976957248121,null,124.55651470210944,25.428571428571427,3.3594280697662473,295.68778242472496,343.01999121034851,47.33220878562355]
[179,25.571428571428573,null,86.409467293202653,99.767106415666106,111.04520431363996,120.77113955855231,129.4722907218322,137.67603637490808,145.90975508920835,null,125.21685198968204,25.571428571428573,3.3715872551230235,299.05936967984798,346.93128514726203,47.871915467414055]
[180,25.714285714285715,null,87.105034159372934,100.48105024364396,111.75128102179272,121.44621220810453,130.09632951686547,138.23211866236113,146.38406535887717,null,125.86871724003598,25.714285714285715,3.3835391170380742,302.44290879688606,350.85644413986171,48.413535342975649]
[181,25.857142857142858,null,87.800431103393336,101.19261999235825,112.45261398336412,122.11400593355344,130.7103887000695,138.77535514005504,146.8424981106526,null,126.51197391119921,25.857142857142858,3.3952831560595764,305.83819195294564,354.79522709801353,48.957035145067891]
[182,26,null,88.495613603700036,101.90174484869992,113.14910609370001,122.77439733869983,131.31431858369987,139.3055698286999,147.28485107369985,null,127.1464854611998,26,3.4068188884959674,309.24501084144163,358.74739237046487,49.502381529023239]
[183,26.142857142857142,null,89.190537138729184,102.60835399955997,113.84066024814607,123.42726302734414,131.90796948001181,139.82258674900601,147.71092197718383,null,127.77211534806567,26.142857142857142,3.4181458449942288,312.66315668643585,362.71269776147841,50.049541075042555]
[184,26.285714285714285,null,89.885157186916942,103.31237663182935,114.52717934204809,124.07247960328699,132.49119170126079,140.32622992168359,148.12050855026956,null,128.38872702982491,26.285714285714285,3.4292635690958178,316.09242025553169,366.6909005457909,50.598480290259204]
[185,26.428571428571427,null,90.579429226699446,104.01374193239903,115.20856627075187,124.70992367032898,133.06383555970214,140.81632336744275,148.51340852212203,null,128.99618396450532,26.428571428571427,3.440171615770208,319.53259187130192,370.68175748187008,51.149165610568161]
[186,26.571428571428573,null,91.273308736512874,104.71237908816001,115.88472392960321,125.33947183227066,133.62575136759139,141.2926911069938,148.88941962190634,null,129.59434961013511,26.571428571428573,3.4508695499260766,322.98346142122801,374.68502482344536,51.701563402217346]
[187,26.714285714285715,null,91.966751194793332,105.40821728600314,116.55555521394781,125.96100069291266,134.1767894371838,141.75515716104687,149.24833957878732,null,130.1830874247421,26.714285714285715,3.4613569449001034,326.44481836612812,378.70045832928446,52.255639963156341]
[188,26.857142857142858,null,92.659712079977027,106.10118571281947,117.22096301913149,126.57438685605553,134.71680008073483,142.20354555031219,149.58996612193022,null,130.76226086635432,26.857142857142858,3.4716333809234041,329.9164517470515,382.72781327119196,52.811361524140466]
[189,27,null,93.35214687050005,106.79121355549991,117.88085024050001,127.17950692549981,135.24563361049982,142.63768029549991,149.91409698049989,null,131.33173339299975,27,3.4816984435655933,333.39815019061712,386.76684444020219,53.368694249585076]
[190,27.142857142857142,null,94.044011044798594,107.47823000093548,118.53511977339912,127.77623750504617,135.76314033873422,143.05738541732035,150.22052988366136,null,131.89136846270648,27.142857142857142,3.4915517221564722,336.8897019127736,390.81730615094091,53.927604238167305]
[191,27.285714285714285,null,94.735260081308795,108.16216423601712,119.18367451317464,128.36445519849516,136.26917057769342,143.46248493648363,150.50906256057976,null,132.44102953350244,27.285714285714285,3.5011928081853374,340.39089472095895,394.87895224413114,54.488057523172188]
[192,27.428571428571427,null,95.425849458466786,108.84294544763578,119.82641735517228,128.94403660964733,136.76357463963276,143.85280287369991,150.77949274041995,null,132.98058006341552,27.428571428571427,3.5106212936779309,343.90151601463691,398.95153608721517,55.050020072578263]
[193,27.571428571428573,null,96.115734654708788,109.52050282268242,120.46325119473788,129.51485834230328,137.2462028368077,144.22816324967945,151.03161815234708,null,133.5098835104738,{"$f":"B199","v":27.571428571428573},3.519836769551008,347.42135278418795,{"$f":"O199/(1-U$56)","v":403.03481057306794},55.613457788879998]
[194,{"$f":"A200/7","v":27.714285714285715},null,96.804871148470895,110.19476554804801,121.09407892721721,130.07679700026361,137.71690548147359,144.58839008513254,151.26523652552609,null,134.02880333270534,27.714285714285715,3.5288388239445383,350.95019160813246,407.12852811677584,{"$f":"P200-O200","v":56.178336508643383}]
[195,{"$f":"A201/7","v":27.857142857142858},null,97.493214418189282,110.86566281062352,121.71880344795596,130.62972918732899,{"$f":" (-0.00003006*H$2 + 0.0124848506)*$B201^3+(-0.000000811*H$2^2 + 0.0020904273*H$2 - 0.6502866461)*$B201^2+(0.000000029*H$2^3 - 0.000042999*H$2^2 + 0.0194860819*H$2 - 2.5845091041)*$B201+(-0.0000000384*H$2^3 + 0.000053716*H$2^2 - 0.0223500993*H$2 + 4.9852264783)","v":138.17553288588581},144.93330740076931,151.48014558912206,null,134.53720298813798,27.857142857142858,{"$f":" -0.00006*L201^2 + 0.0334*L201 + 0.1301","v":3.5376270405315218},354.48781864866396,411.23244065045492,{"$f":"P201-O201","v":56.744622001790958}]
[196,{"$f":"A202/7","v":28},null,98.18071994230003,111.53312379729991,122.33732765229999,131.17353150729983,138.62193536229978,145.26273921729992,151.67614307229985,null,135.03494593479979,28,3.5462009968054549,{"$f":"O201+N202","v":358.03401964546941},415.34629961608198,{"$f":"P202-O202","v":57.312279970612565}]
[197,{"$f":"A203/7","v":28.142857142857142},null,98.8673431992394,112.19707769496816,122.94955443559505,131.70808056397681,139.05596322297095,145.5765095554346,151.85302670422462,null,135.52189563071872,28.142857142857142,3.5545602623454,{"$f":"O202+N203","v":361.58857990781479},419.46985595631315,{"$f":"P203-O203","v":57.881276048498364}]
[198,28.285714285714285,null,99.553039667443471,112.85745369051914,123.55538669318688,132.23325296116045,139.47746678015463,145.87444243588359,152.0105942140614,null,135.99791553392279,28.285714285714285,3.562704397058702,365.15128430487351,423.60286010326422,58.451575798390706]
[199,28.428571428571427,null,100.23776482534845,113.51418097084394,124.15472732042129,132.74892530265143,139.88629634610623,146.15636187935706,152.14864333097506,null,136.46286910243998,28.428571428571427,3.5706329494013151,368.72191725427484,427.74506196522589,59.023144710951044]
[200,28.571428571428573,null,100.9214741513904,114.16718872283344,124.74747921264401,133.25497419225022,140.28230223308117,146.42209190656521,152.26697178413067,null,136.91661979429827,28.571428571428573,3.5783454545757767,372.3002627088506,431.89621091128913,59.595948202438535]
[201,28.714285714285715,null,101.60412312400558,114.81640613337863,125.3335452652009,133.75127623375755,140.66533475333478,146.67145653821828,152.36537730269339,null,{"$f":" (-0.00003006*L$2 + 0.0124848506)*$B207^3+(-0.000000811*L$2^2 + 0.0020904273*L$2 - 0.6502866461)*$B207^2+(0.000000029*L$2^3 - 0.000042999*L$2^2 + 0.0194860819*L$2 - 2.5845091041)*$B207+(-0.0000000384*L$2^3 + 0.000053716*L$2^2 - 0.0223500993*L$2 + 4.9852264783)","v":137.35903106752573},28.714285714285715,3.5858414327067898,375.88610414155738,436.05605575385346,60.169951612296074]
[202,28.857142857142858,null,102.28566722163008,115.46176238937045,125.91282837343758,134.23770803097386,141.03524421912252,146.90427979502644,152.44365761582816,null,137.78996638015019,28.857142857142858,3.5931203869944413,379.47922452855181,440.2243447289934,60.74512020044159]
[203,29,null,102.96606192270005,116.1031866776999,126.48523143269998,134.71414618769978,141.39188094269977,147.1203856976999,152.50161045269985,null,138.20928919019974,29,3.6001818018450558,383.07940633039686,444.40082547465602,61.321419144259153]
[204,29.142857142857142,null,103.64526270565165,116.74060818525793,127.05065733833381,135.18046730773591,141.73509523632194,147.3195982669489,152.53903354247359,null,138.6168629557024,29.142857142857142,3.6070251409796605,386.68643147137652,448.58524500666471,61.898813535288184]
[205,29.285714285714285,null,104.32322504892103,117.37395609893548,127.60900898568482,135.63654799488293,142.0647374122444,147.50174152348362,152.55572461431444,null,139.01255113468605,29.285714285714285,3.6136498455200923,390.30008131689664,452.77734969250218,62.477268375605547]
[206,29.428571428571427,null,104.99990443094435,118.00315960562349,128.16018927009884,136.08226485294117,142.38065778272255,147.66663948801417,152.55148139738728,null,139.39621718517876,29.428571428571427,3.6200553320527189,393.92013664894938,456.97688522284773,63.056748573898346]
[207,29.571428571428573,null,105.67525633015779,118.62814789221304,128.70410108692155,136.5174944857115,142.68270666001177,147.81411618125097,152.52610162085728,null,139.76772456520851,29.571428571428573,3.6262409906698054,397.54637763961921,461.18359658084177,63.637218941222557]
[208,29.714285714285715,null,106.34923622499744,119.24885014559493,129.24064733149879,{"$f":" (-0.00003006*G$2 + 0.0124848506)*$B214^3+(-0.000000811*G$2^2 + 0.0020904273*G$2 - 0.6502866461)*$B214^2+(0.000000029*G$2^3 - 0.000042999*G$2^2 + 0.0194860819*G$2 - 2.5845091041)*$B214+(-0.0000000384*G$2^3 + 0.000053716*G$2^2 - 0.0223500993*G$2 + 4.9852264783)","v":136.94211349699421},142.97073435636739,147.94399562390393,152.47938301388933,null,140.12693673280322,29.714285714285715,3.6322061829884849,401.17858382260772,465.39722800905298,64.21864418644526]
[209,29.857142857142858,null,{"$f":" (-0.00003006*D$2 + 0.0124848506)*$B215^3+(-0.000000811*D$2^2 + 0.0020904273*D$2 - 0.6502866461)*$B215^2+(0.000000029*D$2^3 - 0.000042999*D$2^2 + 0.0194860819*D$2 - 2.5845091041)*$B215+(-0.0000000384*D$2^3 + 0.000053716*D$2^2 - 0.0223500993*D$2 + 4.9852264783)","v":107.02179959389944},119.86519555266027,129.76973089917635,137.35599849059014,143.24459118404494,148.05610183668361,152.41112330564849,null,140.47371714599103,29.857142857142858,3.6379502401473869,404.81653406275512,469.6175229741205,64.80098891136538]
[210,30,null,107.69290191530006,120.47711330029991,130.29125468529995,137.7590260702998,143.50412745529977,148.15025884029987,152.32112022529981,null,140.80792926279977,30,3.6434724607808548,408.46000652353598,473.84422412904684,65.384217605510855]
[211,30.142857142857142,null,108.36249866763534,121.08453257540484,130.80512158521543,138.15107283992367,143.74919348238726,148.22629065546315,152.20917150200825,null,141.12943654125746,30.142857142857142,3.6487721089708303,412.10877863250681,478.07707327311442,65.96829464060761]
[212,30.285714285714285,null,109.03054532934144,121.68738256486608,131.31123449426846,138.53201540326248,143.97963957756275,148.28402130288356,152.07507486493884,null,141.43810243939217,30.285714285714285,3.6538484121763393,415.76262704468314,482.3158113094002,66.553184264717061]
[213,30.428571428571427,null,109.69699737885456,122.28559245557453,131.80949630780495,138.90173036411667,144.19531605308171,148.32327480327132,151.91862804325666,null,141.73379041523182,30.428571428571427,3.6587005591406112,419.42132760382373,486.56017819986243,67.138850596038708]
[214,30.571428571428573,null,110.36181029461083,122.87909143442117,132.29980992117055,139.26009432628692,144.39607322119949,148.34387517733666,151.73962876612657,null,142.01636392680439,30.571428571428573,3.6633276977758338,423.08465530159958,490.80991291797375,67.725257616374165]
[215,30.714285714285715,null,111.02493955504642,123.46780868829697,132.78207822971103,139.60698389357381,144.58176139417148,148.34564644578973,151.53787476271387,null,142.28568643213791,30.714285714285715,3.6677289330255256,426.75238423462508,495.06475339887402,68.312369164248935]
[216,30.857142857142858,null,111.68634063859743,124.05167340409291,133.25620412877228,139.9422756697779,144.75223088425312,148.32841262934068,151.31316376218319,null,142.54162138926034,30.857142857142858,3.6719033247045405,430.42428755932963,499.32443648701798,68.900148927688349]
[217,31,null,112.34596902370005,124.6306147686999,133.72209051370001,140.26584625869972,144.90733200369976,148.29199774869988,151.06529349369984,null,142.78403225619974,31,3.6758498853167016,434.10013744464635,503.58869788129084,69.488560436644491]
[218,31.142857142857142,null,113.0037801887904,125.20456196900892,134.17964027983987,140.57757226413997,145.04691506476681,148.23622582457739,150.79406168642865,null,143.01278249098397,31.142857142857142,3.6795675778500549,437.77970502249639,507.85727207756599,70.077567055069608]
[219,31.285714285714285,null,113.6597296123047,125.77344419191095,134.62875632253787,140.87733028989913,145.17083037970966,148.16092087768357,150.49926606953477,null,143.2277355516411,31.285714285714285,3.6830553135497621,441.46276033604613,512.12989230867981,70.667131972633683]
[220,31.428571428571427,null,114.31377277267904,126.33719062429699,135.06934153713965,141.16499693977789,145.27892826078377,148.06590692872845,150.18070437218321,null,143.42875489619914,31.428571428571427,3.6863119496686134,445.14907228571474,516.40629048179619,71.257218196081453]
[221,31.571428571428573,null,114.96586514834962,126.89573045305792,135.5012988189909,141.44044881757671,145.37105902024436,147.95100799842231,149.83817432353888,null,143.615703982686,31.571428571428573,3.6893362871951632,448.83840857290988,520.6861971131359,71.84778854022602]
[222,31.714285714285715,null,115.61596221775251,127.44899286508472,135.9245310634376,141.70356252709624,145.44707297034697,147.81604810747535,149.47147365276686,null,143.78844626912971,31.714285714285715,3.692127068559508,452.53053564146938,524.96934126004419,72.438805618574804]
[223,31.857142857142858,null,116.26401945932395,127.99690704726839,136.33894116582533,141.95421467213706,145.50682042334702,147.66085127659784,149.08040008903217,null,143.94684521355833,31.857142857142858,3.694682975316681,456.22521861678604,529.25545045037165,73.030231833585617]
[224,32,null,116.90999235150005,128.5394021864999,136.74443202149996,142.19228185649973,145.55015169149974,147.48524152649986,148.66475136149978,null,144.0907642739997,32,3.6970026258076687,459.92222124259371,533.54425060914048,73.622029366546769]
[]
[]
["Data from Sara Willis"]
[null,null,null,"700g/day"]
[]
[null,"Age (weeks)","Age (days)","Weight (kg)","Feed Intake (kg/d)","+5% wastage"]
[null,null,1,1.4,0,"0","0"]
["Weaner ",3,21,6.1,0.2,{"$f":"(0.05*E238)+E238","v":0.21000000000000002},{"$f":"F238*7","v":1.4700000000000002}]
[null,4,{"$f":"B239*7","v":28},8.25,0.4,{"$f":"(0.05*E239)+E239","v":0.42000000000000004},{"$f":"F239*7","v":2.9400000000000004}]
[null,5,{"$f":"B240*7","v":35},10.850000000000001,0.55000000000000004,{"$f":"(0.05*E240)+E240","v":0.57750000000000001},4.0425000000000004]
[null,6,42,13.95,0.65,0.6825,4.7774999999999999]
[null,7,49,17.55,0.75,0.78749999999999998,5.5125000000000002]
[null,8,56,21.65,0.85,0.89249999999999996,6.2474999999999996]
[null,9,63,26.25,0.95,{"$f":"(0.05*E244)+E244","v":0.99749999999999994},6.9824999999999999]
["Grower",10,70,31.200000000000003,1.0900000000000001,{"$f":"(0.05*E245)+E245","v":1.1445000000000001},8.0114999999999998]
[null,11,77,36.549999999999997,1.25,1.3125,9.1875]
[null,12,84,42.2,1.4,1.47,10.29]
[null,13,91,48.150000000000006,1.62,1.7010000000000001,11.907]
[null,14,98,54.25,1.75,1.8374999999999999,12.862499999999999]
[null,15,105,60.55,1.9,1.9949999999999999,13.965]
["Finisher",16,112,66.900000000000006,2.0499999999999998,2.1524999999999999,15.067499999999999]
[null,17,119,73.25,2.2000000000000002,2.31,16.170000000000002]
[null,18,126,79.550000000000011,2.4,2.52,17.64]
[null,19,133,85.75,2.5499999999999998,2.6774999999999998,18.7425]
[null,20,140,91.85,2.7,2.835,19.844999999999999]
[null,21,147,97.75,2.8,2.94,20.58]
[null,22,154,103.5,2.9,3.0449999999999999,21.314999999999998]
[null,23,161,109,3,3.15,22.05]
[null,24,168,114.3,3.1,3.2549999999999999,22.785]
[null,25,175,119.35,3.2,3.3600000000000003,23.520000000000003]
[null,26,182,124.15,3.3,3.4649999999999999,24.254999999999999]
[null,null,null,null,null,null,{"$f":"SUM(G238:G261)","v":320.166}]

{"sheet":"4. Growth chart","index":5,"n_rows":1,"n_cols":1,"rows_kept":1,"cut":false,"hidden":false,"merged":[]}
["Menu"]

{"sheet":"5. Herd details","index":6,"n_rows":124,"n_cols":40,"rows_kept":124,"cut":false,"hidden":false,"merged":[[51,2,51,3],[51,4,51,5],[51,6,51,8],[1,0,1,20],[5,6,5,8],[5,2,5,4],[5,9,5,11],[25,2,25,3],[25,4,25,5],[25,6,25,8],[5,5,6,5]]}
["Menu"]
["5. Herd details"]
[]
[]
[]
[null,"Pig class","Pigs accommodated in piggery",null,null,"Shed type\n(waste management system)","Pig age",null,null,"Pig live weight",null,null,"SPU factor","SPU factor","SPU factor","SPU factor","No of SPUs ","No of SPUs ","No of SPUs ",null,null,null,null,null,null,null,null,null,null,null,null,null,null,null,"Shed losses"]
[null,null,"Calculated values","Entered values","Adopted values",null,"In","Out","Average","In","Out","Average","Standard","Interpolated","Live weight regression","Age regression","Standard","Interpolated","Live weight regression","Age regression",null,null,"Pig class","Time","Weight gain (from birth)",null,"In piggery start","Deaths per stage","Purchased per stage","Sold per stage","Gilts out","Gilts in","In piggery finish",null,"TS","VS","N","TS","VS","N"]
[null,null,"(pigs. stage-1)","(pigs. stage-1)","(pigs. stage-1)",null,"(weeks)","(weeks)","(weeks)","(kg. pig-1)","(kg. pig-1)","(kg. pig-1)","(SPU. pig-1)","(SPU. pig-1)","(SPU. pig-1)","(SPU/pig)","(SPU)","(SPU)","(SPU)","(SPU)",null,null,null,"(weeks/stage)","g/day",null,"(pigs/stage)","(pigs/stage)","(pigs/stage)","(pigs/stage)","(pigs/stage)","(pigs/stage)","(pigs/stage)",null,"(%)","(%)","(%)","(SPU x %)","(SPU x %)","(SPU x %)"]
[null,"Gilts",{"$f":"(AA9+AG9)/2","v":102.53742590682847},null,{"$f":"IF(D9=\"\", C9,D9)","v":102.53742590682847},"Flushing",{"$f":"'3. Herd Input'!C30","v":22},{"$f":"'3. Herd Input'!C32","v":30},{"$f":"(G9+H9)/2","v":26},{"$f":"IF(E9=0, 0, 'Growth curve sheet'!V14)","v":106.38681155560008},{"$f":"IF(E9=0,0, '3. Herd Input'!C33)","v":145},{"$f":"(J9+K9)/2","v":125.69340577780004},1.8,null,1.8,null,{"$f":"E9*M9","v":184.56736663229125},{"$f":"Q9","v":184.56736663229125},184.56736663229125,184.56736663229125,null,null,{"$f":"B9","v":"Gilts"},{"$f":"H9-G9","v":8},null,null,{"$f":"('3. Herd Input'!C59*(1+X29/100)*X9)/(365/7)","v":102.19537313054919},{"$f":"E29*X9/(365/7)","v":1.1005655567905297},{"$f":"'3. Herd Input'!G41*X9/(365/7)","v":0},{"$f":"G29*X9/(365/7)","v":12.426005622700325},{"$f":"AF11*X9/X11","v":86.895856806545666},{"$f":"('3. Herd Input'!C59*X9/(365/7))-AC9","v":101.10653353859509},{"$f":"AA9-AB9-AD9+AC9-AE9+AF9","v":102.87947868310775},null,{"$f":"IF($S9=0, 0, IF($F9=\"Deep litter\", 0, VLOOKUP($F9, '7. Assumptions'!$B$34:$K$35, 4, FALSE)))","v":0.02},{"$f":"IF($S9=0, 0, IF($F9=\"Deep litter\", 0, VLOOKUP($F9, '7. Assumptions'!$B$34:$K$35, 6, FALSE)))","v":0.03},{"$f":"IF($S9=0, 0, IF($F9=\"Deep litter\", 0, VLOOKUP($F9, '7. Assumptions'!$B$34:$K$35, 8, FALSE)))","v":0.1},{"$f":"$S9*AI9","v":3.691347332645825},{"$f":"$S9*AJ9","v":5.5370209989687371},18.456736663229126]
[null,"Boars",{"$f":"(AA10+AG10)/2","v":10},null,10,"Flushing",{"$f":"'3. Herd Input'!C31","v":22},{"$f":"'3. Herd Input'!C31+'3. Herd Input'!C17*365/7","v":100.21428571428571},{"$f":"(G10+H10)/2","v":61.107142857142854},{"$f":"IF(E10=0,0,'Growth curve sheet'!V16)","v":106.38681155560008},{"$f":"IF(E10=0,0,'3. Herd Input'!C35)","v":300},{"$f":"(J10+K10)/2","v":203.19340577780002},1.6,null,1.6,null,{"$f":"E10*M10","v":16},16,16,16,null,null,{"$f":"B10","v":"Boars"},{"$f":"H10-G10","v":78.214285714285708},null,null,{"$f":"'3. Herd Input'!C14","v":10},{"$f":"E30*X10/(365/7)","v":0.77999999999999992},{"$f":"'3. Herd Input'!G42*X10/(365/7)","v":0},{"$f":"G30*X10/(365/7)","v":9.2199999999999989},null,null,{"$f":"'3. Herd Input'!C14","v":10},null,{"$f":"IF($S10=0, 0, IF($F10=\"Deep litter\", 0, VLOOKUP($F10, '7. Assumptions'!$B$34:$K$35, 4, FALSE)))","v":0.02},{"$f":"IF($S10=0, 0, IF($F10=\"Deep litter\", 0, VLOOKUP($F10, '7. Assumptions'!$B$34:$K$35, 6, FALSE)))","v":0.03},{"$f":"IF($S10=0, 0, IF($F10=\"Deep litter\", 0, VLOOKUP($F10, '7. Assumptions'!$B$34:$K$35, 8, FALSE)))","v":0.1},{"$f":"$S10*AI10","v":0.32},0.48,1.6]
[null,"Gestating sows 1",{"$f":"'3. Herd Input'!C13-C13","v":850.95873040045035},null,850.95873040045035,"Flushing",null,null,null,{"$f":"IF(E11=0,0,'3. Herd Input'!C33)","v":145},{"$f":"IF(E11=0,0,'3. Herd Input'!C34)","v":200},{"$f":"(J11+K11)/2","v":172.5},1.6,null,1.6,null,{"$f":"E11*M11","v":1361.5339686407206},1361.5339686407206,1361.5339686407206,1361.5339686407206,null,null,"Gestating sows 1",{"$f":"(365/7)-X13","v":44.325714285714291},null,null,{"$f":"E11+E12","v":850.95873040045035},{"$f":"E31*X11/(365/7)","v":56.424019286999552},null,{"$f":"G31*X11/(365/7)","v":425.04109589041099},null,{"$f":"AB11+AD11-AC11","v":481.46511517741055},{"$f":"AA11","v":850.95873040045035},null,{"$f":"IF($S11=0, 0, IF($F11=\"Deep litter\", 0, VLOOKUP($F11, '7. Assumptions'!$B$34:$K$35, 4, FALSE)))","v":0.02},{"$f":"IF($S11=0, 0, IF($F11=\"Deep litter\", 0, VLOOKUP($F11, '7. Assumptions'!$B$34:$K$35, 6, FALSE)))","v":0.03},{"$f":"IF($S11=0, 0, IF($F11=\"Deep litter\", 0, VLOOKUP($F11, '7. Assumptions'!$B$34:$K$35, 8, FALSE)))","v":0.1},27.230679372814411,40.846019059221618,136.15339686407205]
[null,"Gestating sows 2",0,null,0,"Flushing",null,null,null,{"$f":"IF(E12=0,0,'3. Herd Input'!C34)","v":0},{"$f":"IF(E12=0,0,'3. Herd Input'!C35)","v":0},{"$f":"(J12+K12)/2","v":0},1.6,null,1.6,null,{"$f":"E12*M12","v":0},{"$f":"Q12","v":0},{"$f":"R12","v":0},{"$f":"S12","v":0},null,null,"Gestating sows 2",{"$f":"(365/7)-X13","v":44.325714285714291},null,null,0,null,null,null,null,null,{"$f":"AA12","v":0},null,{"$f":"IF($S12=0, 0, IF($F12=\"Deep litter\", 0, VLOOKUP($F12, '7. Assumptions'!$B$34:$K$35, 4, FALSE)))","v":0},{"$f":"IF($S12=0, 0, IF($F12=\"Deep litter\", 0, VLOOKUP($F12, '7. Assumptions'!$B$34:$K$35, 6, FALSE)))","v":0},{"$f":"IF($S12=0, 0, IF($F12=\"Deep litter\", 0, VLOOKUP($F12, '7. Assumptions'!$B$34:$K$35, 8, FALSE)))","v":0},{"$f":"$S12*AI12","v":0},{"$f":"$S12*AJ12","v":0},{"$f":"$S12*AK12","v":0}]
[null,"Lactating sows",{"$f":"(AA13+AG13)/2","v":149.04126959954959},null,149.04126959954959,"Flushing",null,null,null,{"$f":"IF(E13=0,0,'3. Herd Input'!C34)","v":200},{"$f":"IF(E13=0,0,'3. Herd Input'!C33)","v":145},{"$f":"(J13+K13)/2","v":172.5},2.5,null,2.5,null,{"$f":"E13*M13","v":372.60317399887401},372.60317399887401,372.60317399887401,372.60317399887401,null,null,"Lactating sows",{"$f":"'3. Herd Input'!C25*'3. Herd Input'!C38/7","v":7.8171428571428567},null,null,{"$f":"'3. Herd Input'!C13*'3. Herd Input'!C25*X14/(365/7)","v":149.91780821917806},{"$f":"E32*X13/(365/7)","v":1.7530772392568958},null,null,null,null,{"$f":"AA13-AB13","v":148.16473097992116},null,{"$f":"IF($S13=0, 0, IF($F13=\"Deep litter\", 0, VLOOKUP($F13, '7. Assumptions'!$B$34:$K$35, 4, FALSE)))","v":0.02},{"$f":"IF($S13=0, 0, IF($F13=\"Deep litter\", 0, VLOOKUP($F13, '7. Assumptions'!$B$34:$K$35, 6, FALSE)))","v":0.03},{"$f":"IF($S13=0, 0, IF($F13=\"Deep litter\", 0, VLOOKUP($F13, '7. Assumptions'!$B$34:$K$35, 8, FALSE)))","v":0.1},7.4520634799774808,11.17809521996622,37.260317399887406]
[null,"Suckers",{"$f":"IF('3. Herd Input'!F16<>\"\", (AA14+AG14)/2,0)","v":1662.8883287671231},null,1662.8883287671231,"Flushing",0,{"$f":"IF('3. Herd Input'!G16<>\"\", '3. Herd Input'!G16, 0)","v":3.4285714285714284},{"$f":"(G14+H14)/2","v":1.7142857142857142},{"$f":"IF(E14=0,0,'3. Herd Input'!G30)","v":1.4},{"$f":"IF(H14=0,0,IF('3. Herd Input'!G31=\"\",'3. Herd Input'!I31,'3. Herd Input'!G31))","v":7},{"$f":"IF(K14<>\"\", (J14+K14)/2,0)","v":4.2},{"$f":"IF(K14=0,0, IF(K14<=8,0.1, IF(K14<=25, 0.5, IF(K14<=55, 1, IF(K14<=100, 1.6, 1.8)))))","v":0.1},{"$f":"IF(L14=0, 0, IF(L14<4.7, 0.1, IF(L14<16.5, 0.033898*L14 - 0.059322, IF(L14<40, 0.021277*L14 + 0.148936, IF(L14<77.5, 0.016*L14 + 0.36, IF(L14<115, 0.005333*L14 + 1.186667, 1.8))))))","v":0.1},{"$f":"IF(L14=0, 0, 0.0000001837*L14^3 - 0.0001685623*L14^2 + 0.0329143124*L14 - 0.0333791203)","v":0.10190116277360001},{"$f":"IF(I14=0, 0, -0.000132*I14^3 + 0.004419*I14^2 + 0.043493*I14 + 0.003072)","v":8.9952874635568517E-2},{"$f":"$E14*M14","v":166.28883287671232},166.28883287671232,169.4502542640183,149.58158537053907,null,null,"Suckers",{"$f":"IF(H14<>\"\",H14-G14,\"\")","v":3.4285714285714284},{"$f":"IF(K14<>\"\",1000*(K14-J$14)/(H14*7),\"\")","v":233.33333333333334},null,{"$f":"IF(H14<>\"\", (AA34+Z34)*X14/(365/7),0)","v":1769.0301369863012},{"$f":"IF(K14<>\"\", E34*X14/(365/7),0)","v":212.28361643835615},{"$f":"IF(K14<>\"\", C34*X14/(365/7),0)","v":0},{"$f":"IF(K14<>\"\", G34*X14/(365/7),0)","v":0},null,null,{"$f":"IF(K14<>\"\", AA14-AB14,0)","v":1556.746520547945},null,{"$f":"IF($S14=0, 0, IF($F14=\"Deep litter\", 0, VLOOKUP($F14, '7. Assumptions'!$B$34:$K$35, 4, FALSE)))","v":0.02},{"$f":"IF($S14=0, 0, IF($F14=\"Deep litter\", 0, VLOOKUP($F14, '7. Assumptions'!$B$34:$K$35, 6, FALSE)))","v":0.03},{"$f":"IF($S14=0, 0, IF($F14=\"Deep litter\", 0, VLOOKUP($F14, '7. Assumptions'!$B$34:$K$35, 8, FALSE)))","v":0.1},3.3890050852803659,5.0835076279205484,16.945025426401831]
[null,{"$f":"'3. Herd Input'!M17","v":"Weaner"},{"$f":"IF('3. Herd Input'!F17<>\"\", (AA15+AG15)/2,0)","v":2957.369327544784},null,2957.369327544784,"Flushing",{"$f":"IF(H15<>0,H14,0)","v":3.4285714285714284},{"$f":"IF('3. Herd Input'!G17<>\"\", '3. Herd Input'!G17, 0)","v":10},{"$f":"IF(H15<>\"\", (G15+H15)/2,0)","v":6.7142857142857144},{"$f":"IF(E15=0,0,IF(K15<>\"\", K14,\"\"))","v":7},{"$f":"IF(H15=0,0,IF('3. Herd Input'!G32=\"\",'3. Herd Input'!I32,'3. Herd Input'!G32))","v":35},21,1,0.59575299999999998,0.58518671150000001,0.45435695626822165,2957.369327544784,1761.8616489927877,1730.6132314768986,1343.7013262242456,null,null,"Weaner",6.5714285714285712,480,null,2983.7641643835614,52.789673677555299,0,0,null,null,2930.9744907060062,null,{"$f":"IF($S15=0, 0, IF($F15=\"Deep litter\", 0, VLOOKUP($F15, '7. Assumptions'!$B$34:$K$35, 4, FALSE)))","v":0.02},{"$f":"IF($S15=0, 0, IF($F15=\"Deep litter\", 0, VLOOKUP($F15, '7. Assumptions'!$B$34:$K$35, 6, FALSE)))","v":0.03},{"$f":"IF($S15=0, 0, IF($F15=\"Deep litter\", 0, VLOOKUP($F15, '7. Assumptions'!$B$34:$K$35, 8, FALSE)))","v":0.1},34.612264629537975,51.918396944306956,173.06132314768988]
[null,{"$f":"'3. Herd Input'!M18","v":"Porker"},{"$f":"IF('3. Herd Input'!F18<>\"\", (AA16+AG16)/2,0)","v":1774.4648906608736},null,1774.4648906608736,"Flushing",10,{"$f":"IF('3. Herd Input'!G18<>\"\", '3. Herd Input'!G18, 0)","v":14},12,{"$f":"IF(E16=0,0,IF(K16<>\"\", K15,\"\"))","v":35},{"$f":"IF(H16=0,0,IF('3. Herd Input'!G33=\"\",'3. Herd Input'!I33,'3. Herd Input'!G33))","v":60},47.5,1.6,1.1200000000000001,1.1694195027624998,0.93322799999999995,2839.1438250573979,1987.4006775401785,2075.0938501061523,1655.9803209816657,null,null,"Porker",4,597.9591836734694,null,1784.0714291253951,19.213076929042717,0,0,null,null,1764.8583521963524,null,{"$f":"IF($S16=0, 0, IF($F16=\"Deep litter\", 0, VLOOKUP($F16, '7. Assumptions'!$B$34:$K$35, 4, FALSE)))","v":0.02},{"$f":"IF($S16=0, 0, IF($F16=\"Deep litter\", 0, VLOOKUP($F16, '7. Assumptions'!$B$34:$K$35, 6, FALSE)))","v":0.03},{"$f":"IF($S16=0, 0, IF($F16=\"Deep litter\", 0, VLOOKUP($F16, '7. Assumptions'!$B$34:$K$35, 8, FALSE)))","v":0.1},41.501877002123045,62.252815503184564,207.50938501061523]
[null,{"$f":"'3. Herd Input'!M19","v":"Grower"},{"$f":"IF('3. Herd Input'!F19<>\"\", (AA17+AG17)/2,0)","v":1755.3552687614488},null,1755.3552687614488,"Flushing",14,{"$f":"IF('3. Herd Input'!G19<>\"\", '3. Herd Input'!G19, 0)","v":18},16,{"$f":"IF(E17=0,0, IF(K17<>\"\", K16,\"\"))","v":60},{"$f":"IF(H17=0,0,IF('3. Herd Input'!G34=\"\",'3. Herd Input'!I34,'3. Herd Input'!G34))","v":85},72.5,1.6,1.52,1.5369069908874999,1.289552,2808.5684300183184,2668.1400085174023,2697.8177840506769,2263.6218975418637,null,null,"Grower",4,663.49206349206349,null,1764.8583521963524,19.006166869806872,0,0,null,null,1745.8521853265454,null,{"$f":"IF($S17=0, 0, IF($F17=\"Deep litter\", 0, VLOOKUP($F17, '7. Assumptions'!$B$34:$K$35, 4, FALSE)))","v":0.02},{"$f":"IF($S17=0, 0, IF($F17=\"Deep litter\", 0, VLOOKUP($F17, '7. Assumptions'!$B$34:$K$35, 6, FALSE)))","v":0.03},{"$f":"IF($S17=0, 0, IF($F17=\"Deep litter\", 0, VLOOKUP($F17, '7. Assumptions'!$B$34:$K$35, 8, FALSE)))","v":0.1},53.956355681013541,80.934533521520308,269.78177840506771]
[null,{"$f":"'3. Herd Input'!M20","v":"Finisher"},{"$f":"IF('3. Herd Input'!F20<>\"\", (AA18+AG18)/2,0)","v":1736.4514427901718},null,1736.4514427901718,"Flushing",18,{"$f":"IF('3. Herd Input'!G20<>\"\", '3. Herd Input'!G20, 0)","v":22},20,{"$f":"IF(E18=0,0,IF(K18<>\"\", K17,\"\"))","v":85},{"$f":"IF(H18=0,0,IF('3. Herd Input'!G35=\"\",'3. Herd Input'!I35,'3. Herd Input'!G35))","v":110},97.5,1.8,1.7066344999999998,1.7436350415125002,1.5845319999999998,3125.6125970223093,2963.4879398404833,3027.7375835338821,2751.4628775471961,null,null,"Finisher",4,705.19480519480521,null,1745.8521853265456,18.801485072747415,0,1727.0507002537981,null,null,1727.0507002537981,null,{"$f":"IF($S18=0, 0, IF($F18=\"Deep litter\", 0, VLOOKUP($F18, '7. Assumptions'!$B$34:$K$35, 4, FALSE)))","v":0.02},{"$f":"IF($S18=0, 0, IF($F18=\"Deep litter\", 0, VLOOKUP($F18, '7. Assumptions'!$B$34:$K$35, 6, FALSE)))","v":0.03},{"$f":"IF($S18=0, 0, IF($F18=\"Deep litter\", 0, VLOOKUP($F18, '7. Assumptions'!$B$34:$K$35, 8, FALSE)))","v":0.1},60.554751670677646,90.832127506016462,302.77375835338825]
[null,{"$f":"'3. Herd Input'!M21","v":"Unallocated"},{"$f":"IF('3. Herd Input'!F21<>\"\", (AA19+AG19)/2,0)","v":0},null,0,null,0,{"$f":"IF('3. Herd Input'!G21<>\"\", '3. Herd Input'!G21, 0)","v":0},0,{"$f":"IF(E19=0, 0, IF(K19<>\"\", K18,\"\"))","v":0},{"$f":"IF(H19=0,0,IF('3. Herd Input'!G36=\"\",'3. Herd Input'!I36,'3. Herd Input'!G36))","v":0},0,0,0,0,0,0,0,0,0,null,null,"Unallocated",0,{"$error":"#DIV/0!"},null,0,0,0,0,null,null,0,null,{"$f":"IF($S19=0, 0, IF($F19=\"Deep litter\", 0, VLOOKUP($F19, '7. Assumptions'!$B$34:$K$35, 4, FALSE)))","v":0},{"$f":"IF($S19=0, 0, IF($F19=\"Deep litter\", 0, VLOOKUP($F19, '7. Assumptions'!$B$34:$K$35, 6, FALSE)))","v":0},{"$f":"IF($S19=0, 0, IF($F19=\"Deep litter\", 0, VLOOKUP($F19, '7. Assumptions'!$B$34:$K$35, 8, FALSE)))","v":0},0,0,0]
[null,{"$f":"'3. Herd Input'!M22","v":"Unallocated"},{"$f":"IF('3. Herd Input'!F22<>\"\", (AA20+AG20)/2,0)","v":0},null,0,"Flushing",0,{"$f":"IF('3. Herd Input'!G22<>\"\", '3. Herd Input'!G22, 0)","v":0},0,{"$f":"IF(E20=0, 0, IF(K20<>\"\", K19,\"\"))","v":0},{"$f":"IF(H20=0,0,IF('3. Herd Input'!G37=\"\",'3. Herd Input'!I37,'3. Herd Input'!G37))","v":0},0,0,0,0,0,0,0,0,0,null,null,"Unallocated",0,{"$error":"#DIV/0!"},null,0,0,0,0,null,null,0,null,{"$f":"IF($S20=0, 0, IF($F20=\"Deep litter\", 0, VLOOKUP($F20, '7. Assumptions'!$B$34:$K$35, 4, FALSE)))","v":0},{"$f":"IF($S20=0, 0, IF($F20=\"Deep litter\", 0, VLOOKUP($F20, '7. Assumptions'!$B$34:$K$35, 6, FALSE)))","v":0},{"$f":"IF($S20=0, 0, IF($F20=\"Deep litter\", 0, VLOOKUP($F20, '7. Assumptions'!$B$34:$K$35, 8, FALSE)))","v":0},0,0,0]
[null,null,null,null,null,null,null,null,null,null,null,null,null,null,null,null,null,null,null,null,null,null,{"$f":"'3. Herd Input'!S16","v":"NEGP Sucker"},null,null,null,null,null,0,0]
[null,"Totals:",{"$f":"SUM(C9:C20)","v":10999.066684431231},null,{"$f":"SUM(E9:E20)","v":10999.066684431231},null,null,null,null,null,null,null,null,null,null,null,{"$f":"SUM(Q9:Q20)","v":13831.687521791408},{"$f":"SUM(R9:R20)","v":11481.88361703945},{"$f":"SUM(S9:S20)","v":11635.417212703516},{"$f":"SUM(T9:T20)","v":10099.052516937396},null,null,{"$f":"'3. Herd Input'!S17","v":"NEGP Weaner"},null,null,null,null,null,0,0,null,null,null,null,"Composite shed loss factors:",null,null,{"$f":"SUM(AL9:AL20)/$S22","v":0.02},{"$f":"SUM(AM9:AM20)/$S22","v":2.9999999999999992E-2},{"$f":"SUM(AN9:AN20)/$S22","v":9.9999999999999978E-2}]
[null,null,null,null,{"$f":"IF((E11+E12+E13)='3. Herd Input'!C13,\"\",\"Error-Sow number incorrect\")","v":""},null,null,null,null,null,null,null,null,null,null,null,null,null,null,null,null,null,{"$f":"'3. Herd Input'!S18","v":"NEGP Grower"},null,null,null,null,null,0,0]
[null,null,null,null,null,null,null,null,null,null,null,null,null,null,null,null,null,null,null,null,null,null,{"$f":"'3. Herd Input'!S19","v":"NEGP Finisher"},null,null,null,null,null,0,0]
[null,null,null,null,null,null,null,null,null,null,null,null,null,null,null,null,null,null,null,null,null,null,{"$f":"'3. Herd Input'!S20","v":"NEGP Heavy finisher"},null,null,null,null,null,0,0]
[null,"Pig class","Pigs purchased",null,"Pig mortalities",null,"Pigs sold",null,null,"Pigs in piggery"]
[null,null,"Number","Mass","Number","Mass","Number","Live weight","Dressed weight",null,null,null,null,null,null,null,null,null,null,null,null,null,{"$f":"B26","v":"Pig class"},"Mortality","Sold","Pigs Purchased","Pigs in from previous stage","Pigs sold","Pig mortalities","Pigs out to next stage","In - Out"]
[null,null,"(pigs. yr-1)","(kg. yr-1)","(pigs. yr-1)","(kg. yr-1)","(pigs. yr-1)","(kg. yr-1)","(kg. yr-1)","(kg live weight)",null,null,null,null,null,null,null,null,null,null,null,null,null,"(%)","(%)","(pigs/year)","(pigs/year)","(pigs/year)","(pigs/year)","(pigs/year)","(pigs/year)"]
[null,"Gilts",{"$f":"'3. Herd Input'!G41","v":0},{"$f":"C29*J9","v":0},{"$f":"IF($X$9=0, 0, $AA$9*$X$29*(365/7)/($X$9*100))","v":7.1733290755097023},{"$f":"$E$29*$J$9","v":763.14760858255761},{"$f":"((AA11+AA13)*('3. Herd Input'!C16+'3. Herd Input'!C18)*'3. Herd Input'!C19/10000)","v":80.99092950510034},{"$f":"G29*K9","v":11743.684778239549},{"$f":"H29*'3. Herd Input'!C$40/100","v":8925.2004314620572},{"$f":"E9*L9","v":12888.278281918097},null,null,null,null,null,null,null,null,null,null,null,null,{"$f":"B29","v":"Gilts"},{"$f":"'3. Herd Input'!G55","v":1.0769230769230769},null,{"$f":"C29","v":0},{"$f":"'3. Herd Input'!C59-'5. Herd details'!Z29+E29","v":666.17127088956704},{"$f":"G29","v":80.99092950510034},{"$f":"E29","v":7.1733290755097023},{"$f":"Z29+AA29-AB29-AC29","v":578.00701230895697},{"$f":"Z29+AA29-AB29-AC29-AD29","v":0}]
[null,"Boars",{"$f":"'3. Herd Input'!G42","v":0},{"$f":"C30*J10","v":0},{"$f":"($Z$30+$AA$30)*$X$30/100","v":0.52},{"$f":"E30*K10","v":156},{"$f":"Z30+AA30-E30","v":6.1466666666666665},{"$f":"G30*K10","v":1844},{"$f":"H30*'3. Herd Input'!C$40/100","v":1401.44},{"$f":"E10*L10","v":2031.9340577780004},null,null,null,null,null,null,null,null,null,null,null,null,"Boars",{"$f":"'3. Herd Input'!C18","v":7.8},null,{"$f":"C30","v":0},{"$f":"'3. Herd Input'!C61-'5. Herd details'!Z30","v":6.666666666666667},6.1466666666666665,0.52,0,{"$f":"Z30+AA30-AB30-AC30-AD30","v":4.4408920985006262E-16}]
[null,"Gestating sows",null,null,{"$f":"$X$31*$AA$11/100","v":66.374780971235126},{"$f":"E31*J11","v":9624.3432408290937},{"$f":"'3. Herd Input'!C16*'3. Herd Input'!C13/100","v":500},{"$f":"G31*J11","v":72500},{"$f":"H31*'3. Herd Input'!C$40/100","v":55100},{"$f":"E11*L11","v":146790.38099407768},null,null,null,null,null,null,null,null,null,null,null,null,"Gestating sows",{"$f":"'3. Herd Input'!C18","v":7.8},null,0,{"$f":"AD29+AD32","v":2846.3134232678613},500,66.374780971235126,2279.9386422966263,0]
[null,"Lactating sows",null,null,{"$f":"$X$32*$AA$13/100","v":11.693589041095889},{"$f":"E32*J13","v":2338.7178082191776},null,null,{"$f":"H32*'3. Herd Input'!C$40/100","v":0},{"$f":"E13*L13","v":25709.619005922304},null,null,null,null,null,null,null,null,null,null,null,null,"Lactating sows",{"$f":"'3. Herd Input'!C18","v":7.8},null,0,{"$f":"'3. Herd Input'!C13*'3. Herd Input'!C25","v":2280},0,11.693589041095889,2268.3064109589041,0]
[null,null,null,null,null,null,null,null,null,null,null,null,null,null,null,null,null,null,null,null,null,null,"Still born",null,null,0,{"$f":"'3. Herd Input'!C28*'3. Herd Input'!C13*'3. Herd Input'!C25","v":2006.3999999999999},0,{"$f":"AA33","v":2006.3999999999999},0,0]
[null,"Suckers",null,null,{"$f":"$X34*($AA34+$Z34)/100","v":3228.48},{"$f":"E34*L14","v":13559.616},{"$f":"(Z34+AA34-E34)*Y34/100","v":0},{"$f":"G34*K14","v":0},{"$f":"H34*'3. Herd Input'!C$40/100","v":0},{"$f":"E14*L14","v":6984.1309808219175},null,null,null,null,null,null,null,null,null,null,null,null,"Suckers",{"$f":"'3. Herd Input'!G51","v":12},{"$f":"'3. Herd Input'!G62","v":0},0,{"$f":"'3. Herd Input'!C25*'3. Herd Input'!C13*'3. Herd Input'!C27","v":26904},0,3228.48,23675.52,0]
[null,{"$f":"'3. Herd Input'!M17","v":"Weaner"},{"$f":"'3. Herd Input'!G43","v":0},{"$f":"C35*J15","v":0},{"$f":"X35*(AA35+Z35)/100","v":418.87458461538449},8796.3662769230741,{"$f":"(Z35+AA35-E35)*Y35/100","v":0},0,{"$f":"H35*'3. Herd Input'!C$40/100","v":0},62104.755878440468,null,null,null,null,null,null,null,null,null,null,null,null,"Weaner",{"$f":"'3. Herd Input'!G53","v":1.7692307692307689},{"$f":"'3. Herd Input'!G63","v":0},0,{"$f":"AD34","v":23675.52},0,418.87458461538449,23256.645415384617,0]
[null,{"$f":"'3. Herd Input'!M18","v":"Porker"},{"$f":"'3. Herd Input'!G44","v":0},0,250.45618139644972,11896.668616331363,{"$f":"(Z36+AA36-E36)*Y36/100","v":0},0,{"$f":"H36*'3. Herd Input'!C$40/100","v":0},84287.082306391501,null,null,null,null,null,null,null,null,null,null,null,null,"Porker",{"$f":"'3. Herd Input'!G54","v":1.0769230769230769},{"$f":"'3. Herd Input'!G64","v":0},0,23256.645415384617,0,250.45618139644972,23006.189233988167,0]
[null,{"$f":"'3. Herd Input'!M19","v":"Grower"},{"$f":"'3. Herd Input'!G45","v":0},0,247.75896098141101,17962.5246711523,{"$f":"(Z37+AA37-E37)*Y37/100","v":0},0,{"$f":"H37*'3. Herd Input'!C$40/100","v":0},127263.25698520504,null,null,null,null,null,null,null,null,null,null,null,null,"Grower",{"$f":"'3. Herd Input'!G55","v":1.0769230769230769},{"$f":"'3. Herd Input'!G65","v":0},0,23006.189233988167,{"$f":"G37","v":0},247.75896098141101,22758.430273006757,0]
[null,{"$f":"'3. Herd Input'!M20","v":"Finisher"},{"$f":"'3. Herd Input'!G46","v":0},0,245.09078755545738,23896.351786657095,{"$f":"(Z38+AA38-E38)*Y38/100","v":22513.339485451299},2476467.343399643,{"$f":"H38*'3. Herd Input'!C$40/100","v":1882115.1809837287},169304.01567204174,null,null,null,null,null,null,null,null,null,null,null,null,"Finisher",{"$f":"'3. Herd Input'!G56","v":1.0769230769230769},{"$f":"'3. Herd Input'!G66","v":100},0,22758.430273006757,22513.339485451299,245.09078755545738,{"$f":"Z38+AA38-AB38-AC38","v":1.1368683772161603E-12},0]
[null,{"$f":"'3. Herd Input'!M21","v":"Unallocated"},{"$f":"'3. Herd Input'!G47","v":0},0,0,0,0,0,{"$f":"H39*'3. Herd Input'!C$40/100","v":0},0,null,null,null,null,null,null,null,null,null,null,null,null,"Unallocated",{"$f":"'3. Herd Input'!G57","v":0},{"$f":"'3. Herd Input'!G67","v":0},0,1.1368683772161603E-12,0,0,{"$f":"Z39+AA39-AB39-AC39","v":1.1368683772161603E-12},0]
[null,{"$f":"'3. Herd Input'!M22","v":"Unallocated"},{"$f":"'3. Herd Input'!G48","v":0},0,0,0,0,0,{"$f":"H40*'3. Herd Input'!C$40/100","v":0},0,null,null,null,null,null,null,null,null,null,null,null,null,"Unallocated",{"$f":"'3. Herd Input'!G58","v":0},{"$f":"'3. Herd Input'!G68","v":0},0,1.1368683772161603E-12,0,0,{"$f":"Z40+AA40-AB40-AC40","v":1.1368683772161603E-12},0]
[]
[null,"Totals:",{"$f":"SUM(C29:C40)","v":0},0,4476.4222136365433,88993.736008694657,23100.477081623067,2562555.0281778825,1947541.8214151908,637363.45416259672,null,null,null,null,null,null,null,null,null,null,null,null,null,null,null,{"$f":"SUM(Z29:Z40)","v":0},127406.33628320362,23100.477081623067,6482.8222136365439,97823.03698794404,4.4408920985006262E-16]
[]
[]
[]
[]
[]
[null,null,null,null,null,"Flushing"]
[null,null,null,null,null,"Pull plug / Static pit"]
[null,null,null,null,null,"Deep litter"]
[]
[null,"Pig class","Pigs purchased",null,"Pig mortalities",null,"Pigs sold",null,null,"Pigs in piggery",null,"Shed type",null,null,"Pigs in piggery",null,null,null,"SPU in Piggery"]
[null,null,"Number","Mass","Number","Mass","Number","Live weight","Dressed weight",null,null,"Conventional",null,null,{"$f":"F89+G89","v":10999.066684431231},null,null,null,{"$f":"I89+J89","v":11635.417212703516}]
[null,null,"(pigs. yr-1)","(kg. yr-1)","(pigs. yr-1)","(kg. yr-1)","(pigs. yr-1)","(kg. yr-1)","(kg. yr-1)","(kg live weight)",null,"Deep litter",null,null,{"$f":"H89","v":0},null,null,null,{"$f":"K89","v":0}]
[null,"Gilts",{"$f":"'3. Herd Input'!G41","v":0},{"$f":"C55*J9","v":0},{"$f":"IF($X$9=0, 0, IF(D9>0, ($AA9*(E9/C9)*$X$29*(365/7)/($X$9*100)), $AA$9*$X$29*(365/7)/($X$9*100)))","v":7.1733290755097023},{"$f":"$E$55*$J$9","v":763.14760858255761},{"$f":"IF(D9=\"\",G29,(G29*(D9/C9)))","v":80.99092950510034},{"$f":"G55*K9","v":11743.684778239549},{"$f":"H55*'3. Herd Input'!C$40/100","v":8925.2004314620572},{"$f":"E9*L9","v":12888.278281918097},null,"Total",null,null,{"$f":"O53+O54","v":10999.066684431231},null,null,null,{"$f":"S53+S54","v":11635.417212703516}]
[null,"Boars",{"$f":"'3. Herd Input'!G42","v":0},{"$f":"C56*J10","v":0},{"$f":"IF(D10=\"\",(($Z$30+$AA$30)*$X$30/100), ((($Z$30+$AA$30)*$X$30/100)*(D10/C10)))","v":0.52},{"$f":"E56*K10","v":156},{"$f":"IF(D10=\"\",G30,(G30*(D10/C10)))","v":6.1466666666666665},{"$f":"G56*K10","v":1844},{"$f":"H56*'3. Herd Input'!C$35/100*0.65","v":3595.8},{"$f":"E10*L10","v":2031.9340577780004}]
[null,"Gestating sows",null,null,{"$f":"IF(AND(D11=\"\", D12=\"\"), ($X$31*$AA$11/100), ($X$31*$AA$11/100)*((D11+D12)/(C11+C12)))","v":66.374780971235126},{"$f":"E57*J11","v":9624.3432408290937},{"$f":"IF(AND(D11=\"\",D12=\"\"),G31,(G31*(D11+D12)/(C11+C12)))","v":500},{"$f":"G57*K11","v":100000},{"$f":"G57*'3. Herd Input'!C$36","v":65000},{"$f":"E11*L11","v":146790.38099407768}]
[null,"Lactating sows",null,null,{"$f":"IF(D13=\"\", ($X$32*$AA$13/100), (($X$32*$AA$13/100)*(D13/C13)))","v":11.693589041095889},{"$f":"E58*J13","v":2338.7178082191776},null,null,null,{"$f":"E12*L13","v":0}]
[]
[null,"Suckers",null,null,{"$f":"IF(D14=\"\", ($X34*($AA34+$Z34)/100),(($X34*($AA34+$Z34)/100)*(D14/C14)))","v":3228.48},{"$f":"E60*L14","v":13559.616},{"$f":"IF(D14=\"\",G34,(G34*(D14/C14)))","v":0},{"$f":"G60*K14","v":0},{"$f":"H60*'3. Herd Input'!C$40/100","v":0},{"$f":"E14*L14","v":6984.1309808219175}]
[null,{"$f":"'3. Herd Input'!M17","v":"Weaner"},{"$f":"'3. Herd Input'!G43","v":0},{"$f":"C61*J15","v":0},418.87458461538449,8796.3662769230741,0,0,{"$f":"H61*'3. Herd Input'!C$40/100","v":0},62104.755878440468]
[null,{"$f":"'3. Herd Input'!M18","v":"Porker"},{"$f":"'3. Herd Input'!G44","v":0},0,250.45618139644972,11896.668616331363,0,0,{"$f":"H62*'3. Herd Input'!C$40/100","v":0},84287.082306391501]
[null,{"$f":"'3. Herd Input'!M19","v":"Grower"},{"$f":"'3. Herd Input'!G45","v":0},0,247.75896098141101,17962.5246711523,0,0,{"$f":"H63*'3. Herd Input'!C$40/100","v":0},127263.25698520504]
[null,{"$f":"'3. Herd Input'!M20","v":"Finisher"},{"$f":"'3. Herd Input'!G46","v":0},0,245.09078755545738,23896.351786657095,22513.339485451299,2476467.343399643,{"$f":"H64*'3. Herd Input'!C$40/100","v":1882115.1809837287},169304.01567204174]
[null,{"$f":"'3. Herd Input'!M21","v":"Unallocated"},{"$f":"'3. Herd Input'!G47","v":0},0,0,0,0,0,{"$f":"H65*'3. Herd Input'!C$40/100","v":0},0]
[null,{"$f":"'3. Herd Input'!M22","v":"Unallocated"},{"$f":"'3. Herd Input'!G48","v":0},0,0,0,0,0,{"$f":"H66*'3. Herd Input'!C$40/100","v":0},0]
[]
[null,"Totals:",{"$f":"SUM(C55:C66)","v":0},0,4476.4222136365433,88993.736008694657,23100.477081623067,2590055.0281778825,1959636.1814151907,611653.8351566745]
[]
[]
[null,"Backfatters",null,null,null,null,{"$f":"SUM(G29:G31)","v":587.13759617176697},{"$f":"SUM(H29:H31)","v":86087.684778239549},"Flushing"]
[null,null,null,null,null,null,null,null,"Pull plug / Static pit"]
[null,null,null,null,null,null,null,null,"Deep litter",null,null,null,null,null,null,null,null,null,null,null,null,null,"Mass Balance"]
[]
[null,null,null,null,null,null,null,null,null,null,null,null,null,null,null,null,null,null,null,null,null,null,"Live weight (kg/yr)"]
[null,{"$f":"B6","v":"Pig class"},"Shed Type","Pigs in piggery",{"$f":"S6","v":"No of SPUs "},"Pigs (Flushing)","Pigs (Pull plug / static pit)","Pigs (Deep litter)","SPU (Flushing)","SPU (Pull plug / static pit)","SPU (Deep litter)",null,null,null,null,null,null,null,null,null,null,null,"Pig Class","Live weight in","Live weight out","Pigs Purchased","Pigs in from previous stage","Pigs sold","Pig mortalities","Pigs out to next stage"]
[null,{"$f":"B9","v":"Gilts"},{"$f":"F9","v":"Flushing"},{"$f":"E9","v":102.53742590682847},{"$f":"S9","v":184.56736663229125},{"$f":"IF(C77=\"Flushing\",D77,0)","v":102.53742590682847},{"$f":"IF(C77=\"Pull plug / Static pit\",D77,0)","v":0},{"$f":"IF(C77=\"Deep litter\",D77,0)","v":0},{"$f":"IF(C77=\"Flushing\",E77,0)","v":184.56736663229125},{"$f":"IF(C77=\"Pull plug / static pit\",E77,0)","v":0},{"$f":"IF(C77=\"Deep litter\",E77,0)","v":0},null,null,null,null,null,null,null,null,null,null,null,null,null,null,"(kg/year)","(kg/year)","(kg/year)","(kg/year)","(kg/year)"]
[null,"Boars","Flushing",10,16,{"$f":"IF(C78=\"Flushing\",D78,0)","v":10},{"$f":"IF(C78=\"Pull plug / Static pit\",D78,0)","v":0},{"$f":"IF(C78=\"Deep litter\",D78,0)","v":0},{"$f":"IF(C78=\"Flushing\",E78,0)","v":16},{"$f":"IF(C78=\"Pull plug / static pit\",E78,0)","v":0},{"$f":"IF(C78=\"Deep litter\",E78,0)","v":0},null,null,null,null,null,null,null,null,null,null,null,{"$f":"W29","v":"Gilts"},{"$f":"J9","v":106.38681155560008},145,{"$f":"Z29*X78","v":0},{"$f":"AA29*X78","v":70871.837459882983},{"$f":"AB29*Y78","v":11743.684778239549},{"$f":"AC29*X78","v":763.14760858255761},{"$f":"AD29*Y78","v":83811.016784798761},"Pigs in - lwt in, Mortalities - lwt in, Pigs out - Lwt out"]
[null,"Gestating sows 1","Flushing",850.95873040045035,1361.5339686407206,850.95873040045035,0,0,1361.5339686407206,0,0,null,null,null,null,null,null,null,null,null,null,null,{"$f":"W30","v":"Boars"},106.38681155560008,300,{"$f":"Z30*X79","v":0},{"$f":"AA30*X79","v":709.24541037066717},{"$f":"AB30*Y79","v":1844},{"$f":"AC30*Y79","v":156},{"$f":"AD30*Y79","v":0}]
[null,"Gestating sows 2","Flushing",0,0,0,0,0,0,0,0,null,null,null,null,null,null,null,null,null,null,null,{"$f":"W31","v":"Gestating sows"},145,200,{"$f":"Z31*X80","v":0},{"$f":"AA31*X80","v":412715.44637383986},{"$f":"AB31*X80","v":72500},{"$f":"AC31*X80","v":9624.3432408290937},{"$f":"AD31*Y80","v":455987.72845932527}]
[null,"Lactating sows","Flushing",149.04126959954959,372.60317399887401,149.04126959954959,0,0,372.60317399887401,0,0,null,null,null,null,null,null,null,null,null,null,null,{"$f":"W32","v":"Lactating sows"},{"$f":"J13","v":200},145,{"$f":"Z32*X81","v":0},{"$f":"AA32*X81","v":456000},{"$f":"AB32*Y81","v":0},{"$f":"AC32*X81","v":2338.7178082191776},{"$f":"AD32*Y81","v":328904.4295890411}]
[null,"Suckers","Flushing",1662.8883287671231,169.4502542640183,1662.8883287671231,0,0,169.4502542640183,0,0,null,null,null,null,null,null,null,null,null,null,null,{"$f":"W34","v":"Suckers"},1.4,7,{"$f":"Z34*X82","v":0},{"$f":"AA34*X82","v":37665.599999999999},0,{"$f":"AC34*AVERAGE(X82:Y82)","v":13559.616},{"$f":"AD34*Y82","v":165728.64000000001}]
[null,"Weaner","Flushing",2957.369327544784,1730.6132314768986,2957.369327544784,0,0,1730.6132314768986,0,0,null,null,null,null,null,null,null,null,null,null,null,"Weaner",7,35,0,165728.64000000001,0,8796.3662769230741,813982.58953846165]
[null,"Porker","Flushing",1774.4648906608736,2075.0938501061523,1774.4648906608736,0,0,2075.0938501061523,0,0,null,null,null,null,null,null,null,null,null,null,null,"Porker",35,60,0,813982.58953846165,0,11896.668616331363,1380371.35403929]
[null,"Grower","Flushing",1755.3552687614488,2697.8177840506769,1755.3552687614488,0,0,2697.8177840506769,0,0,null,null,null,null,null,null,null,null,null,null,null,"Grower",60,85,0,1380371.35403929,0,17962.5246711523,1934466.5732055744]
[null,"Finisher","Flushing",1736.4514427901718,3027.7375835338821,1736.4514427901718,0,0,3027.7375835338821,0,0,null,null,null,null,null,null,null,null,null,null,null,"Finisher",85,110,0,1934466.5732055744,2476467.343399643,23896.351786657095,1.2505552149377763E-10]
[null,"Unallocated",0,0,0,0,0,0,0,0,0,null,null,null,null,null,null,null,null,null,null,null,"Unallocated",0,0,0,0,0,0,0]
[null,"Unallocated","Flushing",0,0,0,0,0,0,0,0,null,null,null,null,null,null,null,null,null,null,null,"Unallocated",0,0,0,0,0,0,0]
[null,null,null,{"$f":"SUM(D77:D88)","v":10999.066684431231},{"$f":"SUM(E77:E88)","v":11635.417212703516},10999.066684431231,0,0,11635.417212703516,{"$f":"SUM(J77:J88)","v":0},{"$f":"SUM(K77:K88)","v":0}]
[null,null,null,null,null,null,null,null,null,null,null,null,null,null,null,null,null,null,null,null,null,null,null,null,null,{"$f":"SUM(Z78:Z88)","v":0},{"$f":"SUM(AA78:AA88)","v":5272511.2860274194},{"$f":"SUM(AB78:AB88)","v":2562555.0281778825},{"$f":"SUM(AC78:AC88)","v":88993.736008694657},{"$f":"SUM(AD78:AD88)","v":5163252.3316164911}]
[]
[null,null,null,null,null,null,null,null,null,null,null,null,null,null,null,null,null,null,null,null,null,null,"Fixed solids (kg/yr)"]
[null,null,null,null,null,null,null,null,null,null,null,null,null,null,null,null,null,null,null,null,null,null,"Pig Class",null,"Feed ingested","Pigs Purchased","Pigs in from previous stage","Pigs sold","Pig mortalities","Pigs out to next stage","Placenta + Milk + Suckers born (alive + stillborn)","Mass balance","DMDAMP","Difference\n(MB - DMDAMP)"]
[null,null,null,null,null,null,null,null,null,null,null,null,null,null,null,null,null,null,null,null,null,null,null,null,null,"(kg/year)","(kg/year)","(kg/year)","(kg/year)","(kg/year)"]
[null,null,null,null,null,null,null,null,null,null,null,null,null,null,null,null,null,null,null,null,null,null,{"$f":"W78","v":"Gilts"},null,{"$f":"'14. DM DAMP'!N51","v":4484.4322060691702},{"$f":"Z78*'7. Assumptions'!$F$7/1000","v":0},{"$f":"AA78*'7. Assumptions'!$F$7/1000","v":2055.2832863366066},{"$f":"AB78*'7. Assumptions'!$F$7/1000","v":340.56685856894694},{"$f":"AC78*'7. Assumptions'!$F$7/1000","v":22.131280648894172},{"$f":"AD78*'7. Assumptions'!$F$7/1000","v":2430.519486759164},null,{"$f":"Y95+Z95+AA95-AB95-AC95-AD95","v":3746.4978664287714},{"$f":"'14. DM DAMP'!N129*1000","v":3821.05589614166},{"$f":"AF95-AG95","v":-74.558029712888583}]
[null,null,null,null,null,null,null,null,null,null,null,null,null,null,null,null,null,null,null,null,null,null,"Boars",null,{"$f":"'14. DM DAMP'!O51","v":407.62803974999991},{"$f":"Z79*'7. Assumptions'!$F$7/1000","v":0},{"$f":"AA79*'7. Assumptions'!$F$7/1000","v":20.568116900749349},{"$f":"AB79*'7. Assumptions'!$F$7/1000","v":53.475999999999999},{"$f":"AC79*'7. Assumptions'!$F$7/1000","v":4.524},{"$f":"AD79*'7. Assumptions'!$F$7/1000","v":0},null,{"$f":"Y96+Z96+AA96-AB96-AC96-AD96","v":370.19615665074929},{"$f":"'14. DM DAMP'!O129*1000","v":370.19615665074929},{"$f":"AF96-AG96","v":0}]
[null,null,null,null,null,null,null,null,null,null,null,null,null,null,null,null,null,null,null,null,null,null,"Gestating sows",null,{"$f":"'14. DM DAMP'!L51","v":34857.5934803993},{"$f":"Z80*'7. Assumptions'!$F$7/1000","v":0},{"$f":"AA80*'7. Assumptions'!$F$7/1000","v":11968.747944841354},{"$f":"AB80*'7. Assumptions'!$F$7/1000","v":2102.5},{"$f":"AC80*'7. Assumptions'!$F$7/1000","v":279.10595398404371},{"$f":"AD80*'7. Assumptions'!$F$7/1000","v":13223.644125320432},null,{"$f":"Y97+Z97+AA97-AB97-AC97-AD97","v":31221.091345936176},{"$f":"'14. DM DAMP'!L129*1000","v":31217.24370140738},3.8476445287960814]
[null,null,null,null,null,null,null,null,null,null,null,null,null,null,null,null,null,null,null,null,null,null,"Lactating sows",null,{"$f":"'14. DM DAMP'!K51","v":17256.763796136383},{"$f":"Z81*'7. Assumptions'!$F$7/1000","v":0},{"$f":"AA81*'7. Assumptions'!$F$7/1000","v":13224},{"$f":"AB81*'7. Assumptions'!$F$7/1000","v":0},{"$f":"AC81*'7. Assumptions'!$F$7/1000","v":67.822816438356156},{"$f":"AD81*'7. Assumptions'!$F$7/1000","v":9538.2284580821924},{"$f":"'7. Assumptions'!F32","v":5749.7222400000037},{"$f":"Y98+Z98+AA98-AB98-AC98-AD98-AE98","v":15124.990281615836},{"$f":"'14. DM DAMP'!K129*1000","v":15155.996547670462},-31.006266054626394]
[null,null,null,null,null,null,null,null,null,null,null,null,null,null,null,null,null,null,null,null,null,null,"Suckers",null,{"$f":"'14. DM DAMP'!D51","v":7176.3028626826381},{"$f":"Z82*'7. Assumptions'!$F$7/1000","v":0},{"$f":"AA82*'7. Assumptions'!$F$7/1000","v":1092.3023999999998},{"$f":"AB82*'7. Assumptions'!$F$7/1000","v":0},{"$f":"AC82*'7. Assumptions'!$F$7/1000","v":393.22886399999999},{"$f":"AD82*'7. Assumptions'!$F$7/1000","v":4806.1305600000005},null,{"$f":"Y99+Z99+AA99-AB99-AC99-AD99","v":3069.2458386826384},{"$f":"'14. DM DAMP'!D129*1000","v":3069.2458386826393},0]
[null,null,null,null,null,null,null,null,null,null,null,null,null,null,null,null,null,null,null,null,null,null,"Weaner",null,{"$f":"'14. DM DAMP'!E51","v":41388.690439222803},{"$f":"Z83*'7. Assumptions'!$F$7/1000","v":0},{"$f":"AA83*'7. Assumptions'!$F$7/1000","v":4806.1305600000005},{"$f":"AB83*'7. Assumptions'!$F$7/1000","v":0},{"$f":"AC83*'7. Assumptions'!$F$7/1000","v":255.09462203076916},{"$f":"AD83*'7. Assumptions'!$F$7/1000","v":23605.495096615388},null,22334.231280576645,{"$f":"'14. DM DAMP'!E129*1000","v":22334.231280576652},0]
[null,null,null,null,null,null,null,null,null,null,null,null,null,null,null,null,null,null,null,null,null,null,"Porker",null,{"$f":"'14. DM DAMP'!F51","v":49631.227612898183},{"$f":"Z84*'7. Assumptions'!$F$7/1000","v":0},{"$f":"AA84*'7. Assumptions'!$F$7/1000","v":23605.495096615388},{"$f":"AB84*'7. Assumptions'!$F$7/1000","v":0},{"$f":"AC84*'7. Assumptions'!$F$7/1000","v":345.00338987360954},{"$f":"AD84*'7. Assumptions'!$F$7/1000","v":40030.769267139411},null,32860.95005250055,{"$f":"'14. DM DAMP'!F129*1000","v":32860.950052500557},0]
[null,null,null,null,null,null,null,null,null,null,null,null,null,null,null,null,null,null,null,null,null,null,"Grower",null,{"$f":"'14. DM DAMP'!G51","v":61885.149719290144},{"$f":"Z85*'7. Assumptions'!$F$7/1000","v":0},{"$f":"AA85*'7. Assumptions'!$F$7/1000","v":40030.769267139411},{"$f":"AB85*'7. Assumptions'!$F$7/1000","v":0},{"$f":"AC85*'7. Assumptions'!$F$7/1000","v":520.91321546341669},{"$f":"AD85*'7. Assumptions'!$F$7/1000","v":56099.530622961654},null,45295.47514800448,{"$f":"'14. DM DAMP'!G129*1000","v":45295.47514800448},0]
[null,null,null,null,null,null,null,null,null,null,null,null,null,null,null,null,null,null,null,null,null,null,"Finisher",null,{"$f":"'14. DM DAMP'!H51","v":78592.371041887236},{"$f":"Z86*'7. Assumptions'!$F$7/1000","v":0},{"$f":"AA86*'7. Assumptions'!$F$7/1000","v":56099.530622961654},{"$f":"AB86*'7. Assumptions'!$F$7/1000","v":71817.552958589644},{"$f":"AC86*'7. Assumptions'!$F$7/1000","v":692.99420181305584},{"$f":"AD86*'7. Assumptions'!$F$7/1000","v":3.6266101233195512E-12},null,62181.354504446208,{"$f":"'14. DM DAMP'!H129*1000","v":62181.354504446193},0]
[null,null,null,null,null,null,null,null,null,null,null,null,null,null,null,null,null,null,null,null,null,null,"Unallocated",null,{"$f":"'14. DM DAMP'!I51","v":0},{"$f":"Z87*'7. Assumptions'!$F$7/1000","v":0},{"$f":"AA87*'7. Assumptions'!$F$7/1000","v":0},{"$f":"AB87*'7. Assumptions'!$F$7/1000","v":0},{"$f":"AC87*'7. Assumptions'!$F$7/1000","v":0},{"$f":"AD87*'7. Assumptions'!$F$7/1000","v":0},null,0,{"$f":"'14. DM DAMP'!I129*1000","v":0},0]
[null,null,null,null,null,null,null,null,null,null,null,null,null,null,null,null,null,null,null,null,null,null,{"$f":"W88","v":"Unallocated"},null,{"$f":"'14. DM DAMP'!J51","v":0},{"$f":"Z88*'7. Assumptions'!$F$7/1000","v":0},{"$f":"AA88*'7. Assumptions'!$F$7/1000","v":0},{"$f":"AB88*'7. Assumptions'!$F$7/1000","v":0},{"$f":"AC88*'7. Assumptions'!$F$7/1000","v":0},{"$f":"AD88*'7. Assumptions'!$F$7/1000","v":0},null,0,{"$f":"'14. DM DAMP'!J129*1000","v":0},0]
[]
[null,null,null,null,null,null,null,null,null,null,null,null,null,null,null,null,null,null,null,null,null,null,null,null,{"$f":"SUM(Y95:Y105)","v":295680.15919833584},0,152902.82729479519,74314.095817158595,2580.8183442521454,149734.31761687825,null,{"$f":"SUM(AF95:AF105)","v":216204.03247484207},{"$f":"SUM(AG95:AG105)","v":216305.74912608077},{"$f":"AF107-AG107","v":-101.7166512387048}]
[]
[null,null,null,null,null,null,null,null,null,null,null,null,null,null,null,null,null,null,null,null,null,null,"N (kg/yr)"]
[null,null,null,null,null,null,null,null,null,null,null,null,null,null,null,null,null,null,null,null,null,null,{"$f":"B26","v":"Pig class"},null,"Feed ingested","Pigs Purchased","Pigs in from previous stage","Pigs sold","Pig mortalities","Pigs out to next stage","Placenta + Milk + Suckers born (alive + stillborn)","Mass balance","DMDAMP","Difference\n(MB - DMDAMP)"]
[null,null,null,null,null,null,null,null,null,null,null,null,null,null,null,null,null,null,null,null,null,null,null,null,null,"(kg/year)","(kg/year)","(kg/year)","(kg/year)","(kg/year)"]
[null,null,null,null,null,null,null,null,{"$f":"I55/H55","v":0.76},null,null,null,null,null,null,null,null,null,null,null,null,null,{"$f":"W78","v":"Gilts"},null,{"$f":"'14. DM DAMP'!N53","v":2041.6122179546016},{"$f":"Z78*'7. Assumptions'!$I$7/1000","v":0},{"$f":"AA78*'7. Assumptions'!$I$7/1000","v":1814.3190389730046},{"$f":"AB78*'7. Assumptions'!$I$7/1000","v":300.63833032293246},{"$f":"AC78*'7. Assumptions'!$I$7/1000","v":19.536578779713476},{"$f":"AD78*'7. Assumptions'!$I$7/1000","v":2145.5620296908482},null,{"$f":"Y112+Z112+AA112-AB112-AC112-AD112","v":1390.1943181341121},{"$f":"'14. DM DAMP'!N131*1000","v":1456.0110616047998},{"$f":"AF112-AG112","v":-65.816743470687697}]
[null,null,null,null,null,null,null,null,{"$f":"I56/H56","v":1.9500000000000002},null,{"$f":"SUM(I55:I57)","v":77521.00043146206},null,null,null,null,null,null,null,null,null,null,null,"Boars",null,{"$f":"'14. DM DAMP'!O53","v":185.50679991999999},{"$f":"Z79*'7. Assumptions'!I$7/1000","v":0},{"$f":"AA79*'7. Assumptions'!$I$7/1000","v":18.15668250548908},{"$f":"AB79*'7. Assumptions'!$I$7/1000","v":47.206400000000002},{"$f":"AC79*'7. Assumptions'!$I$7/1000","v":3.9936000000000003},{"$f":"AD79*'7. Assumptions'!$I$7/1000","v":0},null,{"$f":"Y113+Z113+AA113-AB113-AC113-AD113","v":152.46348242548908},{"$f":"'14. DM DAMP'!O131*1000","v":152.46348242548908},{"$f":"AF113-AG113","v":0}]
[null,null,null,null,null,null,null,null,0.65,null,null,null,null,null,null,null,null,null,null,null,null,null,"Gestating sows",null,{"$f":"'14. DM DAMP'!L53","v":15639.889572175429},{"$f":"Z80*'7. Assumptions'!I$7/1000","v":0},{"$f":"AA80*'7. Assumptions'!$I$7/1000","v":10565.515427170301},{"$f":"AB80*'7. Assumptions'!$I$7/1000","v":1856},{"$f":"AC80*'7. Assumptions'!$I$7/1000","v":246.38318696522481},{"$f":"AD80*'7. Assumptions'!$I$7/1000","v":11673.285848558728},null,{"$f":"Y114+Z114+AA114-AB114-AC114-AD114","v":12429.735963821779},{"$f":"'14. DM DAMP'!L131*1000","v":12426.339422444637},3.3965413771420572]
[null,null,null,null,null,null,null,{"$f":"SUM(H55:H57)","v":113587.68477823955},{"$f":"SUM(I55:I57)","v":77521.00043146206},null,null,null,null,null,null,null,null,null,null,null,null,null,"Lactating sows",null,{"$f":"'14. DM DAMP'!K53","v":8515.8512862598036},{"$f":"Z81*'7. Assumptions'!I$7/1000","v":0},{"$f":"AA81*'7. Assumptions'!$I$7/1000","v":11673.6},{"$f":"AB81*'7. Assumptions'!$I$7/1000","v":0},{"$f":"AC81*'7. Assumptions'!$I$7/1000","v":59.871175890410953},{"$f":"AD81*'7. Assumptions'!$I$7/1000","v":8419.9533974794522},{"$f":"'7. Assumptions'!I32","v":5151.0927359999996},{"$f":"Y115+Z115+AA115-AB115-AC115-AD115-AE115","v":6558.5339768899439},{"$f":"'14. DM DAMP'!K131*1000","v":6586.3463174018398},-27.812340511895854]
[null,null,null,null,null,null,null,null,{"$f":"I115/H115","v":0.68247715923437036},null,{"$f":"SUM(I60:I66)","v":1882115.1809837287},null,null,null,null,null,null,null,null,null,null,null,"Suckers",null,{"$f":"'14. DM DAMP'!D53","v":5560.2570993363106},{"$f":"Z82*'7. Assumptions'!I$7/1000","v":0},{"$f":"AA82*'7. Assumptions'!$I$7/1000","v":964.23936000000003},{"$f":"AB82*'7. Assumptions'!$I$7/1000","v":0},{"$f":"AC82*'7. Assumptions'!$I$7/1000","v":347.12616960000003},{"$f":"AD82*'7. Assumptions'!$I$7/1000","v":4242.6531840000007},null,{"$f":"Y116+Z116+AA116-AB116-AC116-AD116","v":1934.7171057363103},{"$f":"'14. DM DAMP'!D131*1000","v":1934.7171057363109},0]
[null,null,null,null,null,null,null,null,null,null,null,null,null,null,null,null,null,null,null,null,null,null,"Weaner",null,{"$f":"'14. DM DAMP'!E53","v":28547.751050768187},{"$f":"Z83*'7. Assumptions'!I$7/1000","v":0},{"$f":"AA83*'7. Assumptions'!$I$7/1000","v":4242.6531840000007},{"$f":"AB83*'7. Assumptions'!$I$7/1000","v":0},{"$f":"AC83*'7. Assumptions'!$I$7/1000","v":225.1869766892307},{"$f":"AD83*'7. Assumptions'!$I$7/1000","v":20837.954292184622},null,11727.262965894337,{"$f":"'14. DM DAMP'!E131*1000","v":11727.262965894341},0]
[null,null,null,null,null,null,null,null,null,null,{"$f":"K113/(+K116)","v":4.1188233969264312E-2},null,null,null,null,null,null,null,null,null,null,null,"Porker",null,{"$f":"'14. DM DAMP'!F53","v":31730.52270727279},{"$f":"Z84*'7. Assumptions'!I$7/1000","v":0},{"$f":"AA84*'7. Assumptions'!$I$7/1000","v":20837.954292184622},{"$f":"AB84*'7. Assumptions'!$I$7/1000","v":0},{"$f":"AC84*'7. Assumptions'!$I$7/1000","v":304.55471657808289},{"$f":"AD84*'7. Assumptions'!$I$7/1000","v":35337.506663405831},null,16926.415619473504,{"$f":"'14. DM DAMP'!F131*1000","v":16926.415619473501},0]
[null,null,null,null,null,null,null,null,null,null,null,null,null,null,null,null,null,null,null,null,null,null,"Grower",null,{"$f":"'14. DM DAMP'!G53","v":34254.082564013239},{"$f":"Z85*'7. Assumptions'!I$7/1000","v":0},{"$f":"AA85*'7. Assumptions'!$I$7/1000","v":35337.506663405831},{"$f":"AB85*'7. Assumptions'!$I$7/1000","v":0},{"$f":"AC85*'7. Assumptions'!$I$7/1000","v":459.84063158149888},{"$f":"AD85*'7. Assumptions'!$I$7/1000","v":49522.344274062707},null,19609.404321774869,{"$f":"'14. DM DAMP'!G131*1000","v":19609.404321774866},0]
[null,null,null,null,null,null,null,null,null,null,null,null,null,null,null,null,null,null,null,null,null,null,"Finisher",null,{"$f":"'14. DM DAMP'!H53","v":42381.289707543314},{"$f":"Z86*'7. Assumptions'!I$7/1000","v":0},{"$f":"AA86*'7. Assumptions'!$I$7/1000","v":49522.344274062707},{"$f":"AB86*'7. Assumptions'!$I$7/1000","v":63397.563991030867},{"$f":"AC86*'7. Assumptions'!$I$7/1000","v":611.74660573842164},{"$f":"AD86*'7. Assumptions'!$I$7/1000","v":3.2014213502407074E-12},null,27894.323384836727,{"$f":"'14. DM DAMP'!H131*1000","v":27894.323384836734},0]
[null,null,null,null,null,null,null,null,null,null,null,null,null,null,null,null,null,null,null,null,null,null,"Unallocated",null,{"$f":"'14. DM DAMP'!I53","v":0},{"$f":"Z87*'7. Assumptions'!I$7/1000","v":0},{"$f":"AA87*'7. Assumptions'!$I$7/1000","v":0},{"$f":"AB87*'7. Assumptions'!$I$7/1000","v":0},{"$f":"AC87*'7. Assumptions'!$I$7/1000","v":0},{"$f":"AD87*'7. Assumptions'!$I$7/1000","v":0},null,0,{"$f":"'14. DM DAMP'!I131*1000","v":0},0]
[null,null,null,null,null,null,null,null,null,null,null,null,null,null,null,null,null,null,null,null,null,null,{"$f":"W88","v":"Unallocated"},null,{"$f":"'14. DM DAMP'!J53","v":0},{"$f":"Z88*'7. Assumptions'!I$7/1000","v":0},{"$f":"AA88*'7. Assumptions'!$I$7/1000","v":0},{"$f":"AB88*'7. Assumptions'!$I$7/1000","v":0},{"$f":"AC88*'7. Assumptions'!$I$7/1000","v":0},{"$f":"AD88*'7. Assumptions'!$I$7/1000","v":0},null,0,{"$f":"'14. DM DAMP'!J131*1000","v":0},0]
[]
[null,null,null,null,null,null,null,null,null,null,null,null,null,null,null,null,null,null,null,null,null,null,null,null,{"$f":"SUM(Y112:Y122)","v":168856.76300524367},0,134976.28892230196,65601.408721353801,2278.2396418225835,132179.25968938219,null,{"$f":"SUM(AF112:AF122)","v":98623.051138987066},{"$f":"SUM(AG112:AG122)","v":98713.283681592526},{"$f":"AF124-AG124","v":-90.232542605459457}]

{"sheet":"6. Deep litter","index":7,"n_rows":96,"n_cols":12,"rows_kept":96,"cut":false,"hidden":false,"merged":[[1,0,1,12],[4,2,4,3],[9,6,9,11]]}
["Menu"]
["6. Deep litter sheds"]
[]
[]
[null,"Bedding material","Not applicable"]
[]
[null,"Deep litter usage",null,"kg. SPU-1. day-1"]
[]
[null,"Pig class","No of pigs\nin piggery","SPU factor","SPU","Shed type","Bedding added","TS added","VS added","N added","P added","K added"]
[null,null,"(pigs. stage-1)","(SPU. pig-1)","(SPU)",null,"(kg. day-1)"]
[null,{"$f":"'5. Herd details'!B9","v":"Gilts"},{"$f":"'5. Herd details'!E9","v":102.53742590682847},{"$f":"'5. Herd details'!O9","v":1.8},{"$f":"C11*D11","v":184.56736663229125},{"$f":"IF('5. Herd details'!F9=\"\",\"\",'5. Herd details'!F9)","v":"Flushing"},{"$f":"IF(F11=\"Deep litter\", E11*C$7, 0)","v":0},{"$f":"$G11*VLOOKUP($C$5,$C$34:$L$40,6,FALSE)","v":0},{"$f":"$G11*VLOOKUP($C$5,$C$34:$L$40,7,FALSE)","v":0},{"$f":"$G11*VLOOKUP($C$5,$C$34:$L$40,8,FALSE)","v":0},{"$f":"$G11*VLOOKUP($C$5,$C$34:$L$40,9,FALSE)","v":0},{"$f":"$G11*VLOOKUP($C$5,$C$34:$L$40,10,FALSE)","v":0}]
[null,{"$f":"'5. Herd details'!B10","v":"Boars"},{"$f":"'5. Herd details'!E10","v":10},{"$f":"'5. Herd details'!O10","v":1.6},{"$f":"C12*D12","v":16},{"$f":"IF('5. Herd details'!F10=\"\",\"\",'5. Herd details'!F10)","v":"Flushing"},0,0,0,0,0,0]
[null,{"$f":"'5. Herd details'!B11","v":"Gestating sows 1"},{"$f":"'5. Herd details'!E11","v":850.95873040045035},{"$f":"'5. Herd details'!O11","v":1.6},1361.5339686407206,{"$f":"IF('5. Herd details'!F11=\"\",\"\",'5. Herd details'!F11)","v":"Flushing"},0,0,0,0,0,0]
[null,{"$f":"'5. Herd details'!B12","v":"Gestating sows 2"},{"$f":"'5. Herd details'!E12","v":0},{"$f":"'5. Herd details'!O12","v":1.6},{"$f":"C14*D14","v":0},{"$f":"IF('5. Herd details'!F12=\"\",\"\",'5. Herd details'!F12)","v":"Flushing"},{"$f":"IF(F14=\"Deep litter\", E14*C$7, 0)","v":0},0,0,0,0,0]
[null,{"$f":"'5. Herd details'!B13","v":"Lactating sows"},{"$f":"'5. Herd details'!E13","v":149.04126959954959},{"$f":"'5. Herd details'!O13","v":2.5},372.60317399887401,{"$f":"IF('5. Herd details'!F13=\"\",\"\",'5. Herd details'!F13)","v":"Flushing"},0,0,0,0,0,0]
[null,{"$f":"'5. Herd details'!B14","v":"Suckers"},{"$f":"'5. Herd details'!E14","v":1662.8883287671231},{"$f":"'5. Herd details'!O14","v":0.10190116277360001},169.4502542640183,{"$f":"IF('5. Herd details'!F14=\"\",\"\",'5. Herd details'!F14)","v":"Flushing"},0,0,0,0,0,0]
[null,{"$f":"'5. Herd details'!B15","v":"Weaner"},{"$f":"'5. Herd details'!E15","v":2957.369327544784},{"$f":"'5. Herd details'!O15","v":0.58518671150000001},1730.6132314768986,{"$f":"IF('5. Herd details'!F15=\"\",\"\",'5. Herd details'!F15)","v":"Flushing"},0,0,0,0,0,0]
[null,{"$f":"'5. Herd details'!B16","v":"Porker"},{"$f":"'5. Herd details'!E16","v":1774.4648906608736},{"$f":"'5. Herd details'!O16","v":1.1694195027624998},2075.0938501061523,{"$f":"IF('5. Herd details'!F16=\"\",\"\",'5. Herd details'!F16)","v":"Flushing"},0,0,0,0,0,0]
[null,{"$f":"'5. Herd details'!B17","v":"Grower"},{"$f":"'5. Herd details'!E17","v":1755.3552687614488},{"$f":"'5. Herd details'!O17","v":1.5369069908874999},2697.8177840506769,{"$f":"IF('5. Herd details'!F17=\"\",\"\",'5. Herd details'!F17)","v":"Flushing"},0,0,0,0,0,0]
[null,{"$f":"'5. Herd details'!B18","v":"Finisher"},{"$f":"'5. Herd details'!E18","v":1736.4514427901718},{"$f":"'5. Herd details'!O18","v":1.7436350415125002},3027.7375835338821,{"$f":"IF('5. Herd details'!F18=\"\",\"\",'5. Herd details'!F18)","v":"Flushing"},0,0,0,0,0,0]
[null,{"$f":"'5. Herd details'!B19","v":"Unallocated"},{"$f":"'5. Herd details'!E19","v":0},{"$f":"'5. Herd details'!O19","v":0},0,{"$f":"IF('5. Herd details'!F19=\"\",\"\",'5. Herd details'!F19)","v":""},0,0,0,0,0,0]
[null,{"$f":"'5. Herd details'!B20","v":"Unallocated"},{"$f":"'5. Herd details'!E20","v":0},{"$f":"'5. Herd details'!O20","v":0},0,{"$f":"IF('5. Herd details'!F20=\"\",\"\",'5. Herd details'!F20)","v":"Flushing"},0,0,0,0,0,0]
[]
[null,{"$f":"'5. Herd details'!B22","v":"Totals:"},{"$f":"SUM(C11:C22)","v":10999.066684431231},null,{"$f":"SUM(E11:E22)","v":11635.417212703516},null,{"$f":"SUM(G11:G22)","v":0},0,0,0,0,0]
[]
[]
[]
[]
[]
[]
[]
[]
[null,null,"Bedding Materials",null,null,null,"Ash (%)","DM (%)","VS (%)","N (%)","P (%)","K (%)"]
[null,null,"Not applicable"]
[null,null,{"$f":"'12. Diet ingredient data'!B138","v":"Hardwood sawdust"},null,null,null,{"$f":"'12. Diet ingredient data'!E138","v":0},{"$f":"'12. Diet ingredient data'!C138","v":0.9},{"$f":"H35-G35","v":0.9},{"$f":"'12. Diet ingredient data'!J138","v":1.98E-3},{"$f":"'12. Diet ingredient data'!K138","v":9.0000000000000006E-5},{"$f":"'12. Diet ingredient data'!N138","v":4.5000000000000004E-4}]
[null,null,{"$f":"'12. Diet ingredient data'!B139","v":"Softwood sawdust/shavings"},null,null,null,{"$f":"'12. Diet ingredient data'!E139","v":0},{"$f":"'12. Diet ingredient data'!C139","v":0.9},0.9,{"$f":"'12. Diet ingredient data'!J139","v":1.2600000000000001E-3},{"$f":"'12. Diet ingredient data'!K139","v":9.0000000000000006E-5},{"$f":"'12. Diet ingredient data'!N139","v":2.7E-4}]
[null,null,{"$f":"'12. Diet ingredient data'!B140","v":"Rice Hulls"},null,null,null,{"$f":"'12. Diet ingredient data'!E140","v":0.05},{"$f":"'12. Diet ingredient data'!C140","v":0.92},0.87,{"$f":"'12. Diet ingredient data'!J140","v":4.8760000000000001E-3},{"$f":"'12. Diet ingredient data'!K140","v":7.3600000000000011E-4},{"$f":"'12. Diet ingredient data'!N140","v":1.2144E-2}]
[null,null,{"$f":"'12. Diet ingredient data'!B141","v":"Barley straw"},null,null,null,{"$f":"'12. Diet ingredient data'!E141","v":0.06},{"$f":"'12. Diet ingredient data'!C141","v":0.91},0.85000000000000009,{"$f":"'12. Diet ingredient data'!J141","v":6.2789999999999999E-3},{"$f":"'12. Diet ingredient data'!K141","v":6.3699999999999998E-4},{"$f":"'12. Diet ingredient data'!N141","v":2.1566999999999999E-2}]
[null,null,{"$f":"'12. Diet ingredient data'!B142","v":"Wheat straw"},null,null,null,{"$f":"'12. Diet ingredient data'!E142","v":5.8500000000000003E-2},{"$f":"'12. Diet ingredient data'!C142","v":0.89},0.83150000000000002,{"$f":"'12. Diet ingredient data'!J142","v":5.1619999999999999E-3},{"$f":"'12. Diet ingredient data'!K142","v":3.6490000000000003E-3},{"$f":"'12. Diet ingredient data'!N142","v":4.5390000000000005E-3}]
[null,null,{"$f":"'12. Diet ingredient data'!B143","v":"Shredded paper"},null,null,null,{"$f":"'12. Diet ingredient data'!E143","v":0},{"$f":"'12. Diet ingredient data'!C143","v":0.9},0.9,{"$f":"'12. Diet ingredient data'!J143","v":0},{"$f":"'12. Diet ingredient data'!K143","v":9.0000000000000006E-5},{"$f":"'12. Diet ingredient data'!N143","v":0}]
[]
[]
[]
[]
[]
[]
[]
[]
[]
[]
[]
[]
[]
[]
[]
[]
[]
[]
[]
[]
[]
[]
[]
[]
[]
[]
[]
[]
[]
[]
[]
[]
[]
[]
[]
[]
[]
[]
[]
[]
[]
[]
[]
[]
[]
[]
[]
[]
[]
[null,null,null,null,null,null,null,null,"Not applicable"]
[null,null,null,null,null,null,null,null,"Hardwood sawdust"]
[null,null,null,null,null,null,null,null,"Softwood sawdust/shavings"]
[null,null,null,null,null,null,null,null,"Rice Hulls"]
[null,null,null,null,null,null,null,null,"Barley straw"]
[null,null,null,null,null,null,null,null,"Wheat straw"]
[null,null,null,null,null,null,null,null,"Shredded paper"]

{"sheet":"SPU","index":8,"n_rows":197,"n_cols":15,"rows_kept":197,"cut":false,"hidden":true,"merged":[]}
["SPU calculation sheet"]
["SPU standard"]
[null,null,null,null,"x","y"]
["Pig class","End age (weeks)","Av age (wk)","End live weight (kg)","Av live weight (kg)","SPU factor standard","Calc SPU factor live weight","Calc SPU factor age"]
[null,0,null,1.4]
["Sucker",4,{"$f":"(B5+B6)/2","v":2},8,{"$f":"(D5+D6)/2","v":4.7},0.1,{"$f":" 0.0000001837*E6^3 - 0.0001685623*E6^2 + 0.0329143124*E6 - 0.0333791203","v":0.1176136790581},{"$f":" -0.000132*C6^3 + 0.004419*C6^2 + 0.043493*C6 + 0.003072","v":0.106678}]
["Weaner",10,{"$f":"(B6+B7)/2","v":7},25,{"$f":"(D6+D7)/2","v":16.5},0.5,{"$f":" 0.0000001837*E7^3 - 0.0001685623*E7^2 + 0.0329143124*E7 - 0.0333791203","v":0.46464115148749996},{"$f":" -0.000132*C7^3 + 0.004419*C7^2 + 0.043493*C7 + 0.003072","v":0.47877799999999998}]
["Grower",16,{"$f":"(B7+B8)/2","v":13},55,{"$f":"(D7+D8)/2","v":40},1,{"$f":" 0.0000001837*E8^3 - 0.0001685623*E8^2 + 0.0329143124*E8 - 0.0333791203","v":1.0252504957000002},{"$f":" -0.000132*C8^3 + 0.004419*C8^2 + 0.043493*C8 + 0.003072","v":1.0252879999999998}]
["Finisher",24,{"$f":"(B8+B9)/2","v":20},100,{"$f":"(D8+D9)/2","v":77.5},1.6,{"$f":" 0.0000001837*E9^3 - 0.0001685623*E9^2 + 0.0329143124*E9 - 0.0333791203","v":1.5905622560125001},{"$f":" -0.000132*C9^3 + 0.004419*C9^2 + 0.043493*C9 + 0.003072","v":1.5845319999999998}]
["Heavy finisher",30,{"$f":"(B9+B10)/2","v":27},130,{"$f":"(D9+D10)/2","v":115},1.8,{"$f":" 0.0000001837*E10^3 - 0.0001685623*E10^2 + 0.0329143124*E10 - 0.0333791203","v":1.8019151256999997},{"$f":" -0.000132*C10^3 + 0.004419*C10^2 + 0.043493*C10 + 0.003072","v":1.8006779999999996}]
[]
[]
[]
[]
[]
[]
[]
[]
[]
[]
[]
[]
[]
[]
[]
[]
[]
[]
[]
[]
[]
[]
[]
[]
[]
[]
[]
[]
[]
[]
[]
[]
[]
[]
[]
[]
[null,null,null,null,null,null,null,null,null,"Pig class","End live weight (kg)","Av live weight (kg)","SPU factor standard"]
[null,null,null,null,null,null,null,null,null,null,1.4]
[null,null,null,null,null,null,null,null,null,"Sucker",8,{"$f":"(K48+K49)/2","v":4.7},0.1]
[null,null,null,null,null,null,null,null,null,"Weaner",25,{"$f":"(K49+K50)/2","v":16.5},0.5,null,"y = 0.033898x - 0.059322"]
[null,null,null,null,null,null,null,null,null,"Grower",55,{"$f":"(K50+K51)/2","v":40},1,null,"y = 0.021277x + 0.148936"]
[null,null,null,null,null,null,null,null,null,"Finisher",100,{"$f":"(K51+K52)/2","v":77.5},1.6,null,"y = 0.016000x + 0.360000"]
[null,null,null,null,null,null,null,null,null,"Heavy finisher",130,{"$f":"(K52+K53)/2","v":115},1.8,null,"y = 0.005333x + 1.186667"]
[]
[]
[]
[]
[null,null,null,null,null,null,null,null,null,"Live weight","Linear interpolated SPU factor"]
[null,null,null,null,null,null,null,null,null,2,{"$f":" IF(J59<4.7, 0.1, IF(J59<16.5, 0.033898*J59 - 0.059322, IF(J59<40, 0.021277*J59 + 0.148936, IF(J59<77.5, 0.016*J59 + 0.36, IF(J59<115, 0.005333*J59 + 1.186667, 1.8)))))","v":0.1}]
[null,null,null,null,null,null,null,null,null,3,0.1]
[null,null,null,null,null,null,null,null,null,4,0.1]
[null,null,null,null,null,null,null,null,null,5,0.11016799999999997]
[null,null,null,null,null,null,null,null,null,6,0.14406599999999997]
[null,null,null,null,null,null,null,null,null,7,0.17796400000000001]
[null,null,null,null,null,null,null,null,null,8,{"$f":" IF(J65<4.7, 0.1, IF(J65<16.5, 0.033898*J65 - 0.059322, IF(J65<40, 0.021277*J65 + 0.148936, IF(J65<77.5, 0.016*J65 + 0.36, IF(J65<115, 0.005333*J65 + 1.186667, 1.8)))))","v":0.21186199999999999}]
[null,null,null,null,null,null,null,null,null,9,0.24575999999999998]
[null,null,null,null,null,null,null,null,null,10,0.27965799999999996]
[null,null,null,null,null,null,null,null,null,11,0.313556]
[null,null,null,null,null,null,null,null,null,12,0.34745399999999999]
[null,null,null,null,null,null,null,null,null,13,0.38135199999999997]
[null,null,null,null,null,null,null,null,null,14,0.41525000000000001]
[null,null,null,null,null,null,null,null,null,15,0.44914799999999999]
[null,null,null,null,null,null,null,null,null,16,0.48304599999999998]
[null,null,null,null,null,null,null,null,null,17,0.51064500000000002]
[null,null,null,null,null,null,null,null,null,18,0.53192200000000001]
[null,null,null,null,null,null,null,null,null,19,0.553199]
[null,null,null,null,null,null,null,null,null,20,0.57447599999999999]
[null,null,null,null,null,null,null,null,null,21,0.59575299999999998]
[null,null,null,null,null,null,null,null,null,22,0.61702999999999997]
[null,null,null,null,null,null,null,null,null,23,0.63830699999999996]
[null,null,null,null,null,null,null,null,null,24,0.65958399999999995]
[null,null,null,null,null,null,null,null,null,25,0.68086099999999994]
[null,null,null,null,null,null,null,null,null,26,0.70213799999999993]
[null,null,null,null,null,null,null,null,null,27,0.72341500000000014]
[null,null,null,null,null,null,null,null,null,28,0.74469200000000013]
[null,null,null,null,null,null,null,null,null,29,0.76596900000000012]
[null,null,null,null,null,null,null,null,null,30,0.78724600000000011]
[null,null,null,null,null,null,null,null,null,31,0.8085230000000001]
[null,null,null,null,null,null,null,null,null,32,0.82980000000000009]
[null,null,null,null,null,null,null,null,null,33,0.85107700000000008]
[null,null,null,null,null,null,null,null,null,34,0.87235400000000007]
[null,null,null,null,null,null,null,null,null,35,0.89363100000000006]
[null,null,null,null,null,null,null,null,null,36,0.91490800000000005]
[null,null,null,null,null,null,null,null,null,37,0.93618500000000004]
[null,null,null,null,null,null,null,null,null,38,0.95746200000000004]
[null,null,null,null,null,null,null,null,null,39,0.97873900000000003]
[null,null,null,null,null,null,null,null,null,40,1]
[null,null,null,null,null,null,null,null,null,41,1.016]
[null,null,null,null,null,null,null,null,null,42,1.032]
[null,null,null,null,null,null,null,null,null,43,1.048]
[null,null,null,null,null,null,null,null,null,44,1.0640000000000001]
[null,null,null,null,null,null,null,null,null,45,1.08]
[null,null,null,null,null,null,null,null,null,46,1.0960000000000001]
[null,null,null,null,null,null,null,null,null,47,1.1120000000000001]
[null,null,null,null,null,null,null,null,null,48,1.1280000000000001]
[null,null,null,null,null,null,null,null,null,49,1.1440000000000001]
[null,null,null,null,null,null,null,null,null,50,1.1600000000000001]
[null,null,null,null,null,null,null,null,null,51,1.1760000000000002]
[null,null,null,null,null,null,null,null,null,52,1.1920000000000002]
[null,null,null,null,null,null,null,null,null,53,1.208]
[null,null,null,null,null,null,null,null,null,54,1.224]
[null,null,null,null,null,null,null,null,null,55,1.24]
[null,null,null,null,null,null,null,null,null,56,1.256]
[null,null,null,null,null,null,null,null,null,57,1.272]
[null,null,null,null,null,null,null,null,null,58,1.288]
[null,null,null,null,null,null,null,null,null,59,1.304]
[null,null,null,null,null,null,null,null,null,60,1.3199999999999998]
[null,null,null,null,null,null,null,null,null,61,1.3359999999999999]
[null,null,null,null,null,null,null,null,null,62,1.3519999999999999]
[null,null,null,null,null,null,null,null,null,63,1.3679999999999999]
[null,null,null,null,null,null,null,null,null,64,1.3839999999999999]
[null,null,null,null,null,null,null,null,null,65,1.4]
[null,null,null,null,null,null,null,null,null,66,1.4159999999999999]
[null,null,null,null,null,null,null,null,null,67,1.4319999999999999]
[null,null,null,null,null,null,null,null,null,68,1.448]
[null,null,null,null,null,null,null,null,null,69,1.464]
[null,null,null,null,null,null,null,null,null,70,1.48]
[null,null,null,null,null,null,null,null,null,71,1.496]
[null,null,null,null,null,null,null,null,null,72,{"$f":" IF(J129<4.7, 0.1, IF(J129<16.5, 0.033898*J129 - 0.059322, IF(J129<40, 0.021277*J129 + 0.148936, IF(J129<77.5, 0.016*J129 + 0.36, IF(J129<115, 0.005333*J129 + 1.186667, 1.8)))))","v":1.512}]
[null,null,null,null,null,null,null,null,null,73,1.528]
[null,null,null,null,null,null,null,null,null,74,1.544]
[null,null,null,null,null,null,null,null,null,75,1.56]
[null,null,null,null,null,null,null,null,null,76,1.5760000000000001]
[null,null,null,null,null,null,null,null,null,77,1.5920000000000001]
[null,null,null,null,null,null,null,null,null,78,1.602641]
[null,null,null,null,null,null,null,null,null,79,1.607974]
[null,null,null,null,null,null,null,null,null,80,1.6133069999999998]
[null,null,null,null,null,null,null,null,null,81,1.6186399999999999]
[null,null,null,null,null,null,null,null,null,82,1.6239729999999999]
[null,null,null,null,null,null,null,null,null,83,1.6293059999999999]
[null,null,null,null,null,null,null,null,null,84,1.634639]
[null,null,null,null,null,null,null,null,null,85,1.639972]
[null,null,null,null,null,null,null,null,null,86,1.645305]
[null,null,null,null,null,null,null,null,null,87,1.6506379999999998]
[null,null,null,null,null,null,null,null,null,88,1.6559709999999999]
[null,null,null,null,null,null,null,null,null,89,1.6613039999999999]
[null,null,null,null,null,null,null,null,null,90,1.6666369999999999]
[null,null,null,null,null,null,null,null,null,91,1.67197]
[null,null,null,null,null,null,null,null,null,92,1.677303]
[null,null,null,null,null,null,null,null,null,93,1.682636]
[null,null,null,null,null,null,null,null,null,94,1.6879689999999998]
[null,null,null,null,null,null,null,null,null,95,1.6933020000000001]
[null,null,null,null,null,null,null,null,null,96,1.6986349999999999]
[null,null,null,null,null,null,null,null,null,97,1.7039679999999999]
[null,null,null,null,null,null,null,null,null,98,1.709301]
[null,null,null,null,null,null,null,null,null,99,1.7146339999999998]
[null,null,null,null,null,null,null,null,null,100,1.719967]
[null,null,null,null,null,null,null,null,null,101,1.7252999999999998]
[null,null,null,null,null,null,null,null,null,102,1.7306330000000001]
[null,null,null,null,null,null,null,null,null,103,1.7359659999999999]
[null,null,null,null,null,null,null,null,null,104,1.7412989999999999]
[null,null,null,null,null,null,null,null,null,105,1.746632]
[null,null,null,null,null,null,null,null,null,106,1.7519649999999998]
[null,null,null,null,null,null,null,null,null,107,1.757298]
[null,null,null,null,null,null,null,null,null,108,1.7626309999999998]
[null,null,null,null,null,null,null,null,null,109,1.7679639999999999]
[null,null,null,null,null,null,null,null,null,110,1.7732969999999999]
[null,null,null,null,null,null,null,null,null,111,1.7786299999999999]
[null,null,null,null,null,null,null,null,null,112,1.783963]
[null,null,null,null,null,null,null,null,null,113,1.7892959999999998]
[null,null,null,null,null,null,null,null,null,114,1.794629]
[null,null,null,null,null,null,null,null,null,115,1.8]
[null,null,null,null,null,null,null,null,null,116,1.8]
[null,null,null,null,null,null,null,null,null,117,1.8]
[null,null,null,null,null,null,null,null,null,118,1.8]
[null,null,null,null,null,null,null,null,null,119,1.8]
[null,null,null,null,null,null,null,null,null,120,1.8]
[null,null,null,null,null,null,null,null,null,121,1.8]
[null,null,null,null,null,null,null,null,null,122,1.8]
[null,null,null,null,null,null,null,null,null,123,1.8]
[null,null,null,null,null,null,null,null,null,124,1.8]
[null,null,null,null,null,null,null,null,null,125,1.8]
[null,null,null,null,null,null,null,null,null,126,1.8]
[null,null,null,null,null,null,null,null,null,127,1.8]
[null,null,null,null,null,null,null,null,null,128,1.8]
[null,null,null,null,null,null,null,null,null,129,1.8]
[null,null,null,null,null,null,null,null,null,130,1.8]
[null,null,null,null,null,null,null,null,null,131,1.8]
[null,null,null,null,null,null,null,null,null,132,1.8]
[null,null,null,null,null,null,null,null,null,133,1.8]
[null,null,null,null,null,null,null,null,null,134,1.8]
[null,null,null,null,null,null,null,null,null,135,1.8]
[null,null,null,null,null,null,null,null,null,136,{"$f":" IF(J193<4.7, 0.1, IF(J193<16.5, 0.033898*J193 - 0.059322, IF(J193<40, 0.021277*J193 + 0.148936, IF(J193<77.5, 0.016*J193 + 0.36, IF(J193<115, 0.005333*J193 + 1.186667, 1.8)))))","v":1.8}]
[null,null,null,null,null,null,null,null,null,137,{"$f":" IF(J194<4.7, 0.1, IF(J194<16.5, 0.033898*J194 - 0.059322, IF(J194<40, 0.021277*J194 + 0.148936, IF(J194<77.5, 0.016*J194 + 0.36, IF(J194<115, 0.005333*J194 + 1.186667, 1.8)))))","v":1.8}]
[null,null,null,null,null,null,null,null,null,138,{"$f":" IF(J195<4.7, 0.1, IF(J195<16.5, 0.033898*J195 - 0.059322, IF(J195<40, 0.021277*J195 + 0.148936, IF(J195<77.5, 0.016*J195 + 0.36, IF(J195<115, 0.005333*J195 + 1.186667, 1.8)))))","v":1.8}]
[null,null,null,null,null,null,null,null,null,139,{"$f":" IF(J196<4.7, 0.1, IF(J196<16.5, 0.033898*J196 - 0.059322, IF(J196<40, 0.021277*J196 + 0.148936, IF(J196<77.5, 0.016*J196 + 0.36, IF(J196<115, 0.005333*J196 + 1.186667, 1.8)))))","v":1.8}]
[null,null,null,null,null,null,null,null,null,140,{"$f":" IF(J197<4.7, 0.1, IF(J197<16.5, 0.033898*J197 - 0.059322, IF(J197<40, 0.021277*J197 + 0.148936, IF(J197<77.5, 0.016*J197 + 0.36, IF(J197<115, 0.005333*J197 + 1.186667, 1.8)))))","v":1.8}]

{"sheet":"7. Assumptions","index":9,"n_rows":81,"n_cols":21,"rows_kept":81,"cut":false,"hidden":false,"merged":[[1,0,1,11],[72,3,72,5],[54,3,54,4],[54,5,54,6]]}
["Menu"]
["7. Assumptions"]
[]
[]
[null,"Parameter","Units","Value","TS","FS","VS","Protein","N","P","K"]
[]
[null,"Carcass composition 1","g. kg-1",null,300,29,{"$f":"E7-F7","v":271},null,25.6,4.5,2.4]
[]
[null,"Placenta","kg. sow place-1. farrowing-1",3,{"$f":"$D9*E7/1000","v":0.9},{"$f":"$D9*F7/1000","v":8.6999999999999994E-2},{"$f":"$D9*G7/1000","v":0.81299999999999994},null,{"$f":"$D9*I7/1000","v":7.6800000000000007E-2},{"$f":"$D9*J7/1000","v":1.35E-2},{"$f":"$D9*K7/1000","v":7.1999999999999989E-3}]
[null,null,"kg. year-1",{"$f":"D9*'3. Herd Input'!$C$13*'3. Herd Input'!$C$25","v":6839.9999999999991},{"$f":"E9*'3. Herd Input'!$C$13*'3. Herd Input'!$C$25","v":2052},{"$f":"F9*'3. Herd Input'!$C$13*'3. Herd Input'!$C$25","v":198.35999999999999},{"$f":"G9*'3. Herd Input'!$C$13*'3. Herd Input'!$C$25","v":1853.6399999999999},null,{"$f":"I9*'3. Herd Input'!$C$13*'3. Herd Input'!$C$25","v":175.10400000000001},{"$f":"J9*'3. Herd Input'!$C$13*'3. Herd Input'!$C$25","v":30.779999999999998},{"$f":"K9*'3. Herd Input'!$C$13*'3. Herd Input'!$C$25","v":16.415999999999997}]
[]
[null,"Milk composition 2","%",null,0.2,{"$f":"E12-G12","v":1.0000000000000009E-2},0.19,{"$f":"I12*6.25","v":5.6249999999999994E-2},8.9999999999999993E-3,1.5E-3,6.9999999999999999E-4]
[null,null,null,null,null,null,null,null,null,null,null,"Ref:"]
[null,null,"%",null,0.2,0.01,0.19,5.6250000000000001E-2,8.9999999999999993E-3,1.5E-3,6.9999999999999999E-4,1]
[null,null,"%",null,0.19,8.0000000000000002E-3,{"$f":"E15-F15","v":0.182},0.06,{"$f":"H15/6.25","v":9.5999999999999992E-3},null,null,2]
[null,null,"%",null,0.187,8.43E-3,{"$f":"E16-F16","v":0.17857000000000001},null,null,1.5100000000000001E-3,7.4799999999999997E-4,3]
[null,null,"%",null,0.158,null,null,{"$f":"I17*6.25","v":4.3750000000000004E-2},7.0000000000000001E-3,null,null,4]
[]
[null,"Average lactation length","days",{"$f":"'3. Herd Input'!C38","v":24},"(From 'Herd input' sheet)"]
[]
[null,"Sucker sow milk intake","kg. sow place-1. day-1",8,{"$f":"$D21*E12","v":1.6},{"$f":"$D21*F12","v":8.0000000000000071E-2},{"$f":"$D21*G12","v":1.52},null,{"$f":"$D21*I12","v":7.1999999999999995E-2},{"$f":"$D21*J12","v":1.2E-2},{"$f":"$D21*K12","v":5.5999999999999999E-3}]
[null,null,"kg. sow place-1. farrowing-1",{"$f":"$D19*D21","v":192},{"$f":"$D19*E21","v":38.400000000000006},{"$f":"$D19*F21","v":1.9200000000000017},{"$f":"$D19*G21","v":36.480000000000004},null,{"$f":"$D19*I21","v":1.7279999999999998},{"$f":"$D19*J21","v":0.28800000000000003},{"$f":"$D19*K21","v":0.13439999999999999}]
[null,null,"kg. year-1",{"$f":"D22*'3. Herd Input'!$C$13*'3. Herd Input'!$C$25","v":437759.99999999994},{"$f":"E22*'3. Herd Input'!$C$13*'3. Herd Input'!$C$25","v":87552.000000000015},{"$f":"F22*'3. Herd Input'!$C$13*'3. Herd Input'!$C$25","v":4377.600000000004},{"$f":"G22*'3. Herd Input'!$C$13*'3. Herd Input'!$C$25","v":83174.400000000009},null,{"$f":"I22*'3. Herd Input'!$C$13*'3. Herd Input'!$C$25","v":3939.8399999999992},{"$f":"J22*'3. Herd Input'!$C$13*'3. Herd Input'!$C$25","v":656.6400000000001},{"$f":"K22*'3. Herd Input'!$C$13*'3. Herd Input'!$C$25","v":306.43199999999996}]
[]
[null,"Gestation period","days",114]
[]
[null,"Suckers","kg/sow place/farrowing",{"$f":"('3. Herd Input'!C27+'3. Herd Input'!C28)*'3. Herd Input'!G30","v":17.752000000000002},{"$f":"$D27*E7/1000","v":5.3256000000000006},{"$f":"$D27*F7/1000","v":0.51480800000000015},{"$f":"$D27*G7/1000","v":4.8107920000000002},null,{"$f":"$D27*I7/1000","v":0.45445120000000011},{"$f":"$D27*J7/1000","v":7.9884000000000011E-2},{"$f":"$D27*K7/1000","v":4.2604800000000005E-2}]
[null,null,"kg/year",{"$f":"D27*'3. Herd Input'!$C$13*'3. Herd Input'!$C$25","v":40474.560000000005},{"$f":"E27*'3. Herd Input'!$C$13*'3. Herd Input'!$C$25","v":12142.368},{"$f":"F27*'3. Herd Input'!$C$13*'3. Herd Input'!$C$25","v":1173.7622400000002},{"$f":"G27*'3. Herd Input'!$C$13*'3. Herd Input'!$C$25","v":10968.60576},null,{"$f":"I27*'3. Herd Input'!$C$13*'3. Herd Input'!$C$25","v":1036.1487360000001},{"$f":"J27*'3. Herd Input'!$C$13*'3. Herd Input'!$C$25","v":182.13552000000001},{"$f":"K27*'3. Herd Input'!$C$13*'3. Herd Input'!$C$25","v":97.138943999999995}]
[]
[null,"Suckers + Milk + placenta","kg. sow place-1. farrowing-1",{"$f":"D9+D22+D27","v":212.75200000000001},{"$f":"E9+E22+E27","v":44.625600000000006},{"$f":"F9+F22+F27","v":2.5218080000000018},{"$f":"G9+G22+G27","v":42.103792000000006},null,{"$f":"I9+I22+I27","v":2.2592512},{"$f":"J9+J22+J27","v":0.38138400000000006},{"$f":"K9+K22+K27","v":0.1842048}]
[null,null,"kg. sow place-1. day-1",{"$f":"D30/$D19","v":8.8646666666666665},{"$f":"E30/$D19","v":1.8594000000000002},{"$f":"F30/$D19","v":0.10507533333333341},{"$f":"G30/$D19","v":1.754324666666667},null,{"$f":"I30/$D19","v":9.4135466666666667E-2},{"$f":"J30/$D19","v":1.5891000000000002E-2},{"$f":"K30/$D19","v":7.6752000000000001E-3}]
[null,null,"kg. year-1",{"$f":"D10+D23+D28","v":485074.55999999994},{"$f":"E10+E23+E28","v":101746.36800000002},5749.7222400000037,95996.645760000014,null,5151.0927359999996,869.55552000000012,419.98694399999994]
[null,"Shed losses"]
[null,"Flushing","%",null,0.02,0,0.03,null,0.1,0,0]
[null,"Pull plug / Static pit","%",null,0.1,0,0.12,null,0.1,0,0]
[null,"Deep litter","%",null,0.2,0,0.25,null,0.17,0,0]
[]
[null,"Deep litter moisture content","%",0.4]
[null,"Allocation of nutrients to sludge"]
[null,"To sludge","%",null,null,null,null,null,0.23499999999999999,0.9,0.1]
[]
[null,"From PigBal 5 with Standard Diet A using weight categories from NEGIP 2025 (below)"]
[null,"Predicted solids and nutrient output",null,null,"TS","FS","VS",null,"N","P","K"]
[null,"Gilt","kg. pig-1. yr-1",null,193.42031165819171,39.566808001558485,153.06683124710659,null,13.722968859089368,4.2022319014668801,4.105255772361283]
[null,"Boar","kg. pig-1. yr-1",null,185.42151831178219,39.165026400601242,145.53938639389506,null,14.600429838967703,4.4460334136141686,4.1165975274363271]
[null,"Dry sow 1","kg. pig-1. yr-1",null,178.43607061792972,38.840724824613424,138.93979130725947,null,14.013067765413377,4.4588461831296682,5.342412987844595]
[null,"Lac sow","kg. pig-1. yr-1",null,453.29043532969939,107.78388641578942,344.11465290097851,null,42.478798872429479,10.818140123052633,16.121927509842106]
[null,"Sucker","kg. pig-1. yr-1",null,8.167008489941729,2.0728667882982479,6.0729908839664928,null,1.205508487807579,0.25379859476315814,0.29720899280263169]
[null,"Weaner","kg. pig-1. yr-1",null,44.062375775116877,6.5212277050841356,37.287168821847338,null,3.1158928677865845,0.73098215125839139,1.1130158622289139]
[null,"Grower","kg. pig-1. yr-1",null,97.0066929621496,16.989581061625337,79.536935118473522,null,7.9004361054888177,1.8274210536970348,2.9441317382517518]
[null,"Finisher","kg. pig-1. yr-1",null,181.0055740969697,31.56279975036043,148.54266268506936,null,12.922788554954726,3.554050815149906,4.4295265811383935]
[null,"Heavy finisher","kg. pig-1. yr-1 (estimated regression eqns)",null,{"$f":"O65","v":216.86726099999998},{"$f":"P65","v":40.644886999999997},176.22237499999997,null,22.321151,6.718807,4.893326000000001]
[]
[null,"National Environmental Guidelines for Indoor Piggeries: Table 5.1"]
[null,"Pig class",null,"Live weight range (kg)",null,"Age range (weeks)",null,null,null,"SPU factor"]
[null,null,null,"Entry","Exit","Entry","Exit",null,null,"(SPU. Pig-1)"]
[null,"Gilt",null,100,160,24,30,null,null,1.8]
[null,"Boar",null,100,300,24,128,null,null,1.6]
[null,"Dry sow",null,160,230,null,null,null,null,1.6]
[null,"Lac sow",null,160,230,null,null,null,null,2.5,null,null,null,"Av lwt","TS","FS","VS",null,"N","P","K"]
[null,"Sucker",null,1.4,8,0,4,null,null,0.1,null,null,null,{"$f":"(D61+E61)/2","v":4.7},{"$f":"E48","v":8.167008489941729},{"$f":"F48","v":2.0728667882982479},6.0729908839664928,null,1.205508487807579,0.25379859476315814,0.29720899280263169]
[null,"Weaner",null,8,25,4,10,null,null,0.5,null,null,null,{"$f":"(D62+E62)/2","v":16.5},{"$f":"E49","v":44.062375775116877},6.5212277050841356,37.287168821847338,null,3.1158928677865845,0.73098215125839139,1.1130158622289139]
[null,"Grower",null,25,55,10,16,null,null,1,null,null,null,{"$f":"(D63+E63)/2","v":40},{"$f":"E50","v":97.0066929621496},16.989581061625337,79.536935118473522,null,7.9004361054888177,1.8274210536970348,2.9441317382517518]
[null,"Finisher",null,55,100,16,24,null,null,1.6,null,null,null,{"$f":"(D64+E64)/2","v":77.5},{"$f":"E51","v":181.0055740969697},31.56279975036043,148.54266268506936,null,12.922788554954726,3.554050815149906,4.4295265811383935]
[null,"Heavy finisher",null,100,130,24,30,null,null,1.8,null,null,null,{"$f":"(D65+E65)/2","v":115},{"$f":" -0.011986*N65^2 + 3.276163*N65 - 1.376634","v":216.86726099999998},{"$f":"-0.001848*N65^2 + 0.586788*N65 - 2.395933","v":40.644886999999997},{"$f":" -0.010138*N65^2 + 2.689375*N65 + 1.0193","v":176.22237499999997},null,{"$f":"-0.000156*N65^2 + 0.20263*N65 + 1.081801","v":22.321151},{"$f":" -0.000209*N65^2 + 0.083044*N65 - 0.067228","v":6.718807},{"$f":"-0.000295*N65^2 + 0.078282*N65 - 0.207729","v":4.893326000000001}]
[]
[]
[null,"References:"]
[1,"Mahan and Shields (1998), Field et al. (1974)"]
[2,"Hurley (1997), Csapó et al. (1996), Lewis et al. (1978), Eliasson and Isberg (2011)"]
[3,"Effluent at Work"]
[]
[null,null,"Sucker feed","Feed ingested (kg/pig/day)"]
[null,null,"Age (weeks)","Milk","Creep","Total"]
[null,null,0]
[null,null,1,0.8,0,{"$f":"SUM(D76:E76)","v":0.8}]
[null,null,2,0.8,0,{"$f":"SUM(D77:E77)","v":0.8}]
[null,null,3,0.8,0.08,{"$f":"SUM(D78:E78)","v":0.88}]
[null,null,4,0.8,0.12,{"$f":"SUM(D79:E79)","v":0.92}]
[null,null,"Total",{"$f":"AVERAGE(D76:D79)","v":0.8},{"$f":"AVERAGE(E76:E79)","v":0.05},{"$f":"AVERAGE(F76:F79)","v":0.85}]
[null,null,null,{"$f":"D80/F80","v":0.94117647058823539},{"$f":"E80/F80","v":5.8823529411764712E-2}]

{"sheet":"8. Feed details","index":10,"n_rows":101,"n_cols":13,"rows_kept":101,"cut":false,"hidden":false,"merged":[[9,10,10,10],[9,7,9,8],[6,1,6,2],[1,0,1,13],[7,1,7,2],[9,11,9,12],[4,10,7,12],[86,6,86,7],[9,2,10,2],[9,3,10,3],[9,4,10,4],[9,5,9,6],[85,6,85,8]]}
["Menu"]
["8. Feed details"]
[]
[]
[null,"Grower herd",null,null,null,null,null,null,null,"Rating:","Note: The user may enter either the daily feed ingested per pig for each pig class, or the annual total tonnage of feed fed to each pig class.  Alternatively, if these cells are left blank, the default values for the breeder pigs and calculated values for the grower pigs will be used."]
[null,"Average daily live weight gain (ADG):",null,null,{"$f":"'3. Herd Input'!G25","v":675},"(g. day-1) [birth to 100 kg live weight]",null,null,null,{"$f":"IF(E6<550, \"Outside normal range\", IF(E6<'Growth curve sheet'!U21, 'Growth curve sheet'!S21,IF(E6<'Growth curve sheet'!U22,'Growth curve sheet'!S22,IF(E6<'Growth curve sheet'!U23, 'Growth curve sheet'!S23,IF(E6>800, \"Outside normal range\", 'Growth curve sheet'!S24)))))","v":"Average"}]
[null,"Feed conversion [birth to 100 kg liveweight]:",null,null,2.298,"(kg feed fed / kg live weight gain) [birth to 100 kg live weight]",null,null,null,{"$f":"IF(E7<'Growth curve sheet'!T82, \"Outside range\", IF(E7<'Growth curve sheet'!U82, 'Growth curve sheet'!S82,IF(E7<'Growth curve sheet'!U83,'Growth curve sheet'!S83,IF(E7<'Growth curve sheet'!U84, 'Growth curve sheet'!S84,IF(E7>'Growth curve sheet'!U85, \"Outside range\", 'Growth curve sheet'!S85)))))","v":"Good"}]
[null,"Estimated feed wastage (%):",null,null,{"$f":"'Growth curve sheet'!V46","v":4.9751686512175229E-2},"(based on feed intake estimates derived from Willis, 2025)"]
[]
[null,"Pig class","Pigs accomodated in piggery","Average pig live weight","Feed wastage","Daily feed ingested",null,"Annual feed fed",null,"Daily feed fed","Daily feed ingested","Adopted values"]
[null,null,null,null,null,"Calculated /\ndefault values","Entered values","Calculated /\ndefault values","Entered values",null,null,"Daily feed ingested","Annual feed fed"]
[null,null,"(pigs. stage-1)","(kg. pig-1)","(% as fed)","(kg. pig-1. day-1)","(kg. pig-1. day-1)","(t. yr-1)","(t. yr-1)","(kg. pig-1. day-1)","(kg. pig-1. day-1)","(kg. pig-1. day-1)","(t. yr-1)"]
[null,"Gilts",{"$f":"'5. Herd details'!E9","v":102.53742590682847},{"$f":"'5. Herd details'!L9","v":125.69340577780004},0.05,2.5,null,{"$f":"(F13*365*C13)/(1000*(1-E13))","v":98.48989593682208},null,{"$f":"IF(C13=0, 0, IF(I13=\"\", (H13*1000/365)/C13, (I13*1000/365)/C13))","v":2.6315789473684212},{"$f":"J13*(1-E13)","v":2.5},{"$f":"IF(I13<>\"\",K13,IF(G13<>\"\",G13,F13))","v":2.5},{"$f":"(L13/(1-E13))*C13*365/1000","v":98.48989593682208}]
[null,"Boars",{"$f":"'5. Herd details'!E10","v":10},{"$f":"'5. Herd details'!L10","v":203.19340577780002},0.05,2.2999999999999998,null,{"$f":"(F14*365*C14)/(1000*(1-E14))","v":8.8368421052631554},null,{"$f":"IF(C14=0, 0, IF(I14=\"\", (H14*1000/365)/C14, (I14*1000/365)/C14))","v":2.4210526315789465},{"$f":"J14*(1-E14)","v":2.2999999999999989},{"$f":"IF(I14<>\"\",K14,IF(G14<>\"\",G14,F14))","v":2.2999999999999998},{"$f":"(L14/(1-E14))*C14*365/1000","v":8.8368421052631589}]
[null,"Gestating sows",{"$f":"'5. Herd details'!E11","v":850.95873040045035},{"$f":"'5. Herd details'!L11","v":172.5},0.05,2.2999999999999998,null,751.97879386439786,null,2.4210526315789473,2.2999999999999998,2.2999999999999998,751.97879386439786]
[null,"Lactating sows",{"$f":"'5. Herd details'!E13","v":149.04126959954959},{"$f":"'5. Herd details'!L13","v":172.5},0.05,6.3,null,360.75831520438345,null,6.6315789473684204,6.2999999999999989,6.3,360.75831520438345]
[null,"Suckers 1",{"$f":"'5. Herd details'!E14","v":1662.8883287671231},{"$f":"'5. Herd details'!L14","v":4.2},0.05,1.7999999999999999E-2,null,11.500185599999996,null,1.8947368421052629E-2,1.7999999999999999E-2,1.7999999999999999E-2,11.500185599999996]
[null,{"$f":"'3. Herd Input'!M17","v":"Weaner"},{"$f":"'5. Herd details'!E15","v":2957.369327544784},{"$f":"'5. Herd details'!L15","v":21},0.05,{"$f":"IF(C18=0, 0,  -0.00007*D18^2 + 0.0355*D18 + 0.1379)","v":0.85253000000000001},null,968.68928060662165,null,0.89740000000000009,0.85253000000000001,0.85253000000000001,968.68928060662165]
[null,{"$f":"'3. Herd Input'!M18","v":"Porker"},{"$f":"'5. Herd details'!E16","v":1774.4648906608736},{"$f":"'5. Herd details'!L16","v":47.5},0.05,{"$f":"IF(C19=0, 0,  -0.00007*D19^2 + 0.0355*D19 + 0.1379)","v":1.6662124999999997},null,1135.9705129421602,null,1.7539078947368416,1.6662124999999994,1.6662124999999997,1135.9705129421602]
[null,{"$f":"'3. Herd Input'!M19","v":"Grower"},{"$f":"'5. Herd details'!E17","v":1755.3552687614488},{"$f":"'5. Herd details'!L17","v":72.5},0.05,2.3437125000000001,null,1580.6605801558205,null,2.4670657894736845,2.3437125000000001,2.3437125000000001,1580.6605801558205]
[null,{"$f":"'3. Herd Input'!M20","v":"Finisher"},{"$f":"'5. Herd details'!E18","v":1736.4514427901718},{"$f":"'5. Herd details'!L18","v":97.5},0.05,2.9337124999999999,null,1957.2642060264686,null,3.088118421052632,2.9337125000000004,2.9337124999999999,1957.2642060264684]
[null,{"$f":"'3. Herd Input'!M21","v":"Unallocated"},{"$f":"'5. Herd details'!E19","v":0},{"$f":"'5. Herd details'!L19","v":0},null,0,null,0,null,0,0,0,0]
[null,{"$f":"'3. Herd Input'!M22","v":"Unallocated"},{"$f":"'5. Herd details'!E20","v":0},{"$f":"'5. Herd details'!L20","v":0},null,0,null,0,null,0,0,0,0]
[]
[null,"Totals:",{"$f":"SUM(C13:C23)","v":10999.066684431231},null,null,null,null,{"$f":"SUM(H13:H23)","v":6874.148612441938},{"$f":"SUM(I13:I23)","v":0},null,null,null,{"$f":"SUM(M13:M23)","v":6874.1486124419371}]
[]
[null,"1 Sucker feed is considered to be creep feed only and does not include milk supplied by the sow.",null,null,null,null,null,"2 All feed quantities are expressed on an 'as-fed' basis"]
[]
[null,"Whole piggery Herd Feed Conversion (HFC):",null,null,null,"HFC",null,null,null,"Ratings"]
[null,"Total feed fed:",{"$f":"M25","v":6874.1486124419371},"t. yr-1 (as fed)"]
[null,"Total pigs sold:",{"$f":"'5. Herd details'!H42","v":2562555.0281778825},"kg live weight. yr-1",null,{"$f":"C30*1000/C31","v":2.6825369745639511},"kg feed fed / kg live weight sold"]
[null,"Total pigs sold:",{"$f":"'5. Herd details'!I42","v":1947541.8214151908},"kg dressed weight. yr-1",null,{"$f":"C30*1000/C32","v":3.5296539138999354},"kg feed fed / kg dressed weight sold",null,null,{"$f":"IF(F32<'Growth curve sheet'!T72, \"Outside normal range\", IF(F32<'Growth curve sheet'!U72, 'Growth curve sheet'!S72,IF(F32<'Growth curve sheet'!U73,'Growth curve sheet'!S73,IF(F32<'Growth curve sheet'!U74, 'Growth curve sheet'!S74,IF(F32>'Growth curve sheet'!U75, \"Outside normal range\", 'Growth curve sheet'!S75)))))","v":"Average"}]
[]
[null,"Grower herd Feed Conversion Ratio (FCR) [wean to finish]:",null,null,null,"FCR"]
[null,"Grower herd feed fed:",{"$f":"SUM(M18:M23)","v":5642.5845797310703},"t. yr-1 (as fed)"]
[null,"Grower pig liveweight gain:",{"$f":"SUM('5. Herd details'!H61:H66)-('5. Herd details'!AA15*52.1/'5. Herd details'!X15*'5. Herd details'!J15)","v":2310874.9187201909},"kg live weight. yr-1",null,{"$f":"C35*1000/C36","v":2.4417524869135052},"kg feed fed / kg liveweight gain [wean to finish]",null,null,{"$f":"IF(F36<'Growth curve sheet'!T77, \"Outside normal range\", IF(F36<'Growth curve sheet'!U77, 'Growth curve sheet'!S77,IF(F36<'Growth curve sheet'!U78,'Growth curve sheet'!S78,IF(F36<'Growth curve sheet'!U79, 'Growth curve sheet'!S79,IF(F36>'Growth curve sheet'!U80, \"Outside normal range\", 'Growth curve sheet'!S80)))))","v":"Average"}]
[null,"Grower pig liveweight gain:",{"$f":"C36*'3. Herd Input'!C40/100","v":1756264.938227345},"kg dressed weight. yr-1",null,{"$f":"C35*1000/C37","v":3.2128322196230332},"kg feed fed / kg dressed weight gain"]
[]
[null,"Feed Break-down:",null,null,null,"Percentage"]
[null,"Breeder feed",{"$f":"SUM(M13:M17)","v":1231.5640327108665},"t. yr-1 (as fed)",null,{"$f":"C40/$M$25","v":0.17915877327437821}]
[null,"Grower feed",{"$f":"SUM(M18:M23)","v":5642.5845797310703},"t. yr-1 (as fed)",null,{"$f":"C41/$M$25","v":0.82084122672562176}]
[]
[]
[]
[]
[null,"Pig live weight (kg)","Feed Intake (kg/d)","Calc feed intake (kg/d)"]
[1.06,6.1,{"$f":"0.2*A47","v":0.21200000000000002},{"$f":" -0.00007*B47^2 + 0.0351*B47+0.1366","v":0.34810530000000001}]
[null,8.25,{"$f":"0.4*A47","v":0.42400000000000004},{"$f":" -0.00007*B48^2 + 0.0351*B48+0.1366","v":0.42141062499999998}]
[null,10.850000000000001,{"$f":"0.55*A47","v":0.58300000000000007},0.50919442500000001]
[null,13.95,{"$f":"0.65*A47","v":0.68900000000000006},0.61262282499999987]
[null,17.55,{"$f":"0.75*A47","v":0.79500000000000004},0.73104482500000012]
[null,21.65,{"$f":"0.85*A47","v":0.90100000000000002},0.86370442499999989]
[null,26.25,{"$f":"0.95*A47","v":1.0069999999999999},1.0097406250000001]
[null,31.200000000000003,{"$f":"1.09*A47","v":1.1554000000000002},1.1635792]
[null,36.549999999999997,{"$f":"1.25*A47","v":1.3250000000000002},1.325991825]
[null,42.2,{"$f":"1.4*A47","v":1.484},1.4931612000000001]
[null,48.150000000000006,{"$f":"1.62*A47","v":1.7172000000000003},1.6643754250000002]
[null,54.25,{"$f":"1.75*A47","v":1.855},1.8347606249999999]
[null,60.55,{"$f":"1.9*A47","v":2.0139999999999998},2.0052638250000001]
[null,66.900000000000006,{"$f":"2.05*A47","v":2.173},2.1714973000000004]
[null,73.25,{"$f":"2.2*A47","v":2.3320000000000003},2.3320856249999999]
[null,79.550000000000011,{"$f":"2.4*A47","v":2.544},2.4858308250000003]
[null,85.75,{"$f":"2.55*A47","v":2.7029999999999998},2.6317106249999997]
[null,91.85,{"$f":"2.7*A47","v":2.8620000000000005},2.7699854249999998]
[null,97.75,{"$f":"2.8*A47","v":2.968},2.898770625]
[null,103.5,{"$f":"2.9*A47","v":3.0739999999999998},3.0195924999999999]
[null,109,{"$f":"3*A47","v":3.18},3.13083]
[null,114.3,{"$f":"3.1*A47","v":3.2860000000000005},3.2340156999999996]
[null,119.35,{"$f":"3.2*A47","v":3.3920000000000003},3.3286754249999997]
[null,124.15,{"$f":"3.3*A47","v":3.4979999999999998},3.415339425]
[]
[null,"Source: S Willis pers comm - January 2025"]
[]
["Old","y = -0.0001534x2 + 0.0453863x + 0.0323195"]
["new","y = -0.00006x2 + 0.0334x + 0.1301"]
[null,"Pig live weight (kg)",null,"Calc feed intake (kg/d)"]
[null,5,null,{"$f":" -0.00007*B77^2 + 0.0355*B77 + 0.1379","v":0.31364999999999998}]
[null,10,null,{"$f":" -0.00007*B78^2 + 0.0355*B78 + 0.1379","v":0.4859}]
[null,15,null,0.65464999999999995]
[null,20,null,0.81989999999999996]
[null,25,null,0.98165000000000002]
[null,30,null,1.1398999999999999]
[null,35,null,1.2946499999999999]
[null,40,null,1.4458999999999997]
[null,45,null,1.5936499999999998]
[null,50,null,1.7378999999999998,null,null,"National Guidelines"]
[null,55,null,1.8786499999999997,null,null,"Live weight range (kg)",null,"Av live weight (kg)","Old PigBal feed intake (kg/day)"]
[null,60,null,2.0158999999999998,null,"Sucker",1.4,8,{"$f":"AVERAGE(G88:H88)","v":4.7},0.2]
[null,65,null,2.1496499999999998,null,"Weaner",8,25,{"$f":"AVERAGE(G89:H89)","v":16.5},0.6]
[null,70,null,2.2799,null,"Grower",25,55,{"$f":"AVERAGE(G90:H90)","v":40},1.5]
[null,75,null,2.40665,null,"Finisher",55,100,{"$f":"AVERAGE(G91:H91)","v":77.5},2.2999999999999998]
[null,80,null,2.5299,null,"Heavy Finisher",100,130,{"$f":"AVERAGE(G92:H92)","v":115}]
[null,85,null,2.6496499999999998]
[null,90,null,2.7659000000000002]
[null,95,null,2.8786499999999999]
[null,100,null,2.9878999999999998]
[null,105,null,3.0936499999999998]
[null,110,null,3.1959]
[null,115,null,3.2946499999999999]
[null,120,null,3.3898999999999999]
[null,125,null,3.4816500000000001]

{"sheet":"9. Water","index":11,"n_rows":165,"n_cols":29,"rows_kept":165,"cut":false,"hidden":false,"merged":[[1,0,1,18],[25,6,25,8],[6,6,6,8],[6,9,6,12],[6,13,6,15],[24,1,24,2],[25,1,25,2],[27,1,27,2],[49,20,49,21],[28,1,28,2],[35,1,35,2],[37,1,37,2],[30,1,30,2],[36,1,36,2],[26,1,26,2],[51,20,51,21],[31,1,31,2],[41,1,41,2],[32,1,32,2],[33,1,33,2],[34,1,34,2],[40,1,40,2],[47,20,47,21],[42,1,42,2],[44,1,44,2],[50,20,50,21],[48,20,48,21],[43,1,43,2],[38,1,38,2],[39,1,39,2]]}
["Menu"]
["9. Water"]
[]
[]
[null,"Drinking water and wastage"]
[]
[null,"Pig class","No of pigs","Feed ingested\n(as fed)","Wf 1","Tf 1","Calculated water intake",null,null,"Drinking water wastage",null,null,null,"Water intake + wastage",null,null,"Cooling water flowrate 2","Cooling water use",null,null,"NEGP pig class",null,"Shed type","Waste to effluent","Waste to litter"]
[null,null,"(pigs. stage-1)","(kg. pig-1. day-1)",null,null,"(L. pig-1. day-1)","(L. day-1)","(L. yr-1)","(%)","(L. pig-1. day-1)","(L/day)","(L. yr-1)","(L. pig-1. day-1)","(L/day)","(L. yr-1)","(mL. hr-1. pig-1)","(L. yr-1)",null,null,null,null,null,"(L. yr-1)","(L. yr-1)"]
[null,"Gilts",{"$f":"'5. Herd details'!E9","v":102.53742590682847},{"$f":"'8. Feed details'!L13","v":2.5},{"$f":"Examples!E133","v":2.5},{"$f":"Examples!F133","v":1.2},{"$f":"D9*E9*F9","v":7.5},{"$f":"G9*C9","v":769.03069430121354},{"$f":"H9*365","v":280696.20341994293},0.25,{"$f":"J9*G9","v":1.875},{"$f":"K9*C9","v":192.25767357530339},{"$f":"L9*365","v":70174.050854985733},{"$f":"G9+K9","v":9.375},{"$f":"H9+L9","v":961.28836787651699},{"$f":"I9+M9","v":350870.25427492865},300,{"$f":"Q9*C9*J$26/1000","v":16611.062996906214},null,null,{"$f":"B9","v":"Gilts"},null,{"$f":"'5. Herd details'!F9","v":"Flushing"},{"$f":"IF(W9=\"Deep litter\", 0, M9)","v":70174.050854985733},{"$f":"IF(W9=\"Deep litter\", M9, 0)","v":0}]
[null,"Boars",{"$f":"'5. Herd details'!E10","v":10},{"$f":"'8. Feed details'!L14","v":2.2999999999999998},{"$f":"Examples!E134","v":2.5},{"$f":"Examples!F134","v":1.2},{"$f":"D10*E10*F10","v":6.8999999999999995},{"$f":"G10*C10","v":69},{"$f":"H10*365","v":25185},0.25,{"$f":"J10*G10","v":1.7249999999999999},{"$f":"K10*C10","v":17.25},{"$f":"L10*365","v":6296.25},{"$f":"G10+K10","v":8.625},{"$f":"H10+L10","v":86.25},{"$f":"I10+M10","v":31481.25},300,1620,null,null,{"$f":"B10","v":"Boars"},null,{"$f":"'5. Herd details'!F10","v":"Flushing"},6296.25,0]
[null,"Gestating sows",{"$f":"'5. Herd details'!E11","v":850.95873040045035},{"$f":"'8. Feed details'!L15","v":2.2999999999999998},{"$f":"Examples!E135","v":2.8},{"$f":"Examples!F135","v":1.5},9.66,8220.2613356683505,3000395.3875189479,0.25,2.415,2055.0653339170876,750098.84687973699,12.074999999999999,10275.326669585438,3750494.2343986849,300,137855.31432487298,null,null,{"$f":"B11","v":"Gestating sows"},null,{"$f":"'5. Herd details'!F11","v":"Flushing"},750098.84687973699,0]
[null,"Lactating sows",{"$f":"'5. Herd details'!E13","v":149.04126959954959},{"$f":"'8. Feed details'!L16","v":6.3},{"$f":"Examples!E136","v":4.5},{"$f":"Examples!F136","v":1.6},45.36,6760.5119890355691,2467586.8759979829,0.25,11.34,1690.1279972588923,616896.71899949573,56.7,8450.6399862944618,3084483.5949974786,300,24144.685675127032,null,null,{"$f":"B12","v":"Lactating sows"},null,{"$f":"'5. Herd details'!F13","v":"Flushing"},616896.71899949573,0]
[null,"Suckers",{"$f":"'5. Herd details'!E14","v":1662.8883287671231},{"$f":"'8. Feed details'!L17","v":1.7999999999999999E-2},{"$f":"Examples!E137","v":4},{"$f":"Examples!F137","v":1},7.1999999999999995E-2,119.72795967123285,43700.705279999995,0.25,1.7999999999999999E-2,29.931989917808213,10925.176319999999,0.09,149.65994958904108,54625.881599999993,0,0,null,null,{"$f":"B13","v":"Suckers"},null,{"$f":"'5. Herd details'!F14","v":"Flushing"},10925.176319999999,0]
[null,{"$f":"'3. Herd Input'!M17","v":"Weaner"},{"$f":"'5. Herd details'!E15","v":2957.369327544784},{"$f":"'8. Feed details'!L18","v":0.85253000000000001},{"$f":"Examples!E138","v":3},{"$f":"Examples!F138","v":1},2.5575900000000003,7563.7382184352646,2760764.4497288717,0.25,0.63939750000000006,1890.9345546088161,690191.11243221792,3.1969875000000005,9454.6727730440798,3450955.5621610899,{"$f":"IF(C14=0,0,VLOOKUP(U14, U$25:V$28, 2, FALSE))","v":300},479093.83106225502,null,null,{"$f":"'14. DM DAMP'!E227","v":"Grower"},null,{"$f":"'5. Herd details'!F15","v":"Flushing"},690191.11243221792,0]
[null,{"$f":"'3. Herd Input'!M18","v":"Porker"},{"$f":"'5. Herd details'!E16","v":1774.4648906608736},{"$f":"'8. Feed details'!L19","v":1.6662124999999997},{"$f":"Examples!E139","v":2.5},{"$f":"Examples!F139","v":1.2},4.9986374999999983,8869.906744890839,3237515.9618851561,0.25,1.2496593749999996,2217.4766862227098,809378.99047128903,6.2482968749999976,11087.383431113549,4046894.9523564451,300,287463.31228706153,null,null,{"$f":"'14. DM DAMP'!F227","v":"Finisher"},null,{"$f":"'5. Herd details'!F16","v":"Flushing"},809378.99047128903,0]
[null,{"$f":"'3. Herd Input'!M19","v":"Grower"},{"$f":"'5. Herd details'!E17","v":1755.3552687614488},{"$f":"'8. Feed details'!L20","v":2.3437125000000001},{"$f":"Examples!E140","v":2.5},{"$f":"Examples!F140","v":1.4},8.202993750000001,14399.168298679737,5255696.4290181035,0.25,2.0507484375000002,3599.7920746699342,1313924.1072545259,10.253742187500002,17998.96037334967,6569620.5362726292,300,284367.55353935476,null,null,{"$f":"'14. DM DAMP'!G227","v":"Finisher"},null,{"$f":"'5. Herd details'!F17","v":"Flushing"},1313924.1072545259,0]
[null,{"$f":"'3. Herd Input'!M20","v":"Finisher"},{"$f":"'5. Herd details'!E18","v":1736.4514427901718},{"$f":"'8. Feed details'!L21","v":2.9337124999999999},{"$f":"Examples!E141","v":2.5},{"$f":"Examples!F141","v":1.4},10.267993749999999,17829.872561747965,6507903.4850380076,0.25,2.5669984374999997,4457.4681404369912,1626975.8712595019,12.834992187499999,22287.340702184956,8134879.3562975097,300,281305.13373200782,null,null,{"$f":"'14. DM DAMP'!H227","v":"Heavy finisher"},null,{"$f":"'5. Herd details'!F18","v":"Flushing"},1626975.8712595019,0]
[null,{"$f":"'3. Herd Input'!M21","v":"Unallocated"},{"$f":"'5. Herd details'!E19","v":0},{"$f":"'8. Feed details'!L22","v":0},{"$f":"Examples!E142","v":2.5},{"$f":"Examples!F142","v":1.4},0,0,0,null,0,0,0,0,0,0,0,0,null,null,{"$f":"'14. DM DAMP'!I227","v":""},null,{"$f":"'5. Herd details'!F19","v":0},0,0]
[null,{"$f":"'3. Herd Input'!M22","v":"Unallocated"},{"$f":"'5. Herd details'!E20","v":0},{"$f":"'8. Feed details'!L23","v":0},{"$f":"Examples!E143","v":2.5},{"$f":"Examples!F143","v":1.4},0,0,0,null,0,0,0,0,0,0,0,0,null,null,{"$f":"'14. DM DAMP'!J227","v":""},null,{"$f":"'5. Herd details'!F20","v":"Flushing"},0,0]
[]
[null,"Totals:",{"$f":"SUM(C9:C19)","v":10999.066684431231},null,null,null,null,{"$f":"SUM(H9:H19)","v":64601.217802430168},{"$f":"SUM(I9:I19)","v":23579444.497887015},null,null,{"$f":"SUM(L9:L19)","v":16150.304450607542},{"$f":"SUM(M9:M19)","v":5894861.1244717538},null,{"$f":"SUM(O9:O19)","v":80751.522253037721},{"$f":"SUM(P9:P19)","v":29474305.622358762},null,{"$f":"SUM(R9:R19)","v":1512460.8936175853},null,null,null,null,null,{"$f":"SUM(X9:X19)","v":5894861.1244717538},{"$f":"SUM(Y9:Y19)","v":0}]
[]
[null,null,null,null,"1 Wiedemann et al. (2012)",null,null,null,null,null,null,null,null,null,null,null,"2 Taylor, Kruger and Ferrier (1994)"]
[null,"Cleaning water",null,null,null,null,null,null,null,null,null,null,null,null,null,null,null,null,null,null,"NEGP pig class","Cooling water flowrate"]
[null,"Daily flushing volume",null,null,"L. day-1",null,"Spray and drip cooling water",null,null,null,null,null,null,null,null,null,null,null,null,null,"Weaner",65]
[null,"Daily hosing volume",null,null,"L. day-1",null,"Water cooling operation time",null,null,540,"hr. yr-1",null,null,null,null,null,null,null,null,null,"Grower",300]
[null,"Calculated effluent TS conc",null,{"$f":"D31/K41","v":1.9997260649226131E-2},null,null,null,null,null,null,null,null,null,null,null,null,null,null,null,null,"Finisher",300]
[null,"Cleaning system",null,"Medium flush",null,null,"Clean water requirement",null,null,"(ML. yr-1)","(L. day-1)",null,null,null,null,null,null,null,null,null,"Heavy finisher",300]
[null,"Shed effluent TS conc",null,{"$f":"IF(D28=\"\", \"\", VLOOKUP(D28,U31:X33,3,FALSE))","v":0.02},"%",null,"Drinking",null,null,{"$f":"I21/1000000","v":23.579444497887014},{"$f":"J29*1000000/365","v":64601.217802430176}]
[null,null,null,null,null,null,"Drinker waste",null,null,{"$f":"M21/1000000","v":5.8948611244717535},{"$f":"J30*1000000/365","v":16150.304450607544},null,null,null,null,null,null,null,null,null,null,null,"TS","VS"]
[null,"Manure + waste feed TS (after shed losses)",null,{"$f":"'14. DM DAMP'!P168","v":3563.3538914854021},"kg. day-1",null,"Cleaning",null,null,{"$f":"(1-D44)*D41*365/1000000","v":23.065052845607561},{"$f":"J31*1000000/365","v":63191.925604404278},null,null,null,null,null,null,null,null,null,"High flush",null,0.01,{"$f":"0.7*W31","v":6.9999999999999993E-3}]
[null,"Manure + waste feed VS (after shed losses)",null,{"$f":"'14. DM DAMP'!P170","v":2910.7963515041988},"kg. day-1",null,"Cooling",null,null,{"$f":"R21/1000000","v":1.5124608936175854},{"$f":"J32*1000000/365","v":4143.7284756646177},null,null,null,null,null,null,null,null,null,"Medium flush",null,0.02,{"$f":"0.7*W32","v":1.3999999999999999E-2}]
[null,"Manure + waste feed N (after shed losses)",null,{"$f":"'14. DM DAMP'!P171","v":265.31625633164407},"kg. day-1",null,"Total:",null,null,{"$f":"SUM(J29:J32)","v":54.05181936158391},{"$f":"SUM(K29:K32)","v":148087.17633310662},null,null,null,null,null,null,null,null,null,"Low flush",null,0.03,{"$f":"0.7*W33","v":2.0999999999999998E-2}]
[null,"Manure + waste feed P (after shed losses)",null,{"$f":"'14. DM DAMP'!P172","v":69.020885249773201},"kg. day-1"]
[null,"Manure + waste feed K (after shed losses)",null,{"$f":"'14. DM DAMP'!P173","v":92.754260343027823},"kg. day-1",null,"Effluent discharged to primary anaerobic pond",null,null,null,null,null,null,null,null,null,null,null,null,null,null,null,"Shed effluent",null,null,null,"Recycled effluent"]
[null,"Est total effluent out of shed",null,{"$f":"IF(D28=\"\", \"\", D31/D29)","v":178167.69457427011},"L. day-1",null,null,null,null,"Volume","Volume",null,"TS","VS","TS (kg. day-1)","N","P","K",null,null,null,null,"TS","VS","VS/TS",null,"TS","VS","VS/TS"]
[null,"Est total water out of shed",null,{"$f":"IF(D28=\"\", \"\", (D31/D29)-D31)","v":174604.34068278471},"L. day-1",null,null,null,null,"(ML. yr-1)","(L. day-1)",null,"(kg. day-1)","(kg. day-1)",{"$f":"E44*E41*X48","v":{"$error":"#VALUE!"}},"(kg. day-1)","(kg. day-1)","(kg. day-1)",null,null,"Grantham",null,2.99,2.09,{"$f":"X37/W37","v":0.69899665551839452},null,0.38,0.14000000000000001,{"$f":"AB37/AA37","v":0.36842105263157898}]
[null,"Manure + waste feed moisture content",null,0.9,"%",null,"Flushing / hosing water",null,null,{"$f":"D42","v":46.130105691215121},{"$f":"J38*1000000/365","v":126383.85120880856},null,{"$f":"D44*D41*W48*(1-M44)","v":0},{"$f":"D44*D41*W49*(1-N44)","v":0},null,{"$f":"D44*D41*W50*(1-P44)/1000000","v":0},{"$f":"D44*D41*W51/1000000","v":0},{"$f":"D44*D41*W52/1000000","v":0},null,null,"Reed - grower/finisher",null,2.4300000000000002,1.81,{"$f":"X38/W38","v":0.74485596707818924}]
[null,"Manure + waste feed water",null,{"$f":"D38*D31/(1-D38)","v":32070.185023368624},"L. day-1",null,"Manure + waste feed",null,null,{"$f":"365.25*(D31/(1-D38))/1000000","v":13.015150088650433},{"$f":"J39*1000000/365","v":35657.94544835735},null,{"$f":"D31","v":3563.3538914854021},{"$f":"D32","v":2910.7963515041988},null,{"$f":"D33","v":265.31625633164407},{"$f":"D34","v":69.020885249773201},{"$f":"D35","v":92.754260343027823},null,null,"Reed - all",null,1.39,0.92,0.66187050359712241,null,0.7,0.31,{"$f":"AB39/AA39","v":0.44285714285714289}]
[null,"Drinker waste water",null,{"$f":"X21/365","v":16150.304450607544},"L. day-1",null,"Drinker waste water",null,null,{"$f":"365*D40/1000000","v":5.8948611244717535},{"$f":"J40*1000000/365","v":16150.304450607544},null,0,0,null,0,0,0,null,null,null,null,1.69,1.19,0.70414201183431957]
[null,"Flushing / hosing water",null,{"$f":"IF(AND(D25=\"\", D26=\"\"), D37-D39-D40, D25+D26)","v":126383.85120880854},"L. day-1",null,"Total:",null,null,{"$f":"SUM(J38:J40)","v":65.04011690433731},{"$f":"SUM(K38:K40)","v":178192.10110777346},null,{"$f":"SUM(M38:M40)","v":3563.3538914854021},2910.7963515041988,0,265.31625633164407,69.020885249773201,92.754260343027823,null,null,"Summerhill",null,2.4,1.98,0.82500000000000007,null,0.46704804839699399,0.136552208785576,{"$f":"AB41/AA41","v":0.29237293519211049}]
[null,null,null,{"$f":"D41*365/1000000","v":46.130105691215121},"ML. yr-1",null,null,null,null,null,null,null,{"$f":"M41/$K41","v":1.9997260649226131E-2},{"$f":"N41/$K41","v":1.6335159265806639E-2},null,{"$f":"P41/$K41","v":1.488933879123949E-3},{"$f":"Q41/$K41","v":3.873397576025452E-4},{"$f":"R41/$K41","v":5.2052958445631965E-4},null,null,null,null,null,null,null,null,0.50781115066522597,0.21841826881293699,{"$f":"AB42/AA42","v":0.43011711839492284}]
[null,null,null,{"$f":"D41/C21","v":11.490415944809223},"L. pig-1. day-1",null,null,null,null,null,null,null,null,null,null,null,null,null,null,null,"Nat Gdl - low flush",null,3.1,null,0]
[null,"% flushing and hosing water from recycled effluent",null,0.5,"%",null,"Composite shed loss factors:",null,null,null,null,null,{"$f":"'5. Herd details'!AL22","v":0.02},{"$f":"'5. Herd details'!AM22","v":2.9999999999999992E-2},null,{"$f":"'5. Herd details'!AN22","v":9.9999999999999978E-2},0,0,null,null,"Nat Gdl - high flush",null,1.2,null,0]
[null,"flushing water / (flushing + hosing water)",null,{"$f":"IF(AND(D25=\"\", D26=\"\"), \"\", D25/(D25+D26))","v":""}]
[null,null,null,null,null,null,null,null,null,null,null,null,null,null,null,null,null,null,null,null,"The recycled effluent solids and nutrient concentrations have been set to 0 to avoid overestimation of loading rates."]
[null,null,null,null,null,null,null,null,null,null,null,null,null,null,null,null,null,null,null,null,"It is assumed that the recycled effluent is thoroughly treated prior to reuse and no further reductions in solids and nutrient concentrations occur in the primary pond. "]
[null,null,null,0.5,null,null,null,null,null,null,null,null,null,null,null,null,null,null,null,null,"Recycled effluent TS conc",null,0,"%",4.5999999999999999E-3]
[null,null,null,null,null,null,null,null,null,null,null,null,null,null,null,null,null,null,null,null,"Recycled effluent VS conc",null,0,"%",1.5E-3]
[null,null,null,null,null,null,null,null,null,null,null,null,null,null,null,null,null,null,null,null,"Recycled effluent N conc",null,0,"mg/L",600.13364157894739]
[null,null,null,null,null,null,null,null,null,null,null,null,null,null,null,null,null,null,null,null,"Recycled effluent P conc",null,0,"mg/L",53.066905421052624]
[null,null,"High flush",null,null,null,null,null,null,null,null,null,null,null,null,null,null,null,null,null,"Recycled effluent K conc",null,0,"mg/L",463.10625263157891]
[null,null,"Medium flush"]
[null,null,"Low flush"]
[]
[]
[]
[]
[]
[]
[]
[]
[]
[]
[]
[]
[]
[]
[]
[]
[]
[]
[]
[]
[]
[]
[]
[]
[]
[]
[]
[]
[]
[]
[]
[]
[]
[]
[]
[]
[]
[]
[]
[]
[]
[]
[]
[]
[]
[]
[]
[]
[]
[]
[]
[]
[]
[]
[]
[]
[]
[]
[]
[]
[]
[]
[]
[]
[]
[]
[]
[]
[]
[]
[]
[]
[]
[]
[]
[]
[]
[]
[]
[]
[]
[]
[]
[]
[]
[]
[]
[]
[]
[]
[]
[]
[]
[]
[]
[]
[]
[]
[]
[]
[]
[]
[]
[]
[]
[]
[]
[]
[null,null,null,null,null,null,null,null,"High flush"]
[null,null,null,null,null,null,null,null,"Medium flush"]
[null,null,null,null,null,null,null,null,"Low flush"]

{"sheet":"10. Effluent pre-treatment","index":12,"n_rows":43,"n_cols":10,"rows_kept":43,"cut":false,"hidden":false,"merged":[[1,0,1,8],[4,3,4,5]]}
["Menu"]
["10. Effluent pre-treatment"]
[]
[]
[null,"Effluent pre-treatment system",null,"None"]
[]
[null,"Parameter","Units","TS","VS","N","P","K"]
[]
[null,"Effluent discharged from sheds","kg. day-1",{"$f":"'9. Water'!M41","v":3563.3538914854021},{"$f":"'9. Water'!N41","v":2910.7963515041988},{"$f":"'9. Water'!P41","v":265.31625633164407},{"$f":"'9. Water'!Q41","v":69.020885249773201},{"$f":"'9. Water'!R41","v":92.754260343027823}]
[]
[null,"Typical pre-treatment removal rates","%",{"$f":"VLOOKUP($D5, $B36:$H43,3,FALSE)","v":0},{"$f":"VLOOKUP($D5, $B36:$H43,4,FALSE)","v":0},{"$f":"VLOOKUP($D5, $B36:$H43,5,FALSE)","v":0},{"$f":"VLOOKUP($D5, $B36:$H43,6,FALSE)","v":0},{"$f":"VLOOKUP($D5, $B36:$H43,7,FALSE)","v":0}]
[]
[null,"Known pre-treatment removal rates","%"]
[]
[null,"Adopted pre-treatment removal rates","%",{"$f":"IF(D13<>\"\", D13, D11)","v":0},{"$f":"IF(E13<>\"\", E13, E11)","v":0},{"$f":"IF(F13<>\"\", F13, F11)","v":0},{"$f":"IF(G13<>\"\", G13, G11)","v":0},{"$f":"IF(H13<>\"\", H13, H11)","v":0}]
[]
[null,"Separated solids","kg. day-1",{"$f":"D9-D20","v":0},{"$f":"E9-E20","v":0},{"$f":"F9-F20","v":0},{"$f":"G9-G20","v":0},{"$f":"H9-H20","v":0}]
[null,null,"t. yr-1",{"$f":"D17*365/1000","v":0},{"$f":"E17*365/1000","v":0},{"$f":"F17*365/1000","v":0},{"$f":"G17*365/1000","v":0},{"$f":"H17*365/1000","v":0}]
[]
[null,"Effluent entering primary pond","kg. day-1",{"$f":"D9*(1-D15)","v":3563.3538914854021},{"$f":"E9*(1-E15)","v":2910.7963515041988},{"$f":"F9*(1-F15)","v":265.31625633164407},{"$f":"G9*(1-G15)","v":69.020885249773201},{"$f":"H9*(1-H15)","v":92.754260343027823}]
[null,null,"t. yr-1",{"$f":"365*D20/1000","v":1300.6241703921717},{"$f":"365*E20/1000","v":1062.4406682990325},{"$f":"365*F20/1000","v":96.840433561050091},{"$f":"365*G20/1000","v":25.192623116167219},{"$f":"365*H20/1000","v":33.855305025205155}]
[]
[]
[]
[]
[]
[]
[]
[]
[]
[]
[]
[]
[]
[null,"Effluent pre-treatment system",null,"TS","VS","N","P","K",null,"References"]
[null,"None",null,0,0,0,0,0]
[null,"Settling Basin",null,0.55000000000000004,0.7,0.2,0.4,0.03,null,"Kruger et al (1995)"]
[null,"SEPS",null,0.77,0.82,0.36,0.89,0.04,null,"Kruger & Payne (2008)"]
[null,"Static rundown screen",null,0.2,0.25,0.08,0.11,0,null,"Original PigBal & Skerman & Collman (2006)"]
[null,"Vibrating screen",null,0.2,0.25,0.08,0.11,0,null,"Original PigBal & Skerman & Collman (2006)"]
[null,"Screw press separator",null,0.32,0.37,0.37,0.41,0.08,null,"McGahan et al (2002)"]
[null,"Baleen filter screen",null,0.3,0.37,0.12,0.17,0,null,"NEGP factored"]
[null,"Rotating screen",null,0.15,0.2,0.05,0.1,0,null,"NEGP factored"]

{"sheet":"11. Pond design","index":13,"n_rows":236,"n_cols":22,"rows_kept":236,"cut":false,"hidden":false,"merged":[[31,5,36,17],[38,5,43,17],[1,0,1,18],[6,5,6,6],[8,5,8,6]]}
["Menu"]
["11. Anaerobic pond design"]
[]
[]
[null,"Effluent TS entering primary pond",{"$f":"'10. Effluent pre-treatment'!D20","v":3563.3538914854021},"kg TS. day-1"]
[null,"Effluent VS entering primary pond",{"$f":"'10. Effluent pre-treatment'!E20","v":2910.7963515041988},"kg VS. day-1",null,"Latitude","Longitude",null,null,null,null,null,null,null,null,null,null,null,null,null,{"$f":"C39*C40","v":12494.252873563219},{"$f":"C45*C46","v":6703.0531609195405}]
[null,"Piggery State/Territory",null,null,null,"(dec degrees)",null,null,null,null,null,null,null,null,null,null,null,null,null,null,{"$f":"(U6+V6)/2","v":9598.6530172413804}]
[null,"Piggery locality",null,null,null,{"$f":"IF(C8=\"\", \"\", VLOOKUP(C8, $B77:$E237, 2, FALSE))","v":""},{"$f":"IF(C8=\"\", \"\", VLOOKUP(C8, $B77:$E237, 3, FALSE))","v":""},null,null,null,null,null,null,null,null,null,null,null,null,null,{"$f":"(C35+C38)*U7","v":52792.591594827594}]
[null,"Suggested anaerobic pond activity ratio, k",{"$f":"IF(C8=\"\", \"\", VLOOKUP('11. Pond design'!C8,B77:E237,4,FALSE))","v":""},"(based on selected locality)",null,{"$f":"IF(C8=\"\", \"\", VLOOKUP(C8, 'K values'!B2:F691, 5, FALSE))","v":""}]
[null,"Climate (Table 12.2 NEGIP)","Warm",null,null,null,null,null,null,null,null,null,null,null,null,null,null,null,null,null,67370.432150900902]
[null,"Suggested anaerobic pond activity ratio, k",{"$f":"IF(C10=\"\", \"\", VLOOKUP(C10,B64:D66,3,FALSE))","v":0.8},"(based on selected climate)"]
[null,"User selected anaerobic pond activity ratio, k"]
[]
[null,"Pond design philosophy","Conventional 'large'"]
[null,"Suggested max baseline VS loading rate",{"$f":"VLOOKUP(C14,B70:D72,3,FALSE)","v":0.1},"kg VS. m-3. day-1",null,null,null,null,null,null,{"$f":"C39","v":160},"x",{"$f":"C40","v":78.089080459770116}]
[null,"Suggested adjusted max VS loading rate",{"$f":"IF(C12<>\"\", C12*C15, IF(C8<>\"\", C9*C15, C11*C15))","v":8.0000000000000016E-2},"kg VS. m-3. day-1",null,null,null,null,null,null,null,null,null,null,null,null,"Embankment crest level"]
[null,"Suggested min active treatment volume (based on VS loading)",{"$f":"C6/C16","v":36384.95439380248},"m3"]
[null,"Suggested minimum hydraulic retention time (HRT)",40,"days",null,null,null,null,{"$f":"C38","v":0.5}]
[null,"Effluent volume discharged to pond",{"$f":"'9. Water'!K41/1000","v":178.19210110777345},"m3. day-1",null,null,null,null,null,null,{"$f":"C41","v":157.5},"x",{"$f":"C42","v":75.589080459770116},null,"Full storage level"]
[null,"Suggested min active treatment volume (based on HRT)",{"$f":"C18*C19","v":7127.6840443109377},"m3"]
[null,"Suggested min active treatment volume (based on VS loading and HRT)",{"$f":"MAX(C17,C20)","v":36384.95439380248},"m3",null,"Va",{"$f":"C29","v":37090.724432813622},"m3",null,null,null,null,null,null,null,{"$f":"C49","v":3.7755283268214122}]
[null,null,null,null,null,null,null,null,null,null,null,null,null,null,null,null,{"$f":"C35","v":5}]
[null,"Sludge accumulation rate",1.3699999999999999E-3,"m3. kg TS-1",null,null,null,null,1]
[null,"Desludging interval",5,"years",null,"Vs",{"$f":"C25","v":8909.2755671863761},"m3",{"$f":"C36","v":2.5},"L",null,null,null,null,null,{"$f":"C48","v":1.2244716731785878}]
[null,"Suggested sludge storage volume, Vs",{"$f":"C24*C5*365*C23","v":8909.2755671863761},"m3",null,null,null,null,{"$f":"C37","v":2.5},"B",null,null,null,"Base"]
[null,"Suggested treatment + sludge volume, Vt",{"$f":"C21+C25","v":45294.229960988858},"m3"]
[null,null,null,null,null,"Vt",{"$f":"C28","v":46000},"m3",null,null,{"$f":"C45","v":132.5},"x",{"$f":"C46","v":50.589080459770116}]
[null,"User selected total pond volume, Vt",46000,"m3"]
[null,"Resulting active treatment volume, Va",{"$f":"C28-C25","v":37090.724432813622},"m3",null,"Schematic drawing - not to scale",null,null,null,null,null,null,null,null,null,null,null,"All dimensions in metres (m)"]
[null,"Minimum anaerobic pond VS loading rate",{"$f":"C6/C28","v":6.3278181554439109E-2},"kg VS. m-3. day-1"]
[null,"Maximum anaerobic pond VS loading rate",{"$f":"C6/C29","v":7.8477743317654364E-2},"kg VS. m-3. day-1"]
[null,"Minimum hydraulic retention time (HRT)",{"$f":"1000*C29/'9. Water'!K41","v":208.15021654849085},"days",null,"Note:\nEffluent which overflows from primary anaerobic ponds is unsuitable for direct discharge into the environment or natural watercourses.  Overflow from primary ponds should generally be directed into a secondary treatment or holding pond where the effluent is temporarily stored prior to carefully managed irrigation onto land growing crop or pasture.  Most conventional piggeries require at least one anaerobic treatment pond and one secondary treatment or holding pond.  In some cases, the overflow from the secondary pond may be directed into one or more subsequent ponds for further treatment or to provide additional effluent holding capacity.  The final pond in the effluent treatment / storage system may be referred to as a wet weather storage pond.  "]
[null,"Maximum hydraulic retention time (HRT)",{"$f":"1000*C28/'9. Water'!K41","v":258.14836748671848},"days"]
[null,{"$f":"IF(C28>C26, \"\", \"WARNING: Excessive VS loading rate or insufficient HRT\")","v":""}]
[null,"Total storage depth",5,"m"]
[null,"Batter - lengthwise, (1 vertical : Z horizontal)",2.5]
[null,"Batter - breadthwise, (1 vertical : Z horizontal)",2.5]
[null,"Freeboard - full storage level to crest",0.5,"m"]
[null,"Length - at embankment crest",160,"m",null,"In general, the second and any subsequent ponds should be designed to store all effluent discharged from the primary pond until the land is sufficiently dry to receive the irrigated effluent, or until agronomic conditions are favourable.  In winter-dominant rainfall areas, secondary / holding ponds may be required to store all effluent discharged from the primary pond for a period of up to six months, from late autumn until early spring.  Secondary / holding ponds are generally designed using a (preferably daily) water balance approach, based on limiting overflows from secondary / holding ponds to a minimum interval of 10 years, on average, using historical rainfall and evaporation data for the piggery site.  Various computer models may be used for this purpose.  At environmentally sensitive sites, the minimum overflow interval may be increased to further reduce the potential for environmental harm."]
[null,"Breadth - at embankment crest",{"$f":"C42+2*C37*C38","v":78.089080459770116},"m"]
[null,"Length - at full storage level",{"$f":"C39-2*C36*C38","v":157.5},"m"]
[null,"Breadth - at full storage level",{"$f":"(C28+C37*C35^2*C41-(4/3)*C36*C37*C35^3)/(C41*C35-C36*C35^2)","v":75.589080459770116},"m"]
[null,"Length - at top of sludge storage",{"$f":"C41-2*C36*C49","v":138.62235836589295},"m"]
[null,"Breadth - at top of sludge storage",{"$f":"C42-2*C37*C49","v":56.711438825663052},"m"]
[null,"Length - at base",{"$f":"C41-2*C36*C35","v":132.5},"m"]
[null,"Breadth - at base",{"$f":"C42-2*C37*C35","v":50.589080459770116},"m"]
[null,{"$f":"IF(OR(C45<0,C46< 0), \"WARNING - Negative dimensions.  Adjust storage depth or length.\", \"\")","v":""}]
[null,"Max sludge depth - above base",{"$f":"'Pond depth calc'!C74","v":1.2244716731785878},"m"]
[null,"Min depth to top of sludge - below bywash level",{"$f":"C35-C48","v":3.7755283268214122},"m",null,null,null,"Vol check"]
[null,null,null,null,null,null,null,"Total storage vol",null,null,{"$f":"(C35/6)*(C41*C42+C45*C46+(C41+C45)*(C42+C46))","v":46000}]
[null,"Liner area - to bywash level",{"$f":"C45*C46+(C42+C46)*C35*SQRT(1+C36^2)+(C41+C45)*C35*SQRT(1+C37^2)","v":12306.023125124211},"m2",null,null,null,"Active treatment vol",null,null,{"$f":"(C49/6)*(C41*C42+C43*C44+(C41+C43)*(C42+C44))","v":37090.724432813637}]
[null,"Cover additional anchorage allowance",3,"m",null,null,null,"Sludge storage vol",null,null,{"$f":"(C48/6)*(C43*C44+C45*C46+(C43+C45)*(C44+C46))","v":8909.2755671863652}]
[null,"Cover length",{"$f":"C41+2*SQRT(1+C36^2)*C38+C52*2","v":166.19258240356726},"m"]
[null,"Cover breadth",{"$f":"C42+2*SQRT(1+C37^2)*C38+C52*2","v":84.281662863337374},"m"]
[null,"Cover area - trenched into bank",{"$f":"C53*C54","v":14006.987200524871},"m2"]
[]
[]
[]
[]
[]
[]
[]
[null,"Climate",null,"Anaerobic activity ratio (k)"]
[null,"Cool",null,0.6]
[null,"Warm",null,0.8]
[null,"Hot",null,1]
[]
[]
[null,"Pond design",null,"Baseline VS loading rate\n(kg VS. m-3. d-1)"]
[null,"Conventional 'large'",null,0.1]
[null,"Maximum loading",null,0.75]
[null,"Covered anaerobic pond",null,0.4]
[]
[]
[]
["State","Location","Latitude","Longitude","K Value"]
[{"$f":"IF($C$7=\"Australian Capital Territory\", 'K values'!G2, IF($C$7=\"New South Wales\", 'K values'!M2, IF($C$7=\"Northern Territory\", 'K values'!S2, IF($C$7=\"Queensland\", 'K values'!Y2, IF($C$7=\"South Australia\", 'K values'!AE2, IF($C$7=\"Tasmania\", 'K values'!AK2, IF($C$7=\"Victoria\", 'K values'!AQ2, IF($C$7=\"Western Australia\", 'K values'!AW2, \"\"))))))))","v":""},{"$f":"IF($C$7=\"Australian Capital Territory\", 'K values'!H2, IF($C$7=\"New South Wales\", 'K values'!N2, IF($C$7=\"Northern Territory\", 'K values'!T2, IF($C$7=\"Queensland\", 'K values'!Z2, IF($C$7=\"South Australia\", 'K values'!AF2, IF($C$7=\"Tasmania\", 'K values'!AL2, IF($C$7=\"Victoria\", 'K values'!AR2, IF($C$7=\"Western Australia\", 'K values'!AX2, \"\"))))))))","v":""},{"$f":"IF($C$7=\"Australian Capital Territory\", 'K values'!I2, IF($C$7=\"New South Wales\", 'K values'!O2, IF($C$7=\"Northern Territory\", 'K values'!U2, IF($C$7=\"Queensland\", 'K values'!AA2, IF($C$7=\"South Australia\", 'K values'!AG2, IF($C$7=\"Tasmania\", 'K values'!AM2, IF($C$7=\"Victoria\", 'K values'!AS2, IF($C$7=\"Western Australia\", 'K values'!AY2, \"\"))))))))","v":""},{"$f":"IF($C$7=\"Australian Capital Territory\", 'K values'!J2, IF($C$7=\"New South Wales\", 'K values'!P2, IF($C$7=\"Northern Territory\", 'K values'!V2, IF($C$7=\"Queensland\", 'K values'!AB2, IF($C$7=\"South Australia\", 'K values'!AH2, IF($C$7=\"Tasmania\", 'K values'!AN2, IF($C$7=\"Victoria\", 'K values'!AT2, IF($C$7=\"Western Australia\", 'K values'!AZ2, \"\"))))))))","v":""},{"$f":"IF($C$7=\"Australian Capital Territory\", 'K values'!K2, IF($C$7=\"New South Wales\", 'K values'!Q2, IF($C$7=\"Northern Territory\", 'K values'!W2, IF($C$7=\"Queensland\", 'K values'!AC2, IF($C$7=\"South Australia\", 'K values'!AI2, IF($C$7=\"Tasmania\", 'K values'!AO2, IF($C$7=\"Victoria\", 'K values'!AU2, IF($C$7=\"Western Australia\", 'K values'!BA2, \"\"))))))))","v":""}]
[{"$f":"IF($C$7=\"Australian Capital Territory\", 'K values'!G3, IF($C$7=\"New South Wales\", 'K values'!M3, IF($C$7=\"Northern Territory\", 'K values'!S3, IF($C$7=\"Queensland\", 'K values'!Y3, IF($C$7=\"South Australia\", 'K values'!AE3, IF($C$7=\"Tasmania\", 'K values'!AK3, IF($C$7=\"Victoria\", 'K values'!AQ3, IF($C$7=\"Western Australia\", 'K values'!AW3, \"\"))))))))","v":""},{"$f":"IF($C$7=\"Australian Capital Territory\", 'K values'!H3, IF($C$7=\"New South Wales\", 'K values'!N3, IF($C$7=\"Northern Territory\", 'K values'!T3, IF($C$7=\"Queensland\", 'K values'!Z3, IF($C$7=\"South Australia\", 'K values'!AF3, IF($C$7=\"Tasmania\", 'K values'!AL3, IF($C$7=\"Victoria\", 'K values'!AR3, IF($C$7=\"Western Australia\", 'K values'!AX3, \"\"))))))))","v":""},{"$f":"IF($C$7=\"Australian Capital Territory\", 'K values'!I3, IF($C$7=\"New South Wales\", 'K values'!O3, IF($C$7=\"Northern Territory\", 'K values'!U3, IF($C$7=\"Queensland\", 'K values'!AA3, IF($C$7=\"South Australia\", 'K values'!AG3, IF($C$7=\"Tasmania\", 'K values'!AM3, IF($C$7=\"Victoria\", 'K values'!AS3, IF($C$7=\"Western Australia\", 'K values'!AY3, \"\"))))))))","v":""},{"$f":"IF($C$7=\"Australian Capital Territory\", 'K values'!J3, IF($C$7=\"New South Wales\", 'K values'!P3, IF($C$7=\"Northern Territory\", 'K values'!V3, IF($C$7=\"Queensland\", 'K values'!AB3, IF($C$7=\"South Australia\", 'K values'!AH3, IF($C$7=\"Tasmania\", 'K values'!AN3, IF($C$7=\"Victoria\", 'K values'!AT3, IF($C$7=\"Western Australia\", 'K values'!AZ3, \"\"))))))))","v":""},{"$f":"IF($C$7=\"Australian Capital Territory\", 'K values'!K3, IF($C$7=\"New South Wales\", 'K values'!Q3, IF($C$7=\"Northern Territory\", 'K values'!W3, IF($C$7=\"Queensland\", 'K values'!AC3, IF($C$7=\"South Australia\", 'K values'!AI3, IF($C$7=\"Tasmania\", 'K values'!AO3, IF($C$7=\"Victoria\", 'K values'!AU3, IF($C$7=\"Western Australia\", 'K values'!BA3, \"\"))))))))","v":""}]
[{"$f":"IF($C$7=\"Australian Capital Territory\", 'K values'!G4, IF($C$7=\"New South Wales\", 'K values'!M4, IF($C$7=\"Northern Territory\", 'K values'!S4, IF($C$7=\"Queensland\", 'K values'!Y4, IF($C$7=\"South Australia\", 'K values'!AE4, IF($C$7=\"Tasmania\", 'K values'!AK4, IF($C$7=\"Victoria\", 'K values'!AQ4, IF($C$7=\"Western Australia\", 'K values'!AW4, \"\"))))))))","v":""},{"$f":"IF($C$7=\"Australian Capital Territory\", 'K values'!H4, IF($C$7=\"New South Wales\", 'K values'!N4, IF($C$7=\"Northern Territory\", 'K values'!T4, IF($C$7=\"Queensland\", 'K values'!Z4, IF($C$7=\"South Australia\", 'K values'!AF4, IF($C$7=\"Tasmania\", 'K values'!AL4, IF($C$7=\"Victoria\", 'K values'!AR4, IF($C$7=\"Western Australia\", 'K values'!AX4, \"\"))))))))","v":""},{"$f":"IF($C$7=\"Australian Capital Territory\", 'K values'!I4, IF($C$7=\"New South Wales\", 'K values'!O4, IF($C$7=\"Northern Territory\", 'K values'!U4, IF($C$7=\"Queensland\", 'K values'!AA4, IF($C$7=\"South Australia\", 'K values'!AG4, IF($C$7=\"Tasmania\", 'K values'!AM4, IF($C$7=\"Victoria\", 'K values'!AS4, IF($C$7=\"Western Australia\", 'K values'!AY4, \"\"))))))))","v":""},{"$f":"IF($C$7=\"Australian Capital Territory\", 'K values'!J4, IF($C$7=\"New South Wales\", 'K values'!P4, IF($C$7=\"Northern Territory\", 'K values'!V4, IF($C$7=\"Queensland\", 'K values'!AB4, IF($C$7=\"South Australia\", 'K values'!AH4, IF($C$7=\"Tasmania\", 'K values'!AN4, IF($C$7=\"Victoria\", 'K values'!AT4, IF($C$7=\"Western Australia\", 'K values'!AZ4, \"\"))))))))","v":""},{"$f":"IF($C$7=\"Australian Capital Territory\", 'K values'!K4, IF($C$7=\"New South Wales\", 'K values'!Q4, IF($C$7=\"Northern Territory\", 'K values'!W4, IF($C$7=\"Queensland\", 'K values'!AC4, IF($C$7=\"South Australia\", 'K values'!AI4, IF($C$7=\"Tasmania\", 'K values'!AO4, IF($C$7=\"Victoria\", 'K values'!AU4, IF($C$7=\"Western Australia\", 'K values'!BA4, \"\"))))))))","v":""}]
[{"$f":"IF($C$7=\"Australian Capital Territory\", 'K values'!G5, IF($C$7=\"New South Wales\", 'K values'!M5, IF($C$7=\"Northern Territory\", 'K values'!S5, IF($C$7=\"Queensland\", 'K values'!Y5, IF($C$7=\"South Australia\", 'K values'!AE5, IF($C$7=\"Tasmania\", 'K values'!AK5, IF($C$7=\"Victoria\", 'K values'!AQ5, IF($C$7=\"Western Australia\", 'K values'!AW5, \"\"))))))))","v":""},{"$f":"IF($C$7=\"Australian Capital Territory\", 'K values'!H5, IF($C$7=\"New South Wales\", 'K values'!N5, IF($C$7=\"Northern Territory\", 'K values'!T5, IF($C$7=\"Queensland\", 'K values'!Z5, IF($C$7=\"South Australia\", 'K values'!AF5, IF($C$7=\"Tasmania\", 'K values'!AL5, IF($C$7=\"Victoria\", 'K values'!AR5, IF($C$7=\"Western Australia\", 'K values'!AX5, \"\"))))))))","v":""},{"$f":"IF($C$7=\"Australian Capital Territory\", 'K values'!I5, IF($C$7=\"New South Wales\", 'K values'!O5, IF($C$7=\"Northern Territory\", 'K values'!U5, IF($C$7=\"Queensland\", 'K values'!AA5, IF($C$7=\"South Australia\", 'K values'!AG5, IF($C$7=\"Tasmania\", 'K values'!AM5, IF($C$7=\"Victoria\", 'K values'!AS5, IF($C$7=\"Western Australia\", 'K values'!AY5, \"\"))))))))","v":""},{"$f":"IF($C$7=\"Australian Capital Territory\", 'K values'!J5, IF($C$7=\"New South Wales\", 'K values'!P5, IF($C$7=\"Northern Territory\", 'K values'!V5, IF($C$7=\"Queensland\", 'K values'!AB5, IF($C$7=\"South Australia\", 'K values'!AH5, IF($C$7=\"Tasmania\", 'K values'!AN5, IF($C$7=\"Victoria\", 'K values'!AT5, IF($C$7=\"Western Australia\", 'K values'!AZ5, \"\"))))))))","v":""},{"$f":"IF($C$7=\"Australian Capital Territory\", 'K values'!K5, IF($C$7=\"New South Wales\", 'K values'!Q5, IF($C$7=\"Northern Territory\", 'K values'!W5, IF($C$7=\"Queensland\", 'K values'!AC5, IF($C$7=\"South Australia\", 'K values'!AI5, IF($C$7=\"Tasmania\", 'K values'!AO5, IF($C$7=\"Victoria\", 'K values'!AU5, IF($C$7=\"Western Australia\", 'K values'!BA5, \"\"))))))))","v":""}]
[{"$f":"IF($C$7=\"Australian Capital Territory\", 'K values'!G6, IF($C$7=\"New South Wales\", 'K values'!M6, IF($C$7=\"Northern Territory\", 'K values'!S6, IF($C$7=\"Queensland\", 'K values'!Y6, IF($C$7=\"South Australia\", 'K values'!AE6, IF($C$7=\"Tasmania\", 'K values'!AK6, IF($C$7=\"Victoria\", 'K values'!AQ6, IF($C$7=\"Western Australia\", 'K values'!AW6, \"\"))))))))","v":""},{"$f":"IF($C$7=\"Australian Capital Territory\", 'K values'!H6, IF($C$7=\"New South Wales\", 'K values'!N6, IF($C$7=\"Northern Territory\", 'K values'!T6, IF($C$7=\"Queensland\", 'K values'!Z6, IF($C$7=\"South Australia\", 'K values'!AF6, IF($C$7=\"Tasmania\", 'K values'!AL6, IF($C$7=\"Victoria\", 'K values'!AR6, IF($C$7=\"Western Australia\", 'K values'!AX6, \"\"))))))))","v":""},{"$f":"IF($C$7=\"Australian Capital Territory\", 'K values'!I6, IF($C$7=\"New South Wales\", 'K values'!O6, IF($C$7=\"Northern Territory\", 'K values'!U6, IF($C$7=\"Queensland\", 'K values'!AA6, IF($C$7=\"South Australia\", 'K values'!AG6, IF($C$7=\"Tasmania\", 'K values'!AM6, IF($C$7=\"Victoria\", 'K values'!AS6, IF($C$7=\"Western Australia\", 'K values'!AY6, \"\"))))))))","v":""},{"$f":"IF($C$7=\"Australian Capital Territory\", 'K values'!J6, IF($C$7=\"New South Wales\", 'K values'!P6, IF($C$7=\"Northern Territory\", 'K values'!V6, IF($C$7=\"Queensland\", 'K values'!AB6, IF($C$7=\"South Australia\", 'K values'!AH6, IF($C$7=\"Tasmania\", 'K values'!AN6, IF($C$7=\"Victoria\", 'K values'!AT6, IF($C$7=\"Western Australia\", 'K values'!AZ6, \"\"))))))))","v":""},{"$f":"IF($C$7=\"Australian Capital Territory\", 'K values'!K6, IF($C$7=\"New South Wales\", 'K values'!Q6, IF($C$7=\"Northern Territory\", 'K values'!W6, IF($C$7=\"Queensland\", 'K values'!AC6, IF($C$7=\"South Australia\", 'K values'!AI6, IF($C$7=\"Tasmania\", 'K values'!AO6, IF($C$7=\"Victoria\", 'K values'!AU6, IF($C$7=\"Western Australia\", 'K values'!BA6, \"\"))))))))","v":""}]
[{"$f":"IF($C$7=\"Australian Capital Territory\", 'K values'!G7, IF($C$7=\"New South Wales\", 'K values'!M7, IF($C$7=\"Northern Territory\", 'K values'!S7, IF($C$7=\"Queensland\", 'K values'!Y7, IF($C$7=\"South Australia\", 'K values'!AE7, IF($C$7=\"Tasmania\", 'K values'!AK7, IF($C$7=\"Victoria\", 'K values'!AQ7, IF($C$7=\"Western Australia\", 'K values'!AW7, \"\"))))))))","v":""},{"$f":"IF($C$7=\"Australian Capital Territory\", 'K values'!H7, IF($C$7=\"New South Wales\", 'K values'!N7, IF($C$7=\"Northern Territory\", 'K values'!T7, IF($C$7=\"Queensland\", 'K values'!Z7, IF($C$7=\"South Australia\", 'K values'!AF7, IF($C$7=\"Tasmania\", 'K values'!AL7, IF($C$7=\"Victoria\", 'K values'!AR7, IF($C$7=\"Western Australia\", 'K values'!AX7, \"\"))))))))","v":""},{"$f":"IF($C$7=\"Australian Capital Territory\", 'K values'!I7, IF($C$7=\"New South Wales\", 'K values'!O7, IF($C$7=\"Northern Territory\", 'K values'!U7, IF($C$7=\"Queensland\", 'K values'!AA7, IF($C$7=\"South Australia\", 'K values'!AG7, IF($C$7=\"Tasmania\", 'K values'!AM7, IF($C$7=\"Victoria\", 'K values'!AS7, IF($C$7=\"Western Australia\", 'K values'!AY7, \"\"))))))))","v":""},{"$f":"IF($C$7=\"Australian Capital Territory\", 'K values'!J7, IF($C$7=\"New South Wales\", 'K values'!P7, IF($C$7=\"Northern Territory\", 'K values'!V7, IF($C$7=\"Queensland\", 'K values'!AB7, IF($C$7=\"South Australia\", 'K values'!AH7, IF($C$7=\"Tasmania\", 'K values'!AN7, IF($C$7=\"Victoria\", 'K values'!AT7, IF($C$7=\"Western Australia\", 'K values'!AZ7, \"\"))))))))","v":""},{"$f":"IF($C$7=\"Australian Capital Territory\", 'K values'!K7, IF($C$7=\"New South Wales\", 'K values'!Q7, IF($C$7=\"Northern Territory\", 'K values'!W7, IF($C$7=\"Queensland\", 'K values'!AC7, IF($C$7=\"South Australia\", 'K values'!AI7, IF($C$7=\"Tasmania\", 'K values'!AO7, IF($C$7=\"Victoria\", 'K values'!AU7, IF($C$7=\"Western Australia\", 'K values'!BA7, \"\"))))))))","v":""}]
[{"$f":"IF($C$7=\"Australian Capital Territory\", 'K values'!G8, IF($C$7=\"New South Wales\", 'K values'!M8, IF($C$7=\"Northern Territory\", 'K values'!S8, IF($C$7=\"Queensland\", 'K values'!Y8, IF($C$7=\"South Australia\", 'K values'!AE8, IF($C$7=\"Tasmania\", 'K values'!AK8, IF($C$7=\"Victoria\", 'K values'!AQ8, IF($C$7=\"Western Australia\", 'K values'!AW8, \"\"))))))))","v":""},{"$f":"IF($C$7=\"Australian Capital Territory\", 'K values'!H8, IF($C$7=\"New South Wales\", 'K values'!N8, IF($C$7=\"Northern Territory\", 'K values'!T8, IF($C$7=\"Queensland\", 'K values'!Z8, IF($C$7=\"South Australia\", 'K values'!AF8, IF($C$7=\"Tasmania\", 'K values'!AL8, IF($C$7=\"Victoria\", 'K values'!AR8, IF($C$7=\"Western Australia\", 'K values'!AX8, \"\"))))))))","v":""},{"$f":"IF($C$7=\"Australian Capital Territory\", 'K values'!I8, IF($C$7=\"New South Wales\", 'K values'!O8, IF($C$7=\"Northern Territory\", 'K values'!U8, IF($C$7=\"Queensland\", 'K values'!AA8, IF($C$7=\"South Australia\", 'K values'!AG8, IF($C$7=\"Tasmania\", 'K values'!AM8, IF($C$7=\"Victoria\", 'K values'!AS8, IF($C$7=\"Western Australia\", 'K values'!AY8, \"\"))))))))","v":""},{"$f":"IF($C$7=\"Australian Capital Territory\", 'K values'!J8, IF($C$7=\"New South Wales\", 'K values'!P8, IF($C$7=\"Northern Territory\", 'K values'!V8, IF($C$7=\"Queensland\", 'K values'!AB8, IF($C$7=\"South Australia\", 'K values'!AH8, IF($C$7=\"Tasmania\", 'K values'!AN8, IF($C$7=\"Victoria\", 'K values'!AT8, IF($C$7=\"Western Australia\", 'K values'!AZ8, \"\"))))))))","v":""},{"$f":"IF($C$7=\"Australian Capital Territory\", 'K values'!K8, IF($C$7=\"New South Wales\", 'K values'!Q8, IF($C$7=\"Northern Territory\", 'K values'!W8, IF($C$7=\"Queensland\", 'K values'!AC8, IF($C$7=\"South Australia\", 'K values'!AI8, IF($C$7=\"Tasmania\", 'K values'!AO8, IF($C$7=\"Victoria\", 'K values'!AU8, IF($C$7=\"Western Australia\", 'K values'!BA8, \"\"))))))))","v":""}]
[{"$f":"IF($C$7=\"Australian Capital Territory\", 'K values'!G9, IF($C$7=\"New South Wales\", 'K values'!M9, IF($C$7=\"Northern Territory\", 'K values'!S9, IF($C$7=\"Queensland\", 'K values'!Y9, IF($C$7=\"South Australia\", 'K values'!AE9, IF($C$7=\"Tasmania\", 'K values'!AK9, IF($C$7=\"Victoria\", 'K values'!AQ9, IF($C$7=\"Western Australia\", 'K values'!AW9, \"\"))))))))","v":""},{"$f":"IF($C$7=\"Australian Capital Territory\", 'K values'!H9, IF($C$7=\"New South Wales\", 'K values'!N9, IF($C$7=\"Northern Territory\", 'K values'!T9, IF($C$7=\"Queensland\", 'K values'!Z9, IF($C$7=\"South Australia\", 'K values'!AF9, IF($C$7=\"Tasmania\", 'K values'!AL9, IF($C$7=\"Victoria\", 'K values'!AR9, IF($C$7=\"Western Australia\", 'K values'!AX9, \"\"))))))))","v":""},{"$f":"IF($C$7=\"Australian Capital Territory\", 'K values'!I9, IF($C$7=\"New South Wales\", 'K values'!O9, IF($C$7=\"Northern Territory\", 'K values'!U9, IF($C$7=\"Queensland\", 'K values'!AA9, IF($C$7=\"South Australia\", 'K values'!AG9, IF($C$7=\"Tasmania\", 'K values'!AM9, IF($C$7=\"Victoria\", 'K values'!AS9, IF($C$7=\"Western Australia\", 'K values'!AY9, \"\"))))))))","v":""},{"$f":"IF($C$7=\"Australian Capital Territory\", 'K values'!J9, IF($C$7=\"New South Wales\", 'K values'!P9, IF($C$7=\"Northern Territory\", 'K values'!V9, IF($C$7=\"Queensland\", 'K values'!AB9, IF($C$7=\"South Australia\", 'K values'!AH9, IF($C$7=\"Tasmania\", 'K values'!AN9, IF($C$7=\"Victoria\", 'K values'!AT9, IF($C$7=\"Western Australia\", 'K values'!AZ9, \"\"))))))))","v":""},{"$f":"IF($C$7=\"Australian Capital Territory\", 'K values'!K9, IF($C$7=\"New South Wales\", 'K values'!Q9, IF($C$7=\"Northern Territory\", 'K values'!W9, IF($C$7=\"Queensland\", 'K values'!AC9, IF($C$7=\"South Australia\", 'K values'!AI9, IF($C$7=\"Tasmania\", 'K values'!AO9, IF($C$7=\"Victoria\", 'K values'!AU9, IF($C$7=\"Western Australia\", 'K values'!BA9, \"\"))))))))","v":""}]
[{"$f":"IF($C$7=\"Australian Capital Territory\", 'K values'!G10, IF($C$7=\"New South Wales\", 'K values'!M10, IF($C$7=\"Northern Territory\", 'K values'!S10, IF($C$7=\"Queensland\", 'K values'!Y10, IF($C$7=\"South Australia\", 'K values'!AE10, IF($C$7=\"Tasmania\", 'K values'!AK10, IF($C$7=\"Victoria\", 'K values'!AQ10, IF($C$7=\"Western Australia\", 'K values'!AW10, \"\"))))))))","v":""},{"$f":"IF($C$7=\"Australian Capital Territory\", 'K values'!H10, IF($C$7=\"New South Wales\", 'K values'!N10, IF($C$7=\"Northern Territory\", 'K values'!T10, IF($C$7=\"Queensland\", 'K values'!Z10, IF($C$7=\"South Australia\", 'K values'!AF10, IF($C$7=\"Tasmania\", 'K values'!AL10, IF($C$7=\"Victoria\", 'K values'!AR10, IF($C$7=\"Western Australia\", 'K values'!AX10, \"\"))))))))","v":""},{"$f":"IF($C$7=\"Australian Capital Territory\", 'K values'!I10, IF($C$7=\"New South Wales\", 'K values'!O10, IF($C$7=\"Northern Territory\", 'K values'!U10, IF($C$7=\"Queensland\", 'K values'!AA10, IF($C$7=\"South Australia\", 'K values'!AG10, IF($C$7=\"Tasmania\", 'K values'!AM10, IF($C$7=\"Victoria\", 'K values'!AS10, IF($C$7=\"Western Australia\", 'K values'!AY10, \"\"))))))))","v":""},{"$f":"IF($C$7=\"Australian Capital Territory\", 'K values'!J10, IF($C$7=\"New South Wales\", 'K values'!P10, IF($C$7=\"Northern Territory\", 'K values'!V10, IF($C$7=\"Queensland\", 'K values'!AB10, IF($C$7=\"South Australia\", 'K values'!AH10, IF($C$7=\"Tasmania\", 'K values'!AN10, IF($C$7=\"Victoria\", 'K values'!AT10, IF($C$7=\"Western Australia\", 'K values'!AZ10, \"\"))))))))","v":""},{"$f":"IF($C$7=\"Australian Capital Territory\", 'K values'!K10, IF($C$7=\"New South Wales\", 'K values'!Q10, IF($C$7=\"Northern Territory\", 'K values'!W10, IF($C$7=\"Queensland\", 'K values'!AC10, IF($C$7=\"South Australia\", 'K values'!AI10, IF($C$7=\"Tasmania\", 'K values'!AO10, IF($C$7=\"Victoria\", 'K values'!AU10, IF($C$7=\"Western Australia\", 'K values'!BA10, \"\"))))))))","v":""}]
[{"$f":"IF($C$7=\"Australian Capital Territory\", 'K values'!G11, IF($C$7=\"New South Wales\", 'K values'!M11, IF($C$7=\"Northern Territory\", 'K values'!S11, IF($C$7=\"Queensland\", 'K values'!Y11, IF($C$7=\"South Australia\", 'K values'!AE11, IF($C$7=\"Tasmania\", 'K values'!AK11, IF($C$7=\"Victoria\", 'K values'!AQ11, IF($C$7=\"Western Australia\", 'K values'!AW11, \"\"))))))))","v":""},{"$f":"IF($C$7=\"Australian Capital Territory\", 'K values'!H11, IF($C$7=\"New South Wales\", 'K values'!N11, IF($C$7=\"Northern Territory\", 'K values'!T11, IF($C$7=\"Queensland\", 'K values'!Z11, IF($C$7=\"South Australia\", 'K values'!AF11, IF($C$7=\"Tasmania\", 'K values'!AL11, IF($C$7=\"Victoria\", 'K values'!AR11, IF($C$7=\"Western Australia\", 'K values'!AX11, \"\"))))))))","v":""},{"$f":"IF($C$7=\"Australian Capital Territory\", 'K values'!I11, IF($C$7=\"New South Wales\", 'K values'!O11, IF($C$7=\"Northern Territory\", 'K values'!U11, IF($C$7=\"Queensland\", 'K values'!AA11, IF($C$7=\"South Australia\", 'K values'!AG11, IF($C$7=\"Tasmania\", 'K values'!AM11, IF($C$7=\"Victoria\", 'K values'!AS11, IF($C$7=\"Western Australia\", 'K values'!AY11, \"\"))))))))","v":""},{"$f":"IF($C$7=\"Australian Capital Territory\", 'K values'!J11, IF($C$7=\"New South Wales\", 'K values'!P11, IF($C$7=\"Northern Territory\", 'K values'!V11, IF($C$7=\"Queensland\", 'K values'!AB11, IF($C$7=\"South Australia\", 'K values'!AH11, IF($C$7=\"Tasmania\", 'K values'!AN11, IF($C$7=\"Victoria\", 'K values'!AT11, IF($C$7=\"Western Australia\", 'K values'!AZ11, \"\"))))))))","v":""},{"$f":"IF($C$7=\"Australian Capital Territory\", 'K values'!K11, IF($C$7=\"New South Wales\", 'K values'!Q11, IF($C$7=\"Northern Territory\", 'K values'!W11, IF($C$7=\"Queensland\", 'K values'!AC11, IF($C$7=\"South Australia\", 'K values'!AI11, IF($C$7=\"Tasmania\", 'K values'!AO11, IF($C$7=\"Victoria\", 'K values'!AU11, IF($C$7=\"Western Australia\", 'K values'!BA11, \"\"))))))))","v":""}]
[{"$f":"IF($C$7=\"Australian Capital Territory\", 'K values'!G12, IF($C$7=\"New South Wales\", 'K values'!M12, IF($C$7=\"Northern Territory\", 'K values'!S12, IF($C$7=\"Queensland\", 'K values'!Y12, IF($C$7=\"South Australia\", 'K values'!AE12, IF($C$7=\"Tasmania\", 'K values'!AK12, IF($C$7=\"Victoria\", 'K values'!AQ12, IF($C$7=\"Western Australia\", 'K values'!AW12, \"\"))))))))","v":""},{"$f":"IF($C$7=\"Australian Capital Territory\", 'K values'!H12, IF($C$7=\"New South Wales\", 'K values'!N12, IF($C$7=\"Northern Territory\", 'K values'!T12, IF($C$7=\"Queensland\", 'K values'!Z12, IF($C$7=\"South Australia\", 'K values'!AF12, IF($C$7=\"Tasmania\", 'K values'!AL12, IF($C$7=\"Victoria\", 'K values'!AR12, IF($C$7=\"Western Australia\", 'K values'!AX12, \"\"))))))))","v":""},{"$f":"IF($C$7=\"Australian Capital Territory\", 'K values'!I12, IF($C$7=\"New South Wales\", 'K values'!O12, IF($C$7=\"Northern Territory\", 'K values'!U12, IF($C$7=\"Queensland\", 'K values'!AA12, IF($C$7=\"South Australia\", 'K values'!AG12, IF($C$7=\"Tasmania\", 'K values'!AM12, IF($C$7=\"Victoria\", 'K values'!AS12, IF($C$7=\"Western Australia\", 'K values'!AY12, \"\"))))))))","v":""},{"$f":"IF($C$7=\"Australian Capital Territory\", 'K values'!J12, IF($C$7=\"New South Wales\", 'K values'!P12, IF($C$7=\"Northern Territory\", 'K values'!V12, IF($C$7=\"Queensland\", 'K values'!AB12, IF($C$7=\"South Australia\", 'K values'!AH12, IF($C$7=\"Tasmania\", 'K values'!AN12, IF($C$7=\"Victoria\", 'K values'!AT12, IF($C$7=\"Western Australia\", 'K values'!AZ12, \"\"))))))))","v":""},{"$f":"IF($C$7=\"Australian Capital Territory\", 'K values'!K12, IF($C$7=\"New South Wales\", 'K values'!Q12, IF($C$7=\"Northern Territory\", 'K values'!W12, IF($C$7=\"Queensland\", 'K values'!AC12, IF($C$7=\"South Australia\", 'K values'!AI12, IF($C$7=\"Tasmania\", 'K values'!AO12, IF($C$7=\"Victoria\", 'K values'!AU12, IF($C$7=\"Western Australia\", 'K values'!BA12, \"\"))))))))","v":""}]
[{"$f":"IF($C$7=\"Australian Capital Territory\", 'K values'!G13, IF($C$7=\"New South Wales\", 'K values'!M13, IF($C$7=\"Northern Territory\", 'K values'!S13, IF($C$7=\"Queensland\", 'K values'!Y13, IF($C$7=\"South Australia\", 'K values'!AE13, IF($C$7=\"Tasmania\", 'K values'!AK13, IF($C$7=\"Victoria\", 'K values'!AQ13, IF($C$7=\"Western Australia\", 'K values'!AW13, \"\"))))))))","v":""},{"$f":"IF($C$7=\"Australian Capital Territory\", 'K values'!H13, IF($C$7=\"New South Wales\", 'K values'!N13, IF($C$7=\"Northern Territory\", 'K values'!T13, IF($C$7=\"Queensland\", 'K values'!Z13, IF($C$7=\"South Australia\", 'K values'!AF13, IF($C$7=\"Tasmania\", 'K values'!AL13, IF($C$7=\"Victoria\", 'K values'!AR13, IF($C$7=\"Western Australia\", 'K values'!AX13, \"\"))))))))","v":""},{"$f":"IF($C$7=\"Australian Capital Territory\", 'K values'!I13, IF($C$7=\"New South Wales\", 'K values'!O13, IF($C$7=\"Northern Territory\", 'K values'!U13, IF($C$7=\"Queensland\", 'K values'!AA13, IF($C$7=\"South Australia\", 'K values'!AG13, IF($C$7=\"Tasmania\", 'K values'!AM13, IF($C$7=\"Victoria\", 'K values'!AS13, IF($C$7=\"Western Australia\", 'K values'!AY13, \"\"))))))))","v":""},{"$f":"IF($C$7=\"Australian Capital Territory\", 'K values'!J13, IF($C$7=\"New South Wales\", 'K values'!P13, IF($C$7=\"Northern Territory\", 'K values'!V13, IF($C$7=\"Queensland\", 'K values'!AB13, IF($C$7=\"South Australia\", 'K values'!AH13, IF($C$7=\"Tasmania\", 'K values'!AN13, IF($C$7=\"Victoria\", 'K values'!AT13, IF($C$7=\"Western Australia\", 'K values'!AZ13, \"\"))))))))","v":""},{"$f":"IF($C$7=\"Australian Capital Territory\", 'K values'!K13, IF($C$7=\"New South Wales\", 'K values'!Q13, IF($C$7=\"Northern Territory\", 'K values'!W13, IF($C$7=\"Queensland\", 'K values'!AC13, IF($C$7=\"South Australia\", 'K values'!AI13, IF($C$7=\"Tasmania\", 'K values'!AO13, IF($C$7=\"Victoria\", 'K values'!AU13, IF($C$7=\"Western Australia\", 'K values'!BA13, \"\"))))))))","v":""}]
[{"$f":"IF($C$7=\"Australian Capital Territory\", 'K values'!G14, IF($C$7=\"New South Wales\", 'K values'!M14, IF($C$7=\"Northern Territory\", 'K values'!S14, IF($C$7=\"Queensland\", 'K values'!Y14, IF($C$7=\"South Australia\", 'K values'!AE14, IF($C$7=\"Tasmania\", 'K values'!AK14, IF($C$7=\"Victoria\", 'K values'!AQ14, IF($C$7=\"Western Australia\", 'K values'!AW14, \"\"))))))))","v":""},{"$f":"IF($C$7=\"Australian Capital Territory\", 'K values'!H14, IF($C$7=\"New South Wales\", 'K values'!N14, IF($C$7=\"Northern Territory\", 'K values'!T14, IF($C$7=\"Queensland\", 'K values'!Z14, IF($C$7=\"South Australia\", 'K values'!AF14, IF($C$7=\"Tasmania\", 'K values'!AL14, IF($C$7=\"Victoria\", 'K values'!AR14, IF($C$7=\"Western Australia\", 'K values'!AX14, \"\"))))))))","v":""},{"$f":"IF($C$7=\"Australian Capital Territory\", 'K values'!I14, IF($C$7=\"New South Wales\", 'K values'!O14, IF($C$7=\"Northern Territory\", 'K values'!U14, IF($C$7=\"Queensland\", 'K values'!AA14, IF($C$7=\"South Australia\", 'K values'!AG14, IF($C$7=\"Tasmania\", 'K values'!AM14, IF($C$7=\"Victoria\", 'K values'!AS14, IF($C$7=\"Western Australia\", 'K values'!AY14, \"\"))))))))","v":""},{"$f":"IF($C$7=\"Australian Capital Territory\", 'K values'!J14, IF($C$7=\"New South Wales\", 'K values'!P14, IF($C$7=\"Northern Territory\", 'K values'!V14, IF($C$7=\"Queensland\", 'K values'!AB14, IF($C$7=\"South Australia\", 'K values'!AH14, IF($C$7=\"Tasmania\", 'K values'!AN14, IF($C$7=\"Victoria\", 'K values'!AT14, IF($C$7=\"Western Australia\", 'K values'!AZ14, \"\"))))))))","v":""},{"$f":"IF($C$7=\"Australian Capital Territory\", 'K values'!K14, IF($C$7=\"New South Wales\", 'K values'!Q14, IF($C$7=\"Northern Territory\", 'K values'!W14, IF($C$7=\"Queensland\", 'K values'!AC14, IF($C$7=\"South Australia\", 'K values'!AI14, IF($C$7=\"Tasmania\", 'K values'!AO14, IF($C$7=\"Victoria\", 'K values'!AU14, IF($C$7=\"Western Australia\", 'K values'!BA14, \"\"))))))))","v":""}]
[{"$f":"IF($C$7=\"Australian Capital Territory\", 'K values'!G15, IF($C$7=\"New South Wales\", 'K values'!M15, IF($C$7=\"Northern Territory\", 'K values'!S15, IF($C$7=\"Queensland\", 'K values'!Y15, IF($C$7=\"South Australia\", 'K values'!AE15, IF($C$7=\"Tasmania\", 'K values'!AK15, IF($C$7=\"Victoria\", 'K values'!AQ15, IF($C$7=\"Western Australia\", 'K values'!AW15, \"\"))))))))","v":""},{"$f":"IF($C$7=\"Australian Capital Territory\", 'K values'!H15, IF($C$7=\"New South Wales\", 'K values'!N15, IF($C$7=\"Northern Territory\", 'K values'!T15, IF($C$7=\"Queensland\", 'K values'!Z15, IF($C$7=\"South Australia\", 'K values'!AF15, IF($C$7=\"Tasmania\", 'K values'!AL15, IF($C$7=\"Victoria\", 'K values'!AR15, IF($C$7=\"Western Australia\", 'K values'!AX15, \"\"))))))))","v":""},{"$f":"IF($C$7=\"Australian Capital Territory\", 'K values'!I15, IF($C$7=\"New South Wales\", 'K values'!O15, IF($C$7=\"Northern Territory\", 'K values'!U15, IF($C$7=\"Queensland\", 'K values'!AA15, IF($C$7=\"South Australia\", 'K values'!AG15, IF($C$7=\"Tasmania\", 'K values'!AM15, IF($C$7=\"Victoria\", 'K values'!AS15, IF($C$7=\"Western Australia\", 'K values'!AY15, \"\"))))))))","v":""},{"$f":"IF($C$7=\"Australian Capital Territory\", 'K values'!J15, IF($C$7=\"New South Wales\", 'K values'!P15, IF($C$7=\"Northern Territory\", 'K values'!V15, IF($C$7=\"Queensland\", 'K values'!AB15, IF($C$7=\"South Australia\", 'K values'!AH15, IF($C$7=\"Tasmania\", 'K values'!AN15, IF($C$7=\"Victoria\", 'K values'!AT15, IF($C$7=\"Western Australia\", 'K values'!AZ15, \"\"))))))))","v":""},{"$f":"IF($C$7=\"Australian Capital Territory\", 'K values'!K15, IF($C$7=\"New South Wales\", 'K values'!Q15, IF($C$7=\"Northern Territory\", 'K values'!W15, IF($C$7=\"Queensland\", 'K values'!AC15, IF($C$7=\"South Australia\", 'K values'!AI15, IF($C$7=\"Tasmania\", 'K values'!AO15, IF($C$7=\"Victoria\", 'K values'!AU15, IF($C$7=\"Western Australia\", 'K values'!BA15, \"\"))))))))","v":""}]
[{"$f":"IF($C$7=\"Australian Capital Territory\", 'K values'!G16, IF($C$7=\"New South Wales\", 'K values'!M16, IF($C$7=\"Northern Territory\", 'K values'!S16, IF($C$7=\"Queensland\", 'K values'!Y16, IF($C$7=\"South Australia\", 'K values'!AE16, IF($C$7=\"Tasmania\", 'K values'!AK16, IF($C$7=\"Victoria\", 'K values'!AQ16, IF($C$7=\"Western Australia\", 'K values'!AW16, \"\"))))))))","v":""},{"$f":"IF($C$7=\"Australian Capital Territory\", 'K values'!H16, IF($C$7=\"New South Wales\", 'K values'!N16, IF($C$7=\"Northern Territory\", 'K values'!T16, IF($C$7=\"Queensland\", 'K values'!Z16, IF($C$7=\"South Australia\", 'K values'!AF16, IF($C$7=\"Tasmania\", 'K values'!AL16, IF($C$7=\"Victoria\", 'K values'!AR16, IF($C$7=\"Western Australia\", 'K values'!AX16, \"\"))))))))","v":""},{"$f":"IF($C$7=\"Australian Capital Territory\", 'K values'!I16, IF($C$7=\"New South Wales\", 'K values'!O16, IF($C$7=\"Northern Territory\", 'K values'!U16, IF($C$7=\"Queensland\", 'K values'!AA16, IF($C$7=\"South Australia\", 'K values'!AG16, IF($C$7=\"Tasmania\", 'K values'!AM16, IF($C$7=\"Victoria\", 'K values'!AS16, IF($C$7=\"Western Australia\", 'K values'!AY16, \"\"))))))))","v":""},{"$f":"IF($C$7=\"Australian Capital Territory\", 'K values'!J16, IF($C$7=\"New South Wales\", 'K values'!P16, IF($C$7=\"Northern Territory\", 'K values'!V16, IF($C$7=\"Queensland\", 'K values'!AB16, IF($C$7=\"South Australia\", 'K values'!AH16, IF($C$7=\"Tasmania\", 'K values'!AN16, IF($C$7=\"Victoria\", 'K values'!AT16, IF($C$7=\"Western Australia\", 'K values'!AZ16, \"\"))))))))","v":""},{"$f":"IF($C$7=\"Australian Capital Territory\", 'K values'!K16, IF($C$7=\"New South Wales\", 'K values'!Q16, IF($C$7=\"Northern Territory\", 'K values'!W16, IF($C$7=\"Queensland\", 'K values'!AC16, IF($C$7=\"South Australia\", 'K values'!AI16, IF($C$7=\"Tasmania\", 'K values'!AO16, IF($C$7=\"Victoria\", 'K values'!AU16, IF($C$7=\"Western Australia\", 'K values'!BA16, \"\"))))))))","v":""}]
[{"$f":"IF($C$7=\"Australian Capital Territory\", 'K values'!G17, IF($C$7=\"New South Wales\", 'K values'!M17, IF($C$7=\"Northern Territory\", 'K values'!S17, IF($C$7=\"Queensland\", 'K values'!Y17, IF($C$7=\"South Australia\", 'K values'!AE17, IF($C$7=\"Tasmania\", 'K values'!AK17, IF($C$7=\"Victoria\", 'K values'!AQ17, IF($C$7=\"Western Australia\", 'K values'!AW17, \"\"))))))))","v":""},{"$f":"IF($C$7=\"Australian Capital Territory\", 'K values'!H17, IF($C$7=\"New South Wales\", 'K values'!N17, IF($C$7=\"Northern Territory\", 'K values'!T17, IF($C$7=\"Queensland\", 'K values'!Z17, IF($C$7=\"South Australia\", 'K values'!AF17, IF($C$7=\"Tasmania\", 'K values'!AL17, IF($C$7=\"Victoria\", 'K values'!AR17, IF($C$7=\"Western Australia\", 'K values'!AX17, \"\"))))))))","v":""},{"$f":"IF($C$7=\"Australian Capital Territory\", 'K values'!I17, IF($C$7=\"New South Wales\", 'K values'!O17, IF($C$7=\"Northern Territory\", 'K values'!U17, IF($C$7=\"Queensland\", 'K values'!AA17, IF($C$7=\"South Australia\", 'K values'!AG17, IF($C$7=\"Tasmania\", 'K values'!AM17, IF($C$7=\"Victoria\", 'K values'!AS17, IF($C$7=\"Western Australia\", 'K values'!AY17, \"\"))))))))","v":""},{"$f":"IF($C$7=\"Australian Capital Territory\", 'K values'!J17, IF($C$7=\"New South Wales\", 'K values'!P17, IF($C$7=\"Northern Territory\", 'K values'!V17, IF($C$7=\"Queensland\", 'K values'!AB17, IF($C$7=\"South Australia\", 'K values'!AH17, IF($C$7=\"Tasmania\", 'K values'!AN17, IF($C$7=\"Victoria\", 'K values'!AT17, IF($C$7=\"Western Australia\", 'K values'!AZ17, \"\"))))))))","v":""},{"$f":"IF($C$7=\"Australian Capital Territory\", 'K values'!K17, IF($C$7=\"New South Wales\", 'K values'!Q17, IF($C$7=\"Northern Territory\", 'K values'!W17, IF($C$7=\"Queensland\", 'K values'!AC17, IF($C$7=\"South Australia\", 'K values'!AI17, IF($C$7=\"Tasmania\", 'K values'!AO17, IF($C$7=\"Victoria\", 'K values'!AU17, IF($C$7=\"Western Australia\", 'K values'!BA17, \"\"))))))))","v":""}]
[{"$f":"IF($C$7=\"Australian Capital Territory\", 'K values'!G18, IF($C$7=\"New South Wales\", 'K values'!M18, IF($C$7=\"Northern Territory\", 'K values'!S18, IF($C$7=\"Queensland\", 'K values'!Y18, IF($C$7=\"South Australia\", 'K values'!AE18, IF($C$7=\"Tasmania\", 'K values'!AK18, IF($C$7=\"Victoria\", 'K values'!AQ18, IF($C$7=\"Western Australia\", 'K values'!AW18, \"\"))))))))","v":""},{"$f":"IF($C$7=\"Australian Capital Territory\", 'K values'!H18, IF($C$7=\"New South Wales\", 'K values'!N18, IF($C$7=\"Northern Territory\", 'K values'!T18, IF($C$7=\"Queensland\", 'K values'!Z18, IF($C$7=\"South Australia\", 'K values'!AF18, IF($C$7=\"Tasmania\", 'K values'!AL18, IF($C$7=\"Victoria\", 'K values'!AR18, IF($C$7=\"Western Australia\", 'K values'!AX18, \"\"))))))))","v":""},{"$f":"IF($C$7=\"Australian Capital Territory\", 'K values'!I18, IF($C$7=\"New South Wales\", 'K values'!O18, IF($C$7=\"Northern Territory\", 'K values'!U18, IF($C$7=\"Queensland\", 'K values'!AA18, IF($C$7=\"South Australia\", 'K values'!AG18, IF($C$7=\"Tasmania\", 'K values'!AM18, IF($C$7=\"Victoria\", 'K values'!AS18, IF($C$7=\"Western Australia\", 'K values'!AY18, \"\"))))))))","v":""},{"$f":"IF($C$7=\"Australian Capital Territory\", 'K values'!J18, IF($C$7=\"New South Wales\", 'K values'!P18, IF($C$7=\"Northern Territory\", 'K values'!V18, IF($C$7=\"Queensland\", 'K values'!AB18, IF($C$7=\"South Australia\", 'K values'!AH18, IF($C$7=\"Tasmania\", 'K values'!AN18, IF($C$7=\"Victoria\", 'K values'!AT18, IF($C$7=\"Western Australia\", 'K values'!AZ18, \"\"))))))))","v":""},{"$f":"IF($C$7=\"Australian Capital Territory\", 'K values'!K18, IF($C$7=\"New South Wales\", 'K values'!Q18, IF($C$7=\"Northern Territory\", 'K values'!W18, IF($C$7=\"Queensland\", 'K values'!AC18, IF($C$7=\"South Australia\", 'K values'!AI18, IF($C$7=\"Tasmania\", 'K values'!AO18, IF($C$7=\"Victoria\", 'K values'!AU18, IF($C$7=\"Western Australia\", 'K values'!BA18, \"\"))))))))","v":""}]
[{"$f":"IF($C$7=\"Australian Capital Territory\", 'K values'!G19, IF($C$7=\"New South Wales\", 'K values'!M19, IF($C$7=\"Northern Territory\", 'K values'!S19, IF($C$7=\"Queensland\", 'K values'!Y19, IF($C$7=\"South Australia\", 'K values'!AE19, IF($C$7=\"Tasmania\", 'K values'!AK19, IF($C$7=\"Victoria\", 'K values'!AQ19, IF($C$7=\"Western Australia\", 'K values'!AW19, \"\"))))))))","v":""},{"$f":"IF($C$7=\"Australian Capital Territory\", 'K values'!H19, IF($C$7=\"New South Wales\", 'K values'!N19, IF($C$7=\"Northern Territory\", 'K values'!T19, IF($C$7=\"Queensland\", 'K values'!Z19, IF($C$7=\"South Australia\", 'K values'!AF19, IF($C$7=\"Tasmania\", 'K values'!AL19, IF($C$7=\"Victoria\", 'K values'!AR19, IF($C$7=\"Western Australia\", 'K values'!AX19, \"\"))))))))","v":""},{"$f":"IF($C$7=\"Australian Capital Territory\", 'K values'!I19, IF($C$7=\"New South Wales\", 'K values'!O19, IF($C$7=\"Northern Territory\", 'K values'!U19, IF($C$7=\"Queensland\", 'K values'!AA19, IF($C$7=\"South Australia\", 'K values'!AG19, IF($C$7=\"Tasmania\", 'K values'!AM19, IF($C$7=\"Victoria\", 'K values'!AS19, IF($C$7=\"Western Australia\", 'K values'!AY19, \"\"))))))))","v":""},{"$f":"IF($C$7=\"Australian Capital Territory\", 'K values'!J19, IF($C$7=\"New South Wales\", 'K values'!P19, IF($C$7=\"Northern Territory\", 'K values'!V19, IF($C$7=\"Queensland\", 'K values'!AB19, IF($C$7=\"South Australia\", 'K values'!AH19, IF($C$7=\"Tasmania\", 'K values'!AN19, IF($C$7=\"Victoria\", 'K values'!AT19, IF($C$7=\"Western Australia\", 'K values'!AZ19, \"\"))))))))","v":""},{"$f":"IF($C$7=\"Australian Capital Territory\", 'K values'!K19, IF($C$7=\"New South Wales\", 'K values'!Q19, IF($C$7=\"Northern Territory\", 'K values'!W19, IF($C$7=\"Queensland\", 'K values'!AC19, IF($C$7=\"South Australia\", 'K values'!AI19, IF($C$7=\"Tasmania\", 'K values'!AO19, IF($C$7=\"Victoria\", 'K values'!AU19, IF($C$7=\"Western Australia\", 'K values'!BA19, \"\"))))))))","v":""}]
[{"$f":"IF($C$7=\"Australian Capital Territory\", 'K values'!G20, IF($C$7=\"New South Wales\", 'K values'!M20, IF($C$7=\"Northern Territory\", 'K values'!S20, IF($C$7=\"Queensland\", 'K values'!Y20, IF($C$7=\"South Australia\", 'K values'!AE20, IF($C$7=\"Tasmania\", 'K values'!AK20, IF($C$7=\"Victoria\", 'K values'!AQ20, IF($C$7=\"Western Australia\", 'K values'!AW20, \"\"))))))))","v":""},{"$f":"IF($C$7=\"Australian Capital Territory\", 'K values'!H20, IF($C$7=\"New South Wales\", 'K values'!N20, IF($C$7=\"Northern Territory\", 'K values'!T20, IF($C$7=\"Queensland\", 'K values'!Z20, IF($C$7=\"South Australia\", 'K values'!AF20, IF($C$7=\"Tasmania\", 'K values'!AL20, IF($C$7=\"Victoria\", 'K values'!AR20, IF($C$7=\"Western Australia\", 'K values'!AX20, \"\"))))))))","v":""},{"$f":"IF($C$7=\"Australian Capital Territory\", 'K values'!I20, IF($C$7=\"New South Wales\", 'K values'!O20, IF($C$7=\"Northern Territory\", 'K values'!U20, IF($C$7=\"Queensland\", 'K values'!AA20, IF($C$7=\"South Australia\", 'K values'!AG20, IF($C$7=\"Tasmania\", 'K values'!AM20, IF($C$7=\"Victoria\", 'K values'!AS20, IF($C$7=\"Western Australia\", 'K values'!AY20, \"\"))))))))","v":""},{"$f":"IF($C$7=\"Australian Capital Territory\", 'K values'!J20, IF($C$7=\"New South Wales\", 'K values'!P20, IF($C$7=\"Northern Territory\", 'K values'!V20, IF($C$7=\"Queensland\", 'K values'!AB20, IF($C$7=\"South Australia\", 'K values'!AH20, IF($C$7=\"Tasmania\", 'K values'!AN20, IF($C$7=\"Victoria\", 'K values'!AT20, IF($C$7=\"Western Australia\", 'K values'!AZ20, \"\"))))))))","v":""},{"$f":"IF($C$7=\"Australian Capital Territory\", 'K values'!K20, IF($C$7=\"New South Wales\", 'K values'!Q20, IF($C$7=\"Northern Territory\", 'K values'!W20, IF($C$7=\"Queensland\", 'K values'!AC20, IF($C$7=\"South Australia\", 'K values'!AI20, IF($C$7=\"Tasmania\", 'K values'!AO20, IF($C$7=\"Victoria\", 'K values'!AU20, IF($C$7=\"Western Australia\", 'K values'!BA20, \"\"))))))))","v":""}]
[{"$f":"IF($C$7=\"Australian Capital Territory\", 'K values'!G21, IF($C$7=\"New South Wales\", 'K values'!M21, IF($C$7=\"Northern Territory\", 'K values'!S21, IF($C$7=\"Queensland\", 'K values'!Y21, IF($C$7=\"South Australia\", 'K values'!AE21, IF($C$7=\"Tasmania\", 'K values'!AK21, IF($C$7=\"Victoria\", 'K values'!AQ21, IF($C$7=\"Western Australia\", 'K values'!AW21, \"\"))))))))","v":""},{"$f":"IF($C$7=\"Australian Capital Territory\", 'K values'!H21, IF($C$7=\"New South Wales\", 'K values'!N21, IF($C$7=\"Northern Territory\", 'K values'!T21, IF($C$7=\"Queensland\", 'K values'!Z21, IF($C$7=\"South Australia\", 'K values'!AF21, IF($C$7=\"Tasmania\", 'K values'!AL21, IF($C$7=\"Victoria\", 'K values'!AR21, IF($C$7=\"Western Australia\", 'K values'!AX21, \"\"))))))))","v":""},{"$f":"IF($C$7=\"Australian Capital Territory\", 'K values'!I21, IF($C$7=\"New South Wales\", 'K values'!O21, IF($C$7=\"Northern Territory\", 'K values'!U21, IF($C$7=\"Queensland\", 'K values'!AA21, IF($C$7=\"South Australia\", 'K values'!AG21, IF($C$7=\"Tasmania\", 'K values'!AM21, IF($C$7=\"Victoria\", 'K values'!AS21, IF($C$7=\"Western Australia\", 'K values'!AY21, \"\"))))))))","v":""},{"$f":"IF($C$7=\"Australian Capital Territory\", 'K values'!J21, IF($C$7=\"New South Wales\", 'K values'!P21, IF($C$7=\"Northern Territory\", 'K values'!V21, IF($C$7=\"Queensland\", 'K values'!AB21, IF($C$7=\"South Australia\", 'K values'!AH21, IF($C$7=\"Tasmania\", 'K values'!AN21, IF($C$7=\"Victoria\", 'K values'!AT21, IF($C$7=\"Western Australia\", 'K values'!AZ21, \"\"))))))))","v":""},{"$f":"IF($C$7=\"Australian Capital Territory\", 'K values'!K21, IF($C$7=\"New South Wales\", 'K values'!Q21, IF($C$7=\"Northern Territory\", 'K values'!W21, IF($C$7=\"Queensland\", 'K values'!AC21, IF($C$7=\"South Australia\", 'K values'!AI21, IF($C$7=\"Tasmania\", 'K values'!AO21, IF($C$7=\"Victoria\", 'K values'!AU21, IF($C$7=\"Western Australia\", 'K values'!BA21, \"\"))))))))","v":""}]
[{"$f":"IF($C$7=\"Australian Capital Territory\", 'K values'!G22, IF($C$7=\"New South Wales\", 'K values'!M22, IF($C$7=\"Northern Territory\", 'K values'!S22, IF($C$7=\"Queensland\", 'K values'!Y22, IF($C$7=\"South Australia\", 'K values'!AE22, IF($C$7=\"Tasmania\", 'K values'!AK22, IF($C$7=\"Victoria\", 'K values'!AQ22, IF($C$7=\"Western Australia\", 'K values'!AW22, \"\"))))))))","v":""},{"$f":"IF($C$7=\"Australian Capital Territory\", 'K values'!H22, IF($C$7=\"New South Wales\", 'K values'!N22, IF($C$7=\"Northern Territory\", 'K values'!T22, IF($C$7=\"Queensland\", 'K values'!Z22, IF($C$7=\"South Australia\", 'K values'!AF22, IF($C$7=\"Tasmania\", 'K values'!AL22, IF($C$7=\"Victoria\", 'K values'!AR22, IF($C$7=\"Western Australia\", 'K values'!AX22, \"\"))))))))","v":""},{"$f":"IF($C$7=\"Australian Capital Territory\", 'K values'!I22, IF($C$7=\"New South Wales\", 'K values'!O22, IF($C$7=\"Northern Territory\", 'K values'!U22, IF($C$7=\"Queensland\", 'K values'!AA22, IF($C$7=\"South Australia\", 'K values'!AG22, IF($C$7=\"Tasmania\", 'K values'!AM22, IF($C$7=\"Victoria\", 'K values'!AS22, IF($C$7=\"Western Australia\", 'K values'!AY22, \"\"))))))))","v":""},{"$f":"IF($C$7=\"Australian Capital Territory\", 'K values'!J22, IF($C$7=\"New South Wales\", 'K values'!P22, IF($C$7=\"Northern Territory\", 'K values'!V22, IF($C$7=\"Queensland\", 'K values'!AB22, IF($C$7=\"South Australia\", 'K values'!AH22, IF($C$7=\"Tasmania\", 'K values'!AN22, IF($C$7=\"Victoria\", 'K values'!AT22, IF($C$7=\"Western Australia\", 'K values'!AZ22, \"\"))))))))","v":""},{"$f":"IF($C$7=\"Australian Capital Territory\", 'K values'!K22, IF($C$7=\"New South Wales\", 'K values'!Q22, IF($C$7=\"Northern Territory\", 'K values'!W22, IF($C$7=\"Queensland\", 'K values'!AC22, IF($C$7=\"South Australia\", 'K values'!AI22, IF($C$7=\"Tasmania\", 'K values'!AO22, IF($C$7=\"Victoria\", 'K values'!AU22, IF($C$7=\"Western Australia\", 'K values'!BA22, \"\"))))))))","v":""}]
[{"$f":"IF($C$7=\"Australian Capital Territory\", 'K values'!G23, IF($C$7=\"New South Wales\", 'K values'!M23, IF($C$7=\"Northern Territory\", 'K values'!S23, IF($C$7=\"Queensland\", 'K values'!Y23, IF($C$7=\"South Australia\", 'K values'!AE23, IF($C$7=\"Tasmania\", 'K values'!AK23, IF($C$7=\"Victoria\", 'K values'!AQ23, IF($C$7=\"Western Australia\", 'K values'!AW23, \"\"))))))))","v":""},{"$f":"IF($C$7=\"Australian Capital Territory\", 'K values'!H23, IF($C$7=\"New South Wales\", 'K values'!N23, IF($C$7=\"Northern Territory\", 'K values'!T23, IF($C$7=\"Queensland\", 'K values'!Z23, IF($C$7=\"South Australia\", 'K values'!AF23, IF($C$7=\"Tasmania\", 'K values'!AL23, IF($C$7=\"Victoria\", 'K values'!AR23, IF($C$7=\"Western Australia\", 'K values'!AX23, \"\"))))))))","v":""},{"$f":"IF($C$7=\"Australian Capital Territory\", 'K values'!I23, IF($C$7=\"New South Wales\", 'K values'!O23, IF($C$7=\"Northern Territory\", 'K values'!U23, IF($C$7=\"Queensland\", 'K values'!AA23, IF($C$7=\"South Australia\", 'K values'!AG23, IF($C$7=\"Tasmania\", 'K values'!AM23, IF($C$7=\"Victoria\", 'K values'!AS23, IF($C$7=\"Western Australia\", 'K values'!AY23, \"\"))))))))","v":""},{"$f":"IF($C$7=\"Australian Capital Territory\", 'K values'!J23, IF($C$7=\"New South Wales\", 'K values'!P23, IF($C$7=\"Northern Territory\", 'K values'!V23, IF($C$7=\"Queensland\", 'K values'!AB23, IF($C$7=\"South Australia\", 'K values'!AH23, IF($C$7=\"Tasmania\", 'K values'!AN23, IF($C$7=\"Victoria\", 'K values'!AT23, IF($C$7=\"Western Australia\", 'K values'!AZ23, \"\"))))))))","v":""},{"$f":"IF($C$7=\"Australian Capital Territory\", 'K values'!K23, IF($C$7=\"New South Wales\", 'K values'!Q23, IF($C$7=\"Northern Territory\", 'K values'!W23, IF($C$7=\"Queensland\", 'K values'!AC23, IF($C$7=\"South Australia\", 'K values'!AI23, IF($C$7=\"Tasmania\", 'K values'!AO23, IF($C$7=\"Victoria\", 'K values'!AU23, IF($C$7=\"Western Australia\", 'K values'!BA23, \"\"))))))))","v":""}]
[{"$f":"IF($C$7=\"Australian Capital Territory\", 'K values'!G24, IF($C$7=\"New South Wales\", 'K values'!M24, IF($C$7=\"Northern Territory\", 'K values'!S24, IF($C$7=\"Queensland\", 'K values'!Y24, IF($C$7=\"South Australia\", 'K values'!AE24, IF($C$7=\"Tasmania\", 'K values'!AK24, IF($C$7=\"Victoria\", 'K values'!AQ24, IF($C$7=\"Western Australia\", 'K values'!AW24, \"\"))))))))","v":""},{"$f":"IF($C$7=\"Australian Capital Territory\", 'K values'!H24, IF($C$7=\"New South Wales\", 'K values'!N24, IF($C$7=\"Northern Territory\", 'K values'!T24, IF($C$7=\"Queensland\", 'K values'!Z24, IF($C$7=\"South Australia\", 'K values'!AF24, IF($C$7=\"Tasmania\", 'K values'!AL24, IF($C$7=\"Victoria\", 'K values'!AR24, IF($C$7=\"Western Australia\", 'K values'!AX24, \"\"))))))))","v":""},{"$f":"IF($C$7=\"Australian Capital Territory\", 'K values'!I24, IF($C$7=\"New South Wales\", 'K values'!O24, IF($C$7=\"Northern Territory\", 'K values'!U24, IF($C$7=\"Queensland\", 'K values'!AA24, IF($C$7=\"South Australia\", 'K values'!AG24, IF($C$7=\"Tasmania\", 'K values'!AM24, IF($C$7=\"Victoria\", 'K values'!AS24, IF($C$7=\"Western Australia\", 'K values'!AY24, \"\"))))))))","v":""},{"$f":"IF($C$7=\"Australian Capital Territory\", 'K values'!J24, IF($C$7=\"New South Wales\", 'K values'!P24, IF($C$7=\"Northern Territory\", 'K values'!V24, IF($C$7=\"Queensland\", 'K values'!AB24, IF($C$7=\"South Australia\", 'K values'!AH24, IF($C$7=\"Tasmania\", 'K values'!AN24, IF($C$7=\"Victoria\", 'K values'!AT24, IF($C$7=\"Western Australia\", 'K values'!AZ24, \"\"))))))))","v":""},{"$f":"IF($C$7=\"Australian Capital Territory\", 'K values'!K24, IF($C$7=\"New South Wales\", 'K values'!Q24, IF($C$7=\"Northern Territory\", 'K values'!W24, IF($C$7=\"Queensland\", 'K values'!AC24, IF($C$7=\"South Australia\", 'K values'!AI24, IF($C$7=\"Tasmania\", 'K values'!AO24, IF($C$7=\"Victoria\", 'K values'!AU24, IF($C$7=\"Western Australia\", 'K values'!BA24, \"\"))))))))","v":""}]
[{"$f":"IF($C$7=\"Australian Capital Territory\", 'K values'!G25, IF($C$7=\"New South Wales\", 'K values'!M25, IF($C$7=\"Northern Territory\", 'K values'!S25, IF($C$7=\"Queensland\", 'K values'!Y25, IF($C$7=\"South Australia\", 'K values'!AE25, IF($C$7=\"Tasmania\", 'K values'!AK25, IF($C$7=\"Victoria\", 'K values'!AQ25, IF($C$7=\"Western Australia\", 'K values'!AW25, \"\"))))))))","v":""},{"$f":"IF($C$7=\"Australian Capital Territory\", 'K values'!H25, IF($C$7=\"New South Wales\", 'K values'!N25, IF($C$7=\"Northern Territory\", 'K values'!T25, IF($C$7=\"Queensland\", 'K values'!Z25, IF($C$7=\"South Australia\", 'K values'!AF25, IF($C$7=\"Tasmania\", 'K values'!AL25, IF($C$7=\"Victoria\", 'K values'!AR25, IF($C$7=\"Western Australia\", 'K values'!AX25, \"\"))))))))","v":""},{"$f":"IF($C$7=\"Australian Capital Territory\", 'K values'!I25, IF($C$7=\"New South Wales\", 'K values'!O25, IF($C$7=\"Northern Territory\", 'K values'!U25, IF($C$7=\"Queensland\", 'K values'!AA25, IF($C$7=\"South Australia\", 'K values'!AG25, IF($C$7=\"Tasmania\", 'K values'!AM25, IF($C$7=\"Victoria\", 'K values'!AS25, IF($C$7=\"Western Australia\", 'K values'!AY25, \"\"))))))))","v":""},{"$f":"IF($C$7=\"Australian Capital Territory\", 'K values'!J25, IF($C$7=\"New South Wales\", 'K values'!P25, IF($C$7=\"Northern Territory\", 'K values'!V25, IF($C$7=\"Queensland\", 'K values'!AB25, IF($C$7=\"South Australia\", 'K values'!AH25, IF($C$7=\"Tasmania\", 'K values'!AN25, IF($C$7=\"Victoria\", 'K values'!AT25, IF($C$7=\"Western Australia\", 'K values'!AZ25, \"\"))))))))","v":""},{"$f":"IF($C$7=\"Australian Capital Territory\", 'K values'!K25, IF($C$7=\"New South Wales\", 'K values'!Q25, IF($C$7=\"Northern Territory\", 'K values'!W25, IF($C$7=\"Queensland\", 'K values'!AC25, IF($C$7=\"South Australia\", 'K values'!AI25, IF($C$7=\"Tasmania\", 'K values'!AO25, IF($C$7=\"Victoria\", 'K values'!AU25, IF($C$7=\"Western Australia\", 'K values'!BA25, \"\"))))))))","v":""}]
[{"$f":"IF($C$7=\"Australian Capital Territory\", 'K values'!G26, IF($C$7=\"New South Wales\", 'K values'!M26, IF($C$7=\"Northern Territory\", 'K values'!S26, IF($C$7=\"Queensland\", 'K values'!Y26, IF($C$7=\"South Australia\", 'K values'!AE26, IF($C$7=\"Tasmania\", 'K values'!AK26, IF($C$7=\"Victoria\", 'K values'!AQ26, IF($C$7=\"Western Australia\", 'K values'!AW26, \"\"))))))))","v":""},{"$f":"IF($C$7=\"Australian Capital Territory\", 'K values'!H26, IF($C$7=\"New South Wales\", 'K values'!N26, IF($C$7=\"Northern Territory\", 'K values'!T26, IF($C$7=\"Queensland\", 'K values'!Z26, IF($C$7=\"South Australia\", 'K values'!AF26, IF($C$7=\"Tasmania\", 'K values'!AL26, IF($C$7=\"Victoria\", 'K values'!AR26, IF($C$7=\"Western Australia\", 'K values'!AX26, \"\"))))))))","v":""},{"$f":"IF($C$7=\"Australian Capital Territory\", 'K values'!I26, IF($C$7=\"New South Wales\", 'K values'!O26, IF($C$7=\"Northern Territory\", 'K values'!U26, IF($C$7=\"Queensland\", 'K values'!AA26, IF($C$7=\"South Australia\", 'K values'!AG26, IF($C$7=\"Tasmania\", 'K values'!AM26, IF($C$7=\"Victoria\", 'K values'!AS26, IF($C$7=\"Western Australia\", 'K values'!AY26, \"\"))))))))","v":""},{"$f":"IF($C$7=\"Australian Capital Territory\", 'K values'!J26, IF($C$7=\"New South Wales\", 'K values'!P26, IF($C$7=\"Northern Territory\", 'K values'!V26, IF($C$7=\"Queensland\", 'K values'!AB26, IF($C$7=\"South Australia\", 'K values'!AH26, IF($C$7=\"Tasmania\", 'K values'!AN26, IF($C$7=\"Victoria\", 'K values'!AT26, IF($C$7=\"Western Australia\", 'K values'!AZ26, \"\"))))))))","v":""},{"$f":"IF($C$7=\"Australian Capital Territory\", 'K values'!K26, IF($C$7=\"New South Wales\", 'K values'!Q26, IF($C$7=\"Northern Territory\", 'K values'!W26, IF($C$7=\"Queensland\", 'K values'!AC26, IF($C$7=\"South Australia\", 'K values'!AI26, IF($C$7=\"Tasmania\", 'K values'!AO26, IF($C$7=\"Victoria\", 'K values'!AU26, IF($C$7=\"Western Australia\", 'K values'!BA26, \"\"))))))))","v":""}]
[{"$f":"IF($C$7=\"Australian Capital Territory\", 'K values'!G27, IF($C$7=\"New South Wales\", 'K values'!M27, IF($C$7=\"Northern Territory\", 'K values'!S27, IF($C$7=\"Queensland\", 'K values'!Y27, IF($C$7=\"South Australia\", 'K values'!AE27, IF($C$7=\"Tasmania\", 'K values'!AK27, IF($C$7=\"Victoria\", 'K values'!AQ27, IF($C$7=\"Western Australia\", 'K values'!AW27, \"\"))))))))","v":""},{"$f":"IF($C$7=\"Australian Capital Territory\", 'K values'!H27, IF($C$7=\"New South Wales\", 'K values'!N27, IF($C$7=\"Northern Territory\", 'K values'!T27, IF($C$7=\"Queensland\", 'K values'!Z27, IF($C$7=\"South Australia\", 'K values'!AF27, IF($C$7=\"Tasmania\", 'K values'!AL27, IF($C$7=\"Victoria\", 'K values'!AR27, IF($C$7=\"Western Australia\", 'K values'!AX27, \"\"))))))))","v":""},{"$f":"IF($C$7=\"Australian Capital Territory\", 'K values'!I27, IF($C$7=\"New South Wales\", 'K values'!O27, IF($C$7=\"Northern Territory\", 'K values'!U27, IF($C$7=\"Queensland\", 'K values'!AA27, IF($C$7=\"South Australia\", 'K values'!AG27, IF($C$7=\"Tasmania\", 'K values'!AM27, IF($C$7=\"Victoria\", 'K values'!AS27, IF($C$7=\"Western Australia\", 'K values'!AY27, \"\"))))))))","v":""},{"$f":"IF($C$7=\"Australian Capital Territory\", 'K values'!J27, IF($C$7=\"New South Wales\", 'K values'!P27, IF($C$7=\"Northern Territory\", 'K values'!V27, IF($C$7=\"Queensland\", 'K values'!AB27, IF($C$7=\"South Australia\", 'K values'!AH27, IF($C$7=\"Tasmania\", 'K values'!AN27, IF($C$7=\"Victoria\", 'K values'!AT27, IF($C$7=\"Western Australia\", 'K values'!AZ27, \"\"))))))))","v":""},{"$f":"IF($C$7=\"Australian Capital Territory\", 'K values'!K27, IF($C$7=\"New South Wales\", 'K values'!Q27, IF($C$7=\"Northern Territory\", 'K values'!W27, IF($C$7=\"Queensland\", 'K values'!AC27, IF($C$7=\"South Australia\", 'K values'!AI27, IF($C$7=\"Tasmania\", 'K values'!AO27, IF($C$7=\"Victoria\", 'K values'!AU27, IF($C$7=\"Western Australia\", 'K values'!BA27, \"\"))))))))","v":""}]
[{"$f":"IF($C$7=\"Australian Capital Territory\", 'K values'!G28, IF($C$7=\"New South Wales\", 'K values'!M28, IF($C$7=\"Northern Territory\", 'K values'!S28, IF($C$7=\"Queensland\", 'K values'!Y28, IF($C$7=\"South Australia\", 'K values'!AE28, IF($C$7=\"Tasmania\", 'K values'!AK28, IF($C$7=\"Victoria\", 'K values'!AQ28, IF($C$7=\"Western Australia\", 'K values'!AW28, \"\"))))))))","v":""},{"$f":"IF($C$7=\"Australian Capital Territory\", 'K values'!H28, IF($C$7=\"New South Wales\", 'K values'!N28, IF($C$7=\"Northern Territory\", 'K values'!T28, IF($C$7=\"Queensland\", 'K values'!Z28, IF($C$7=\"South Australia\", 'K values'!AF28, IF($C$7=\"Tasmania\", 'K values'!AL28, IF($C$7=\"Victoria\", 'K values'!AR28, IF($C$7=\"Western Australia\", 'K values'!AX28, \"\"))))))))","v":""},{"$f":"IF($C$7=\"Australian Capital Territory\", 'K values'!I28, IF($C$7=\"New South Wales\", 'K values'!O28, IF($C$7=\"Northern Territory\", 'K values'!U28, IF($C$7=\"Queensland\", 'K values'!AA28, IF($C$7=\"South Australia\", 'K values'!AG28, IF($C$7=\"Tasmania\", 'K values'!AM28, IF($C$7=\"Victoria\", 'K values'!AS28, IF($C$7=\"Western Australia\", 'K values'!AY28, \"\"))))))))","v":""},{"$f":"IF($C$7=\"Australian Capital Territory\", 'K values'!J28, IF($C$7=\"New South Wales\", 'K values'!P28, IF($C$7=\"Northern Territory\", 'K values'!V28, IF($C$7=\"Queensland\", 'K values'!AB28, IF($C$7=\"South Australia\", 'K values'!AH28, IF($C$7=\"Tasmania\", 'K values'!AN28, IF($C$7=\"Victoria\", 'K values'!AT28, IF($C$7=\"Western Australia\", 'K values'!AZ28, \"\"))))))))","v":""},{"$f":"IF($C$7=\"Australian Capital Territory\", 'K values'!K28, IF($C$7=\"New South Wales\", 'K values'!Q28, IF($C$7=\"Northern Territory\", 'K values'!W28, IF($C$7=\"Queensland\", 'K values'!AC28, IF($C$7=\"South Australia\", 'K values'!AI28, IF($C$7=\"Tasmania\", 'K values'!AO28, IF($C$7=\"Victoria\", 'K values'!AU28, IF($C$7=\"Western Australia\", 'K values'!BA28, \"\"))))))))","v":""}]
[{"$f":"IF($C$7=\"Australian Capital Territory\", 'K values'!G29, IF($C$7=\"New South Wales\", 'K values'!M29, IF($C$7=\"Northern Territory\", 'K values'!S29, IF($C$7=\"Queensland\", 'K values'!Y29, IF($C$7=\"South Australia\", 'K values'!AE29, IF($C$7=\"Tasmania\", 'K values'!AK29, IF($C$7=\"Victoria\", 'K values'!AQ29, IF($C$7=\"Western Australia\", 'K values'!AW29, \"\"))))))))","v":""},{"$f":"IF($C$7=\"Australian Capital Territory\", 'K values'!H29, IF($C$7=\"New South Wales\", 'K values'!N29, IF($C$7=\"Northern Territory\", 'K values'!T29, IF($C$7=\"Queensland\", 'K values'!Z29, IF($C$7=\"South Australia\", 'K values'!AF29, IF($C$7=\"Tasmania\", 'K values'!AL29, IF($C$7=\"Victoria\", 'K values'!AR29, IF($C$7=\"Western Australia\", 'K values'!AX29, \"\"))))))))","v":""},{"$f":"IF($C$7=\"Australian Capital Territory\", 'K values'!I29, IF($C$7=\"New South Wales\", 'K values'!O29, IF($C$7=\"Northern Territory\", 'K values'!U29, IF($C$7=\"Queensland\", 'K values'!AA29, IF($C$7=\"South Australia\", 'K values'!AG29, IF($C$7=\"Tasmania\", 'K values'!AM29, IF($C$7=\"Victoria\", 'K values'!AS29, IF($C$7=\"Western Australia\", 'K values'!AY29, \"\"))))))))","v":""},{"$f":"IF($C$7=\"Australian Capital Territory\", 'K values'!J29, IF($C$7=\"New South Wales\", 'K values'!P29, IF($C$7=\"Northern Territory\", 'K values'!V29, IF($C$7=\"Queensland\", 'K values'!AB29, IF($C$7=\"South Australia\", 'K values'!AH29, IF($C$7=\"Tasmania\", 'K values'!AN29, IF($C$7=\"Victoria\", 'K values'!AT29, IF($C$7=\"Western Australia\", 'K values'!AZ29, \"\"))))))))","v":""},{"$f":"IF($C$7=\"Australian Capital Territory\", 'K values'!K29, IF($C$7=\"New South Wales\", 'K values'!Q29, IF($C$7=\"Northern Territory\", 'K values'!W29, IF($C$7=\"Queensland\", 'K values'!AC29, IF($C$7=\"South Australia\", 'K values'!AI29, IF($C$7=\"Tasmania\", 'K values'!AO29, IF($C$7=\"Victoria\", 'K values'!AU29, IF($C$7=\"Western Australia\", 'K values'!BA29, \"\"))))))))","v":""}]
[{"$f":"IF($C$7=\"Australian Capital Territory\", 'K values'!G30, IF($C$7=\"New South Wales\", 'K values'!M30, IF($C$7=\"Northern Territory\", 'K values'!S30, IF($C$7=\"Queensland\", 'K values'!Y30, IF($C$7=\"South Australia\", 'K values'!AE30, IF($C$7=\"Tasmania\", 'K values'!AK30, IF($C$7=\"Victoria\", 'K values'!AQ30, IF($C$7=\"Western Australia\", 'K values'!AW30, \"\"))))))))","v":""},{"$f":"IF($C$7=\"Australian Capital Territory\", 'K values'!H30, IF($C$7=\"New South Wales\", 'K values'!N30, IF($C$7=\"Northern Territory\", 'K values'!T30, IF($C$7=\"Queensland\", 'K values'!Z30, IF($C$7=\"South Australia\", 'K values'!AF30, IF($C$7=\"Tasmania\", 'K values'!AL30, IF($C$7=\"Victoria\", 'K values'!AR30, IF($C$7=\"Western Australia\", 'K values'!AX30, \"\"))))))))","v":""},{"$f":"IF($C$7=\"Australian Capital Territory\", 'K values'!I30, IF($C$7=\"New South Wales\", 'K values'!O30, IF($C$7=\"Northern Territory\", 'K values'!U30, IF($C$7=\"Queensland\", 'K values'!AA30, IF($C$7=\"South Australia\", 'K values'!AG30, IF($C$7=\"Tasmania\", 'K values'!AM30, IF($C$7=\"Victoria\", 'K values'!AS30, IF($C$7=\"Western Australia\", 'K values'!AY30, \"\"))))))))","v":""},{"$f":"IF($C$7=\"Australian Capital Territory\", 'K values'!J30, IF($C$7=\"New South Wales\", 'K values'!P30, IF($C$7=\"Northern Territory\", 'K values'!V30, IF($C$7=\"Queensland\", 'K values'!AB30, IF($C$7=\"South Australia\", 'K values'!AH30, IF($C$7=\"Tasmania\", 'K values'!AN30, IF($C$7=\"Victoria\", 'K values'!AT30, IF($C$7=\"Western Australia\", 'K values'!AZ30, \"\"))))))))","v":""},{"$f":"IF($C$7=\"Australian Capital Territory\", 'K values'!K30, IF($C$7=\"New South Wales\", 'K values'!Q30, IF($C$7=\"Northern Territory\", 'K values'!W30, IF($C$7=\"Queensland\", 'K values'!AC30, IF($C$7=\"South Australia\", 'K values'!AI30, IF($C$7=\"Tasmania\", 'K values'!AO30, IF($C$7=\"Victoria\", 'K values'!AU30, IF($C$7=\"Western Australia\", 'K values'!BA30, \"\"))))))))","v":""}]
[{"$f":"IF($C$7=\"Australian Capital Territory\", 'K values'!G31, IF($C$7=\"New South Wales\", 'K values'!M31, IF($C$7=\"Northern Territory\", 'K values'!S31, IF($C$7=\"Queensland\", 'K values'!Y31, IF($C$7=\"South Australia\", 'K values'!AE31, IF($C$7=\"Tasmania\", 'K values'!AK31, IF($C$7=\"Victoria\", 'K values'!AQ31, IF($C$7=\"Western Australia\", 'K values'!AW31, \"\"))))))))","v":""},{"$f":"IF($C$7=\"Australian Capital Territory\", 'K values'!H31, IF($C$7=\"New South Wales\", 'K values'!N31, IF($C$7=\"Northern Territory\", 'K values'!T31, IF($C$7=\"Queensland\", 'K values'!Z31, IF($C$7=\"South Australia\", 'K values'!AF31, IF($C$7=\"Tasmania\", 'K values'!AL31, IF($C$7=\"Victoria\", 'K values'!AR31, IF($C$7=\"Western Australia\", 'K values'!AX31, \"\"))))))))","v":""},{"$f":"IF($C$7=\"Australian Capital Territory\", 'K values'!I31, IF($C$7=\"New South Wales\", 'K values'!O31, IF($C$7=\"Northern Territory\", 'K values'!U31, IF($C$7=\"Queensland\", 'K values'!AA31, IF($C$7=\"South Australia\", 'K values'!AG31, IF($C$7=\"Tasmania\", 'K values'!AM31, IF($C$7=\"Victoria\", 'K values'!AS31, IF($C$7=\"Western Australia\", 'K values'!AY31, \"\"))))))))","v":""},{"$f":"IF($C$7=\"Australian Capital Territory\", 'K values'!J31, IF($C$7=\"New South Wales\", 'K values'!P31, IF($C$7=\"Northern Territory\", 'K values'!V31, IF($C$7=\"Queensland\", 'K values'!AB31, IF($C$7=\"South Australia\", 'K values'!AH31, IF($C$7=\"Tasmania\", 'K values'!AN31, IF($C$7=\"Victoria\", 'K values'!AT31, IF($C$7=\"Western Australia\", 'K values'!AZ31, \"\"))))))))","v":""},{"$f":"IF($C$7=\"Australian Capital Territory\", 'K values'!K31, IF($C$7=\"New South Wales\", 'K values'!Q31, IF($C$7=\"Northern Territory\", 'K values'!W31, IF($C$7=\"Queensland\", 'K values'!AC31, IF($C$7=\"South Australia\", 'K values'!AI31, IF($C$7=\"Tasmania\", 'K values'!AO31, IF($C$7=\"Victoria\", 'K values'!AU31, IF($C$7=\"Western Australia\", 'K values'!BA31, \"\"))))))))","v":""}]
[{"$f":"IF($C$7=\"Australian Capital Territory\", 'K values'!G32, IF($C$7=\"New South Wales\", 'K values'!M32, IF($C$7=\"Northern Territory\", 'K values'!S32, IF($C$7=\"Queensland\", 'K values'!Y32, IF($C$7=\"South Australia\", 'K values'!AE32, IF($C$7=\"Tasmania\", 'K values'!AK32, IF($C$7=\"Victoria\", 'K values'!AQ32, IF($C$7=\"Western Australia\", 'K values'!AW32, \"\"))))))))","v":""},{"$f":"IF($C$7=\"Australian Capital Territory\", 'K values'!H32, IF($C$7=\"New South Wales\", 'K values'!N32, IF($C$7=\"Northern Territory\", 'K values'!T32, IF($C$7=\"Queensland\", 'K values'!Z32, IF($C$7=\"South Australia\", 'K values'!AF32, IF($C$7=\"Tasmania\", 'K values'!AL32, IF($C$7=\"Victoria\", 'K values'!AR32, IF($C$7=\"Western Australia\", 'K values'!AX32, \"\"))))))))","v":""},{"$f":"IF($C$7=\"Australian Capital Territory\", 'K values'!I32, IF($C$7=\"New South Wales\", 'K values'!O32, IF($C$7=\"Northern Territory\", 'K values'!U32, IF($C$7=\"Queensland\", 'K values'!AA32, IF($C$7=\"South Australia\", 'K values'!AG32, IF($C$7=\"Tasmania\", 'K values'!AM32, IF($C$7=\"Victoria\", 'K values'!AS32, IF($C$7=\"Western Australia\", 'K values'!AY32, \"\"))))))))","v":""},{"$f":"IF($C$7=\"Australian Capital Territory\", 'K values'!J32, IF($C$7=\"New South Wales\", 'K values'!P32, IF($C$7=\"Northern Territory\", 'K values'!V32, IF($C$7=\"Queensland\", 'K values'!AB32, IF($C$7=\"South Australia\", 'K values'!AH32, IF($C$7=\"Tasmania\", 'K values'!AN32, IF($C$7=\"Victoria\", 'K values'!AT32, IF($C$7=\"Western Australia\", 'K values'!AZ32, \"\"))))))))","v":""},{"$f":"IF($C$7=\"Australian Capital Territory\", 'K values'!K32, IF($C$7=\"New South Wales\", 'K values'!Q32, IF($C$7=\"Northern Territory\", 'K values'!W32, IF($C$7=\"Queensland\", 'K values'!AC32, IF($C$7=\"South Australia\", 'K values'!AI32, IF($C$7=\"Tasmania\", 'K values'!AO32, IF($C$7=\"Victoria\", 'K values'!AU32, IF($C$7=\"Western Australia\", 'K values'!BA32, \"\"))))))))","v":""}]
[{"$f":"IF($C$7=\"Australian Capital Territory\", 'K values'!G33, IF($C$7=\"New South Wales\", 'K values'!M33, IF($C$7=\"Northern Territory\", 'K values'!S33, IF($C$7=\"Queensland\", 'K values'!Y33, IF($C$7=\"South Australia\", 'K values'!AE33, IF($C$7=\"Tasmania\", 'K values'!AK33, IF($C$7=\"Victoria\", 'K values'!AQ33, IF($C$7=\"Western Australia\", 'K values'!AW33, \"\"))))))))","v":""},{"$f":"IF($C$7=\"Australian Capital Territory\", 'K values'!H33, IF($C$7=\"New South Wales\", 'K values'!N33, IF($C$7=\"Northern Territory\", 'K values'!T33, IF($C$7=\"Queensland\", 'K values'!Z33, IF($C$7=\"South Australia\", 'K values'!AF33, IF($C$7=\"Tasmania\", 'K values'!AL33, IF($C$7=\"Victoria\", 'K values'!AR33, IF($C$7=\"Western Australia\", 'K values'!AX33, \"\"))))))))","v":""},{"$f":"IF($C$7=\"Australian Capital Territory\", 'K values'!I33, IF($C$7=\"New South Wales\", 'K values'!O33, IF($C$7=\"Northern Territory\", 'K values'!U33, IF($C$7=\"Queensland\", 'K values'!AA33, IF($C$7=\"South Australia\", 'K values'!AG33, IF($C$7=\"Tasmania\", 'K values'!AM33, IF($C$7=\"Victoria\", 'K values'!AS33, IF($C$7=\"Western Australia\", 'K values'!AY33, \"\"))))))))","v":""},{"$f":"IF($C$7=\"Australian Capital Territory\", 'K values'!J33, IF($C$7=\"New South Wales\", 'K values'!P33, IF($C$7=\"Northern Territory\", 'K values'!V33, IF($C$7=\"Queensland\", 'K values'!AB33, IF($C$7=\"South Australia\", 'K values'!AH33, IF($C$7=\"Tasmania\", 'K values'!AN33, IF($C$7=\"Victoria\", 'K values'!AT33, IF($C$7=\"Western Australia\", 'K values'!AZ33, \"\"))))))))","v":""},{"$f":"IF($C$7=\"Australian Capital Territory\", 'K values'!K33, IF($C$7=\"New South Wales\", 'K values'!Q33, IF($C$7=\"Northern Territory\", 'K values'!W33, IF($C$7=\"Queensland\", 'K values'!AC33, IF($C$7=\"South Australia\", 'K values'!AI33, IF($C$7=\"Tasmania\", 'K values'!AO33, IF($C$7=\"Victoria\", 'K values'!AU33, IF($C$7=\"Western Australia\", 'K values'!BA33, \"\"))))))))","v":""}]
[{"$f":"IF($C$7=\"Australian Capital Territory\", 'K values'!G34, IF($C$7=\"New South Wales\", 'K values'!M34, IF($C$7=\"Northern Territory\", 'K values'!S34, IF($C$7=\"Queensland\", 'K values'!Y34, IF($C$7=\"South Australia\", 'K values'!AE34, IF($C$7=\"Tasmania\", 'K values'!AK34, IF($C$7=\"Victoria\", 'K values'!AQ34, IF($C$7=\"Western Australia\", 'K values'!AW34, \"\"))))))))","v":""},{"$f":"IF($C$7=\"Australian Capital Territory\", 'K values'!H34, IF($C$7=\"New South Wales\", 'K values'!N34, IF($C$7=\"Northern Territory\", 'K values'!T34, IF($C$7=\"Queensland\", 'K values'!Z34, IF($C$7=\"South Australia\", 'K values'!AF34, IF($C$7=\"Tasmania\", 'K values'!AL34, IF($C$7=\"Victoria\", 'K values'!AR34, IF($C$7=\"Western Australia\", 'K values'!AX34, \"\"))))))))","v":""},{"$f":"IF($C$7=\"Australian Capital Territory\", 'K values'!I34, IF($C$7=\"New South Wales\", 'K values'!O34, IF($C$7=\"Northern Territory\", 'K values'!U34, IF($C$7=\"Queensland\", 'K values'!AA34, IF($C$7=\"South Australia\", 'K values'!AG34, IF($C$7=\"Tasmania\", 'K values'!AM34, IF($C$7=\"Victoria\", 'K values'!AS34, IF($C$7=\"Western Australia\", 'K values'!AY34, \"\"))))))))","v":""},{"$f":"IF($C$7=\"Australian Capital Territory\", 'K values'!J34, IF($C$7=\"New South Wales\", 'K values'!P34, IF($C$7=\"Northern Territory\", 'K values'!V34, IF($C$7=\"Queensland\", 'K values'!AB34, IF($C$7=\"South Australia\", 'K values'!AH34, IF($C$7=\"Tasmania\", 'K values'!AN34, IF($C$7=\"Victoria\", 'K values'!AT34, IF($C$7=\"Western Australia\", 'K values'!AZ34, \"\"))))))))","v":""},{"$f":"IF($C$7=\"Australian Capital Territory\", 'K values'!K34, IF($C$7=\"New South Wales\", 'K values'!Q34, IF($C$7=\"Northern Territory\", 'K values'!W34, IF($C$7=\"Queensland\", 'K values'!AC34, IF($C$7=\"South Australia\", 'K values'!AI34, IF($C$7=\"Tasmania\", 'K values'!AO34, IF($C$7=\"Victoria\", 'K values'!AU34, IF($C$7=\"Western Australia\", 'K values'!BA34, \"\"))))))))","v":""}]
[{"$f":"IF($C$7=\"Australian Capital Territory\", 'K values'!G35, IF($C$7=\"New South Wales\", 'K values'!M35, IF($C$7=\"Northern Territory\", 'K values'!S35, IF($C$7=\"Queensland\", 'K values'!Y35, IF($C$7=\"South Australia\", 'K values'!AE35, IF($C$7=\"Tasmania\", 'K values'!AK35, IF($C$7=\"Victoria\", 'K values'!AQ35, IF($C$7=\"Western Australia\", 'K values'!AW35, \"\"))))))))","v":""},{"$f":"IF($C$7=\"Australian Capital Territory\", 'K values'!H35, IF($C$7=\"New South Wales\", 'K values'!N35, IF($C$7=\"Northern Territory\", 'K values'!T35, IF($C$7=\"Queensland\", 'K values'!Z35, IF($C$7=\"South Australia\", 'K values'!AF35, IF($C$7=\"Tasmania\", 'K values'!AL35, IF($C$7=\"Victoria\", 'K values'!AR35, IF($C$7=\"Western Australia\", 'K values'!AX35, \"\"))))))))","v":""},{"$f":"IF($C$7=\"Australian Capital Territory\", 'K values'!I35, IF($C$7=\"New South Wales\", 'K values'!O35, IF($C$7=\"Northern Territory\", 'K values'!U35, IF($C$7=\"Queensland\", 'K values'!AA35, IF($C$7=\"South Australia\", 'K values'!AG35, IF($C$7=\"Tasmania\", 'K values'!AM35, IF($C$7=\"Victoria\", 'K values'!AS35, IF($C$7=\"Western Australia\", 'K values'!AY35, \"\"))))))))","v":""},{"$f":"IF($C$7=\"Australian Capital Territory\", 'K values'!J35, IF($C$7=\"New South Wales\", 'K values'!P35, IF($C$7=\"Northern Territory\", 'K values'!V35, IF($C$7=\"Queensland\", 'K values'!AB35, IF($C$7=\"South Australia\", 'K values'!AH35, IF($C$7=\"Tasmania\", 'K values'!AN35, IF($C$7=\"Victoria\", 'K values'!AT35, IF($C$7=\"Western Australia\", 'K values'!AZ35, \"\"))))))))","v":""},{"$f":"IF($C$7=\"Australian Capital Territory\", 'K values'!K35, IF($C$7=\"New South Wales\", 'K values'!Q35, IF($C$7=\"Northern Territory\", 'K values'!W35, IF($C$7=\"Queensland\", 'K values'!AC35, IF($C$7=\"South Australia\", 'K values'!AI35, IF($C$7=\"Tasmania\", 'K values'!AO35, IF($C$7=\"Victoria\", 'K values'!AU35, IF($C$7=\"Western Australia\", 'K values'!BA35, \"\"))))))))","v":""}]
[{"$f":"IF($C$7=\"Australian Capital Territory\", 'K values'!G36, IF($C$7=\"New South Wales\", 'K values'!M36, IF($C$7=\"Northern Territory\", 'K values'!S36, IF($C$7=\"Queensland\", 'K values'!Y36, IF($C$7=\"South Australia\", 'K values'!AE36, IF($C$7=\"Tasmania\", 'K values'!AK36, IF($C$7=\"Victoria\", 'K values'!AQ36, IF($C$7=\"Western Australia\", 'K values'!AW36, \"\"))))))))","v":""},{"$f":"IF($C$7=\"Australian Capital Territory\", 'K values'!H36, IF($C$7=\"New South Wales\", 'K values'!N36, IF($C$7=\"Northern Territory\", 'K values'!T36, IF($C$7=\"Queensland\", 'K values'!Z36, IF($C$7=\"South Australia\", 'K values'!AF36, IF($C$7=\"Tasmania\", 'K values'!AL36, IF($C$7=\"Victoria\", 'K values'!AR36, IF($C$7=\"Western Australia\", 'K values'!AX36, \"\"))))))))","v":""},{"$f":"IF($C$7=\"Australian Capital Territory\", 'K values'!I36, IF($C$7=\"New South Wales\", 'K values'!O36, IF($C$7=\"Northern Territory\", 'K values'!U36, IF($C$7=\"Queensland\", 'K values'!AA36, IF($C$7=\"South Australia\", 'K values'!AG36, IF($C$7=\"Tasmania\", 'K values'!AM36, IF($C$7=\"Victoria\", 'K values'!AS36, IF($C$7=\"Western Australia\", 'K values'!AY36, \"\"))))))))","v":""},{"$f":"IF($C$7=\"Australian Capital Territory\", 'K values'!J36, IF($C$7=\"New South Wales\", 'K values'!P36, IF($C$7=\"Northern Territory\", 'K values'!V36, IF($C$7=\"Queensland\", 'K values'!AB36, IF($C$7=\"South Australia\", 'K values'!AH36, IF($C$7=\"Tasmania\", 'K values'!AN36, IF($C$7=\"Victoria\", 'K values'!AT36, IF($C$7=\"Western Australia\", 'K values'!AZ36, \"\"))))))))","v":""},{"$f":"IF($C$7=\"Australian Capital Territory\", 'K values'!K36, IF($C$7=\"New South Wales\", 'K values'!Q36, IF($C$7=\"Northern Territory\", 'K values'!W36, IF($C$7=\"Queensland\", 'K values'!AC36, IF($C$7=\"South Australia\", 'K values'!AI36, IF($C$7=\"Tasmania\", 'K values'!AO36, IF($C$7=\"Victoria\", 'K values'!AU36, IF($C$7=\"Western Australia\", 'K values'!BA36, \"\"))))))))","v":""}]
[{"$f":"IF($C$7=\"Australian Capital Territory\", 'K values'!G37, IF($C$7=\"New South Wales\", 'K values'!M37, IF($C$7=\"Northern Territory\", 'K values'!S37, IF($C$7=\"Queensland\", 'K values'!Y37, IF($C$7=\"South Australia\", 'K values'!AE37, IF($C$7=\"Tasmania\", 'K values'!AK37, IF($C$7=\"Victoria\", 'K values'!AQ37, IF($C$7=\"Western Australia\", 'K values'!AW37, \"\"))))))))","v":""},{"$f":"IF($C$7=\"Australian Capital Territory\", 'K values'!H37, IF($C$7=\"New South Wales\", 'K values'!N37, IF($C$7=\"Northern Territory\", 'K values'!T37, IF($C$7=\"Queensland\", 'K values'!Z37, IF($C$7=\"South Australia\", 'K values'!AF37, IF($C$7=\"Tasmania\", 'K values'!AL37, IF($C$7=\"Victoria\", 'K values'!AR37, IF($C$7=\"Western Australia\", 'K values'!AX37, \"\"))))))))","v":""},{"$f":"IF($C$7=\"Australian Capital Territory\", 'K values'!I37, IF($C$7=\"New South Wales\", 'K values'!O37, IF($C$7=\"Northern Territory\", 'K values'!U37, IF($C$7=\"Queensland\", 'K values'!AA37, IF($C$7=\"South Australia\", 'K values'!AG37, IF($C$7=\"Tasmania\", 'K values'!AM37, IF($C$7=\"Victoria\", 'K values'!AS37, IF($C$7=\"Western Australia\", 'K values'!AY37, \"\"))))))))","v":""},{"$f":"IF($C$7=\"Australian Capital Territory\", 'K values'!J37, IF($C$7=\"New South Wales\", 'K values'!P37, IF($C$7=\"Northern Territory\", 'K values'!V37, IF($C$7=\"Queensland\", 'K values'!AB37, IF($C$7=\"South Australia\", 'K values'!AH37, IF($C$7=\"Tasmania\", 'K values'!AN37, IF($C$7=\"Victoria\", 'K values'!AT37, IF($C$7=\"Western Australia\", 'K values'!AZ37, \"\"))))))))","v":""},{"$f":"IF($C$7=\"Australian Capital Territory\", 'K values'!K37, IF($C$7=\"New South Wales\", 'K values'!Q37, IF($C$7=\"Northern Territory\", 'K values'!W37, IF($C$7=\"Queensland\", 'K values'!AC37, IF($C$7=\"South Australia\", 'K values'!AI37, IF($C$7=\"Tasmania\", 'K values'!AO37, IF($C$7=\"Victoria\", 'K values'!AU37, IF($C$7=\"Western Australia\", 'K values'!BA37, \"\"))))))))","v":""}]
[{"$f":"IF($C$7=\"Australian Capital Territory\", 'K values'!G38, IF($C$7=\"New South Wales\", 'K values'!M38, IF($C$7=\"Northern Territory\", 'K values'!S38, IF($C$7=\"Queensland\", 'K values'!Y38, IF($C$7=\"South Australia\", 'K values'!AE38, IF($C$7=\"Tasmania\", 'K values'!AK38, IF($C$7=\"Victoria\", 'K values'!AQ38, IF($C$7=\"Western Australia\", 'K values'!AW38, \"\"))))))))","v":""},{"$f":"IF($C$7=\"Australian Capital Territory\", 'K values'!H38, IF($C$7=\"New South Wales\", 'K values'!N38, IF($C$7=\"Northern Territory\", 'K values'!T38, IF($C$7=\"Queensland\", 'K values'!Z38, IF($C$7=\"South Australia\", 'K values'!AF38, IF($C$7=\"Tasmania\", 'K values'!AL38, IF($C$7=\"Victoria\", 'K values'!AR38, IF($C$7=\"Western Australia\", 'K values'!AX38, \"\"))))))))","v":""},{"$f":"IF($C$7=\"Australian Capital Territory\", 'K values'!I38, IF($C$7=\"New South Wales\", 'K values'!O38, IF($C$7=\"Northern Territory\", 'K values'!U38, IF($C$7=\"Queensland\", 'K values'!AA38, IF($C$7=\"South Australia\", 'K values'!AG38, IF($C$7=\"Tasmania\", 'K values'!AM38, IF($C$7=\"Victoria\", 'K values'!AS38, IF($C$7=\"Western Australia\", 'K values'!AY38, \"\"))))))))","v":""},{"$f":"IF($C$7=\"Australian Capital Territory\", 'K values'!J38, IF($C$7=\"New South Wales\", 'K values'!P38, IF($C$7=\"Northern Territory\", 'K values'!V38, IF($C$7=\"Queensland\", 'K values'!AB38, IF($C$7=\"South Australia\", 'K values'!AH38, IF($C$7=\"Tasmania\", 'K values'!AN38, IF($C$7=\"Victoria\", 'K values'!AT38, IF($C$7=\"Western Australia\", 'K values'!AZ38, \"\"))))))))","v":""},{"$f":"IF($C$7=\"Australian Capital Territory\", 'K values'!K38, IF($C$7=\"New South Wales\", 'K values'!Q38, IF($C$7=\"Northern Territory\", 'K values'!W38, IF($C$7=\"Queensland\", 'K values'!AC38, IF($C$7=\"South Australia\", 'K values'!AI38, IF($C$7=\"Tasmania\", 'K values'!AO38, IF($C$7=\"Victoria\", 'K values'!AU38, IF($C$7=\"Western Australia\", 'K values'!BA38, \"\"))))))))","v":""}]
[{"$f":"IF($C$7=\"Australian Capital Territory\", 'K values'!G39, IF($C$7=\"New South Wales\", 'K values'!M39, IF($C$7=\"Northern Territory\", 'K values'!S39, IF($C$7=\"Queensland\", 'K values'!Y39, IF($C$7=\"South Australia\", 'K values'!AE39, IF($C$7=\"Tasmania\", 'K values'!AK39, IF($C$7=\"Victoria\", 'K values'!AQ39, IF($C$7=\"Western Australia\", 'K values'!AW39, \"\"))))))))","v":""},{"$f":"IF($C$7=\"Australian Capital Territory\", 'K values'!H39, IF($C$7=\"New South Wales\", 'K values'!N39, IF($C$7=\"Northern Territory\", 'K values'!T39, IF($C$7=\"Queensland\", 'K values'!Z39, IF($C$7=\"South Australia\", 'K values'!AF39, IF($C$7=\"Tasmania\", 'K values'!AL39, IF($C$7=\"Victoria\", 'K values'!AR39, IF($C$7=\"Western Australia\", 'K values'!AX39, \"\"))))))))","v":""},{"$f":"IF($C$7=\"Australian Capital Territory\", 'K values'!I39, IF($C$7=\"New South Wales\", 'K values'!O39, IF($C$7=\"Northern Territory\", 'K values'!U39, IF($C$7=\"Queensland\", 'K values'!AA39, IF($C$7=\"South Australia\", 'K values'!AG39, IF($C$7=\"Tasmania\", 'K values'!AM39, IF($C$7=\"Victoria\", 'K values'!AS39, IF($C$7=\"Western Australia\", 'K values'!AY39, \"\"))))))))","v":""},{"$f":"IF($C$7=\"Australian Capital Territory\", 'K values'!J39, IF($C$7=\"New South Wales\", 'K values'!P39, IF($C$7=\"Northern Territory\", 'K values'!V39, IF($C$7=\"Queensland\", 'K values'!AB39, IF($C$7=\"South Australia\", 'K values'!AH39, IF($C$7=\"Tasmania\", 'K values'!AN39, IF($C$7=\"Victoria\", 'K values'!AT39, IF($C$7=\"Western Australia\", 'K values'!AZ39, \"\"))))))))","v":""},{"$f":"IF($C$7=\"Australian Capital Territory\", 'K values'!K39, IF($C$7=\"New South Wales\", 'K values'!Q39, IF($C$7=\"Northern Territory\", 'K values'!W39, IF($C$7=\"Queensland\", 'K values'!AC39, IF($C$7=\"South Australia\", 'K values'!AI39, IF($C$7=\"Tasmania\", 'K values'!AO39, IF($C$7=\"Victoria\", 'K values'!AU39, IF($C$7=\"Western Australia\", 'K values'!BA39, \"\"))))))))","v":""}]
[{"$f":"IF($C$7=\"Australian Capital Territory\", 'K values'!G40, IF($C$7=\"New South Wales\", 'K values'!M40, IF($C$7=\"Northern Territory\", 'K values'!S40, IF($C$7=\"Queensland\", 'K values'!Y40, IF($C$7=\"South Australia\", 'K values'!AE40, IF($C$7=\"Tasmania\", 'K values'!AK40, IF($C$7=\"Victoria\", 'K values'!AQ40, IF($C$7=\"Western Australia\", 'K values'!AW40, \"\"))))))))","v":""},{"$f":"IF($C$7=\"Australian Capital Territory\", 'K values'!H40, IF($C$7=\"New South Wales\", 'K values'!N40, IF($C$7=\"Northern Territory\", 'K values'!T40, IF($C$7=\"Queensland\", 'K values'!Z40, IF($C$7=\"South Australia\", 'K values'!AF40, IF($C$7=\"Tasmania\", 'K values'!AL40, IF($C$7=\"Victoria\", 'K values'!AR40, IF($C$7=\"Western Australia\", 'K values'!AX40, \"\"))))))))","v":""},{"$f":"IF($C$7=\"Australian Capital Territory\", 'K values'!I40, IF($C$7=\"New South Wales\", 'K values'!O40, IF($C$7=\"Northern Territory\", 'K values'!U40, IF($C$7=\"Queensland\", 'K values'!AA40, IF($C$7=\"South Australia\", 'K values'!AG40, IF($C$7=\"Tasmania\", 'K values'!AM40, IF($C$7=\"Victoria\", 'K values'!AS40, IF($C$7=\"Western Australia\", 'K values'!AY40, \"\"))))))))","v":""},{"$f":"IF($C$7=\"Australian Capital Territory\", 'K values'!J40, IF($C$7=\"New South Wales\", 'K values'!P40, IF($C$7=\"Northern Territory\", 'K values'!V40, IF($C$7=\"Queensland\", 'K values'!AB40, IF($C$7=\"South Australia\", 'K values'!AH40, IF($C$7=\"Tasmania\", 'K values'!AN40, IF($C$7=\"Victoria\", 'K values'!AT40, IF($C$7=\"Western Australia\", 'K values'!AZ40, \"\"))))))))","v":""},{"$f":"IF($C$7=\"Australian Capital Territory\", 'K values'!K40, IF($C$7=\"New South Wales\", 'K values'!Q40, IF($C$7=\"Northern Territory\", 'K values'!W40, IF($C$7=\"Queensland\", 'K values'!AC40, IF($C$7=\"South Australia\", 'K values'!AI40, IF($C$7=\"Tasmania\", 'K values'!AO40, IF($C$7=\"Victoria\", 'K values'!AU40, IF($C$7=\"Western Australia\", 'K values'!BA40, \"\"))))))))","v":""}]
[{"$f":"IF($C$7=\"Australian Capital Territory\", 'K values'!G41, IF($C$7=\"New South Wales\", 'K values'!M41, IF($C$7=\"Northern Territory\", 'K values'!S41, IF($C$7=\"Queensland\", 'K values'!Y41, IF($C$7=\"South Australia\", 'K values'!AE41, IF($C$7=\"Tasmania\", 'K values'!AK41, IF($C$7=\"Victoria\", 'K values'!AQ41, IF($C$7=\"Western Australia\", 'K values'!AW41, \"\"))))))))","v":""},{"$f":"IF($C$7=\"Australian Capital Territory\", 'K values'!H41, IF($C$7=\"New South Wales\", 'K values'!N41, IF($C$7=\"Northern Territory\", 'K values'!T41, IF($C$7=\"Queensland\", 'K values'!Z41, IF($C$7=\"South Australia\", 'K values'!AF41, IF($C$7=\"Tasmania\", 'K values'!AL41, IF($C$7=\"Victoria\", 'K values'!AR41, IF($C$7=\"Western Australia\", 'K values'!AX41, \"\"))))))))","v":""},{"$f":"IF($C$7=\"Australian Capital Territory\", 'K values'!I41, IF($C$7=\"New South Wales\", 'K values'!O41, IF($C$7=\"Northern Territory\", 'K values'!U41, IF($C$7=\"Queensland\", 'K values'!AA41, IF($C$7=\"South Australia\", 'K values'!AG41, IF($C$7=\"Tasmania\", 'K values'!AM41, IF($C$7=\"Victoria\", 'K values'!AS41, IF($C$7=\"Western Australia\", 'K values'!AY41, \"\"))))))))","v":""},{"$f":"IF($C$7=\"Australian Capital Territory\", 'K values'!J41, IF($C$7=\"New South Wales\", 'K values'!P41, IF($C$7=\"Northern Territory\", 'K values'!V41, IF($C$7=\"Queensland\", 'K values'!AB41, IF($C$7=\"South Australia\", 'K values'!AH41, IF($C$7=\"Tasmania\", 'K values'!AN41, IF($C$7=\"Victoria\", 'K values'!AT41, IF($C$7=\"Western Australia\", 'K values'!AZ41, \"\"))))))))","v":""},{"$f":"IF($C$7=\"Australian Capital Territory\", 'K values'!K41, IF($C$7=\"New South Wales\", 'K values'!Q41, IF($C$7=\"Northern Territory\", 'K values'!W41, IF($C$7=\"Queensland\", 'K values'!AC41, IF($C$7=\"South Australia\", 'K values'!AI41, IF($C$7=\"Tasmania\", 'K values'!AO41, IF($C$7=\"Victoria\", 'K values'!AU41, IF($C$7=\"Western Australia\", 'K values'!BA41, \"\"))))))))","v":""}]
[{"$f":"IF($C$7=\"Australian Capital Territory\", 'K values'!G42, IF($C$7=\"New South Wales\", 'K values'!M42, IF($C$7=\"Northern Territory\", 'K values'!S42, IF($C$7=\"Queensland\", 'K values'!Y42, IF($C$7=\"South Australia\", 'K values'!AE42, IF($C$7=\"Tasmania\", 'K values'!AK42, IF($C$7=\"Victoria\", 'K values'!AQ42, IF($C$7=\"Western Australia\", 'K values'!AW42, \"\"))))))))","v":""},{"$f":"IF($C$7=\"Australian Capital Territory\", 'K values'!H42, IF($C$7=\"New South Wales\", 'K values'!N42, IF($C$7=\"Northern Territory\", 'K values'!T42, IF($C$7=\"Queensland\", 'K values'!Z42, IF($C$7=\"South Australia\", 'K values'!AF42, IF($C$7=\"Tasmania\", 'K values'!AL42, IF($C$7=\"Victoria\", 'K values'!AR42, IF($C$7=\"Western Australia\", 'K values'!AX42, \"\"))))))))","v":""},{"$f":"IF($C$7=\"Australian Capital Territory\", 'K values'!I42, IF($C$7=\"New South Wales\", 'K values'!O42, IF($C$7=\"Northern Territory\", 'K values'!U42, IF($C$7=\"Queensland\", 'K values'!AA42, IF($C$7=\"South Australia\", 'K values'!AG42, IF($C$7=\"Tasmania\", 'K values'!AM42, IF($C$7=\"Victoria\", 'K values'!AS42, IF($C$7=\"Western Australia\", 'K values'!AY42, \"\"))))))))","v":""},{"$f":"IF($C$7=\"Australian Capital Territory\", 'K values'!J42, IF($C$7=\"New South Wales\", 'K values'!P42, IF($C$7=\"Northern Territory\", 'K values'!V42, IF($C$7=\"Queensland\", 'K values'!AB42, IF($C$7=\"South Australia\", 'K values'!AH42, IF($C$7=\"Tasmania\", 'K values'!AN42, IF($C$7=\"Victoria\", 'K values'!AT42, IF($C$7=\"Western Australia\", 'K values'!AZ42, \"\"))))))))","v":""},{"$f":"IF($C$7=\"Australian Capital Territory\", 'K values'!K42, IF($C$7=\"New South Wales\", 'K values'!Q42, IF($C$7=\"Northern Territory\", 'K values'!W42, IF($C$7=\"Queensland\", 'K values'!AC42, IF($C$7=\"South Australia\", 'K values'!AI42, IF($C$7=\"Tasmania\", 'K values'!AO42, IF($C$7=\"Victoria\", 'K values'!AU42, IF($C$7=\"Western Australia\", 'K values'!BA42, \"\"))))))))","v":""}]
[{"$f":"IF($C$7=\"Australian Capital Territory\", 'K values'!G43, IF($C$7=\"New South Wales\", 'K values'!M43, IF($C$7=\"Northern Territory\", 'K values'!S43, IF($C$7=\"Queensland\", 'K values'!Y43, IF($C$7=\"South Australia\", 'K values'!AE43, IF($C$7=\"Tasmania\", 'K values'!AK43, IF($C$7=\"Victoria\", 'K values'!AQ43, IF($C$7=\"Western Australia\", 'K values'!AW43, \"\"))))))))","v":""},{"$f":"IF($C$7=\"Australian Capital Territory\", 'K values'!H43, IF($C$7=\"New South Wales\", 'K values'!N43, IF($C$7=\"Northern Territory\", 'K values'!T43, IF($C$7=\"Queensland\", 'K values'!Z43, IF($C$7=\"South Australia\", 'K values'!AF43, IF($C$7=\"Tasmania\", 'K values'!AL43, IF($C$7=\"Victoria\", 'K values'!AR43, IF($C$7=\"Western Australia\", 'K values'!AX43, \"\"))))))))","v":""},{"$f":"IF($C$7=\"Australian Capital Territory\", 'K values'!I43, IF($C$7=\"New South Wales\", 'K values'!O43, IF($C$7=\"Northern Territory\", 'K values'!U43, IF($C$7=\"Queensland\", 'K values'!AA43, IF($C$7=\"South Australia\", 'K values'!AG43, IF($C$7=\"Tasmania\", 'K values'!AM43, IF($C$7=\"Victoria\", 'K values'!AS43, IF($C$7=\"Western Australia\", 'K values'!AY43, \"\"))))))))","v":""},{"$f":"IF($C$7=\"Australian Capital Territory\", 'K values'!J43, IF($C$7=\"New South Wales\", 'K values'!P43, IF($C$7=\"Northern Territory\", 'K values'!V43, IF($C$7=\"Queensland\", 'K values'!AB43, IF($C$7=\"South Australia\", 'K values'!AH43, IF($C$7=\"Tasmania\", 'K values'!AN43, IF($C$7=\"Victoria\", 'K values'!AT43, IF($C$7=\"Western Australia\", 'K values'!AZ43, \"\"))))))))","v":""},{"$f":"IF($C$7=\"Australian Capital Territory\", 'K values'!K43, IF($C$7=\"New South Wales\", 'K values'!Q43, IF($C$7=\"Northern Territory\", 'K values'!W43, IF($C$7=\"Queensland\", 'K values'!AC43, IF($C$7=\"South Australia\", 'K values'!AI43, IF($C$7=\"Tasmania\", 'K values'!AO43, IF($C$7=\"Victoria\", 'K values'!AU43, IF($C$7=\"Western Australia\", 'K values'!BA43, \"\"))))))))","v":""}]
[{"$f":"IF($C$7=\"Australian Capital Territory\", 'K values'!G44, IF($C$7=\"New South Wales\", 'K values'!M44, IF($C$7=\"Northern Territory\", 'K values'!S44, IF($C$7=\"Queensland\", 'K values'!Y44, IF($C$7=\"South Australia\", 'K values'!AE44, IF($C$7=\"Tasmania\", 'K values'!AK44, IF($C$7=\"Victoria\", 'K values'!AQ44, IF($C$7=\"Western Australia\", 'K values'!AW44, \"\"))))))))","v":""},{"$f":"IF($C$7=\"Australian Capital Territory\", 'K values'!H44, IF($C$7=\"New South Wales\", 'K values'!N44, IF($C$7=\"Northern Territory\", 'K values'!T44, IF($C$7=\"Queensland\", 'K values'!Z44, IF($C$7=\"South Australia\", 'K values'!AF44, IF($C$7=\"Tasmania\", 'K values'!AL44, IF($C$7=\"Victoria\", 'K values'!AR44, IF($C$7=\"Western Australia\", 'K values'!AX44, \"\"))))))))","v":""},{"$f":"IF($C$7=\"Australian Capital Territory\", 'K values'!I44, IF($C$7=\"New South Wales\", 'K values'!O44, IF($C$7=\"Northern Territory\", 'K values'!U44, IF($C$7=\"Queensland\", 'K values'!AA44, IF($C$7=\"South Australia\", 'K values'!AG44, IF($C$7=\"Tasmania\", 'K values'!AM44, IF($C$7=\"Victoria\", 'K values'!AS44, IF($C$7=\"Western Australia\", 'K values'!AY44, \"\"))))))))","v":""},{"$f":"IF($C$7=\"Australian Capital Territory\", 'K values'!J44, IF($C$7=\"New South Wales\", 'K values'!P44, IF($C$7=\"Northern Territory\", 'K values'!V44, IF($C$7=\"Queensland\", 'K values'!AB44, IF($C$7=\"South Australia\", 'K values'!AH44, IF($C$7=\"Tasmania\", 'K values'!AN44, IF($C$7=\"Victoria\", 'K values'!AT44, IF($C$7=\"Western Australia\", 'K values'!AZ44, \"\"))))))))","v":""},{"$f":"IF($C$7=\"Australian Capital Territory\", 'K values'!K44, IF($C$7=\"New South Wales\", 'K values'!Q44, IF($C$7=\"Northern Territory\", 'K values'!W44, IF($C$7=\"Queensland\", 'K values'!AC44, IF($C$7=\"South Australia\", 'K values'!AI44, IF($C$7=\"Tasmania\", 'K values'!AO44, IF($C$7=\"Victoria\", 'K values'!AU44, IF($C$7=\"Western Australia\", 'K values'!BA44, \"\"))))))))","v":""}]
[{"$f":"IF($C$7=\"Australian Capital Territory\", 'K values'!G45, IF($C$7=\"New South Wales\", 'K values'!M45, IF($C$7=\"Northern Territory\", 'K values'!S45, IF($C$7=\"Queensland\", 'K values'!Y45, IF($C$7=\"South Australia\", 'K values'!AE45, IF($C$7=\"Tasmania\", 'K values'!AK45, IF($C$7=\"Victoria\", 'K values'!AQ45, IF($C$7=\"Western Australia\", 'K values'!AW45, \"\"))))))))","v":""},{"$f":"IF($C$7=\"Australian Capital Territory\", 'K values'!H45, IF($C$7=\"New South Wales\", 'K values'!N45, IF($C$7=\"Northern Territory\", 'K values'!T45, IF($C$7=\"Queensland\", 'K values'!Z45, IF($C$7=\"South Australia\", 'K values'!AF45, IF($C$7=\"Tasmania\", 'K values'!AL45, IF($C$7=\"Victoria\", 'K values'!AR45, IF($C$7=\"Western Australia\", 'K values'!AX45, \"\"))))))))","v":""},{"$f":"IF($C$7=\"Australian Capital Territory\", 'K values'!I45, IF($C$7=\"New South Wales\", 'K values'!O45, IF($C$7=\"Northern Territory\", 'K values'!U45, IF($C$7=\"Queensland\", 'K values'!AA45, IF($C$7=\"South Australia\", 'K values'!AG45, IF($C$7=\"Tasmania\", 'K values'!AM45, IF($C$7=\"Victoria\", 'K values'!AS45, IF($C$7=\"Western Australia\", 'K values'!AY45, \"\"))))))))","v":""},{"$f":"IF($C$7=\"Australian Capital Territory\", 'K values'!J45, IF($C$7=\"New South Wales\", 'K values'!P45, IF($C$7=\"Northern Territory\", 'K values'!V45, IF($C$7=\"Queensland\", 'K values'!AB45, IF($C$7=\"South Australia\", 'K values'!AH45, IF($C$7=\"Tasmania\", 'K values'!AN45, IF($C$7=\"Victoria\", 'K values'!AT45, IF($C$7=\"Western Australia\", 'K values'!AZ45, \"\"))))))))","v":""},{"$f":"IF($C$7=\"Australian Capital Territory\", 'K values'!K45, IF($C$7=\"New South Wales\", 'K values'!Q45, IF($C$7=\"Northern Territory\", 'K values'!W45, IF($C$7=\"Queensland\", 'K values'!AC45, IF($C$7=\"South Australia\", 'K values'!AI45, IF($C$7=\"Tasmania\", 'K values'!AO45, IF($C$7=\"Victoria\", 'K values'!AU45, IF($C$7=\"Western Australia\", 'K values'!BA45, \"\"))))))))","v":""}]
[{"$f":"IF($C$7=\"Australian Capital Territory\", 'K values'!G46, IF($C$7=\"New South Wales\", 'K values'!M46, IF($C$7=\"Northern Territory\", 'K values'!S46, IF($C$7=\"Queensland\", 'K values'!Y46, IF($C$7=\"South Australia\", 'K values'!AE46, IF($C$7=\"Tasmania\", 'K values'!AK46, IF($C$7=\"Victoria\", 'K values'!AQ46, IF($C$7=\"Western Australia\", 'K values'!AW46, \"\"))))))))","v":""},{"$f":"IF($C$7=\"Australian Capital Territory\", 'K values'!H46, IF($C$7=\"New South Wales\", 'K values'!N46, IF($C$7=\"Northern Territory\", 'K values'!T46, IF($C$7=\"Queensland\", 'K values'!Z46, IF($C$7=\"South Australia\", 'K values'!AF46, IF($C$7=\"Tasmania\", 'K values'!AL46, IF($C$7=\"Victoria\", 'K values'!AR46, IF($C$7=\"Western Australia\", 'K values'!AX46, \"\"))))))))","v":""},{"$f":"IF($C$7=\"Australian Capital Territory\", 'K values'!I46, IF($C$7=\"New South Wales\", 'K values'!O46, IF($C$7=\"Northern Territory\", 'K values'!U46, IF($C$7=\"Queensland\", 'K values'!AA46, IF($C$7=\"South Australia\", 'K values'!AG46, IF($C$7=\"Tasmania\", 'K values'!AM46, IF($C$7=\"Victoria\", 'K values'!AS46, IF($C$7=\"Western Australia\", 'K values'!AY46, \"\"))))))))","v":""},{"$f":"IF($C$7=\"Australian Capital Territory\", 'K values'!J46, IF($C$7=\"New South Wales\", 'K values'!P46, IF($C$7=\"Northern Territory\", 'K values'!V46, IF($C$7=\"Queensland\", 'K values'!AB46, IF($C$7=\"South Australia\", 'K values'!AH46, IF($C$7=\"Tasmania\", 'K values'!AN46, IF($C$7=\"Victoria\", 'K values'!AT46, IF($C$7=\"Western Australia\", 'K values'!AZ46, \"\"))))))))","v":""},{"$f":"IF($C$7=\"Australian Capital Territory\", 'K values'!K46, IF($C$7=\"New South Wales\", 'K values'!Q46, IF($C$7=\"Northern Territory\", 'K values'!W46, IF($C$7=\"Queensland\", 'K values'!AC46, IF($C$7=\"South Australia\", 'K values'!AI46, IF($C$7=\"Tasmania\", 'K values'!AO46, IF($C$7=\"Victoria\", 'K values'!AU46, IF($C$7=\"Western Australia\", 'K values'!BA46, \"\"))))))))","v":""}]
[{"$f":"IF($C$7=\"Australian Capital Territory\", 'K values'!G47, IF($C$7=\"New South Wales\", 'K values'!M47, IF($C$7=\"Northern Territory\", 'K values'!S47, IF($C$7=\"Queensland\", 'K values'!Y47, IF($C$7=\"South Australia\", 'K values'!AE47, IF($C$7=\"Tasmania\", 'K values'!AK47, IF($C$7=\"Victoria\", 'K values'!AQ47, IF($C$7=\"Western Australia\", 'K values'!AW47, \"\"))))))))","v":""},{"$f":"IF($C$7=\"Australian Capital Territory\", 'K values'!H47, IF($C$7=\"New South Wales\", 'K values'!N47, IF($C$7=\"Northern Territory\", 'K values'!T47, IF($C$7=\"Queensland\", 'K values'!Z47, IF($C$7=\"South Australia\", 'K values'!AF47, IF($C$7=\"Tasmania\", 'K values'!AL47, IF($C$7=\"Victoria\", 'K values'!AR47, IF($C$7=\"Western Australia\", 'K values'!AX47, \"\"))))))))","v":""},{"$f":"IF($C$7=\"Australian Capital Territory\", 'K values'!I47, IF($C$7=\"New South Wales\", 'K values'!O47, IF($C$7=\"Northern Territory\", 'K values'!U47, IF($C$7=\"Queensland\", 'K values'!AA47, IF($C$7=\"South Australia\", 'K values'!AG47, IF($C$7=\"Tasmania\", 'K values'!AM47, IF($C$7=\"Victoria\", 'K values'!AS47, IF($C$7=\"Western Australia\", 'K values'!AY47, \"\"))))))))","v":""},{"$f":"IF($C$7=\"Australian Capital Territory\", 'K values'!J47, IF($C$7=\"New South Wales\", 'K values'!P47, IF($C$7=\"Northern Territory\", 'K values'!V47, IF($C$7=\"Queensland\", 'K values'!AB47, IF($C$7=\"South Australia\", 'K values'!AH47, IF($C$7=\"Tasmania\", 'K values'!AN47, IF($C$7=\"Victoria\", 'K values'!AT47, IF($C$7=\"Western Australia\", 'K values'!AZ47, \"\"))))))))","v":""},{"$f":"IF($C$7=\"Australian Capital Territory\", 'K values'!K47, IF($C$7=\"New South Wales\", 'K values'!Q47, IF($C$7=\"Northern Territory\", 'K values'!W47, IF($C$7=\"Queensland\", 'K values'!AC47, IF($C$7=\"South Australia\", 'K values'!AI47, IF($C$7=\"Tasmania\", 'K values'!AO47, IF($C$7=\"Victoria\", 'K values'!AU47, IF($C$7=\"Western Australia\", 'K values'!BA47, \"\"))))))))","v":""}]
[{"$f":"IF($C$7=\"Australian Capital Territory\", 'K values'!G48, IF($C$7=\"New South Wales\", 'K values'!M48, IF($C$7=\"Northern Territory\", 'K values'!S48, IF($C$7=\"Queensland\", 'K values'!Y48, IF($C$7=\"South Australia\", 'K values'!AE48, IF($C$7=\"Tasmania\", 'K values'!AK48, IF($C$7=\"Victoria\", 'K values'!AQ48, IF($C$7=\"Western Australia\", 'K values'!AW48, \"\"))))))))","v":""},{"$f":"IF($C$7=\"Australian Capital Territory\", 'K values'!H48, IF($C$7=\"New South Wales\", 'K values'!N48, IF($C$7=\"Northern Territory\", 'K values'!T48, IF($C$7=\"Queensland\", 'K values'!Z48, IF($C$7=\"South Australia\", 'K values'!AF48, IF($C$7=\"Tasmania\", 'K values'!AL48, IF($C$7=\"Victoria\", 'K values'!AR48, IF($C$7=\"Western Australia\", 'K values'!AX48, \"\"))))))))","v":""},{"$f":"IF($C$7=\"Australian Capital Territory\", 'K values'!I48, IF($C$7=\"New South Wales\", 'K values'!O48, IF($C$7=\"Northern Territory\", 'K values'!U48, IF($C$7=\"Queensland\", 'K values'!AA48, IF($C$7=\"South Australia\", 'K values'!AG48, IF($C$7=\"Tasmania\", 'K values'!AM48, IF($C$7=\"Victoria\", 'K values'!AS48, IF($C$7=\"Western Australia\", 'K values'!AY48, \"\"))))))))","v":""},{"$f":"IF($C$7=\"Australian Capital Territory\", 'K values'!J48, IF($C$7=\"New South Wales\", 'K values'!P48, IF($C$7=\"Northern Territory\", 'K values'!V48, IF($C$7=\"Queensland\", 'K values'!AB48, IF($C$7=\"South Australia\", 'K values'!AH48, IF($C$7=\"Tasmania\", 'K values'!AN48, IF($C$7=\"Victoria\", 'K values'!AT48, IF($C$7=\"Western Australia\", 'K values'!AZ48, \"\"))))))))","v":""},{"$f":"IF($C$7=\"Australian Capital Territory\", 'K values'!K48, IF($C$7=\"New South Wales\", 'K values'!Q48, IF($C$7=\"Northern Territory\", 'K values'!W48, IF($C$7=\"Queensland\", 'K values'!AC48, IF($C$7=\"South Australia\", 'K values'!AI48, IF($C$7=\"Tasmania\", 'K values'!AO48, IF($C$7=\"Victoria\", 'K values'!AU48, IF($C$7=\"Western Australia\", 'K values'!BA48, \"\"))))))))","v":""}]
[{"$f":"IF($C$7=\"Australian Capital Territory\", 'K values'!G49, IF($C$7=\"New South Wales\", 'K values'!M49, IF($C$7=\"Northern Territory\", 'K values'!S49, IF($C$7=\"Queensland\", 'K values'!Y49, IF($C$7=\"South Australia\", 'K values'!AE49, IF($C$7=\"Tasmania\", 'K values'!AK49, IF($C$7=\"Victoria\", 'K values'!AQ49, IF($C$7=\"Western Australia\", 'K values'!AW49, \"\"))))))))","v":""},{"$f":"IF($C$7=\"Australian Capital Territory\", 'K values'!H49, IF($C$7=\"New South Wales\", 'K values'!N49, IF($C$7=\"Northern Territory\", 'K values'!T49, IF($C$7=\"Queensland\", 'K values'!Z49, IF($C$7=\"South Australia\", 'K values'!AF49, IF($C$7=\"Tasmania\", 'K values'!AL49, IF($C$7=\"Victoria\", 'K values'!AR49, IF($C$7=\"Western Australia\", 'K values'!AX49, \"\"))))))))","v":""},{"$f":"IF($C$7=\"Australian Capital Territory\", 'K values'!I49, IF($C$7=\"New South Wales\", 'K values'!O49, IF($C$7=\"Northern Territory\", 'K values'!U49, IF($C$7=\"Queensland\", 'K values'!AA49, IF($C$7=\"South Australia\", 'K values'!AG49, IF($C$7=\"Tasmania\", 'K values'!AM49, IF($C$7=\"Victoria\", 'K values'!AS49, IF($C$7=\"Western Australia\", 'K values'!AY49, \"\"))))))))","v":""},{"$f":"IF($C$7=\"Australian Capital Territory\", 'K values'!J49, IF($C$7=\"New South Wales\", 'K values'!P49, IF($C$7=\"Northern Territory\", 'K values'!V49, IF($C$7=\"Queensland\", 'K values'!AB49, IF($C$7=\"South Australia\", 'K values'!AH49, IF($C$7=\"Tasmania\", 'K values'!AN49, IF($C$7=\"Victoria\", 'K values'!AT49, IF($C$7=\"Western Australia\", 'K values'!AZ49, \"\"))))))))","v":""},{"$f":"IF($C$7=\"Australian Capital Territory\", 'K values'!K49, IF($C$7=\"New South Wales\", 'K values'!Q49, IF($C$7=\"Northern Territory\", 'K values'!W49, IF($C$7=\"Queensland\", 'K values'!AC49, IF($C$7=\"South Australia\", 'K values'!AI49, IF($C$7=\"Tasmania\", 'K values'!AO49, IF($C$7=\"Victoria\", 'K values'!AU49, IF($C$7=\"Western Australia\", 'K values'!BA49, \"\"))))))))","v":""}]
[{"$f":"IF($C$7=\"Australian Capital Territory\", 'K values'!G50, IF($C$7=\"New South Wales\", 'K values'!M50, IF($C$7=\"Northern Territory\", 'K values'!S50, IF($C$7=\"Queensland\", 'K values'!Y50, IF($C$7=\"South Australia\", 'K values'!AE50, IF($C$7=\"Tasmania\", 'K values'!AK50, IF($C$7=\"Victoria\", 'K values'!AQ50, IF($C$7=\"Western Australia\", 'K values'!AW50, \"\"))))))))","v":""},{"$f":"IF($C$7=\"Australian Capital Territory\", 'K values'!H50, IF($C$7=\"New South Wales\", 'K values'!N50, IF($C$7=\"Northern Territory\", 'K values'!T50, IF($C$7=\"Queensland\", 'K values'!Z50, IF($C$7=\"South Australia\", 'K values'!AF50, IF($C$7=\"Tasmania\", 'K values'!AL50, IF($C$7=\"Victoria\", 'K values'!AR50, IF($C$7=\"Western Australia\", 'K values'!AX50, \"\"))))))))","v":""},{"$f":"IF($C$7=\"Australian Capital Territory\", 'K values'!I50, IF($C$7=\"New South Wales\", 'K values'!O50, IF($C$7=\"Northern Territory\", 'K values'!U50, IF($C$7=\"Queensland\", 'K values'!AA50, IF($C$7=\"South Australia\", 'K values'!AG50, IF($C$7=\"Tasmania\", 'K values'!AM50, IF($C$7=\"Victoria\", 'K values'!AS50, IF($C$7=\"Western Australia\", 'K values'!AY50, \"\"))))))))","v":""},{"$f":"IF($C$7=\"Australian Capital Territory\", 'K values'!J50, IF($C$7=\"New South Wales\", 'K values'!P50, IF($C$7=\"Northern Territory\", 'K values'!V50, IF($C$7=\"Queensland\", 'K values'!AB50, IF($C$7=\"South Australia\", 'K values'!AH50, IF($C$7=\"Tasmania\", 'K values'!AN50, IF($C$7=\"Victoria\", 'K values'!AT50, IF($C$7=\"Western Australia\", 'K values'!AZ50, \"\"))))))))","v":""},{"$f":"IF($C$7=\"Australian Capital Territory\", 'K values'!K50, IF($C$7=\"New South Wales\", 'K values'!Q50, IF($C$7=\"Northern Territory\", 'K values'!W50, IF($C$7=\"Queensland\", 'K values'!AC50, IF($C$7=\"South Australia\", 'K values'!AI50, IF($C$7=\"Tasmania\", 'K values'!AO50, IF($C$7=\"Victoria\", 'K values'!AU50, IF($C$7=\"Western Australia\", 'K values'!BA50, \"\"))))))))","v":""}]
[{"$f":"IF($C$7=\"Australian Capital Territory\", 'K values'!G51, IF($C$7=\"New South Wales\", 'K values'!M51, IF($C$7=\"Northern Territory\", 'K values'!S51, IF($C$7=\"Queensland\", 'K values'!Y51, IF($C$7=\"South Australia\", 'K values'!AE51, IF($C$7=\"Tasmania\", 'K values'!AK51, IF($C$7=\"Victoria\", 'K values'!AQ51, IF($C$7=\"Western Australia\", 'K values'!AW51, \"\"))))))))","v":""},{"$f":"IF($C$7=\"Australian Capital Territory\", 'K values'!H51, IF($C$7=\"New South Wales\", 'K values'!N51, IF($C$7=\"Northern Territory\", 'K values'!T51, IF($C$7=\"Queensland\", 'K values'!Z51, IF($C$7=\"South Australia\", 'K values'!AF51, IF($C$7=\"Tasmania\", 'K values'!AL51, IF($C$7=\"Victoria\", 'K values'!AR51, IF($C$7=\"Western Australia\", 'K values'!AX51, \"\"))))))))","v":""},{"$f":"IF($C$7=\"Australian Capital Territory\", 'K values'!I51, IF($C$7=\"New South Wales\", 'K values'!O51, IF($C$7=\"Northern Territory\", 'K values'!U51, IF($C$7=\"Queensland\", 'K values'!AA51, IF($C$7=\"South Australia\", 'K values'!AG51, IF($C$7=\"Tasmania\", 'K values'!AM51, IF($C$7=\"Victoria\", 'K values'!AS51, IF($C$7=\"Western Australia\", 'K values'!AY51, \"\"))))))))","v":""},{"$f":"IF($C$7=\"Australian Capital Territory\", 'K values'!J51, IF($C$7=\"New South Wales\", 'K values'!P51, IF($C$7=\"Northern Territory\", 'K values'!V51, IF($C$7=\"Queensland\", 'K values'!AB51, IF($C$7=\"South Australia\", 'K values'!AH51, IF($C$7=\"Tasmania\", 'K values'!AN51, IF($C$7=\"Victoria\", 'K values'!AT51, IF($C$7=\"Western Australia\", 'K values'!AZ51, \"\"))))))))","v":""},{"$f":"IF($C$7=\"Australian Capital Territory\", 'K values'!K51, IF($C$7=\"New South Wales\", 'K values'!Q51, IF($C$7=\"Northern Territory\", 'K values'!W51, IF($C$7=\"Queensland\", 'K values'!AC51, IF($C$7=\"South Australia\", 'K values'!AI51, IF($C$7=\"Tasmania\", 'K values'!AO51, IF($C$7=\"Victoria\", 'K values'!AU51, IF($C$7=\"Western Australia\", 'K values'!BA51, \"\"))))))))","v":""}]
[{"$f":"IF($C$7=\"Australian Capital Territory\", 'K values'!G52, IF($C$7=\"New South Wales\", 'K values'!M52, IF($C$7=\"Northern Territory\", 'K values'!S52, IF($C$7=\"Queensland\", 'K values'!Y52, IF($C$7=\"South Australia\", 'K values'!AE52, IF($C$7=\"Tasmania\", 'K values'!AK52, IF($C$7=\"Victoria\", 'K values'!AQ52, IF($C$7=\"Western Australia\", 'K values'!AW52, \"\"))))))))","v":""},{"$f":"IF($C$7=\"Australian Capital Territory\", 'K values'!H52, IF($C$7=\"New South Wales\", 'K values'!N52, IF($C$7=\"Northern Territory\", 'K values'!T52, IF($C$7=\"Queensland\", 'K values'!Z52, IF($C$7=\"South Australia\", 'K values'!AF52, IF($C$7=\"Tasmania\", 'K values'!AL52, IF($C$7=\"Victoria\", 'K values'!AR52, IF($C$7=\"Western Australia\", 'K values'!AX52, \"\"))))))))","v":""},{"$f":"IF($C$7=\"Australian Capital Territory\", 'K values'!I52, IF($C$7=\"New South Wales\", 'K values'!O52, IF($C$7=\"Northern Territory\", 'K values'!U52, IF($C$7=\"Queensland\", 'K values'!AA52, IF($C$7=\"South Australia\", 'K values'!AG52, IF($C$7=\"Tasmania\", 'K values'!AM52, IF($C$7=\"Victoria\", 'K values'!AS52, IF($C$7=\"Western Australia\", 'K values'!AY52, \"\"))))))))","v":""},{"$f":"IF($C$7=\"Australian Capital Territory\", 'K values'!J52, IF($C$7=\"New South Wales\", 'K values'!P52, IF($C$7=\"Northern Territory\", 'K values'!V52, IF($C$7=\"Queensland\", 'K values'!AB52, IF($C$7=\"South Australia\", 'K values'!AH52, IF($C$7=\"Tasmania\", 'K values'!AN52, IF($C$7=\"Victoria\", 'K values'!AT52, IF($C$7=\"Western Australia\", 'K values'!AZ52, \"\"))))))))","v":""},{"$f":"IF($C$7=\"Australian Capital Territory\", 'K values'!K52, IF($C$7=\"New South Wales\", 'K values'!Q52, IF($C$7=\"Northern Territory\", 'K values'!W52, IF($C$7=\"Queensland\", 'K values'!AC52, IF($C$7=\"South Australia\", 'K values'!AI52, IF($C$7=\"Tasmania\", 'K values'!AO52, IF($C$7=\"Victoria\", 'K values'!AU52, IF($C$7=\"Western Australia\", 'K values'!BA52, \"\"))))))))","v":""}]
[{"$f":"IF($C$7=\"Australian Capital Territory\", 'K values'!G53, IF($C$7=\"New South Wales\", 'K values'!M53, IF($C$7=\"Northern Territory\", 'K values'!S53, IF($C$7=\"Queensland\", 'K values'!Y53, IF($C$7=\"South Australia\", 'K values'!AE53, IF($C$7=\"Tasmania\", 'K values'!AK53, IF($C$7=\"Victoria\", 'K values'!AQ53, IF($C$7=\"Western Australia\", 'K values'!AW53, \"\"))))))))","v":""},{"$f":"IF($C$7=\"Australian Capital Territory\", 'K values'!H53, IF($C$7=\"New South Wales\", 'K values'!N53, IF($C$7=\"Northern Territory\", 'K values'!T53, IF($C$7=\"Queensland\", 'K values'!Z53, IF($C$7=\"South Australia\", 'K values'!AF53, IF($C$7=\"Tasmania\", 'K values'!AL53, IF($C$7=\"Victoria\", 'K values'!AR53, IF($C$7=\"Western Australia\", 'K values'!AX53, \"\"))))))))","v":""},{"$f":"IF($C$7=\"Australian Capital Territory\", 'K values'!I53, IF($C$7=\"New South Wales\", 'K values'!O53, IF($C$7=\"Northern Territory\", 'K values'!U53, IF($C$7=\"Queensland\", 'K values'!AA53, IF($C$7=\"South Australia\", 'K values'!AG53, IF($C$7=\"Tasmania\", 'K values'!AM53, IF($C$7=\"Victoria\", 'K values'!AS53, IF($C$7=\"Western Australia\", 'K values'!AY53, \"\"))))))))","v":""},{"$f":"IF($C$7=\"Australian Capital Territory\", 'K values'!J53, IF($C$7=\"New South Wales\", 'K values'!P53, IF($C$7=\"Northern Territory\", 'K values'!V53, IF($C$7=\"Queensland\", 'K values'!AB53, IF($C$7=\"South Australia\", 'K values'!AH53, IF($C$7=\"Tasmania\", 'K values'!AN53, IF($C$7=\"Victoria\", 'K values'!AT53, IF($C$7=\"Western Australia\", 'K values'!AZ53, \"\"))))))))","v":""},{"$f":"IF($C$7=\"Australian Capital Territory\", 'K values'!K53, IF($C$7=\"New South Wales\", 'K values'!Q53, IF($C$7=\"Northern Territory\", 'K values'!W53, IF($C$7=\"Queensland\", 'K values'!AC53, IF($C$7=\"South Australia\", 'K values'!AI53, IF($C$7=\"Tasmania\", 'K values'!AO53, IF($C$7=\"Victoria\", 'K values'!AU53, IF($C$7=\"Western Australia\", 'K values'!BA53, \"\"))))))))","v":""}]
[{"$f":"IF($C$7=\"Australian Capital Territory\", 'K values'!G54, IF($C$7=\"New South Wales\", 'K values'!M54, IF($C$7=\"Northern Territory\", 'K values'!S54, IF($C$7=\"Queensland\", 'K values'!Y54, IF($C$7=\"South Australia\", 'K values'!AE54, IF($C$7=\"Tasmania\", 'K values'!AK54, IF($C$7=\"Victoria\", 'K values'!AQ54, IF($C$7=\"Western Australia\", 'K values'!AW54, \"\"))))))))","v":""},{"$f":"IF($C$7=\"Australian Capital Territory\", 'K values'!H54, IF($C$7=\"New South Wales\", 'K values'!N54, IF($C$7=\"Northern Territory\", 'K values'!T54, IF($C$7=\"Queensland\", 'K values'!Z54, IF($C$7=\"South Australia\", 'K values'!AF54, IF($C$7=\"Tasmania\", 'K values'!AL54, IF($C$7=\"Victoria\", 'K values'!AR54, IF($C$7=\"Western Australia\", 'K values'!AX54, \"\"))))))))","v":""},{"$f":"IF($C$7=\"Australian Capital Territory\", 'K values'!I54, IF($C$7=\"New South Wales\", 'K values'!O54, IF($C$7=\"Northern Territory\", 'K values'!U54, IF($C$7=\"Queensland\", 'K values'!AA54, IF($C$7=\"South Australia\", 'K values'!AG54, IF($C$7=\"Tasmania\", 'K values'!AM54, IF($C$7=\"Victoria\", 'K values'!AS54, IF($C$7=\"Western Australia\", 'K values'!AY54, \"\"))))))))","v":""},{"$f":"IF($C$7=\"Australian Capital Territory\", 'K values'!J54, IF($C$7=\"New South Wales\", 'K values'!P54, IF($C$7=\"Northern Territory\", 'K values'!V54, IF($C$7=\"Queensland\", 'K values'!AB54, IF($C$7=\"South Australia\", 'K values'!AH54, IF($C$7=\"Tasmania\", 'K values'!AN54, IF($C$7=\"Victoria\", 'K values'!AT54, IF($C$7=\"Western Australia\", 'K values'!AZ54, \"\"))))))))","v":""},{"$f":"IF($C$7=\"Australian Capital Territory\", 'K values'!K54, IF($C$7=\"New South Wales\", 'K values'!Q54, IF($C$7=\"Northern Territory\", 'K values'!W54, IF($C$7=\"Queensland\", 'K values'!AC54, IF($C$7=\"South Australia\", 'K values'!AI54, IF($C$7=\"Tasmania\", 'K values'!AO54, IF($C$7=\"Victoria\", 'K values'!AU54, IF($C$7=\"Western Australia\", 'K values'!BA54, \"\"))))))))","v":""}]
[{"$f":"IF($C$7=\"Australian Capital Territory\", 'K values'!G55, IF($C$7=\"New South Wales\", 'K values'!M55, IF($C$7=\"Northern Territory\", 'K values'!S55, IF($C$7=\"Queensland\", 'K values'!Y55, IF($C$7=\"South Australia\", 'K values'!AE55, IF($C$7=\"Tasmania\", 'K values'!AK55, IF($C$7=\"Victoria\", 'K values'!AQ55, IF($C$7=\"Western Australia\", 'K values'!AW55, \"\"))))))))","v":""},{"$f":"IF($C$7=\"Australian Capital Territory\", 'K values'!H55, IF($C$7=\"New South Wales\", 'K values'!N55, IF($C$7=\"Northern Territory\", 'K values'!T55, IF($C$7=\"Queensland\", 'K values'!Z55, IF($C$7=\"South Australia\", 'K values'!AF55, IF($C$7=\"Tasmania\", 'K values'!AL55, IF($C$7=\"Victoria\", 'K values'!AR55, IF($C$7=\"Western Australia\", 'K values'!AX55, \"\"))))))))","v":""},{"$f":"IF($C$7=\"Australian Capital Territory\", 'K values'!I55, IF($C$7=\"New South Wales\", 'K values'!O55, IF($C$7=\"Northern Territory\", 'K values'!U55, IF($C$7=\"Queensland\", 'K values'!AA55, IF($C$7=\"South Australia\", 'K values'!AG55, IF($C$7=\"Tasmania\", 'K values'!AM55, IF($C$7=\"Victoria\", 'K values'!AS55, IF($C$7=\"Western Australia\", 'K values'!AY55, \"\"))))))))","v":""},{"$f":"IF($C$7=\"Australian Capital Territory\", 'K values'!J55, IF($C$7=\"New South Wales\", 'K values'!P55, IF($C$7=\"Northern Territory\", 'K values'!V55, IF($C$7=\"Queensland\", 'K values'!AB55, IF($C$7=\"South Australia\", 'K values'!AH55, IF($C$7=\"Tasmania\", 'K values'!AN55, IF($C$7=\"Victoria\", 'K values'!AT55, IF($C$7=\"Western Australia\", 'K values'!AZ55, \"\"))))))))","v":""},{"$f":"IF($C$7=\"Australian Capital Territory\", 'K values'!K55, IF($C$7=\"New South Wales\", 'K values'!Q55, IF($C$7=\"Northern Territory\", 'K values'!W55, IF($C$7=\"Queensland\", 'K values'!AC55, IF($C$7=\"South Australia\", 'K values'!AI55, IF($C$7=\"Tasmania\", 'K values'!AO55, IF($C$7=\"Victoria\", 'K values'!AU55, IF($C$7=\"Western Australia\", 'K values'!BA55, \"\"))))))))","v":""}]
[{"$f":"IF($C$7=\"Australian Capital Territory\", 'K values'!G56, IF($C$7=\"New South Wales\", 'K values'!M56, IF($C$7=\"Northern Territory\", 'K values'!S56, IF($C$7=\"Queensland\", 'K values'!Y56, IF($C$7=\"South Australia\", 'K values'!AE56, IF($C$7=\"Tasmania\", 'K values'!AK56, IF($C$7=\"Victoria\", 'K values'!AQ56, IF($C$7=\"Western Australia\", 'K values'!AW56, \"\"))))))))","v":""},{"$f":"IF($C$7=\"Australian Capital Territory\", 'K values'!H56, IF($C$7=\"New South Wales\", 'K values'!N56, IF($C$7=\"Northern Territory\", 'K values'!T56, IF($C$7=\"Queensland\", 'K values'!Z56, IF($C$7=\"South Australia\", 'K values'!AF56, IF($C$7=\"Tasmania\", 'K values'!AL56, IF($C$7=\"Victoria\", 'K values'!AR56, IF($C$7=\"Western Australia\", 'K values'!AX56, \"\"))))))))","v":""},{"$f":"IF($C$7=\"Australian Capital Territory\", 'K values'!I56, IF($C$7=\"New South Wales\", 'K values'!O56, IF($C$7=\"Northern Territory\", 'K values'!U56, IF($C$7=\"Queensland\", 'K values'!AA56, IF($C$7=\"South Australia\", 'K values'!AG56, IF($C$7=\"Tasmania\", 'K values'!AM56, IF($C$7=\"Victoria\", 'K values'!AS56, IF($C$7=\"Western Australia\", 'K values'!AY56, \"\"))))))))","v":""},{"$f":"IF($C$7=\"Australian Capital Territory\", 'K values'!J56, IF($C$7=\"New South Wales\", 'K values'!P56, IF($C$7=\"Northern Territory\", 'K values'!V56, IF($C$7=\"Queensland\", 'K values'!AB56, IF($C$7=\"South Australia\", 'K values'!AH56, IF($C$7=\"Tasmania\", 'K values'!AN56, IF($C$7=\"Victoria\", 'K values'!AT56, IF($C$7=\"Western Australia\", 'K values'!AZ56, \"\"))))))))","v":""},{"$f":"IF($C$7=\"Australian Capital Territory\", 'K values'!K56, IF($C$7=\"New South Wales\", 'K values'!Q56, IF($C$7=\"Northern Territory\", 'K values'!W56, IF($C$7=\"Queensland\", 'K values'!AC56, IF($C$7=\"South Australia\", 'K values'!AI56, IF($C$7=\"Tasmania\", 'K values'!AO56, IF($C$7=\"Victoria\", 'K values'!AU56, IF($C$7=\"Western Australia\", 'K values'!BA56, \"\"))))))))","v":""}]
[{"$f":"IF($C$7=\"Australian Capital Territory\", 'K values'!G57, IF($C$7=\"New South Wales\", 'K values'!M57, IF($C$7=\"Northern Territory\", 'K values'!S57, IF($C$7=\"Queensland\", 'K values'!Y57, IF($C$7=\"South Australia\", 'K values'!AE57, IF($C$7=\"Tasmania\", 'K values'!AK57, IF($C$7=\"Victoria\", 'K values'!AQ57, IF($C$7=\"Western Australia\", 'K values'!AW57, \"\"))))))))","v":""},{"$f":"IF($C$7=\"Australian Capital Territory\", 'K values'!H57, IF($C$7=\"New South Wales\", 'K values'!N57, IF($C$7=\"Northern Territory\", 'K values'!T57, IF($C$7=\"Queensland\", 'K values'!Z57, IF($C$7=\"South Australia\", 'K values'!AF57, IF($C$7=\"Tasmania\", 'K values'!AL57, IF($C$7=\"Victoria\", 'K values'!AR57, IF($C$7=\"Western Australia\", 'K values'!AX57, \"\"))))))))","v":""},{"$f":"IF($C$7=\"Australian Capital Territory\", 'K values'!I57, IF($C$7=\"New South Wales\", 'K values'!O57, IF($C$7=\"Northern Territory\", 'K values'!U57, IF($C$7=\"Queensland\", 'K values'!AA57, IF($C$7=\"South Australia\", 'K values'!AG57, IF($C$7=\"Tasmania\", 'K values'!AM57, IF($C$7=\"Victoria\", 'K values'!AS57, IF($C$7=\"Western Australia\", 'K values'!AY57, \"\"))))))))","v":""},{"$f":"IF($C$7=\"Australian Capital Territory\", 'K values'!J57, IF($C$7=\"New South Wales\", 'K values'!P57, IF($C$7=\"Northern Territory\", 'K values'!V57, IF($C$7=\"Queensland\", 'K values'!AB57, IF($C$7=\"South Australia\", 'K values'!AH57, IF($C$7=\"Tasmania\", 'K values'!AN57, IF($C$7=\"Victoria\", 'K values'!AT57, IF($C$7=\"Western Australia\", 'K values'!AZ57, \"\"))))))))","v":""},{"$f":"IF($C$7=\"Australian Capital Territory\", 'K values'!K57, IF($C$7=\"New South Wales\", 'K values'!Q57, IF($C$7=\"Northern Territory\", 'K values'!W57, IF($C$7=\"Queensland\", 'K values'!AC57, IF($C$7=\"South Australia\", 'K values'!AI57, IF($C$7=\"Tasmania\", 'K values'!AO57, IF($C$7=\"Victoria\", 'K values'!AU57, IF($C$7=\"Western Australia\", 'K values'!BA57, \"\"))))))))","v":""}]
[{"$f":"IF($C$7=\"Australian Capital Territory\", 'K values'!G58, IF($C$7=\"New South Wales\", 'K values'!M58, IF($C$7=\"Northern Territory\", 'K values'!S58, IF($C$7=\"Queensland\", 'K values'!Y58, IF($C$7=\"South Australia\", 'K values'!AE58, IF($C$7=\"Tasmania\", 'K values'!AK58, IF($C$7=\"Victoria\", 'K values'!AQ58, IF($C$7=\"Western Australia\", 'K values'!AW58, \"\"))))))))","v":""},{"$f":"IF($C$7=\"Australian Capital Territory\", 'K values'!H58, IF($C$7=\"New South Wales\", 'K values'!N58, IF($C$7=\"Northern Territory\", 'K values'!T58, IF($C$7=\"Queensland\", 'K values'!Z58, IF($C$7=\"South Australia\", 'K values'!AF58, IF($C$7=\"Tasmania\", 'K values'!AL58, IF($C$7=\"Victoria\", 'K values'!AR58, IF($C$7=\"Western Australia\", 'K values'!AX58, \"\"))))))))","v":""},{"$f":"IF($C$7=\"Australian Capital Territory\", 'K values'!I58, IF($C$7=\"New South Wales\", 'K values'!O58, IF($C$7=\"Northern Territory\", 'K values'!U58, IF($C$7=\"Queensland\", 'K values'!AA58, IF($C$7=\"South Australia\", 'K values'!AG58, IF($C$7=\"Tasmania\", 'K values'!AM58, IF($C$7=\"Victoria\", 'K values'!AS58, IF($C$7=\"Western Australia\", 'K values'!AY58, \"\"))))))))","v":""},{"$f":"IF($C$7=\"Australian Capital Territory\", 'K values'!J58, IF($C$7=\"New South Wales\", 'K values'!P58, IF($C$7=\"Northern Territory\", 'K values'!V58, IF($C$7=\"Queensland\", 'K values'!AB58, IF($C$7=\"South Australia\", 'K values'!AH58, IF($C$7=\"Tasmania\", 'K values'!AN58, IF($C$7=\"Victoria\", 'K values'!AT58, IF($C$7=\"Western Australia\", 'K values'!AZ58, \"\"))))))))","v":""},{"$f":"IF($C$7=\"Australian Capital Territory\", 'K values'!K58, IF($C$7=\"New South Wales\", 'K values'!Q58, IF($C$7=\"Northern Territory\", 'K values'!W58, IF($C$7=\"Queensland\", 'K values'!AC58, IF($C$7=\"South Australia\", 'K values'!AI58, IF($C$7=\"Tasmania\", 'K values'!AO58, IF($C$7=\"Victoria\", 'K values'!AU58, IF($C$7=\"Western Australia\", 'K values'!BA58, \"\"))))))))","v":""}]
[{"$f":"IF($C$7=\"Australian Capital Territory\", 'K values'!G59, IF($C$7=\"New South Wales\", 'K values'!M59, IF($C$7=\"Northern Territory\", 'K values'!S59, IF($C$7=\"Queensland\", 'K values'!Y59, IF($C$7=\"South Australia\", 'K values'!AE59, IF($C$7=\"Tasmania\", 'K values'!AK59, IF($C$7=\"Victoria\", 'K values'!AQ59, IF($C$7=\"Western Australia\", 'K values'!AW59, \"\"))))))))","v":""},{"$f":"IF($C$7=\"Australian Capital Territory\", 'K values'!H59, IF($C$7=\"New South Wales\", 'K values'!N59, IF($C$7=\"Northern Territory\", 'K values'!T59, IF($C$7=\"Queensland\", 'K values'!Z59, IF($C$7=\"South Australia\", 'K values'!AF59, IF($C$7=\"Tasmania\", 'K values'!AL59, IF($C$7=\"Victoria\", 'K values'!AR59, IF($C$7=\"Western Australia\", 'K values'!AX59, \"\"))))))))","v":""},{"$f":"IF($C$7=\"Australian Capital Territory\", 'K values'!I59, IF($C$7=\"New South Wales\", 'K values'!O59, IF($C$7=\"Northern Territory\", 'K values'!U59, IF($C$7=\"Queensland\", 'K values'!AA59, IF($C$7=\"South Australia\", 'K values'!AG59, IF($C$7=\"Tasmania\", 'K values'!AM59, IF($C$7=\"Victoria\", 'K values'!AS59, IF($C$7=\"Western Australia\", 'K values'!AY59, \"\"))))))))","v":""},{"$f":"IF($C$7=\"Australian Capital Territory\", 'K values'!J59, IF($C$7=\"New South Wales\", 'K values'!P59, IF($C$7=\"Northern Territory\", 'K values'!V59, IF($C$7=\"Queensland\", 'K values'!AB59, IF($C$7=\"South Australia\", 'K values'!AH59, IF($C$7=\"Tasmania\", 'K values'!AN59, IF($C$7=\"Victoria\", 'K values'!AT59, IF($C$7=\"Western Australia\", 'K values'!AZ59, \"\"))))))))","v":""},{"$f":"IF($C$7=\"Australian Capital Territory\", 'K values'!K59, IF($C$7=\"New South Wales\", 'K values'!Q59, IF($C$7=\"Northern Territory\", 'K values'!W59, IF($C$7=\"Queensland\", 'K values'!AC59, IF($C$7=\"South Australia\", 'K values'!AI59, IF($C$7=\"Tasmania\", 'K values'!AO59, IF($C$7=\"Victoria\", 'K values'!AU59, IF($C$7=\"Western Australia\", 'K values'!BA59, \"\"))))))))","v":""}]
[{"$f":"IF($C$7=\"Australian Capital Territory\", 'K values'!G60, IF($C$7=\"New South Wales\", 'K values'!M60, IF($C$7=\"Northern Territory\", 'K values'!S60, IF($C$7=\"Queensland\", 'K values'!Y60, IF($C$7=\"South Australia\", 'K values'!AE60, IF($C$7=\"Tasmania\", 'K values'!AK60, IF($C$7=\"Victoria\", 'K values'!AQ60, IF($C$7=\"Western Australia\", 'K values'!AW60, \"\"))))))))","v":""},{"$f":"IF($C$7=\"Australian Capital Territory\", 'K values'!H60, IF($C$7=\"New South Wales\", 'K values'!N60, IF($C$7=\"Northern Territory\", 'K values'!T60, IF($C$7=\"Queensland\", 'K values'!Z60, IF($C$7=\"South Australia\", 'K values'!AF60, IF($C$7=\"Tasmania\", 'K values'!AL60, IF($C$7=\"Victoria\", 'K values'!AR60, IF($C$7=\"Western Australia\", 'K values'!AX60, \"\"))))))))","v":""},{"$f":"IF($C$7=\"Australian Capital Territory\", 'K values'!I60, IF($C$7=\"New South Wales\", 'K values'!O60, IF($C$7=\"Northern Territory\", 'K values'!U60, IF($C$7=\"Queensland\", 'K values'!AA60, IF($C$7=\"South Australia\", 'K values'!AG60, IF($C$7=\"Tasmania\", 'K values'!AM60, IF($C$7=\"Victoria\", 'K values'!AS60, IF($C$7=\"Western Australia\", 'K values'!AY60, \"\"))))))))","v":""},{"$f":"IF($C$7=\"Australian Capital Territory\", 'K values'!J60, IF($C$7=\"New South Wales\", 'K values'!P60, IF($C$7=\"Northern Territory\", 'K values'!V60, IF($C$7=\"Queensland\", 'K values'!AB60, IF($C$7=\"South Australia\", 'K values'!AH60, IF($C$7=\"Tasmania\", 'K values'!AN60, IF($C$7=\"Victoria\", 'K values'!AT60, IF($C$7=\"Western Australia\", 'K values'!AZ60, \"\"))))))))","v":""},{"$f":"IF($C$7=\"Australian Capital Territory\", 'K values'!K60, IF($C$7=\"New South Wales\", 'K values'!Q60, IF($C$7=\"Northern Territory\", 'K values'!W60, IF($C$7=\"Queensland\", 'K values'!AC60, IF($C$7=\"South Australia\", 'K values'!AI60, IF($C$7=\"Tasmania\", 'K values'!AO60, IF($C$7=\"Victoria\", 'K values'!AU60, IF($C$7=\"Western Australia\", 'K values'!BA60, \"\"))))))))","v":""}]
[{"$f":"IF($C$7=\"Australian Capital Territory\", 'K values'!G61, IF($C$7=\"New South Wales\", 'K values'!M61, IF($C$7=\"Northern Territory\", 'K values'!S61, IF($C$7=\"Queensland\", 'K values'!Y61, IF($C$7=\"South Australia\", 'K values'!AE61, IF($C$7=\"Tasmania\", 'K values'!AK61, IF($C$7=\"Victoria\", 'K values'!AQ61, IF($C$7=\"Western Australia\", 'K values'!AW61, \"\"))))))))","v":""},{"$f":"IF($C$7=\"Australian Capital Territory\", 'K values'!H61, IF($C$7=\"New South Wales\", 'K values'!N61, IF($C$7=\"Northern Territory\", 'K values'!T61, IF($C$7=\"Queensland\", 'K values'!Z61, IF($C$7=\"South Australia\", 'K values'!AF61, IF($C$7=\"Tasmania\", 'K values'!AL61, IF($C$7=\"Victoria\", 'K values'!AR61, IF($C$7=\"Western Australia\", 'K values'!AX61, \"\"))))))))","v":""},{"$f":"IF($C$7=\"Australian Capital Territory\", 'K values'!I61, IF($C$7=\"New South Wales\", 'K values'!O61, IF($C$7=\"Northern Territory\", 'K values'!U61, IF($C$7=\"Queensland\", 'K values'!AA61, IF($C$7=\"South Australia\", 'K values'!AG61, IF($C$7=\"Tasmania\", 'K values'!AM61, IF($C$7=\"Victoria\", 'K values'!AS61, IF($C$7=\"Western Australia\", 'K values'!AY61, \"\"))))))))","v":""},{"$f":"IF($C$7=\"Australian Capital Territory\", 'K values'!J61, IF($C$7=\"New South Wales\", 'K values'!P61, IF($C$7=\"Northern Territory\", 'K values'!V61, IF($C$7=\"Queensland\", 'K values'!AB61, IF($C$7=\"South Australia\", 'K values'!AH61, IF($C$7=\"Tasmania\", 'K values'!AN61, IF($C$7=\"Victoria\", 'K values'!AT61, IF($C$7=\"Western Australia\", 'K values'!AZ61, \"\"))))))))","v":""},{"$f":"IF($C$7=\"Australian Capital Territory\", 'K values'!K61, IF($C$7=\"New South Wales\", 'K values'!Q61, IF($C$7=\"Northern Territory\", 'K values'!W61, IF($C$7=\"Queensland\", 'K values'!AC61, IF($C$7=\"South Australia\", 'K values'!AI61, IF($C$7=\"Tasmania\", 'K values'!AO61, IF($C$7=\"Victoria\", 'K values'!AU61, IF($C$7=\"Western Australia\", 'K values'!BA61, \"\"))))))))","v":""}]
[{"$f":"IF($C$7=\"Australian Capital Territory\", 'K values'!G62, IF($C$7=\"New South Wales\", 'K values'!M62, IF($C$7=\"Northern Territory\", 'K values'!S62, IF($C$7=\"Queensland\", 'K values'!Y62, IF($C$7=\"South Australia\", 'K values'!AE62, IF($C$7=\"Tasmania\", 'K values'!AK62, IF($C$7=\"Victoria\", 'K values'!AQ62, IF($C$7=\"Western Australia\", 'K values'!AW62, \"\"))))))))","v":""},{"$f":"IF($C$7=\"Australian Capital Territory\", 'K values'!H62, IF($C$7=\"New South Wales\", 'K values'!N62, IF($C$7=\"Northern Territory\", 'K values'!T62, IF($C$7=\"Queensland\", 'K values'!Z62, IF($C$7=\"South Australia\", 'K values'!AF62, IF($C$7=\"Tasmania\", 'K values'!AL62, IF($C$7=\"Victoria\", 'K values'!AR62, IF($C$7=\"Western Australia\", 'K values'!AX62, \"\"))))))))","v":""},{"$f":"IF($C$7=\"Australian Capital Territory\", 'K values'!I62, IF($C$7=\"New South Wales\", 'K values'!O62, IF($C$7=\"Northern Territory\", 'K values'!U62, IF($C$7=\"Queensland\", 'K values'!AA62, IF($C$7=\"South Australia\", 'K values'!AG62, IF($C$7=\"Tasmania\", 'K values'!AM62, IF($C$7=\"Victoria\", 'K values'!AS62, IF($C$7=\"Western Australia\", 'K values'!AY62, \"\"))))))))","v":""},{"$f":"IF($C$7=\"Australian Capital Territory\", 'K values'!J62, IF($C$7=\"New South Wales\", 'K values'!P62, IF($C$7=\"Northern Territory\", 'K values'!V62, IF($C$7=\"Queensland\", 'K values'!AB62, IF($C$7=\"South Australia\", 'K values'!AH62, IF($C$7=\"Tasmania\", 'K values'!AN62, IF($C$7=\"Victoria\", 'K values'!AT62, IF($C$7=\"Western Australia\", 'K values'!AZ62, \"\"))))))))","v":""},{"$f":"IF($C$7=\"Australian Capital Territory\", 'K values'!K62, IF($C$7=\"New South Wales\", 'K values'!Q62, IF($C$7=\"Northern Territory\", 'K values'!W62, IF($C$7=\"Queensland\", 'K values'!AC62, IF($C$7=\"South Australia\", 'K values'!AI62, IF($C$7=\"Tasmania\", 'K values'!AO62, IF($C$7=\"Victoria\", 'K values'!AU62, IF($C$7=\"Western Australia\", 'K values'!BA62, \"\"))))))))","v":""}]
[{"$f":"IF($C$7=\"Australian Capital Territory\", 'K values'!G63, IF($C$7=\"New South Wales\", 'K values'!M63, IF($C$7=\"Northern Territory\", 'K values'!S63, IF($C$7=\"Queensland\", 'K values'!Y63, IF($C$7=\"South Australia\", 'K values'!AE63, IF($C$7=\"Tasmania\", 'K values'!AK63, IF($C$7=\"Victoria\", 'K values'!AQ63, IF($C$7=\"Western Australia\", 'K values'!AW63, \"\"))))))))","v":""},{"$f":"IF($C$7=\"Australian Capital Territory\", 'K values'!H63, IF($C$7=\"New South Wales\", 'K values'!N63, IF($C$7=\"Northern Territory\", 'K values'!T63, IF($C$7=\"Queensland\", 'K values'!Z63, IF($C$7=\"South Australia\", 'K values'!AF63, IF($C$7=\"Tasmania\", 'K values'!AL63, IF($C$7=\"Victoria\", 'K values'!AR63, IF($C$7=\"Western Australia\", 'K values'!AX63, \"\"))))))))","v":""},{"$f":"IF($C$7=\"Australian Capital Territory\", 'K values'!I63, IF($C$7=\"New South Wales\", 'K values'!O63, IF($C$7=\"Northern Territory\", 'K values'!U63, IF($C$7=\"Queensland\", 'K values'!AA63, IF($C$7=\"South Australia\", 'K values'!AG63, IF($C$7=\"Tasmania\", 'K values'!AM63, IF($C$7=\"Victoria\", 'K values'!AS63, IF($C$7=\"Western Australia\", 'K values'!AY63, \"\"))))))))","v":""},{"$f":"IF($C$7=\"Australian Capital Territory\", 'K values'!J63, IF($C$7=\"New South Wales\", 'K values'!P63, IF($C$7=\"Northern Territory\", 'K values'!V63, IF($C$7=\"Queensland\", 'K values'!AB63, IF($C$7=\"South Australia\", 'K values'!AH63, IF($C$7=\"Tasmania\", 'K values'!AN63, IF($C$7=\"Victoria\", 'K values'!AT63, IF($C$7=\"Western Australia\", 'K values'!AZ63, \"\"))))))))","v":""},{"$f":"IF($C$7=\"Australian Capital Territory\", 'K values'!K63, IF($C$7=\"New South Wales\", 'K values'!Q63, IF($C$7=\"Northern Territory\", 'K values'!W63, IF($C$7=\"Queensland\", 'K values'!AC63, IF($C$7=\"South Australia\", 'K values'!AI63, IF($C$7=\"Tasmania\", 'K values'!AO63, IF($C$7=\"Victoria\", 'K values'!AU63, IF($C$7=\"Western Australia\", 'K values'!BA63, \"\"))))))))","v":""}]
[{"$f":"IF($C$7=\"Australian Capital Territory\", 'K values'!G64, IF($C$7=\"New South Wales\", 'K values'!M64, IF($C$7=\"Northern Territory\", 'K values'!S64, IF($C$7=\"Queensland\", 'K values'!Y64, IF($C$7=\"South Australia\", 'K values'!AE64, IF($C$7=\"Tasmania\", 'K values'!AK64, IF($C$7=\"Victoria\", 'K values'!AQ64, IF($C$7=\"Western Australia\", 'K values'!AW64, \"\"))))))))","v":""},{"$f":"IF($C$7=\"Australian Capital Territory\", 'K values'!H64, IF($C$7=\"New South Wales\", 'K values'!N64, IF($C$7=\"Northern Territory\", 'K values'!T64, IF($C$7=\"Queensland\", 'K values'!Z64, IF($C$7=\"South Australia\", 'K values'!AF64, IF($C$7=\"Tasmania\", 'K values'!AL64, IF($C$7=\"Victoria\", 'K values'!AR64, IF($C$7=\"Western Australia\", 'K values'!AX64, \"\"))))))))","v":""},{"$f":"IF($C$7=\"Australian Capital Territory\", 'K values'!I64, IF($C$7=\"New South Wales\", 'K values'!O64, IF($C$7=\"Northern Territory\", 'K values'!U64, IF($C$7=\"Queensland\", 'K values'!AA64, IF($C$7=\"South Australia\", 'K values'!AG64, IF($C$7=\"Tasmania\", 'K values'!AM64, IF($C$7=\"Victoria\", 'K values'!AS64, IF($C$7=\"Western Australia\", 'K values'!AY64, \"\"))))))))","v":""},{"$f":"IF($C$7=\"Australian Capital Territory\", 'K values'!J64, IF($C$7=\"New South Wales\", 'K values'!P64, IF($C$7=\"Northern Territory\", 'K values'!V64, IF($C$7=\"Queensland\", 'K values'!AB64, IF($C$7=\"South Australia\", 'K values'!AH64, IF($C$7=\"Tasmania\", 'K values'!AN64, IF($C$7=\"Victoria\", 'K values'!AT64, IF($C$7=\"Western Australia\", 'K values'!AZ64, \"\"))))))))","v":""},{"$f":"IF($C$7=\"Australian Capital Territory\", 'K values'!K64, IF($C$7=\"New South Wales\", 'K values'!Q64, IF($C$7=\"Northern Territory\", 'K values'!W64, IF($C$7=\"Queensland\", 'K values'!AC64, IF($C$7=\"South Australia\", 'K values'!AI64, IF($C$7=\"Tasmania\", 'K values'!AO64, IF($C$7=\"Victoria\", 'K values'!AU64, IF($C$7=\"Western Australia\", 'K values'!BA64, \"\"))))))))","v":""}]
[{"$f":"IF($C$7=\"Australian Capital Territory\", 'K values'!G65, IF($C$7=\"New South Wales\", 'K values'!M65, IF($C$7=\"Northern Territory\", 'K values'!S65, IF($C$7=\"Queensland\", 'K values'!Y65, IF($C$7=\"South Australia\", 'K values'!AE65, IF($C$7=\"Tasmania\", 'K values'!AK65, IF($C$7=\"Victoria\", 'K values'!AQ65, IF($C$7=\"Western Australia\", 'K values'!AW65, \"\"))))))))","v":""},{"$f":"IF($C$7=\"Australian Capital Territory\", 'K values'!H65, IF($C$7=\"New South Wales\", 'K values'!N65, IF($C$7=\"Northern Territory\", 'K values'!T65, IF($C$7=\"Queensland\", 'K values'!Z65, IF($C$7=\"South Australia\", 'K values'!AF65, IF($C$7=\"Tasmania\", 'K values'!AL65, IF($C$7=\"Victoria\", 'K values'!AR65, IF($C$7=\"Western Australia\", 'K values'!AX65, \"\"))))))))","v":""},{"$f":"IF($C$7=\"Australian Capital Territory\", 'K values'!I65, IF($C$7=\"New South Wales\", 'K values'!O65, IF($C$7=\"Northern Territory\", 'K values'!U65, IF($C$7=\"Queensland\", 'K values'!AA65, IF($C$7=\"South Australia\", 'K values'!AG65, IF($C$7=\"Tasmania\", 'K values'!AM65, IF($C$7=\"Victoria\", 'K values'!AS65, IF($C$7=\"Western Australia\", 'K values'!AY65, \"\"))))))))","v":""},{"$f":"IF($C$7=\"Australian Capital Territory\", 'K values'!J65, IF($C$7=\"New South Wales\", 'K values'!P65, IF($C$7=\"Northern Territory\", 'K values'!V65, IF($C$7=\"Queensland\", 'K values'!AB65, IF($C$7=\"South Australia\", 'K values'!AH65, IF($C$7=\"Tasmania\", 'K values'!AN65, IF($C$7=\"Victoria\", 'K values'!AT65, IF($C$7=\"Western Australia\", 'K values'!AZ65, \"\"))))))))","v":""},{"$f":"IF($C$7=\"Australian Capital Territory\", 'K values'!K65, IF($C$7=\"New South Wales\", 'K values'!Q65, IF($C$7=\"Northern Territory\", 'K values'!W65, IF($C$7=\"Queensland\", 'K values'!AC65, IF($C$7=\"South Australia\", 'K values'!AI65, IF($C$7=\"Tasmania\", 'K values'!AO65, IF($C$7=\"Victoria\", 'K values'!AU65, IF($C$7=\"Western Australia\", 'K values'!BA65, \"\"))))))))","v":""}]
[{"$f":"IF($C$7=\"Australian Capital Territory\", 'K values'!G66, IF($C$7=\"New South Wales\", 'K values'!M66, IF($C$7=\"Northern Territory\", 'K values'!S66, IF($C$7=\"Queensland\", 'K values'!Y66, IF($C$7=\"South Australia\", 'K values'!AE66, IF($C$7=\"Tasmania\", 'K values'!AK66, IF($C$7=\"Victoria\", 'K values'!AQ66, IF($C$7=\"Western Australia\", 'K values'!AW66, \"\"))))))))","v":""},{"$f":"IF($C$7=\"Australian Capital Territory\", 'K values'!H66, IF($C$7=\"New South Wales\", 'K values'!N66, IF($C$7=\"Northern Territory\", 'K values'!T66, IF($C$7=\"Queensland\", 'K values'!Z66, IF($C$7=\"South Australia\", 'K values'!AF66, IF($C$7=\"Tasmania\", 'K values'!AL66, IF($C$7=\"Victoria\", 'K values'!AR66, IF($C$7=\"Western Australia\", 'K values'!AX66, \"\"))))))))","v":""},{"$f":"IF($C$7=\"Australian Capital Territory\", 'K values'!I66, IF($C$7=\"New South Wales\", 'K values'!O66, IF($C$7=\"Northern Territory\", 'K values'!U66, IF($C$7=\"Queensland\", 'K values'!AA66, IF($C$7=\"South Australia\", 'K values'!AG66, IF($C$7=\"Tasmania\", 'K values'!AM66, IF($C$7=\"Victoria\", 'K values'!AS66, IF($C$7=\"Western Australia\", 'K values'!AY66, \"\"))))))))","v":""},{"$f":"IF($C$7=\"Australian Capital Territory\", 'K values'!J66, IF($C$7=\"New South Wales\", 'K values'!P66, IF($C$7=\"Northern Territory\", 'K values'!V66, IF($C$7=\"Queensland\", 'K values'!AB66, IF($C$7=\"South Australia\", 'K values'!AH66, IF($C$7=\"Tasmania\", 'K values'!AN66, IF($C$7=\"Victoria\", 'K values'!AT66, IF($C$7=\"Western Australia\", 'K values'!AZ66, \"\"))))))))","v":""},{"$f":"IF($C$7=\"Australian Capital Territory\", 'K values'!K66, IF($C$7=\"New South Wales\", 'K values'!Q66, IF($C$7=\"Northern Territory\", 'K values'!W66, IF($C$7=\"Queensland\", 'K values'!AC66, IF($C$7=\"South Australia\", 'K values'!AI66, IF($C$7=\"Tasmania\", 'K values'!AO66, IF($C$7=\"Victoria\", 'K values'!AU66, IF($C$7=\"Western Australia\", 'K values'!BA66, \"\"))))))))","v":""}]
[{"$f":"IF($C$7=\"Australian Capital Territory\", 'K values'!G67, IF($C$7=\"New South Wales\", 'K values'!M67, IF($C$7=\"Northern Territory\", 'K values'!S67, IF($C$7=\"Queensland\", 'K values'!Y67, IF($C$7=\"South Australia\", 'K values'!AE67, IF($C$7=\"Tasmania\", 'K values'!AK67, IF($C$7=\"Victoria\", 'K values'!AQ67, IF($C$7=\"Western Australia\", 'K values'!AW67, \"\"))))))))","v":""},{"$f":"IF($C$7=\"Australian Capital Territory\", 'K values'!H67, IF($C$7=\"New South Wales\", 'K values'!N67, IF($C$7=\"Northern Territory\", 'K values'!T67, IF($C$7=\"Queensland\", 'K values'!Z67, IF($C$7=\"South Australia\", 'K values'!AF67, IF($C$7=\"Tasmania\", 'K values'!AL67, IF($C$7=\"Victoria\", 'K values'!AR67, IF($C$7=\"Western Australia\", 'K values'!AX67, \"\"))))))))","v":""},{"$f":"IF($C$7=\"Australian Capital Territory\", 'K values'!I67, IF($C$7=\"New South Wales\", 'K values'!O67, IF($C$7=\"Northern Territory\", 'K values'!U67, IF($C$7=\"Queensland\", 'K values'!AA67, IF($C$7=\"South Australia\", 'K values'!AG67, IF($C$7=\"Tasmania\", 'K values'!AM67, IF($C$7=\"Victoria\", 'K values'!AS67, IF($C$7=\"Western Australia\", 'K values'!AY67, \"\"))))))))","v":""},{"$f":"IF($C$7=\"Australian Capital Territory\", 'K values'!J67, IF($C$7=\"New South Wales\", 'K values'!P67, IF($C$7=\"Northern Territory\", 'K values'!V67, IF($C$7=\"Queensland\", 'K values'!AB67, IF($C$7=\"South Australia\", 'K values'!AH67, IF($C$7=\"Tasmania\", 'K values'!AN67, IF($C$7=\"Victoria\", 'K values'!AT67, IF($C$7=\"Western Australia\", 'K values'!AZ67, \"\"))))))))","v":""},{"$f":"IF($C$7=\"Australian Capital Territory\", 'K values'!K67, IF($C$7=\"New South Wales\", 'K values'!Q67, IF($C$7=\"Northern Territory\", 'K values'!W67, IF($C$7=\"Queensland\", 'K values'!AC67, IF($C$7=\"South Australia\", 'K values'!AI67, IF($C$7=\"Tasmania\", 'K values'!AO67, IF($C$7=\"Victoria\", 'K values'!AU67, IF($C$7=\"Western Australia\", 'K values'!BA67, \"\"))))))))","v":""}]
[{"$f":"IF($C$7=\"Australian Capital Territory\", 'K values'!G68, IF($C$7=\"New South Wales\", 'K values'!M68, IF($C$7=\"Northern Territory\", 'K values'!S68, IF($C$7=\"Queensland\", 'K values'!Y68, IF($C$7=\"South Australia\", 'K values'!AE68, IF($C$7=\"Tasmania\", 'K values'!AK68, IF($C$7=\"Victoria\", 'K values'!AQ68, IF($C$7=\"Western Australia\", 'K values'!AW68, \"\"))))))))","v":""},{"$f":"IF($C$7=\"Australian Capital Territory\", 'K values'!H68, IF($C$7=\"New South Wales\", 'K values'!N68, IF($C$7=\"Northern Territory\", 'K values'!T68, IF($C$7=\"Queensland\", 'K values'!Z68, IF($C$7=\"South Australia\", 'K values'!AF68, IF($C$7=\"Tasmania\", 'K values'!AL68, IF($C$7=\"Victoria\", 'K values'!AR68, IF($C$7=\"Western Australia\", 'K values'!AX68, \"\"))))))))","v":""},{"$f":"IF($C$7=\"Australian Capital Territory\", 'K values'!I68, IF($C$7=\"New South Wales\", 'K values'!O68, IF($C$7=\"Northern Territory\", 'K values'!U68, IF($C$7=\"Queensland\", 'K values'!AA68, IF($C$7=\"South Australia\", 'K values'!AG68, IF($C$7=\"Tasmania\", 'K values'!AM68, IF($C$7=\"Victoria\", 'K values'!AS68, IF($C$7=\"Western Australia\", 'K values'!AY68, \"\"))))))))","v":""},{"$f":"IF($C$7=\"Australian Capital Territory\", 'K values'!J68, IF($C$7=\"New South Wales\", 'K values'!P68, IF($C$7=\"Northern Territory\", 'K values'!V68, IF($C$7=\"Queensland\", 'K values'!AB68, IF($C$7=\"South Australia\", 'K values'!AH68, IF($C$7=\"Tasmania\", 'K values'!AN68, IF($C$7=\"Victoria\", 'K values'!AT68, IF($C$7=\"Western Australia\", 'K values'!AZ68, \"\"))))))))","v":""},{"$f":"IF($C$7=\"Australian Capital Territory\", 'K values'!K68, IF($C$7=\"New South Wales\", 'K values'!Q68, IF($C$7=\"Northern Territory\", 'K values'!W68, IF($C$7=\"Queensland\", 'K values'!AC68, IF($C$7=\"South Australia\", 'K values'!AI68, IF($C$7=\"Tasmania\", 'K values'!AO68, IF($C$7=\"Victoria\", 'K values'!AU68, IF($C$7=\"Western Australia\", 'K values'!BA68, \"\"))))))))","v":""}]
[{"$f":"IF($C$7=\"Australian Capital Territory\", 'K values'!G69, IF($C$7=\"New South Wales\", 'K values'!M69, IF($C$7=\"Northern Territory\", 'K values'!S69, IF($C$7=\"Queensland\", 'K values'!Y69, IF($C$7=\"South Australia\", 'K values'!AE69, IF($C$7=\"Tasmania\", 'K values'!AK69, IF($C$7=\"Victoria\", 'K values'!AQ69, IF($C$7=\"Western Australia\", 'K values'!AW69, \"\"))))))))","v":""},{"$f":"IF($C$7=\"Australian Capital Territory\", 'K values'!H69, IF($C$7=\"New South Wales\", 'K values'!N69, IF($C$7=\"Northern Territory\", 'K values'!T69, IF($C$7=\"Queensland\", 'K values'!Z69, IF($C$7=\"South Australia\", 'K values'!AF69, IF($C$7=\"Tasmania\", 'K values'!AL69, IF($C$7=\"Victoria\", 'K values'!AR69, IF($C$7=\"Western Australia\", 'K values'!AX69, \"\"))))))))","v":""},{"$f":"IF($C$7=\"Australian Capital Territory\", 'K values'!I69, IF($C$7=\"New South Wales\", 'K values'!O69, IF($C$7=\"Northern Territory\", 'K values'!U69, IF($C$7=\"Queensland\", 'K values'!AA69, IF($C$7=\"South Australia\", 'K values'!AG69, IF($C$7=\"Tasmania\", 'K values'!AM69, IF($C$7=\"Victoria\", 'K values'!AS69, IF($C$7=\"Western Australia\", 'K values'!AY69, \"\"))))))))","v":""},{"$f":"IF($C$7=\"Australian Capital Territory\", 'K values'!J69, IF($C$7=\"New South Wales\", 'K values'!P69, IF($C$7=\"Northern Territory\", 'K values'!V69, IF($C$7=\"Queensland\", 'K values'!AB69, IF($C$7=\"South Australia\", 'K values'!AH69, IF($C$7=\"Tasmania\", 'K values'!AN69, IF($C$7=\"Victoria\", 'K values'!AT69, IF($C$7=\"Western Australia\", 'K values'!AZ69, \"\"))))))))","v":""},{"$f":"IF($C$7=\"Australian Capital Territory\", 'K values'!K69, IF($C$7=\"New South Wales\", 'K values'!Q69, IF($C$7=\"Northern Territory\", 'K values'!W69, IF($C$7=\"Queensland\", 'K values'!AC69, IF($C$7=\"South Australia\", 'K values'!AI69, IF($C$7=\"Tasmania\", 'K values'!AO69, IF($C$7=\"Victoria\", 'K values'!AU69, IF($C$7=\"Western Australia\", 'K values'!BA69, \"\"))))))))","v":""}]
[{"$f":"IF($C$7=\"Australian Capital Territory\", 'K values'!G70, IF($C$7=\"New South Wales\", 'K values'!M70, IF($C$7=\"Northern Territory\", 'K values'!S70, IF($C$7=\"Queensland\", 'K values'!Y70, IF($C$7=\"South Australia\", 'K values'!AE70, IF($C$7=\"Tasmania\", 'K values'!AK70, IF($C$7=\"Victoria\", 'K values'!AQ70, IF($C$7=\"Western Australia\", 'K values'!AW70, \"\"))))))))","v":""},{"$f":"IF($C$7=\"Australian Capital Territory\", 'K values'!H70, IF($C$7=\"New South Wales\", 'K values'!N70, IF($C$7=\"Northern Territory\", 'K values'!T70, IF($C$7=\"Queensland\", 'K values'!Z70, IF($C$7=\"South Australia\", 'K values'!AF70, IF($C$7=\"Tasmania\", 'K values'!AL70, IF($C$7=\"Victoria\", 'K values'!AR70, IF($C$7=\"Western Australia\", 'K values'!AX70, \"\"))))))))","v":""},{"$f":"IF($C$7=\"Australian Capital Territory\", 'K values'!I70, IF($C$7=\"New South Wales\", 'K values'!O70, IF($C$7=\"Northern Territory\", 'K values'!U70, IF($C$7=\"Queensland\", 'K values'!AA70, IF($C$7=\"South Australia\", 'K values'!AG70, IF($C$7=\"Tasmania\", 'K values'!AM70, IF($C$7=\"Victoria\", 'K values'!AS70, IF($C$7=\"Western Australia\", 'K values'!AY70, \"\"))))))))","v":""},{"$f":"IF($C$7=\"Australian Capital Territory\", 'K values'!J70, IF($C$7=\"New South Wales\", 'K values'!P70, IF($C$7=\"Northern Territory\", 'K values'!V70, IF($C$7=\"Queensland\", 'K values'!AB70, IF($C$7=\"South Australia\", 'K values'!AH70, IF($C$7=\"Tasmania\", 'K values'!AN70, IF($C$7=\"Victoria\", 'K values'!AT70, IF($C$7=\"Western Australia\", 'K values'!AZ70, \"\"))))))))","v":""},{"$f":"IF($C$7=\"Australian Capital Territory\", 'K values'!K70, IF($C$7=\"New South Wales\", 'K values'!Q70, IF($C$7=\"Northern Territory\", 'K values'!W70, IF($C$7=\"Queensland\", 'K values'!AC70, IF($C$7=\"South Australia\", 'K values'!AI70, IF($C$7=\"Tasmania\", 'K values'!AO70, IF($C$7=\"Victoria\", 'K values'!AU70, IF($C$7=\"Western Australia\", 'K values'!BA70, \"\"))))))))","v":""}]
[{"$f":"IF($C$7=\"Australian Capital Territory\", 'K values'!G71, IF($C$7=\"New South Wales\", 'K values'!M71, IF($C$7=\"Northern Territory\", 'K values'!S71, IF($C$7=\"Queensland\", 'K values'!Y71, IF($C$7=\"South Australia\", 'K values'!AE71, IF($C$7=\"Tasmania\", 'K values'!AK71, IF($C$7=\"Victoria\", 'K values'!AQ71, IF($C$7=\"Western Australia\", 'K values'!AW71, \"\"))))))))","v":""},{"$f":"IF($C$7=\"Australian Capital Territory\", 'K values'!H71, IF($C$7=\"New South Wales\", 'K values'!N71, IF($C$7=\"Northern Territory\", 'K values'!T71, IF($C$7=\"Queensland\", 'K values'!Z71, IF($C$7=\"South Australia\", 'K values'!AF71, IF($C$7=\"Tasmania\", 'K values'!AL71, IF($C$7=\"Victoria\", 'K values'!AR71, IF($C$7=\"Western Australia\", 'K values'!AX71, \"\"))))))))","v":""},{"$f":"IF($C$7=\"Australian Capital Territory\", 'K values'!I71, IF($C$7=\"New South Wales\", 'K values'!O71, IF($C$7=\"Northern Territory\", 'K values'!U71, IF($C$7=\"Queensland\", 'K values'!AA71, IF($C$7=\"South Australia\", 'K values'!AG71, IF($C$7=\"Tasmania\", 'K values'!AM71, IF($C$7=\"Victoria\", 'K values'!AS71, IF($C$7=\"Western Australia\", 'K values'!AY71, \"\"))))))))","v":""},{"$f":"IF($C$7=\"Australian Capital Territory\", 'K values'!J71, IF($C$7=\"New South Wales\", 'K values'!P71, IF($C$7=\"Northern Territory\", 'K values'!V71, IF($C$7=\"Queensland\", 'K values'!AB71, IF($C$7=\"South Australia\", 'K values'!AH71, IF($C$7=\"Tasmania\", 'K values'!AN71, IF($C$7=\"Victoria\", 'K values'!AT71, IF($C$7=\"Western Australia\", 'K values'!AZ71, \"\"))))))))","v":""},{"$f":"IF($C$7=\"Australian Capital Territory\", 'K values'!K71, IF($C$7=\"New South Wales\", 'K values'!Q71, IF($C$7=\"Northern Territory\", 'K values'!W71, IF($C$7=\"Queensland\", 'K values'!AC71, IF($C$7=\"South Australia\", 'K values'!AI71, IF($C$7=\"Tasmania\", 'K values'!AO71, IF($C$7=\"Victoria\", 'K values'!AU71, IF($C$7=\"Western Australia\", 'K values'!BA71, \"\"))))))))","v":""}]
[{"$f":"IF($C$7=\"Australian Capital Territory\", 'K values'!G72, IF($C$7=\"New South Wales\", 'K values'!M72, IF($C$7=\"Northern Territory\", 'K values'!S72, IF($C$7=\"Queensland\", 'K values'!Y72, IF($C$7=\"South Australia\", 'K values'!AE72, IF($C$7=\"Tasmania\", 'K values'!AK72, IF($C$7=\"Victoria\", 'K values'!AQ72, IF($C$7=\"Western Australia\", 'K values'!AW72, \"\"))))))))","v":""},{"$f":"IF($C$7=\"Australian Capital Territory\", 'K values'!H72, IF($C$7=\"New South Wales\", 'K values'!N72, IF($C$7=\"Northern Territory\", 'K values'!T72, IF($C$7=\"Queensland\", 'K values'!Z72, IF($C$7=\"South Australia\", 'K values'!AF72, IF($C$7=\"Tasmania\", 'K values'!AL72, IF($C$7=\"Victoria\", 'K values'!AR72, IF($C$7=\"Western Australia\", 'K values'!AX72, \"\"))))))))","v":""},{"$f":"IF($C$7=\"Australian Capital Territory\", 'K values'!I72, IF($C$7=\"New South Wales\", 'K values'!O72, IF($C$7=\"Northern Territory\", 'K values'!U72, IF($C$7=\"Queensland\", 'K values'!AA72, IF($C$7=\"South Australia\", 'K values'!AG72, IF($C$7=\"Tasmania\", 'K values'!AM72, IF($C$7=\"Victoria\", 'K values'!AS72, IF($C$7=\"Western Australia\", 'K values'!AY72, \"\"))))))))","v":""},{"$f":"IF($C$7=\"Australian Capital Territory\", 'K values'!J72, IF($C$7=\"New South Wales\", 'K values'!P72, IF($C$7=\"Northern Territory\", 'K values'!V72, IF($C$7=\"Queensland\", 'K values'!AB72, IF($C$7=\"South Australia\", 'K values'!AH72, IF($C$7=\"Tasmania\", 'K values'!AN72, IF($C$7=\"Victoria\", 'K values'!AT72, IF($C$7=\"Western Australia\", 'K values'!AZ72, \"\"))))))))","v":""},{"$f":"IF($C$7=\"Australian Capital Territory\", 'K values'!K72, IF($C$7=\"New South Wales\", 'K values'!Q72, IF($C$7=\"Northern Territory\", 'K values'!W72, IF($C$7=\"Queensland\", 'K values'!AC72, IF($C$7=\"South Australia\", 'K values'!AI72, IF($C$7=\"Tasmania\", 'K values'!AO72, IF($C$7=\"Victoria\", 'K values'!AU72, IF($C$7=\"Western Australia\", 'K values'!BA72, \"\"))))))))","v":""}]
[{"$f":"IF($C$7=\"Australian Capital Territory\", 'K values'!G73, IF($C$7=\"New South Wales\", 'K values'!M73, IF($C$7=\"Northern Territory\", 'K values'!S73, IF($C$7=\"Queensland\", 'K values'!Y73, IF($C$7=\"South Australia\", 'K values'!AE73, IF($C$7=\"Tasmania\", 'K values'!AK73, IF($C$7=\"Victoria\", 'K values'!AQ73, IF($C$7=\"Western Australia\", 'K values'!AW73, \"\"))))))))","v":""},{"$f":"IF($C$7=\"Australian Capital Territory\", 'K values'!H73, IF($C$7=\"New South Wales\", 'K values'!N73, IF($C$7=\"Northern Territory\", 'K values'!T73, IF($C$7=\"Queensland\", 'K values'!Z73, IF($C$7=\"South Australia\", 'K values'!AF73, IF($C$7=\"Tasmania\", 'K values'!AL73, IF($C$7=\"Victoria\", 'K values'!AR73, IF($C$7=\"Western Australia\", 'K values'!AX73, \"\"))))))))","v":""},{"$f":"IF($C$7=\"Australian Capital Territory\", 'K values'!I73, IF($C$7=\"New South Wales\", 'K values'!O73, IF($C$7=\"Northern Territory\", 'K values'!U73, IF($C$7=\"Queensland\", 'K values'!AA73, IF($C$7=\"South Australia\", 'K values'!AG73, IF($C$7=\"Tasmania\", 'K values'!AM73, IF($C$7=\"Victoria\", 'K values'!AS73, IF($C$7=\"Western Australia\", 'K values'!AY73, \"\"))))))))","v":""},{"$f":"IF($C$7=\"Australian Capital Territory\", 'K values'!J73, IF($C$7=\"New South Wales\", 'K values'!P73, IF($C$7=\"Northern Territory\", 'K values'!V73, IF($C$7=\"Queensland\", 'K values'!AB73, IF($C$7=\"South Australia\", 'K values'!AH73, IF($C$7=\"Tasmania\", 'K values'!AN73, IF($C$7=\"Victoria\", 'K values'!AT73, IF($C$7=\"Western Australia\", 'K values'!AZ73, \"\"))))))))","v":""},{"$f":"IF($C$7=\"Australian Capital Territory\", 'K values'!K73, IF($C$7=\"New South Wales\", 'K values'!Q73, IF($C$7=\"Northern Territory\", 'K values'!W73, IF($C$7=\"Queensland\", 'K values'!AC73, IF($C$7=\"South Australia\", 'K values'!AI73, IF($C$7=\"Tasmania\", 'K values'!AO73, IF($C$7=\"Victoria\", 'K values'!AU73, IF($C$7=\"Western Australia\", 'K values'!BA73, \"\"))))))))","v":""}]
[{"$f":"IF($C$7=\"Australian Capital Territory\", 'K values'!G74, IF($C$7=\"New South Wales\", 'K values'!M74, IF($C$7=\"Northern Territory\", 'K values'!S74, IF($C$7=\"Queensland\", 'K values'!Y74, IF($C$7=\"South Australia\", 'K values'!AE74, IF($C$7=\"Tasmania\", 'K values'!AK74, IF($C$7=\"Victoria\", 'K values'!AQ74, IF($C$7=\"Western Australia\", 'K values'!AW74, \"\"))))))))","v":""},{"$f":"IF($C$7=\"Australian Capital Territory\", 'K values'!H74, IF($C$7=\"New South Wales\", 'K values'!N74, IF($C$7=\"Northern Territory\", 'K values'!T74, IF($C$7=\"Queensland\", 'K values'!Z74, IF($C$7=\"South Australia\", 'K values'!AF74, IF($C$7=\"Tasmania\", 'K values'!AL74, IF($C$7=\"Victoria\", 'K values'!AR74, IF($C$7=\"Western Australia\", 'K values'!AX74, \"\"))))))))","v":""},{"$f":"IF($C$7=\"Australian Capital Territory\", 'K values'!I74, IF($C$7=\"New South Wales\", 'K values'!O74, IF($C$7=\"Northern Territory\", 'K values'!U74, IF($C$7=\"Queensland\", 'K values'!AA74, IF($C$7=\"South Australia\", 'K values'!AG74, IF($C$7=\"Tasmania\", 'K values'!AM74, IF($C$7=\"Victoria\", 'K values'!AS74, IF($C$7=\"Western Australia\", 'K values'!AY74, \"\"))))))))","v":""},{"$f":"IF($C$7=\"Australian Capital Territory\", 'K values'!J74, IF($C$7=\"New South Wales\", 'K values'!P74, IF($C$7=\"Northern Territory\", 'K values'!V74, IF($C$7=\"Queensland\", 'K values'!AB74, IF($C$7=\"South Australia\", 'K values'!AH74, IF($C$7=\"Tasmania\", 'K values'!AN74, IF($C$7=\"Victoria\", 'K values'!AT74, IF($C$7=\"Western Australia\", 'K values'!AZ74, \"\"))))))))","v":""},{"$f":"IF($C$7=\"Australian Capital Territory\", 'K values'!K74, IF($C$7=\"New South Wales\", 'K values'!Q74, IF($C$7=\"Northern Territory\", 'K values'!W74, IF($C$7=\"Queensland\", 'K values'!AC74, IF($C$7=\"South Australia\", 'K values'!AI74, IF($C$7=\"Tasmania\", 'K values'!AO74, IF($C$7=\"Victoria\", 'K values'!AU74, IF($C$7=\"Western Australia\", 'K values'!BA74, \"\"))))))))","v":""}]
[{"$f":"IF($C$7=\"Australian Capital Territory\", 'K values'!G75, IF($C$7=\"New South Wales\", 'K values'!M75, IF($C$7=\"Northern Territory\", 'K values'!S75, IF($C$7=\"Queensland\", 'K values'!Y75, IF($C$7=\"South Australia\", 'K values'!AE75, IF($C$7=\"Tasmania\", 'K values'!AK75, IF($C$7=\"Victoria\", 'K values'!AQ75, IF($C$7=\"Western Australia\", 'K values'!AW75, \"\"))))))))","v":""},{"$f":"IF($C$7=\"Australian Capital Territory\", 'K values'!H75, IF($C$7=\"New South Wales\", 'K values'!N75, IF($C$7=\"Northern Territory\", 'K values'!T75, IF($C$7=\"Queensland\", 'K values'!Z75, IF($C$7=\"South Australia\", 'K values'!AF75, IF($C$7=\"Tasmania\", 'K values'!AL75, IF($C$7=\"Victoria\", 'K values'!AR75, IF($C$7=\"Western Australia\", 'K values'!AX75, \"\"))))))))","v":""},{"$f":"IF($C$7=\"Australian Capital Territory\", 'K values'!I75, IF($C$7=\"New South Wales\", 'K values'!O75, IF($C$7=\"Northern Territory\", 'K values'!U75, IF($C$7=\"Queensland\", 'K values'!AA75, IF($C$7=\"South Australia\", 'K values'!AG75, IF($C$7=\"Tasmania\", 'K values'!AM75, IF($C$7=\"Victoria\", 'K values'!AS75, IF($C$7=\"Western Australia\", 'K values'!AY75, \"\"))))))))","v":""},{"$f":"IF($C$7=\"Australian Capital Territory\", 'K values'!J75, IF($C$7=\"New South Wales\", 'K values'!P75, IF($C$7=\"Northern Territory\", 'K values'!V75, IF($C$7=\"Queensland\", 'K values'!AB75, IF($C$7=\"South Australia\", 'K values'!AH75, IF($C$7=\"Tasmania\", 'K values'!AN75, IF($C$7=\"Victoria\", 'K values'!AT75, IF($C$7=\"Western Australia\", 'K values'!AZ75, \"\"))))))))","v":""},{"$f":"IF($C$7=\"Australian Capital Territory\", 'K values'!K75, IF($C$7=\"New South Wales\", 'K values'!Q75, IF($C$7=\"Northern Territory\", 'K values'!W75, IF($C$7=\"Queensland\", 'K values'!AC75, IF($C$7=\"South Australia\", 'K values'!AI75, IF($C$7=\"Tasmania\", 'K values'!AO75, IF($C$7=\"Victoria\", 'K values'!AU75, IF($C$7=\"Western Australia\", 'K values'!BA75, \"\"))))))))","v":""}]
[{"$f":"IF($C$7=\"Australian Capital Territory\", 'K values'!G76, IF($C$7=\"New South Wales\", 'K values'!M76, IF($C$7=\"Northern Territory\", 'K values'!S76, IF($C$7=\"Queensland\", 'K values'!Y76, IF($C$7=\"South Australia\", 'K values'!AE76, IF($C$7=\"Tasmania\", 'K values'!AK76, IF($C$7=\"Victoria\", 'K values'!AQ76, IF($C$7=\"Western Australia\", 'K values'!AW76, \"\"))))))))","v":""},{"$f":"IF($C$7=\"Australian Capital Territory\", 'K values'!H76, IF($C$7=\"New South Wales\", 'K values'!N76, IF($C$7=\"Northern Territory\", 'K values'!T76, IF($C$7=\"Queensland\", 'K values'!Z76, IF($C$7=\"South Australia\", 'K values'!AF76, IF($C$7=\"Tasmania\", 'K values'!AL76, IF($C$7=\"Victoria\", 'K values'!AR76, IF($C$7=\"Western Australia\", 'K values'!AX76, \"\"))))))))","v":""},{"$f":"IF($C$7=\"Australian Capital Territory\", 'K values'!I76, IF($C$7=\"New South Wales\", 'K values'!O76, IF($C$7=\"Northern Territory\", 'K values'!U76, IF($C$7=\"Queensland\", 'K values'!AA76, IF($C$7=\"South Australia\", 'K values'!AG76, IF($C$7=\"Tasmania\", 'K values'!AM76, IF($C$7=\"Victoria\", 'K values'!AS76, IF($C$7=\"Western Australia\", 'K values'!AY76, \"\"))))))))","v":""},{"$f":"IF($C$7=\"Australian Capital Territory\", 'K values'!J76, IF($C$7=\"New South Wales\", 'K values'!P76, IF($C$7=\"Northern Territory\", 'K values'!V76, IF($C$7=\"Queensland\", 'K values'!AB76, IF($C$7=\"South Australia\", 'K values'!AH76, IF($C$7=\"Tasmania\", 'K values'!AN76, IF($C$7=\"Victoria\", 'K values'!AT76, IF($C$7=\"Western Australia\", 'K values'!AZ76, \"\"))))))))","v":""},{"$f":"IF($C$7=\"Australian Capital Territory\", 'K values'!K76, IF($C$7=\"New South Wales\", 'K values'!Q76, IF($C$7=\"Northern Territory\", 'K values'!W76, IF($C$7=\"Queensland\", 'K values'!AC76, IF($C$7=\"South Australia\", 'K values'!AI76, IF($C$7=\"Tasmania\", 'K values'!AO76, IF($C$7=\"Victoria\", 'K values'!AU76, IF($C$7=\"Western Australia\", 'K values'!BA76, \"\"))))))))","v":""}]
[{"$f":"IF($C$7=\"Australian Capital Territory\", 'K values'!G77, IF($C$7=\"New South Wales\", 'K values'!M77, IF($C$7=\"Northern Territory\", 'K values'!S77, IF($C$7=\"Queensland\", 'K values'!Y77, IF($C$7=\"South Australia\", 'K values'!AE77, IF($C$7=\"Tasmania\", 'K values'!AK77, IF($C$7=\"Victoria\", 'K values'!AQ77, IF($C$7=\"Western Australia\", 'K values'!AW77, \"\"))))))))","v":""},{"$f":"IF($C$7=\"Australian Capital Territory\", 'K values'!H77, IF($C$7=\"New South Wales\", 'K values'!N77, IF($C$7=\"Northern Territory\", 'K values'!T77, IF($C$7=\"Queensland\", 'K values'!Z77, IF($C$7=\"South Australia\", 'K values'!AF77, IF($C$7=\"Tasmania\", 'K values'!AL77, IF($C$7=\"Victoria\", 'K values'!AR77, IF($C$7=\"Western Australia\", 'K values'!AX77, \"\"))))))))","v":""},{"$f":"IF($C$7=\"Australian Capital Territory\", 'K values'!I77, IF($C$7=\"New South Wales\", 'K values'!O77, IF($C$7=\"Northern Territory\", 'K values'!U77, IF($C$7=\"Queensland\", 'K values'!AA77, IF($C$7=\"South Australia\", 'K values'!AG77, IF($C$7=\"Tasmania\", 'K values'!AM77, IF($C$7=\"Victoria\", 'K values'!AS77, IF($C$7=\"Western Australia\", 'K values'!AY77, \"\"))))))))","v":""},{"$f":"IF($C$7=\"Australian Capital Territory\", 'K values'!J77, IF($C$7=\"New South Wales\", 'K values'!P77, IF($C$7=\"Northern Territory\", 'K values'!V77, IF($C$7=\"Queensland\", 'K values'!AB77, IF($C$7=\"South Australia\", 'K values'!AH77, IF($C$7=\"Tasmania\", 'K values'!AN77, IF($C$7=\"Victoria\", 'K values'!AT77, IF($C$7=\"Western Australia\", 'K values'!AZ77, \"\"))))))))","v":""},{"$f":"IF($C$7=\"Australian Capital Territory\", 'K values'!K77, IF($C$7=\"New South Wales\", 'K values'!Q77, IF($C$7=\"Northern Territory\", 'K values'!W77, IF($C$7=\"Queensland\", 'K values'!AC77, IF($C$7=\"South Australia\", 'K values'!AI77, IF($C$7=\"Tasmania\", 'K values'!AO77, IF($C$7=\"Victoria\", 'K values'!AU77, IF($C$7=\"Western Australia\", 'K values'!BA77, \"\"))))))))","v":""}]
[{"$f":"IF($C$7=\"Australian Capital Territory\", 'K values'!G78, IF($C$7=\"New South Wales\", 'K values'!M78, IF($C$7=\"Northern Territory\", 'K values'!S78, IF($C$7=\"Queensland\", 'K values'!Y78, IF($C$7=\"South Australia\", 'K values'!AE78, IF($C$7=\"Tasmania\", 'K values'!AK78, IF($C$7=\"Victoria\", 'K values'!AQ78, IF($C$7=\"Western Australia\", 'K values'!AW78, \"\"))))))))","v":""},{"$f":"IF($C$7=\"Australian Capital Territory\", 'K values'!H78, IF($C$7=\"New South Wales\", 'K values'!N78, IF($C$7=\"Northern Territory\", 'K values'!T78, IF($C$7=\"Queensland\", 'K values'!Z78, IF($C$7=\"South Australia\", 'K values'!AF78, IF($C$7=\"Tasmania\", 'K values'!AL78, IF($C$7=\"Victoria\", 'K values'!AR78, IF($C$7=\"Western Australia\", 'K values'!AX78, \"\"))))))))","v":""},{"$f":"IF($C$7=\"Australian Capital Territory\", 'K values'!I78, IF($C$7=\"New South Wales\", 'K values'!O78, IF($C$7=\"Northern Territory\", 'K values'!U78, IF($C$7=\"Queensland\", 'K values'!AA78, IF($C$7=\"South Australia\", 'K values'!AG78, IF($C$7=\"Tasmania\", 'K values'!AM78, IF($C$7=\"Victoria\", 'K values'!AS78, IF($C$7=\"Western Australia\", 'K values'!AY78, \"\"))))))))","v":""},{"$f":"IF($C$7=\"Australian Capital Territory\", 'K values'!J78, IF($C$7=\"New South Wales\", 'K values'!P78, IF($C$7=\"Northern Territory\", 'K values'!V78, IF($C$7=\"Queensland\", 'K values'!AB78, IF($C$7=\"South Australia\", 'K values'!AH78, IF($C$7=\"Tasmania\", 'K values'!AN78, IF($C$7=\"Victoria\", 'K values'!AT78, IF($C$7=\"Western Australia\", 'K values'!AZ78, \"\"))))))))","v":""},{"$f":"IF($C$7=\"Australian Capital Territory\", 'K values'!K78, IF($C$7=\"New South Wales\", 'K values'!Q78, IF($C$7=\"Northern Territory\", 'K values'!W78, IF($C$7=\"Queensland\", 'K values'!AC78, IF($C$7=\"South Australia\", 'K values'!AI78, IF($C$7=\"Tasmania\", 'K values'!AO78, IF($C$7=\"Victoria\", 'K values'!AU78, IF($C$7=\"Western Australia\", 'K values'!BA78, \"\"))))))))","v":""}]
[{"$f":"IF($C$7=\"Australian Capital Territory\", 'K values'!G79, IF($C$7=\"New South Wales\", 'K values'!M79, IF($C$7=\"Northern Territory\", 'K values'!S79, IF($C$7=\"Queensland\", 'K values'!Y79, IF($C$7=\"South Australia\", 'K values'!AE79, IF($C$7=\"Tasmania\", 'K values'!AK79, IF($C$7=\"Victoria\", 'K values'!AQ79, IF($C$7=\"Western Australia\", 'K values'!AW79, \"\"))))))))","v":""},{"$f":"IF($C$7=\"Australian Capital Territory\", 'K values'!H79, IF($C$7=\"New South Wales\", 'K values'!N79, IF($C$7=\"Northern Territory\", 'K values'!T79, IF($C$7=\"Queensland\", 'K values'!Z79, IF($C$7=\"South Australia\", 'K values'!AF79, IF($C$7=\"Tasmania\", 'K values'!AL79, IF($C$7=\"Victoria\", 'K values'!AR79, IF($C$7=\"Western Australia\", 'K values'!AX79, \"\"))))))))","v":""},{"$f":"IF($C$7=\"Australian Capital Territory\", 'K values'!I79, IF($C$7=\"New South Wales\", 'K values'!O79, IF($C$7=\"Northern Territory\", 'K values'!U79, IF($C$7=\"Queensland\", 'K values'!AA79, IF($C$7=\"South Australia\", 'K values'!AG79, IF($C$7=\"Tasmania\", 'K values'!AM79, IF($C$7=\"Victoria\", 'K values'!AS79, IF($C$7=\"Western Australia\", 'K values'!AY79, \"\"))))))))","v":""},{"$f":"IF($C$7=\"Australian Capital Territory\", 'K values'!J79, IF($C$7=\"New South Wales\", 'K values'!P79, IF($C$7=\"Northern Territory\", 'K values'!V79, IF($C$7=\"Queensland\", 'K values'!AB79, IF($C$7=\"South Australia\", 'K values'!AH79, IF($C$7=\"Tasmania\", 'K values'!AN79, IF($C$7=\"Victoria\", 'K values'!AT79, IF($C$7=\"Western Australia\", 'K values'!AZ79, \"\"))))))))","v":""},{"$f":"IF($C$7=\"Australian Capital Territory\", 'K values'!K79, IF($C$7=\"New South Wales\", 'K values'!Q79, IF($C$7=\"Northern Territory\", 'K values'!W79, IF($C$7=\"Queensland\", 'K values'!AC79, IF($C$7=\"South Australia\", 'K values'!AI79, IF($C$7=\"Tasmania\", 'K values'!AO79, IF($C$7=\"Victoria\", 'K values'!AU79, IF($C$7=\"Western Australia\", 'K values'!BA79, \"\"))))))))","v":""}]
[{"$f":"IF($C$7=\"Australian Capital Territory\", 'K values'!G80, IF($C$7=\"New South Wales\", 'K values'!M80, IF($C$7=\"Northern Territory\", 'K values'!S80, IF($C$7=\"Queensland\", 'K values'!Y80, IF($C$7=\"South Australia\", 'K values'!AE80, IF($C$7=\"Tasmania\", 'K values'!AK80, IF($C$7=\"Victoria\", 'K values'!AQ80, IF($C$7=\"Western Australia\", 'K values'!AW80, \"\"))))))))","v":""},{"$f":"IF($C$7=\"Australian Capital Territory\", 'K values'!H80, IF($C$7=\"New South Wales\", 'K values'!N80, IF($C$7=\"Northern Territory\", 'K values'!T80, IF($C$7=\"Queensland\", 'K values'!Z80, IF($C$7=\"South Australia\", 'K values'!AF80, IF($C$7=\"Tasmania\", 'K values'!AL80, IF($C$7=\"Victoria\", 'K values'!AR80, IF($C$7=\"Western Australia\", 'K values'!AX80, \"\"))))))))","v":""},{"$f":"IF($C$7=\"Australian Capital Territory\", 'K values'!I80, IF($C$7=\"New South Wales\", 'K values'!O80, IF($C$7=\"Northern Territory\", 'K values'!U80, IF($C$7=\"Queensland\", 'K values'!AA80, IF($C$7=\"South Australia\", 'K values'!AG80, IF($C$7=\"Tasmania\", 'K values'!AM80, IF($C$7=\"Victoria\", 'K values'!AS80, IF($C$7=\"Western Australia\", 'K values'!AY80, \"\"))))))))","v":""},{"$f":"IF($C$7=\"Australian Capital Territory\", 'K values'!J80, IF($C$7=\"New South Wales\", 'K values'!P80, IF($C$7=\"Northern Territory\", 'K values'!V80, IF($C$7=\"Queensland\", 'K values'!AB80, IF($C$7=\"South Australia\", 'K values'!AH80, IF($C$7=\"Tasmania\", 'K values'!AN80, IF($C$7=\"Victoria\", 'K values'!AT80, IF($C$7=\"Western Australia\", 'K values'!AZ80, \"\"))))))))","v":""},{"$f":"IF($C$7=\"Australian Capital Territory\", 'K values'!K80, IF($C$7=\"New South Wales\", 'K values'!Q80, IF($C$7=\"Northern Territory\", 'K values'!W80, IF($C$7=\"Queensland\", 'K values'!AC80, IF($C$7=\"South Australia\", 'K values'!AI80, IF($C$7=\"Tasmania\", 'K values'!AO80, IF($C$7=\"Victoria\", 'K values'!AU80, IF($C$7=\"Western Australia\", 'K values'!BA80, \"\"))))))))","v":""}]
[{"$f":"IF($C$7=\"Australian Capital Territory\", 'K values'!G81, IF($C$7=\"New South Wales\", 'K values'!M81, IF($C$7=\"Northern Territory\", 'K values'!S81, IF($C$7=\"Queensland\", 'K values'!Y81, IF($C$7=\"South Australia\", 'K values'!AE81, IF($C$7=\"Tasmania\", 'K values'!AK81, IF($C$7=\"Victoria\", 'K values'!AQ81, IF($C$7=\"Western Australia\", 'K values'!AW81, \"\"))))))))","v":""},{"$f":"IF($C$7=\"Australian Capital Territory\", 'K values'!H81, IF($C$7=\"New South Wales\", 'K values'!N81, IF($C$7=\"Northern Territory\", 'K values'!T81, IF($C$7=\"Queensland\", 'K values'!Z81, IF($C$7=\"South Australia\", 'K values'!AF81, IF($C$7=\"Tasmania\", 'K values'!AL81, IF($C$7=\"Victoria\", 'K values'!AR81, IF($C$7=\"Western Australia\", 'K values'!AX81, \"\"))))))))","v":""},{"$f":"IF($C$7=\"Australian Capital Territory\", 'K values'!I81, IF($C$7=\"New South Wales\", 'K values'!O81, IF($C$7=\"Northern Territory\", 'K values'!U81, IF($C$7=\"Queensland\", 'K values'!AA81, IF($C$7=\"South Australia\", 'K values'!AG81, IF($C$7=\"Tasmania\", 'K values'!AM81, IF($C$7=\"Victoria\", 'K values'!AS81, IF($C$7=\"Western Australia\", 'K values'!AY81, \"\"))))))))","v":""},{"$f":"IF($C$7=\"Australian Capital Territory\", 'K values'!J81, IF($C$7=\"New South Wales\", 'K values'!P81, IF($C$7=\"Northern Territory\", 'K values'!V81, IF($C$7=\"Queensland\", 'K values'!AB81, IF($C$7=\"South Australia\", 'K values'!AH81, IF($C$7=\"Tasmania\", 'K values'!AN81, IF($C$7=\"Victoria\", 'K values'!AT81, IF($C$7=\"Western Australia\", 'K values'!AZ81, \"\"))))))))","v":""},{"$f":"IF($C$7=\"Australian Capital Territory\", 'K values'!K81, IF($C$7=\"New South Wales\", 'K values'!Q81, IF($C$7=\"Northern Territory\", 'K values'!W81, IF($C$7=\"Queensland\", 'K values'!AC81, IF($C$7=\"South Australia\", 'K values'!AI81, IF($C$7=\"Tasmania\", 'K values'!AO81, IF($C$7=\"Victoria\", 'K values'!AU81, IF($C$7=\"Western Australia\", 'K values'!BA81, \"\"))))))))","v":""}]
[{"$f":"IF($C$7=\"Australian Capital Territory\", 'K values'!G82, IF($C$7=\"New South Wales\", 'K values'!M82, IF($C$7=\"Northern Territory\", 'K values'!S82, IF($C$7=\"Queensland\", 'K values'!Y82, IF($C$7=\"South Australia\", 'K values'!AE82, IF($C$7=\"Tasmania\", 'K values'!AK82, IF($C$7=\"Victoria\", 'K values'!AQ82, IF($C$7=\"Western Australia\", 'K values'!AW82, \"\"))))))))","v":""},{"$f":"IF($C$7=\"Australian Capital Territory\", 'K values'!H82, IF($C$7=\"New South Wales\", 'K values'!N82, IF($C$7=\"Northern Territory\", 'K values'!T82, IF($C$7=\"Queensland\", 'K values'!Z82, IF($C$7=\"South Australia\", 'K values'!AF82, IF($C$7=\"Tasmania\", 'K values'!AL82, IF($C$7=\"Victoria\", 'K values'!AR82, IF($C$7=\"Western Australia\", 'K values'!AX82, \"\"))))))))","v":""},{"$f":"IF($C$7=\"Australian Capital Territory\", 'K values'!I82, IF($C$7=\"New South Wales\", 'K values'!O82, IF($C$7=\"Northern Territory\", 'K values'!U82, IF($C$7=\"Queensland\", 'K values'!AA82, IF($C$7=\"South Australia\", 'K values'!AG82, IF($C$7=\"Tasmania\", 'K values'!AM82, IF($C$7=\"Victoria\", 'K values'!AS82, IF($C$7=\"Western Australia\", 'K values'!AY82, \"\"))))))))","v":""},{"$f":"IF($C$7=\"Australian Capital Territory\", 'K values'!J82, IF($C$7=\"New South Wales\", 'K values'!P82, IF($C$7=\"Northern Territory\", 'K values'!V82, IF($C$7=\"Queensland\", 'K values'!AB82, IF($C$7=\"South Australia\", 'K values'!AH82, IF($C$7=\"Tasmania\", 'K values'!AN82, IF($C$7=\"Victoria\", 'K values'!AT82, IF($C$7=\"Western Australia\", 'K values'!AZ82, \"\"))))))))","v":""},{"$f":"IF($C$7=\"Australian Capital Territory\", 'K values'!K82, IF($C$7=\"New South Wales\", 'K values'!Q82, IF($C$7=\"Northern Territory\", 'K values'!W82, IF($C$7=\"Queensland\", 'K values'!AC82, IF($C$7=\"South Australia\", 'K values'!AI82, IF($C$7=\"Tasmania\", 'K values'!AO82, IF($C$7=\"Victoria\", 'K values'!AU82, IF($C$7=\"Western Australia\", 'K values'!BA82, \"\"))))))))","v":""}]
[{"$f":"IF($C$7=\"Australian Capital Territory\", 'K values'!G83, IF($C$7=\"New South Wales\", 'K values'!M83, IF($C$7=\"Northern Territory\", 'K values'!S83, IF($C$7=\"Queensland\", 'K values'!Y83, IF($C$7=\"South Australia\", 'K values'!AE83, IF($C$7=\"Tasmania\", 'K values'!AK83, IF($C$7=\"Victoria\", 'K values'!AQ83, IF($C$7=\"Western Australia\", 'K values'!AW83, \"\"))))))))","v":""},{"$f":"IF($C$7=\"Australian Capital Territory\", 'K values'!H83, IF($C$7=\"New South Wales\", 'K values'!N83, IF($C$7=\"Northern Territory\", 'K values'!T83, IF($C$7=\"Queensland\", 'K values'!Z83, IF($C$7=\"South Australia\", 'K values'!AF83, IF($C$7=\"Tasmania\", 'K values'!AL83, IF($C$7=\"Victoria\", 'K values'!AR83, IF($C$7=\"Western Australia\", 'K values'!AX83, \"\"))))))))","v":""},{"$f":"IF($C$7=\"Australian Capital Territory\", 'K values'!I83, IF($C$7=\"New South Wales\", 'K values'!O83, IF($C$7=\"Northern Territory\", 'K values'!U83, IF($C$7=\"Queensland\", 'K values'!AA83, IF($C$7=\"South Australia\", 'K values'!AG83, IF($C$7=\"Tasmania\", 'K values'!AM83, IF($C$7=\"Victoria\", 'K values'!AS83, IF($C$7=\"Western Australia\", 'K values'!AY83, \"\"))))))))","v":""},{"$f":"IF($C$7=\"Australian Capital Territory\", 'K values'!J83, IF($C$7=\"New South Wales\", 'K values'!P83, IF($C$7=\"Northern Territory\", 'K values'!V83, IF($C$7=\"Queensland\", 'K values'!AB83, IF($C$7=\"South Australia\", 'K values'!AH83, IF($C$7=\"Tasmania\", 'K values'!AN83, IF($C$7=\"Victoria\", 'K values'!AT83, IF($C$7=\"Western Australia\", 'K values'!AZ83, \"\"))))))))","v":""},{"$f":"IF($C$7=\"Australian Capital Territory\", 'K values'!K83, IF($C$7=\"New South Wales\", 'K values'!Q83, IF($C$7=\"Northern Territory\", 'K values'!W83, IF($C$7=\"Queensland\", 'K values'!AC83, IF($C$7=\"South Australia\", 'K values'!AI83, IF($C$7=\"Tasmania\", 'K values'!AO83, IF($C$7=\"Victoria\", 'K values'!AU83, IF($C$7=\"Western Australia\", 'K values'!BA83, \"\"))))))))","v":""}]
[{"$f":"IF($C$7=\"Australian Capital Territory\", 'K values'!G84, IF($C$7=\"New South Wales\", 'K values'!M84, IF($C$7=\"Northern Territory\", 'K values'!S84, IF($C$7=\"Queensland\", 'K values'!Y84, IF($C$7=\"South Australia\", 'K values'!AE84, IF($C$7=\"Tasmania\", 'K values'!AK84, IF($C$7=\"Victoria\", 'K values'!AQ84, IF($C$7=\"Western Australia\", 'K values'!AW84, \"\"))))))))","v":""},{"$f":"IF($C$7=\"Australian Capital Territory\", 'K values'!H84, IF($C$7=\"New South Wales\", 'K values'!N84, IF($C$7=\"Northern Territory\", 'K values'!T84, IF($C$7=\"Queensland\", 'K values'!Z84, IF($C$7=\"South Australia\", 'K values'!AF84, IF($C$7=\"Tasmania\", 'K values'!AL84, IF($C$7=\"Victoria\", 'K values'!AR84, IF($C$7=\"Western Australia\", 'K values'!AX84, \"\"))))))))","v":""},{"$f":"IF($C$7=\"Australian Capital Territory\", 'K values'!I84, IF($C$7=\"New South Wales\", 'K values'!O84, IF($C$7=\"Northern Territory\", 'K values'!U84, IF($C$7=\"Queensland\", 'K values'!AA84, IF($C$7=\"South Australia\", 'K values'!AG84, IF($C$7=\"Tasmania\", 'K values'!AM84, IF($C$7=\"Victoria\", 'K values'!AS84, IF($C$7=\"Western Australia\", 'K values'!AY84, \"\"))))))))","v":""},{"$f":"IF($C$7=\"Australian Capital Territory\", 'K values'!J84, IF($C$7=\"New South Wales\", 'K values'!P84, IF($C$7=\"Northern Territory\", 'K values'!V84, IF($C$7=\"Queensland\", 'K values'!AB84, IF($C$7=\"South Australia\", 'K values'!AH84, IF($C$7=\"Tasmania\", 'K values'!AN84, IF($C$7=\"Victoria\", 'K values'!AT84, IF($C$7=\"Western Australia\", 'K values'!AZ84, \"\"))))))))","v":""},{"$f":"IF($C$7=\"Australian Capital Territory\", 'K values'!K84, IF($C$7=\"New South Wales\", 'K values'!Q84, IF($C$7=\"Northern Territory\", 'K values'!W84, IF($C$7=\"Queensland\", 'K values'!AC84, IF($C$7=\"South Australia\", 'K values'!AI84, IF($C$7=\"Tasmania\", 'K values'!AO84, IF($C$7=\"Victoria\", 'K values'!AU84, IF($C$7=\"Western Australia\", 'K values'!BA84, \"\"))))))))","v":""}]
[{"$f":"IF($C$7=\"Australian Capital Territory\", 'K values'!G85, IF($C$7=\"New South Wales\", 'K values'!M85, IF($C$7=\"Northern Territory\", 'K values'!S85, IF($C$7=\"Queensland\", 'K values'!Y85, IF($C$7=\"South Australia\", 'K values'!AE85, IF($C$7=\"Tasmania\", 'K values'!AK85, IF($C$7=\"Victoria\", 'K values'!AQ85, IF($C$7=\"Western Australia\", 'K values'!AW85, \"\"))))))))","v":""},{"$f":"IF($C$7=\"Australian Capital Territory\", 'K values'!H85, IF($C$7=\"New South Wales\", 'K values'!N85, IF($C$7=\"Northern Territory\", 'K values'!T85, IF($C$7=\"Queensland\", 'K values'!Z85, IF($C$7=\"South Australia\", 'K values'!AF85, IF($C$7=\"Tasmania\", 'K values'!AL85, IF($C$7=\"Victoria\", 'K values'!AR85, IF($C$7=\"Western Australia\", 'K values'!AX85, \"\"))))))))","v":""},{"$f":"IF($C$7=\"Australian Capital Territory\", 'K values'!I85, IF($C$7=\"New South Wales\", 'K values'!O85, IF($C$7=\"Northern Territory\", 'K values'!U85, IF($C$7=\"Queensland\", 'K values'!AA85, IF($C$7=\"South Australia\", 'K values'!AG85, IF($C$7=\"Tasmania\", 'K values'!AM85, IF($C$7=\"Victoria\", 'K values'!AS85, IF($C$7=\"Western Australia\", 'K values'!AY85, \"\"))))))))","v":""},{"$f":"IF($C$7=\"Australian Capital Territory\", 'K values'!J85, IF($C$7=\"New South Wales\", 'K values'!P85, IF($C$7=\"Northern Territory\", 'K values'!V85, IF($C$7=\"Queensland\", 'K values'!AB85, IF($C$7=\"South Australia\", 'K values'!AH85, IF($C$7=\"Tasmania\", 'K values'!AN85, IF($C$7=\"Victoria\", 'K values'!AT85, IF($C$7=\"Western Australia\", 'K values'!AZ85, \"\"))))))))","v":""},{"$f":"IF($C$7=\"Australian Capital Territory\", 'K values'!K85, IF($C$7=\"New South Wales\", 'K values'!Q85, IF($C$7=\"Northern Territory\", 'K values'!W85, IF($C$7=\"Queensland\", 'K values'!AC85, IF($C$7=\"South Australia\", 'K values'!AI85, IF($C$7=\"Tasmania\", 'K values'!AO85, IF($C$7=\"Victoria\", 'K values'!AU85, IF($C$7=\"Western Australia\", 'K values'!BA85, \"\"))))))))","v":""}]
[{"$f":"IF($C$7=\"Australian Capital Territory\", 'K values'!G86, IF($C$7=\"New South Wales\", 'K values'!M86, IF($C$7=\"Northern Territory\", 'K values'!S86, IF($C$7=\"Queensland\", 'K values'!Y86, IF($C$7=\"South Australia\", 'K values'!AE86, IF($C$7=\"Tasmania\", 'K values'!AK86, IF($C$7=\"Victoria\", 'K values'!AQ86, IF($C$7=\"Western Australia\", 'K values'!AW86, \"\"))))))))","v":""},{"$f":"IF($C$7=\"Australian Capital Territory\", 'K values'!H86, IF($C$7=\"New South Wales\", 'K values'!N86, IF($C$7=\"Northern Territory\", 'K values'!T86, IF($C$7=\"Queensland\", 'K values'!Z86, IF($C$7=\"South Australia\", 'K values'!AF86, IF($C$7=\"Tasmania\", 'K values'!AL86, IF($C$7=\"Victoria\", 'K values'!AR86, IF($C$7=\"Western Australia\", 'K values'!AX86, \"\"))))))))","v":""},{"$f":"IF($C$7=\"Australian Capital Territory\", 'K values'!I86, IF($C$7=\"New South Wales\", 'K values'!O86, IF($C$7=\"Northern Territory\", 'K values'!U86, IF($C$7=\"Queensland\", 'K values'!AA86, IF($C$7=\"South Australia\", 'K values'!AG86, IF($C$7=\"Tasmania\", 'K values'!AM86, IF($C$7=\"Victoria\", 'K values'!AS86, IF($C$7=\"Western Australia\", 'K values'!AY86, \"\"))))))))","v":""},{"$f":"IF($C$7=\"Australian Capital Territory\", 'K values'!J86, IF($C$7=\"New South Wales\", 'K values'!P86, IF($C$7=\"Northern Territory\", 'K values'!V86, IF($C$7=\"Queensland\", 'K values'!AB86, IF($C$7=\"South Australia\", 'K values'!AH86, IF($C$7=\"Tasmania\", 'K values'!AN86, IF($C$7=\"Victoria\", 'K values'!AT86, IF($C$7=\"Western Australia\", 'K values'!AZ86, \"\"))))))))","v":""},{"$f":"IF($C$7=\"Australian Capital Territory\", 'K values'!K86, IF($C$7=\"New South Wales\", 'K values'!Q86, IF($C$7=\"Northern Territory\", 'K values'!W86, IF($C$7=\"Queensland\", 'K values'!AC86, IF($C$7=\"South Australia\", 'K values'!AI86, IF($C$7=\"Tasmania\", 'K values'!AO86, IF($C$7=\"Victoria\", 'K values'!AU86, IF($C$7=\"Western Australia\", 'K values'!BA86, \"\"))))))))","v":""}]
[{"$f":"IF($C$7=\"Australian Capital Territory\", 'K values'!G87, IF($C$7=\"New South Wales\", 'K values'!M87, IF($C$7=\"Northern Territory\", 'K values'!S87, IF($C$7=\"Queensland\", 'K values'!Y87, IF($C$7=\"South Australia\", 'K values'!AE87, IF($C$7=\"Tasmania\", 'K values'!AK87, IF($C$7=\"Victoria\", 'K values'!AQ87, IF($C$7=\"Western Australia\", 'K values'!AW87, \"\"))))))))","v":""},{"$f":"IF($C$7=\"Australian Capital Territory\", 'K values'!H87, IF($C$7=\"New South Wales\", 'K values'!N87, IF($C$7=\"Northern Territory\", 'K values'!T87, IF($C$7=\"Queensland\", 'K values'!Z87, IF($C$7=\"South Australia\", 'K values'!AF87, IF($C$7=\"Tasmania\", 'K values'!AL87, IF($C$7=\"Victoria\", 'K values'!AR87, IF($C$7=\"Western Australia\", 'K values'!AX87, \"\"))))))))","v":""},{"$f":"IF($C$7=\"Australian Capital Territory\", 'K values'!I87, IF($C$7=\"New South Wales\", 'K values'!O87, IF($C$7=\"Northern Territory\", 'K values'!U87, IF($C$7=\"Queensland\", 'K values'!AA87, IF($C$7=\"South Australia\", 'K values'!AG87, IF($C$7=\"Tasmania\", 'K values'!AM87, IF($C$7=\"Victoria\", 'K values'!AS87, IF($C$7=\"Western Australia\", 'K values'!AY87, \"\"))))))))","v":""},{"$f":"IF($C$7=\"Australian Capital Territory\", 'K values'!J87, IF($C$7=\"New South Wales\", 'K values'!P87, IF($C$7=\"Northern Territory\", 'K values'!V87, IF($C$7=\"Queensland\", 'K values'!AB87, IF($C$7=\"South Australia\", 'K values'!AH87, IF($C$7=\"Tasmania\", 'K values'!AN87, IF($C$7=\"Victoria\", 'K values'!AT87, IF($C$7=\"Western Australia\", 'K values'!AZ87, \"\"))))))))","v":""},{"$f":"IF($C$7=\"Australian Capital Territory\", 'K values'!K87, IF($C$7=\"New South Wales\", 'K values'!Q87, IF($C$7=\"Northern Territory\", 'K values'!W87, IF($C$7=\"Queensland\", 'K values'!AC87, IF($C$7=\"South Australia\", 'K values'!AI87, IF($C$7=\"Tasmania\", 'K values'!AO87, IF($C$7=\"Victoria\", 'K values'!AU87, IF($C$7=\"Western Australia\", 'K values'!BA87, \"\"))))))))","v":""}]
[{"$f":"IF($C$7=\"Australian Capital Territory\", 'K values'!G88, IF($C$7=\"New South Wales\", 'K values'!M88, IF($C$7=\"Northern Territory\", 'K values'!S88, IF($C$7=\"Queensland\", 'K values'!Y88, IF($C$7=\"South Australia\", 'K values'!AE88, IF($C$7=\"Tasmania\", 'K values'!AK88, IF($C$7=\"Victoria\", 'K values'!AQ88, IF($C$7=\"Western Australia\", 'K values'!AW88, \"\"))))))))","v":""},{"$f":"IF($C$7=\"Australian Capital Territory\", 'K values'!H88, IF($C$7=\"New South Wales\", 'K values'!N88, IF($C$7=\"Northern Territory\", 'K values'!T88, IF($C$7=\"Queensland\", 'K values'!Z88, IF($C$7=\"South Australia\", 'K values'!AF88, IF($C$7=\"Tasmania\", 'K values'!AL88, IF($C$7=\"Victoria\", 'K values'!AR88, IF($C$7=\"Western Australia\", 'K values'!AX88, \"\"))))))))","v":""},{"$f":"IF($C$7=\"Australian Capital Territory\", 'K values'!I88, IF($C$7=\"New South Wales\", 'K values'!O88, IF($C$7=\"Northern Territory\", 'K values'!U88, IF($C$7=\"Queensland\", 'K values'!AA88, IF($C$7=\"South Australia\", 'K values'!AG88, IF($C$7=\"Tasmania\", 'K values'!AM88, IF($C$7=\"Victoria\", 'K values'!AS88, IF($C$7=\"Western Australia\", 'K values'!AY88, \"\"))))))))","v":""},{"$f":"IF($C$7=\"Australian Capital Territory\", 'K values'!J88, IF($C$7=\"New South Wales\", 'K values'!P88, IF($C$7=\"Northern Territory\", 'K values'!V88, IF($C$7=\"Queensland\", 'K values'!AB88, IF($C$7=\"South Australia\", 'K values'!AH88, IF($C$7=\"Tasmania\", 'K values'!AN88, IF($C$7=\"Victoria\", 'K values'!AT88, IF($C$7=\"Western Australia\", 'K values'!AZ88, \"\"))))))))","v":""},{"$f":"IF($C$7=\"Australian Capital Territory\", 'K values'!K88, IF($C$7=\"New South Wales\", 'K values'!Q88, IF($C$7=\"Northern Territory\", 'K values'!W88, IF($C$7=\"Queensland\", 'K values'!AC88, IF($C$7=\"South Australia\", 'K values'!AI88, IF($C$7=\"Tasmania\", 'K values'!AO88, IF($C$7=\"Victoria\", 'K values'!AU88, IF($C$7=\"Western Australia\", 'K values'!BA88, \"\"))))))))","v":""}]
[{"$f":"IF($C$7=\"Australian Capital Territory\", 'K values'!G89, IF($C$7=\"New South Wales\", 'K values'!M89, IF($C$7=\"Northern Territory\", 'K values'!S89, IF($C$7=\"Queensland\", 'K values'!Y89, IF($C$7=\"South Australia\", 'K values'!AE89, IF($C$7=\"Tasmania\", 'K values'!AK89, IF($C$7=\"Victoria\", 'K values'!AQ89, IF($C$7=\"Western Australia\", 'K values'!AW89, \"\"))))))))","v":""},{"$f":"IF($C$7=\"Australian Capital Territory\", 'K values'!H89, IF($C$7=\"New South Wales\", 'K values'!N89, IF($C$7=\"Northern Territory\", 'K values'!T89, IF($C$7=\"Queensland\", 'K values'!Z89, IF($C$7=\"South Australia\", 'K values'!AF89, IF($C$7=\"Tasmania\", 'K values'!AL89, IF($C$7=\"Victoria\", 'K values'!AR89, IF($C$7=\"Western Australia\", 'K values'!AX89, \"\"))))))))","v":""},{"$f":"IF($C$7=\"Australian Capital Territory\", 'K values'!I89, IF($C$7=\"New South Wales\", 'K values'!O89, IF($C$7=\"Northern Territory\", 'K values'!U89, IF($C$7=\"Queensland\", 'K values'!AA89, IF($C$7=\"South Australia\", 'K values'!AG89, IF($C$7=\"Tasmania\", 'K values'!AM89, IF($C$7=\"Victoria\", 'K values'!AS89, IF($C$7=\"Western Australia\", 'K values'!AY89, \"\"))))))))","v":""},{"$f":"IF($C$7=\"Australian Capital Territory\", 'K values'!J89, IF($C$7=\"New South Wales\", 'K values'!P89, IF($C$7=\"Northern Territory\", 'K values'!V89, IF($C$7=\"Queensland\", 'K values'!AB89, IF($C$7=\"South Australia\", 'K values'!AH89, IF($C$7=\"Tasmania\", 'K values'!AN89, IF($C$7=\"Victoria\", 'K values'!AT89, IF($C$7=\"Western Australia\", 'K values'!AZ89, \"\"))))))))","v":""},{"$f":"IF($C$7=\"Australian Capital Territory\", 'K values'!K89, IF($C$7=\"New South Wales\", 'K values'!Q89, IF($C$7=\"Northern Territory\", 'K values'!W89, IF($C$7=\"Queensland\", 'K values'!AC89, IF($C$7=\"South Australia\", 'K values'!AI89, IF($C$7=\"Tasmania\", 'K values'!AO89, IF($C$7=\"Victoria\", 'K values'!AU89, IF($C$7=\"Western Australia\", 'K values'!BA89, \"\"))))))))","v":""}]
[{"$f":"IF($C$7=\"Australian Capital Territory\", 'K values'!G90, IF($C$7=\"New South Wales\", 'K values'!M90, IF($C$7=\"Northern Territory\", 'K values'!S90, IF($C$7=\"Queensland\", 'K values'!Y90, IF($C$7=\"South Australia\", 'K values'!AE90, IF($C$7=\"Tasmania\", 'K values'!AK90, IF($C$7=\"Victoria\", 'K values'!AQ90, IF($C$7=\"Western Australia\", 'K values'!AW90, \"\"))))))))","v":""},{"$f":"IF($C$7=\"Australian Capital Territory\", 'K values'!H90, IF($C$7=\"New South Wales\", 'K values'!N90, IF($C$7=\"Northern Territory\", 'K values'!T90, IF($C$7=\"Queensland\", 'K values'!Z90, IF($C$7=\"South Australia\", 'K values'!AF90, IF($C$7=\"Tasmania\", 'K values'!AL90, IF($C$7=\"Victoria\", 'K values'!AR90, IF($C$7=\"Western Australia\", 'K values'!AX90, \"\"))))))))","v":""},{"$f":"IF($C$7=\"Australian Capital Territory\", 'K values'!I90, IF($C$7=\"New South Wales\", 'K values'!O90, IF($C$7=\"Northern Territory\", 'K values'!U90, IF($C$7=\"Queensland\", 'K values'!AA90, IF($C$7=\"South Australia\", 'K values'!AG90, IF($C$7=\"Tasmania\", 'K values'!AM90, IF($C$7=\"Victoria\", 'K values'!AS90, IF($C$7=\"Western Australia\", 'K values'!AY90, \"\"))))))))","v":""},{"$f":"IF($C$7=\"Australian Capital Territory\", 'K values'!J90, IF($C$7=\"New South Wales\", 'K values'!P90, IF($C$7=\"Northern Territory\", 'K values'!V90, IF($C$7=\"Queensland\", 'K values'!AB90, IF($C$7=\"South Australia\", 'K values'!AH90, IF($C$7=\"Tasmania\", 'K values'!AN90, IF($C$7=\"Victoria\", 'K values'!AT90, IF($C$7=\"Western Australia\", 'K values'!AZ90, \"\"))))))))","v":""},{"$f":"IF($C$7=\"Australian Capital Territory\", 'K values'!K90, IF($C$7=\"New South Wales\", 'K values'!Q90, IF($C$7=\"Northern Territory\", 'K values'!W90, IF($C$7=\"Queensland\", 'K values'!AC90, IF($C$7=\"South Australia\", 'K values'!AI90, IF($C$7=\"Tasmania\", 'K values'!AO90, IF($C$7=\"Victoria\", 'K values'!AU90, IF($C$7=\"Western Australia\", 'K values'!BA90, \"\"))))))))","v":""}]
[{"$f":"IF($C$7=\"Australian Capital Territory\", 'K values'!G91, IF($C$7=\"New South Wales\", 'K values'!M91, IF($C$7=\"Northern Territory\", 'K values'!S91, IF($C$7=\"Queensland\", 'K values'!Y91, IF($C$7=\"South Australia\", 'K values'!AE91, IF($C$7=\"Tasmania\", 'K values'!AK91, IF($C$7=\"Victoria\", 'K values'!AQ91, IF($C$7=\"Western Australia\", 'K values'!AW91, \"\"))))))))","v":""},{"$f":"IF($C$7=\"Australian Capital Territory\", 'K values'!H91, IF($C$7=\"New South Wales\", 'K values'!N91, IF($C$7=\"Northern Territory\", 'K values'!T91, IF($C$7=\"Queensland\", 'K values'!Z91, IF($C$7=\"South Australia\", 'K values'!AF91, IF($C$7=\"Tasmania\", 'K values'!AL91, IF($C$7=\"Victoria\", 'K values'!AR91, IF($C$7=\"Western Australia\", 'K values'!AX91, \"\"))))))))","v":""},{"$f":"IF($C$7=\"Australian Capital Territory\", 'K values'!I91, IF($C$7=\"New South Wales\", 'K values'!O91, IF($C$7=\"Northern Territory\", 'K values'!U91, IF($C$7=\"Queensland\", 'K values'!AA91, IF($C$7=\"South Australia\", 'K values'!AG91, IF($C$7=\"Tasmania\", 'K values'!AM91, IF($C$7=\"Victoria\", 'K values'!AS91, IF($C$7=\"Western Australia\", 'K values'!AY91, \"\"))))))))","v":""},{"$f":"IF($C$7=\"Australian Capital Territory\", 'K values'!J91, IF($C$7=\"New South Wales\", 'K values'!P91, IF($C$7=\"Northern Territory\", 'K values'!V91, IF($C$7=\"Queensland\", 'K values'!AB91, IF($C$7=\"South Australia\", 'K values'!AH91, IF($C$7=\"Tasmania\", 'K values'!AN91, IF($C$7=\"Victoria\", 'K values'!AT91, IF($C$7=\"Western Australia\", 'K values'!AZ91, \"\"))))))))","v":""},{"$f":"IF($C$7=\"Australian Capital Territory\", 'K values'!K91, IF($C$7=\"New South Wales\", 'K values'!Q91, IF($C$7=\"Northern Territory\", 'K values'!W91, IF($C$7=\"Queensland\", 'K values'!AC91, IF($C$7=\"South Australia\", 'K values'!AI91, IF($C$7=\"Tasmania\", 'K values'!AO91, IF($C$7=\"Victoria\", 'K values'!AU91, IF($C$7=\"Western Australia\", 'K values'!BA91, \"\"))))))))","v":""}]
[{"$f":"IF($C$7=\"Australian Capital Territory\", 'K values'!G92, IF($C$7=\"New South Wales\", 'K values'!M92, IF($C$7=\"Northern Territory\", 'K values'!S92, IF($C$7=\"Queensland\", 'K values'!Y92, IF($C$7=\"South Australia\", 'K values'!AE92, IF($C$7=\"Tasmania\", 'K values'!AK92, IF($C$7=\"Victoria\", 'K values'!AQ92, IF($C$7=\"Western Australia\", 'K values'!AW92, \"\"))))))))","v":""},{"$f":"IF($C$7=\"Australian Capital Territory\", 'K values'!H92, IF($C$7=\"New South Wales\", 'K values'!N92, IF($C$7=\"Northern Territory\", 'K values'!T92, IF($C$7=\"Queensland\", 'K values'!Z92, IF($C$7=\"South Australia\", 'K values'!AF92, IF($C$7=\"Tasmania\", 'K values'!AL92, IF($C$7=\"Victoria\", 'K values'!AR92, IF($C$7=\"Western Australia\", 'K values'!AX92, \"\"))))))))","v":""},{"$f":"IF($C$7=\"Australian Capital Territory\", 'K values'!I92, IF($C$7=\"New South Wales\", 'K values'!O92, IF($C$7=\"Northern Territory\", 'K values'!U92, IF($C$7=\"Queensland\", 'K values'!AA92, IF($C$7=\"South Australia\", 'K values'!AG92, IF($C$7=\"Tasmania\", 'K values'!AM92, IF($C$7=\"Victoria\", 'K values'!AS92, IF($C$7=\"Western Australia\", 'K values'!AY92, \"\"))))))))","v":""},{"$f":"IF($C$7=\"Australian Capital Territory\", 'K values'!J92, IF($C$7=\"New South Wales\", 'K values'!P92, IF($C$7=\"Northern Territory\", 'K values'!V92, IF($C$7=\"Queensland\", 'K values'!AB92, IF($C$7=\"South Australia\", 'K values'!AH92, IF($C$7=\"Tasmania\", 'K values'!AN92, IF($C$7=\"Victoria\", 'K values'!AT92, IF($C$7=\"Western Australia\", 'K values'!AZ92, \"\"))))))))","v":""},{"$f":"IF($C$7=\"Australian Capital Territory\", 'K values'!K92, IF($C$7=\"New South Wales\", 'K values'!Q92, IF($C$7=\"Northern Territory\", 'K values'!W92, IF($C$7=\"Queensland\", 'K values'!AC92, IF($C$7=\"South Australia\", 'K values'!AI92, IF($C$7=\"Tasmania\", 'K values'!AO92, IF($C$7=\"Victoria\", 'K values'!AU92, IF($C$7=\"Western Australia\", 'K values'!BA92, \"\"))))))))","v":""}]
[{"$f":"IF($C$7=\"Australian Capital Territory\", 'K values'!G93, IF($C$7=\"New South Wales\", 'K values'!M93, IF($C$7=\"Northern Territory\", 'K values'!S93, IF($C$7=\"Queensland\", 'K values'!Y93, IF($C$7=\"South Australia\", 'K values'!AE93, IF($C$7=\"Tasmania\", 'K values'!AK93, IF($C$7=\"Victoria\", 'K values'!AQ93, IF($C$7=\"Western Australia\", 'K values'!AW93, \"\"))))))))","v":""},{"$f":"IF($C$7=\"Australian Capital Territory\", 'K values'!H93, IF($C$7=\"New South Wales\", 'K values'!N93, IF($C$7=\"Northern Territory\", 'K values'!T93, IF($C$7=\"Queensland\", 'K values'!Z93, IF($C$7=\"South Australia\", 'K values'!AF93, IF($C$7=\"Tasmania\", 'K values'!AL93, IF($C$7=\"Victoria\", 'K values'!AR93, IF($C$7=\"Western Australia\", 'K values'!AX93, \"\"))))))))","v":""},{"$f":"IF($C$7=\"Australian Capital Territory\", 'K values'!I93, IF($C$7=\"New South Wales\", 'K values'!O93, IF($C$7=\"Northern Territory\", 'K values'!U93, IF($C$7=\"Queensland\", 'K values'!AA93, IF($C$7=\"South Australia\", 'K values'!AG93, IF($C$7=\"Tasmania\", 'K values'!AM93, IF($C$7=\"Victoria\", 'K values'!AS93, IF($C$7=\"Western Australia\", 'K values'!AY93, \"\"))))))))","v":""},{"$f":"IF($C$7=\"Australian Capital Territory\", 'K values'!J93, IF($C$7=\"New South Wales\", 'K values'!P93, IF($C$7=\"Northern Territory\", 'K values'!V93, IF($C$7=\"Queensland\", 'K values'!AB93, IF($C$7=\"South Australia\", 'K values'!AH93, IF($C$7=\"Tasmania\", 'K values'!AN93, IF($C$7=\"Victoria\", 'K values'!AT93, IF($C$7=\"Western Australia\", 'K values'!AZ93, \"\"))))))))","v":""},{"$f":"IF($C$7=\"Australian Capital Territory\", 'K values'!K93, IF($C$7=\"New South Wales\", 'K values'!Q93, IF($C$7=\"Northern Territory\", 'K values'!W93, IF($C$7=\"Queensland\", 'K values'!AC93, IF($C$7=\"South Australia\", 'K values'!AI93, IF($C$7=\"Tasmania\", 'K values'!AO93, IF($C$7=\"Victoria\", 'K values'!AU93, IF($C$7=\"Western Australia\", 'K values'!BA93, \"\"))))))))","v":""}]
[{"$f":"IF($C$7=\"Australian Capital Territory\", 'K values'!G94, IF($C$7=\"New South Wales\", 'K values'!M94, IF($C$7=\"Northern Territory\", 'K values'!S94, IF($C$7=\"Queensland\", 'K values'!Y94, IF($C$7=\"South Australia\", 'K values'!AE94, IF($C$7=\"Tasmania\", 'K values'!AK94, IF($C$7=\"Victoria\", 'K values'!AQ94, IF($C$7=\"Western Australia\", 'K values'!AW94, \"\"))))))))","v":""},{"$f":"IF($C$7=\"Australian Capital Territory\", 'K values'!H94, IF($C$7=\"New South Wales\", 'K values'!N94, IF($C$7=\"Northern Territory\", 'K values'!T94, IF($C$7=\"Queensland\", 'K values'!Z94, IF($C$7=\"South Australia\", 'K values'!AF94, IF($C$7=\"Tasmania\", 'K values'!AL94, IF($C$7=\"Victoria\", 'K values'!AR94, IF($C$7=\"Western Australia\", 'K values'!AX94, \"\"))))))))","v":""},{"$f":"IF($C$7=\"Australian Capital Territory\", 'K values'!I94, IF($C$7=\"New South Wales\", 'K values'!O94, IF($C$7=\"Northern Territory\", 'K values'!U94, IF($C$7=\"Queensland\", 'K values'!AA94, IF($C$7=\"South Australia\", 'K values'!AG94, IF($C$7=\"Tasmania\", 'K values'!AM94, IF($C$7=\"Victoria\", 'K values'!AS94, IF($C$7=\"Western Australia\", 'K values'!AY94, \"\"))))))))","v":""},{"$f":"IF($C$7=\"Australian Capital Territory\", 'K values'!J94, IF($C$7=\"New South Wales\", 'K values'!P94, IF($C$7=\"Northern Territory\", 'K values'!V94, IF($C$7=\"Queensland\", 'K values'!AB94, IF($C$7=\"South Australia\", 'K values'!AH94, IF($C$7=\"Tasmania\", 'K values'!AN94, IF($C$7=\"Victoria\", 'K values'!AT94, IF($C$7=\"Western Australia\", 'K values'!AZ94, \"\"))))))))","v":""},{"$f":"IF($C$7=\"Australian Capital Territory\", 'K values'!K94, IF($C$7=\"New South Wales\", 'K values'!Q94, IF($C$7=\"Northern Territory\", 'K values'!W94, IF($C$7=\"Queensland\", 'K values'!AC94, IF($C$7=\"South Australia\", 'K values'!AI94, IF($C$7=\"Tasmania\", 'K values'!AO94, IF($C$7=\"Victoria\", 'K values'!AU94, IF($C$7=\"Western Australia\", 'K values'!BA94, \"\"))))))))","v":""}]
[{"$f":"IF($C$7=\"Australian Capital Territory\", 'K values'!G95, IF($C$7=\"New South Wales\", 'K values'!M95, IF($C$7=\"Northern Territory\", 'K values'!S95, IF($C$7=\"Queensland\", 'K values'!Y95, IF($C$7=\"South Australia\", 'K values'!AE95, IF($C$7=\"Tasmania\", 'K values'!AK95, IF($C$7=\"Victoria\", 'K values'!AQ95, IF($C$7=\"Western Australia\", 'K values'!AW95, \"\"))))))))","v":""},{"$f":"IF($C$7=\"Australian Capital Territory\", 'K values'!H95, IF($C$7=\"New South Wales\", 'K values'!N95, IF($C$7=\"Northern Territory\", 'K values'!T95, IF($C$7=\"Queensland\", 'K values'!Z95, IF($C$7=\"South Australia\", 'K values'!AF95, IF($C$7=\"Tasmania\", 'K values'!AL95, IF($C$7=\"Victoria\", 'K values'!AR95, IF($C$7=\"Western Australia\", 'K values'!AX95, \"\"))))))))","v":""},{"$f":"IF($C$7=\"Australian Capital Territory\", 'K values'!I95, IF($C$7=\"New South Wales\", 'K values'!O95, IF($C$7=\"Northern Territory\", 'K values'!U95, IF($C$7=\"Queensland\", 'K values'!AA95, IF($C$7=\"South Australia\", 'K values'!AG95, IF($C$7=\"Tasmania\", 'K values'!AM95, IF($C$7=\"Victoria\", 'K values'!AS95, IF($C$7=\"Western Australia\", 'K values'!AY95, \"\"))))))))","v":""},{"$f":"IF($C$7=\"Australian Capital Territory\", 'K values'!J95, IF($C$7=\"New South Wales\", 'K values'!P95, IF($C$7=\"Northern Territory\", 'K values'!V95, IF($C$7=\"Queensland\", 'K values'!AB95, IF($C$7=\"South Australia\", 'K values'!AH95, IF($C$7=\"Tasmania\", 'K values'!AN95, IF($C$7=\"Victoria\", 'K values'!AT95, IF($C$7=\"Western Australia\", 'K values'!AZ95, \"\"))))))))","v":""},{"$f":"IF($C$7=\"Australian Capital Territory\", 'K values'!K95, IF($C$7=\"New South Wales\", 'K values'!Q95, IF($C$7=\"Northern Territory\", 'K values'!W95, IF($C$7=\"Queensland\", 'K values'!AC95, IF($C$7=\"South Australia\", 'K values'!AI95, IF($C$7=\"Tasmania\", 'K values'!AO95, IF($C$7=\"Victoria\", 'K values'!AU95, IF($C$7=\"Western Australia\", 'K values'!BA95, \"\"))))))))","v":""}]
[{"$f":"IF($C$7=\"Australian Capital Territory\", 'K values'!G96, IF($C$7=\"New South Wales\", 'K values'!M96, IF($C$7=\"Northern Territory\", 'K values'!S96, IF($C$7=\"Queensland\", 'K values'!Y96, IF($C$7=\"South Australia\", 'K values'!AE96, IF($C$7=\"Tasmania\", 'K values'!AK96, IF($C$7=\"Victoria\", 'K values'!AQ96, IF($C$7=\"Western Australia\", 'K values'!AW96, \"\"))))))))","v":""},{"$f":"IF($C$7=\"Australian Capital Territory\", 'K values'!H96, IF($C$7=\"New South Wales\", 'K values'!N96, IF($C$7=\"Northern Territory\", 'K values'!T96, IF($C$7=\"Queensland\", 'K values'!Z96, IF($C$7=\"South Australia\", 'K values'!AF96, IF($C$7=\"Tasmania\", 'K values'!AL96, IF($C$7=\"Victoria\", 'K values'!AR96, IF($C$7=\"Western Australia\", 'K values'!AX96, \"\"))))))))","v":""},{"$f":"IF($C$7=\"Australian Capital Territory\", 'K values'!I96, IF($C$7=\"New South Wales\", 'K values'!O96, IF($C$7=\"Northern Territory\", 'K values'!U96, IF($C$7=\"Queensland\", 'K values'!AA96, IF($C$7=\"South Australia\", 'K values'!AG96, IF($C$7=\"Tasmania\", 'K values'!AM96, IF($C$7=\"Victoria\", 'K values'!AS96, IF($C$7=\"Western Australia\", 'K values'!AY96, \"\"))))))))","v":""},{"$f":"IF($C$7=\"Australian Capital Territory\", 'K values'!J96, IF($C$7=\"New South Wales\", 'K values'!P96, IF($C$7=\"Northern Territory\", 'K values'!V96, IF($C$7=\"Queensland\", 'K values'!AB96, IF($C$7=\"South Australia\", 'K values'!AH96, IF($C$7=\"Tasmania\", 'K values'!AN96, IF($C$7=\"Victoria\", 'K values'!AT96, IF($C$7=\"Western Australia\", 'K values'!AZ96, \"\"))))))))","v":""},{"$f":"IF($C$7=\"Australian Capital Territory\", 'K values'!K96, IF($C$7=\"New South Wales\", 'K values'!Q96, IF($C$7=\"Northern Territory\", 'K values'!W96, IF($C$7=\"Queensland\", 'K values'!AC96, IF($C$7=\"South Australia\", 'K values'!AI96, IF($C$7=\"Tasmania\", 'K values'!AO96, IF($C$7=\"Victoria\", 'K values'!AU96, IF($C$7=\"Western Australia\", 'K values'!BA96, \"\"))))))))","v":""}]
[{"$f":"IF($C$7=\"Australian Capital Territory\", 'K values'!G97, IF($C$7=\"New South Wales\", 'K values'!M97, IF($C$7=\"Northern Territory\", 'K values'!S97, IF($C$7=\"Queensland\", 'K values'!Y97, IF($C$7=\"South Australia\", 'K values'!AE97, IF($C$7=\"Tasmania\", 'K values'!AK97, IF($C$7=\"Victoria\", 'K values'!AQ97, IF($C$7=\"Western Australia\", 'K values'!AW97, \"\"))))))))","v":""},{"$f":"IF($C$7=\"Australian Capital Territory\", 'K values'!H97, IF($C$7=\"New South Wales\", 'K values'!N97, IF($C$7=\"Northern Territory\", 'K values'!T97, IF($C$7=\"Queensland\", 'K values'!Z97, IF($C$7=\"South Australia\", 'K values'!AF97, IF($C$7=\"Tasmania\", 'K values'!AL97, IF($C$7=\"Victoria\", 'K values'!AR97, IF($C$7=\"Western Australia\", 'K values'!AX97, \"\"))))))))","v":""},{"$f":"IF($C$7=\"Australian Capital Territory\", 'K values'!I97, IF($C$7=\"New South Wales\", 'K values'!O97, IF($C$7=\"Northern Territory\", 'K values'!U97, IF($C$7=\"Queensland\", 'K values'!AA97, IF($C$7=\"South Australia\", 'K values'!AG97, IF($C$7=\"Tasmania\", 'K values'!AM97, IF($C$7=\"Victoria\", 'K values'!AS97, IF($C$7=\"Western Australia\", 'K values'!AY97, \"\"))))))))","v":""},{"$f":"IF($C$7=\"Australian Capital Territory\", 'K values'!J97, IF($C$7=\"New South Wales\", 'K values'!P97, IF($C$7=\"Northern Territory\", 'K values'!V97, IF($C$7=\"Queensland\", 'K values'!AB97, IF($C$7=\"South Australia\", 'K values'!AH97, IF($C$7=\"Tasmania\", 'K values'!AN97, IF($C$7=\"Victoria\", 'K values'!AT97, IF($C$7=\"Western Australia\", 'K values'!AZ97, \"\"))))))))","v":""},{"$f":"IF($C$7=\"Australian Capital Territory\", 'K values'!K97, IF($C$7=\"New South Wales\", 'K values'!Q97, IF($C$7=\"Northern Territory\", 'K values'!W97, IF($C$7=\"Queensland\", 'K values'!AC97, IF($C$7=\"South Australia\", 'K values'!AI97, IF($C$7=\"Tasmania\", 'K values'!AO97, IF($C$7=\"Victoria\", 'K values'!AU97, IF($C$7=\"Western Australia\", 'K values'!BA97, \"\"))))))))","v":""}]
[{"$f":"IF($C$7=\"Australian Capital Territory\", 'K values'!G98, IF($C$7=\"New South Wales\", 'K values'!M98, IF($C$7=\"Northern Territory\", 'K values'!S98, IF($C$7=\"Queensland\", 'K values'!Y98, IF($C$7=\"South Australia\", 'K values'!AE98, IF($C$7=\"Tasmania\", 'K values'!AK98, IF($C$7=\"Victoria\", 'K values'!AQ98, IF($C$7=\"Western Australia\", 'K values'!AW98, \"\"))))))))","v":""},{"$f":"IF($C$7=\"Australian Capital Territory\", 'K values'!H98, IF($C$7=\"New South Wales\", 'K values'!N98, IF($C$7=\"Northern Territory\", 'K values'!T98, IF($C$7=\"Queensland\", 'K values'!Z98, IF($C$7=\"South Australia\", 'K values'!AF98, IF($C$7=\"Tasmania\", 'K values'!AL98, IF($C$7=\"Victoria\", 'K values'!AR98, IF($C$7=\"Western Australia\", 'K values'!AX98, \"\"))))))))","v":""},{"$f":"IF($C$7=\"Australian Capital Territory\", 'K values'!I98, IF($C$7=\"New South Wales\", 'K values'!O98, IF($C$7=\"Northern Territory\", 'K values'!U98, IF($C$7=\"Queensland\", 'K values'!AA98, IF($C$7=\"South Australia\", 'K values'!AG98, IF($C$7=\"Tasmania\", 'K values'!AM98, IF($C$7=\"Victoria\", 'K values'!AS98, IF($C$7=\"Western Australia\", 'K values'!AY98, \"\"))))))))","v":""},{"$f":"IF($C$7=\"Australian Capital Territory\", 'K values'!J98, IF($C$7=\"New South Wales\", 'K values'!P98, IF($C$7=\"Northern Territory\", 'K values'!V98, IF($C$7=\"Queensland\", 'K values'!AB98, IF($C$7=\"South Australia\", 'K values'!AH98, IF($C$7=\"Tasmania\", 'K values'!AN98, IF($C$7=\"Victoria\", 'K values'!AT98, IF($C$7=\"Western Australia\", 'K values'!AZ98, \"\"))))))))","v":""},{"$f":"IF($C$7=\"Australian Capital Territory\", 'K values'!K98, IF($C$7=\"New South Wales\", 'K values'!Q98, IF($C$7=\"Northern Territory\", 'K values'!W98, IF($C$7=\"Queensland\", 'K values'!AC98, IF($C$7=\"South Australia\", 'K values'!AI98, IF($C$7=\"Tasmania\", 'K values'!AO98, IF($C$7=\"Victoria\", 'K values'!AU98, IF($C$7=\"Western Australia\", 'K values'!BA98, \"\"))))))))","v":""}]
[{"$f":"IF($C$7=\"Australian Capital Territory\", 'K values'!G99, IF($C$7=\"New South Wales\", 'K values'!M99, IF($C$7=\"Northern Territory\", 'K values'!S99, IF($C$7=\"Queensland\", 'K values'!Y99, IF($C$7=\"South Australia\", 'K values'!AE99, IF($C$7=\"Tasmania\", 'K values'!AK99, IF($C$7=\"Victoria\", 'K values'!AQ99, IF($C$7=\"Western Australia\", 'K values'!AW99, \"\"))))))))","v":""},{"$f":"IF($C$7=\"Australian Capital Territory\", 'K values'!H99, IF($C$7=\"New South Wales\", 'K values'!N99, IF($C$7=\"Northern Territory\", 'K values'!T99, IF($C$7=\"Queensland\", 'K values'!Z99, IF($C$7=\"South Australia\", 'K values'!AF99, IF($C$7=\"Tasmania\", 'K values'!AL99, IF($C$7=\"Victoria\", 'K values'!AR99, IF($C$7=\"Western Australia\", 'K values'!AX99, \"\"))))))))","v":""},{"$f":"IF($C$7=\"Australian Capital Territory\", 'K values'!I99, IF($C$7=\"New South Wales\", 'K values'!O99, IF($C$7=\"Northern Territory\", 'K values'!U99, IF($C$7=\"Queensland\", 'K values'!AA99, IF($C$7=\"South Australia\", 'K values'!AG99, IF($C$7=\"Tasmania\", 'K values'!AM99, IF($C$7=\"Victoria\", 'K values'!AS99, IF($C$7=\"Western Australia\", 'K values'!AY99, \"\"))))))))","v":""},{"$f":"IF($C$7=\"Australian Capital Territory\", 'K values'!J99, IF($C$7=\"New South Wales\", 'K values'!P99, IF($C$7=\"Northern Territory\", 'K values'!V99, IF($C$7=\"Queensland\", 'K values'!AB99, IF($C$7=\"South Australia\", 'K values'!AH99, IF($C$7=\"Tasmania\", 'K values'!AN99, IF($C$7=\"Victoria\", 'K values'!AT99, IF($C$7=\"Western Australia\", 'K values'!AZ99, \"\"))))))))","v":""},{"$f":"IF($C$7=\"Australian Capital Territory\", 'K values'!K99, IF($C$7=\"New South Wales\", 'K values'!Q99, IF($C$7=\"Northern Territory\", 'K values'!W99, IF($C$7=\"Queensland\", 'K values'!AC99, IF($C$7=\"South Australia\", 'K values'!AI99, IF($C$7=\"Tasmania\", 'K values'!AO99, IF($C$7=\"Victoria\", 'K values'!AU99, IF($C$7=\"Western Australia\", 'K values'!BA99, \"\"))))))))","v":""}]
[{"$f":"IF($C$7=\"Australian Capital Territory\", 'K values'!G100, IF($C$7=\"New South Wales\", 'K values'!M100, IF($C$7=\"Northern Territory\", 'K values'!S100, IF($C$7=\"Queensland\", 'K values'!Y100, IF($C$7=\"South Australia\", 'K values'!AE100, IF($C$7=\"Tasmania\", 'K values'!AK100, IF($C$7=\"Victoria\", 'K values'!AQ100, IF($C$7=\"Western Australia\", 'K values'!AW100, \"\"))))))))","v":""},{"$f":"IF($C$7=\"Australian Capital Territory\", 'K values'!H100, IF($C$7=\"New South Wales\", 'K values'!N100, IF($C$7=\"Northern Territory\", 'K values'!T100, IF($C$7=\"Queensland\", 'K values'!Z100, IF($C$7=\"South Australia\", 'K values'!AF100, IF($C$7=\"Tasmania\", 'K values'!AL100, IF($C$7=\"Victoria\", 'K values'!AR100, IF($C$7=\"Western Australia\", 'K values'!AX100, \"\"))))))))","v":""},{"$f":"IF($C$7=\"Australian Capital Territory\", 'K values'!I100, IF($C$7=\"New South Wales\", 'K values'!O100, IF($C$7=\"Northern Territory\", 'K values'!U100, IF($C$7=\"Queensland\", 'K values'!AA100, IF($C$7=\"South Australia\", 'K values'!AG100, IF($C$7=\"Tasmania\", 'K values'!AM100, IF($C$7=\"Victoria\", 'K values'!AS100, IF($C$7=\"Western Australia\", 'K values'!AY100, \"\"))))))))","v":""},{"$f":"IF($C$7=\"Australian Capital Territory\", 'K values'!J100, IF($C$7=\"New South Wales\", 'K values'!P100, IF($C$7=\"Northern Territory\", 'K values'!V100, IF($C$7=\"Queensland\", 'K values'!AB100, IF($C$7=\"South Australia\", 'K values'!AH100, IF($C$7=\"Tasmania\", 'K values'!AN100, IF($C$7=\"Victoria\", 'K values'!AT100, IF($C$7=\"Western Australia\", 'K values'!AZ100, \"\"))))))))","v":""},{"$f":"IF($C$7=\"Australian Capital Territory\", 'K values'!K100, IF($C$7=\"New South Wales\", 'K values'!Q100, IF($C$7=\"Northern Territory\", 'K values'!W100, IF($C$7=\"Queensland\", 'K values'!AC100, IF($C$7=\"South Australia\", 'K values'!AI100, IF($C$7=\"Tasmania\", 'K values'!AO100, IF($C$7=\"Victoria\", 'K values'!AU100, IF($C$7=\"Western Australia\", 'K values'!BA100, \"\"))))))))","v":""}]
[{"$f":"IF($C$7=\"Australian Capital Territory\", 'K values'!G101, IF($C$7=\"New South Wales\", 'K values'!M101, IF($C$7=\"Northern Territory\", 'K values'!S101, IF($C$7=\"Queensland\", 'K values'!Y101, IF($C$7=\"South Australia\", 'K values'!AE101, IF($C$7=\"Tasmania\", 'K values'!AK101, IF($C$7=\"Victoria\", 'K values'!AQ101, IF($C$7=\"Western Australia\", 'K values'!AW101, \"\"))))))))","v":""},{"$f":"IF($C$7=\"Australian Capital Territory\", 'K values'!H101, IF($C$7=\"New South Wales\", 'K values'!N101, IF($C$7=\"Northern Territory\", 'K values'!T101, IF($C$7=\"Queensland\", 'K values'!Z101, IF($C$7=\"South Australia\", 'K values'!AF101, IF($C$7=\"Tasmania\", 'K values'!AL101, IF($C$7=\"Victoria\", 'K values'!AR101, IF($C$7=\"Western Australia\", 'K values'!AX101, \"\"))))))))","v":""},{"$f":"IF($C$7=\"Australian Capital Territory\", 'K values'!I101, IF($C$7=\"New South Wales\", 'K values'!O101, IF($C$7=\"Northern Territory\", 'K values'!U101, IF($C$7=\"Queensland\", 'K values'!AA101, IF($C$7=\"South Australia\", 'K values'!AG101, IF($C$7=\"Tasmania\", 'K values'!AM101, IF($C$7=\"Victoria\", 'K values'!AS101, IF($C$7=\"Western Australia\", 'K values'!AY101, \"\"))))))))","v":""},{"$f":"IF($C$7=\"Australian Capital Territory\", 'K values'!J101, IF($C$7=\"New South Wales\", 'K values'!P101, IF($C$7=\"Northern Territory\", 'K values'!V101, IF($C$7=\"Queensland\", 'K values'!AB101, IF($C$7=\"South Australia\", 'K values'!AH101, IF($C$7=\"Tasmania\", 'K values'!AN101, IF($C$7=\"Victoria\", 'K values'!AT101, IF($C$7=\"Western Australia\", 'K values'!AZ101, \"\"))))))))","v":""},{"$f":"IF($C$7=\"Australian Capital Territory\", 'K values'!K101, IF($C$7=\"New South Wales\", 'K values'!Q101, IF($C$7=\"Northern Territory\", 'K values'!W101, IF($C$7=\"Queensland\", 'K values'!AC101, IF($C$7=\"South Australia\", 'K values'!AI101, IF($C$7=\"Tasmania\", 'K values'!AO101, IF($C$7=\"Victoria\", 'K values'!AU101, IF($C$7=\"Western Australia\", 'K values'!BA101, \"\"))))))))","v":""}]
[{"$f":"IF($C$7=\"Australian Capital Territory\", 'K values'!G102, IF($C$7=\"New South Wales\", 'K values'!M102, IF($C$7=\"Northern Territory\", 'K values'!S102, IF($C$7=\"Queensland\", 'K values'!Y102, IF($C$7=\"South Australia\", 'K values'!AE102, IF($C$7=\"Tasmania\", 'K values'!AK102, IF($C$7=\"Victoria\", 'K values'!AQ102, IF($C$7=\"Western Australia\", 'K values'!AW102, \"\"))))))))","v":""},{"$f":"IF($C$7=\"Australian Capital Territory\", 'K values'!H102, IF($C$7=\"New South Wales\", 'K values'!N102, IF($C$7=\"Northern Territory\", 'K values'!T102, IF($C$7=\"Queensland\", 'K values'!Z102, IF($C$7=\"South Australia\", 'K values'!AF102, IF($C$7=\"Tasmania\", 'K values'!AL102, IF($C$7=\"Victoria\", 'K values'!AR102, IF($C$7=\"Western Australia\", 'K values'!AX102, \"\"))))))))","v":""},{"$f":"IF($C$7=\"Australian Capital Territory\", 'K values'!I102, IF($C$7=\"New South Wales\", 'K values'!O102, IF($C$7=\"Northern Territory\", 'K values'!U102, IF($C$7=\"Queensland\", 'K values'!AA102, IF($C$7=\"South Australia\", 'K values'!AG102, IF($C$7=\"Tasmania\", 'K values'!AM102, IF($C$7=\"Victoria\", 'K values'!AS102, IF($C$7=\"Western Australia\", 'K values'!AY102, \"\"))))))))","v":""},{"$f":"IF($C$7=\"Australian Capital Territory\", 'K values'!J102, IF($C$7=\"New South Wales\", 'K values'!P102, IF($C$7=\"Northern Territory\", 'K values'!V102, IF($C$7=\"Queensland\", 'K values'!AB102, IF($C$7=\"South Australia\", 'K values'!AH102, IF($C$7=\"Tasmania\", 'K values'!AN102, IF($C$7=\"Victoria\", 'K values'!AT102, IF($C$7=\"Western Australia\", 'K values'!AZ102, \"\"))))))))","v":""},{"$f":"IF($C$7=\"Australian Capital Territory\", 'K values'!K102, IF($C$7=\"New South Wales\", 'K values'!Q102, IF($C$7=\"Northern Territory\", 'K values'!W102, IF($C$7=\"Queensland\", 'K values'!AC102, IF($C$7=\"South Australia\", 'K values'!AI102, IF($C$7=\"Tasmania\", 'K values'!AO102, IF($C$7=\"Victoria\", 'K values'!AU102, IF($C$7=\"Western Australia\", 'K values'!BA102, \"\"))))))))","v":""}]
[{"$f":"IF($C$7=\"Australian Capital Territory\", 'K values'!G103, IF($C$7=\"New South Wales\", 'K values'!M103, IF($C$7=\"Northern Territory\", 'K values'!S103, IF($C$7=\"Queensland\", 'K values'!Y103, IF($C$7=\"South Australia\", 'K values'!AE103, IF($C$7=\"Tasmania\", 'K values'!AK103, IF($C$7=\"Victoria\", 'K values'!AQ103, IF($C$7=\"Western Australia\", 'K values'!AW103, \"\"))))))))","v":""},{"$f":"IF($C$7=\"Australian Capital Territory\", 'K values'!H103, IF($C$7=\"New South Wales\", 'K values'!N103, IF($C$7=\"Northern Territory\", 'K values'!T103, IF($C$7=\"Queensland\", 'K values'!Z103, IF($C$7=\"South Australia\", 'K values'!AF103, IF($C$7=\"Tasmania\", 'K values'!AL103, IF($C$7=\"Victoria\", 'K values'!AR103, IF($C$7=\"Western Australia\", 'K values'!AX103, \"\"))))))))","v":""},{"$f":"IF($C$7=\"Australian Capital Territory\", 'K values'!I103, IF($C$7=\"New South Wales\", 'K values'!O103, IF($C$7=\"Northern Territory\", 'K values'!U103, IF($C$7=\"Queensland\", 'K values'!AA103, IF($C$7=\"South Australia\", 'K values'!AG103, IF($C$7=\"Tasmania\", 'K values'!AM103, IF($C$7=\"Victoria\", 'K values'!AS103, IF($C$7=\"Western Australia\", 'K values'!AY103, \"\"))))))))","v":""},{"$f":"IF($C$7=\"Australian Capital Territory\", 'K values'!J103, IF($C$7=\"New South Wales\", 'K values'!P103, IF($C$7=\"Northern Territory\", 'K values'!V103, IF($C$7=\"Queensland\", 'K values'!AB103, IF($C$7=\"South Australia\", 'K values'!AH103, IF($C$7=\"Tasmania\", 'K values'!AN103, IF($C$7=\"Victoria\", 'K values'!AT103, IF($C$7=\"Western Australia\", 'K values'!AZ103, \"\"))))))))","v":""},{"$f":"IF($C$7=\"Australian Capital Territory\", 'K values'!K103, IF($C$7=\"New South Wales\", 'K values'!Q103, IF($C$7=\"Northern Territory\", 'K values'!W103, IF($C$7=\"Queensland\", 'K values'!AC103, IF($C$7=\"South Australia\", 'K values'!AI103, IF($C$7=\"Tasmania\", 'K values'!AO103, IF($C$7=\"Victoria\", 'K values'!AU103, IF($C$7=\"Western Australia\", 'K values'!BA103, \"\"))))))))","v":""}]
[{"$f":"IF($C$7=\"Australian Capital Territory\", 'K values'!G104, IF($C$7=\"New South Wales\", 'K values'!M104, IF($C$7=\"Northern Territory\", 'K values'!S104, IF($C$7=\"Queensland\", 'K values'!Y104, IF($C$7=\"South Australia\", 'K values'!AE104, IF($C$7=\"Tasmania\", 'K values'!AK104, IF($C$7=\"Victoria\", 'K values'!AQ104, IF($C$7=\"Western Australia\", 'K values'!AW104, \"\"))))))))","v":""},{"$f":"IF($C$7=\"Australian Capital Territory\", 'K values'!H104, IF($C$7=\"New South Wales\", 'K values'!N104, IF($C$7=\"Northern Territory\", 'K values'!T104, IF($C$7=\"Queensland\", 'K values'!Z104, IF($C$7=\"South Australia\", 'K values'!AF104, IF($C$7=\"Tasmania\", 'K values'!AL104, IF($C$7=\"Victoria\", 'K values'!AR104, IF($C$7=\"Western Australia\", 'K values'!AX104, \"\"))))))))","v":""},{"$f":"IF($C$7=\"Australian Capital Territory\", 'K values'!I104, IF($C$7=\"New South Wales\", 'K values'!O104, IF($C$7=\"Northern Territory\", 'K values'!U104, IF($C$7=\"Queensland\", 'K values'!AA104, IF($C$7=\"South Australia\", 'K values'!AG104, IF($C$7=\"Tasmania\", 'K values'!AM104, IF($C$7=\"Victoria\", 'K values'!AS104, IF($C$7=\"Western Australia\", 'K values'!AY104, \"\"))))))))","v":""},{"$f":"IF($C$7=\"Australian Capital Territory\", 'K values'!J104, IF($C$7=\"New South Wales\", 'K values'!P104, IF($C$7=\"Northern Territory\", 'K values'!V104, IF($C$7=\"Queensland\", 'K values'!AB104, IF($C$7=\"South Australia\", 'K values'!AH104, IF($C$7=\"Tasmania\", 'K values'!AN104, IF($C$7=\"Victoria\", 'K values'!AT104, IF($C$7=\"Western Australia\", 'K values'!AZ104, \"\"))))))))","v":""},{"$f":"IF($C$7=\"Australian Capital Territory\", 'K values'!K104, IF($C$7=\"New South Wales\", 'K values'!Q104, IF($C$7=\"Northern Territory\", 'K values'!W104, IF($C$7=\"Queensland\", 'K values'!AC104, IF($C$7=\"South Australia\", 'K values'!AI104, IF($C$7=\"Tasmania\", 'K values'!AO104, IF($C$7=\"Victoria\", 'K values'!AU104, IF($C$7=\"Western Australia\", 'K values'!BA104, \"\"))))))))","v":""}]
[{"$f":"IF($C$7=\"Australian Capital Territory\", 'K values'!G105, IF($C$7=\"New South Wales\", 'K values'!M105, IF($C$7=\"Northern Territory\", 'K values'!S105, IF($C$7=\"Queensland\", 'K values'!Y105, IF($C$7=\"South Australia\", 'K values'!AE105, IF($C$7=\"Tasmania\", 'K values'!AK105, IF($C$7=\"Victoria\", 'K values'!AQ105, IF($C$7=\"Western Australia\", 'K values'!AW105, \"\"))))))))","v":""},{"$f":"IF($C$7=\"Australian Capital Territory\", 'K values'!H105, IF($C$7=\"New South Wales\", 'K values'!N105, IF($C$7=\"Northern Territory\", 'K values'!T105, IF($C$7=\"Queensland\", 'K values'!Z105, IF($C$7=\"South Australia\", 'K values'!AF105, IF($C$7=\"Tasmania\", 'K values'!AL105, IF($C$7=\"Victoria\", 'K values'!AR105, IF($C$7=\"Western Australia\", 'K values'!AX105, \"\"))))))))","v":""},{"$f":"IF($C$7=\"Australian Capital Territory\", 'K values'!I105, IF($C$7=\"New South Wales\", 'K values'!O105, IF($C$7=\"Northern Territory\", 'K values'!U105, IF($C$7=\"Queensland\", 'K values'!AA105, IF($C$7=\"South Australia\", 'K values'!AG105, IF($C$7=\"Tasmania\", 'K values'!AM105, IF($C$7=\"Victoria\", 'K values'!AS105, IF($C$7=\"Western Australia\", 'K values'!AY105, \"\"))))))))","v":""},{"$f":"IF($C$7=\"Australian Capital Territory\", 'K values'!J105, IF($C$7=\"New South Wales\", 'K values'!P105, IF($C$7=\"Northern Territory\", 'K values'!V105, IF($C$7=\"Queensland\", 'K values'!AB105, IF($C$7=\"South Australia\", 'K values'!AH105, IF($C$7=\"Tasmania\", 'K values'!AN105, IF($C$7=\"Victoria\", 'K values'!AT105, IF($C$7=\"Western Australia\", 'K values'!AZ105, \"\"))))))))","v":""},{"$f":"IF($C$7=\"Australian Capital Territory\", 'K values'!K105, IF($C$7=\"New South Wales\", 'K values'!Q105, IF($C$7=\"Northern Territory\", 'K values'!W105, IF($C$7=\"Queensland\", 'K values'!AC105, IF($C$7=\"South Australia\", 'K values'!AI105, IF($C$7=\"Tasmania\", 'K values'!AO105, IF($C$7=\"Victoria\", 'K values'!AU105, IF($C$7=\"Western Australia\", 'K values'!BA105, \"\"))))))))","v":""}]
[{"$f":"IF($C$7=\"Australian Capital Territory\", 'K values'!G106, IF($C$7=\"New South Wales\", 'K values'!M106, IF($C$7=\"Northern Territory\", 'K values'!S106, IF($C$7=\"Queensland\", 'K values'!Y106, IF($C$7=\"South Australia\", 'K values'!AE106, IF($C$7=\"Tasmania\", 'K values'!AK106, IF($C$7=\"Victoria\", 'K values'!AQ106, IF($C$7=\"Western Australia\", 'K values'!AW106, \"\"))))))))","v":""},{"$f":"IF($C$7=\"Australian Capital Territory\", 'K values'!H106, IF($C$7=\"New South Wales\", 'K values'!N106, IF($C$7=\"Northern Territory\", 'K values'!T106, IF($C$7=\"Queensland\", 'K values'!Z106, IF($C$7=\"South Australia\", 'K values'!AF106, IF($C$7=\"Tasmania\", 'K values'!AL106, IF($C$7=\"Victoria\", 'K values'!AR106, IF($C$7=\"Western Australia\", 'K values'!AX106, \"\"))))))))","v":""},{"$f":"IF($C$7=\"Australian Capital Territory\", 'K values'!I106, IF($C$7=\"New South Wales\", 'K values'!O106, IF($C$7=\"Northern Territory\", 'K values'!U106, IF($C$7=\"Queensland\", 'K values'!AA106, IF($C$7=\"South Australia\", 'K values'!AG106, IF($C$7=\"Tasmania\", 'K values'!AM106, IF($C$7=\"Victoria\", 'K values'!AS106, IF($C$7=\"Western Australia\", 'K values'!AY106, \"\"))))))))","v":""},{"$f":"IF($C$7=\"Australian Capital Territory\", 'K values'!J106, IF($C$7=\"New South Wales\", 'K values'!P106, IF($C$7=\"Northern Territory\", 'K values'!V106, IF($C$7=\"Queensland\", 'K values'!AB106, IF($C$7=\"South Australia\", 'K values'!AH106, IF($C$7=\"Tasmania\", 'K values'!AN106, IF($C$7=\"Victoria\", 'K values'!AT106, IF($C$7=\"Western Australia\", 'K values'!AZ106, \"\"))))))))","v":""},{"$f":"IF($C$7=\"Australian Capital Territory\", 'K values'!K106, IF($C$7=\"New South Wales\", 'K values'!Q106, IF($C$7=\"Northern Territory\", 'K values'!W106, IF($C$7=\"Queensland\", 'K values'!AC106, IF($C$7=\"South Australia\", 'K values'!AI106, IF($C$7=\"Tasmania\", 'K values'!AO106, IF($C$7=\"Victoria\", 'K values'!AU106, IF($C$7=\"Western Australia\", 'K values'!BA106, \"\"))))))))","v":""}]
[{"$f":"IF($C$7=\"Australian Capital Territory\", 'K values'!G107, IF($C$7=\"New South Wales\", 'K values'!M107, IF($C$7=\"Northern Territory\", 'K values'!S107, IF($C$7=\"Queensland\", 'K values'!Y107, IF($C$7=\"South Australia\", 'K values'!AE107, IF($C$7=\"Tasmania\", 'K values'!AK107, IF($C$7=\"Victoria\", 'K values'!AQ107, IF($C$7=\"Western Australia\", 'K values'!AW107, \"\"))))))))","v":""},{"$f":"IF($C$7=\"Australian Capital Territory\", 'K values'!H107, IF($C$7=\"New South Wales\", 'K values'!N107, IF($C$7=\"Northern Territory\", 'K values'!T107, IF($C$7=\"Queensland\", 'K values'!Z107, IF($C$7=\"South Australia\", 'K values'!AF107, IF($C$7=\"Tasmania\", 'K values'!AL107, IF($C$7=\"Victoria\", 'K values'!AR107, IF($C$7=\"Western Australia\", 'K values'!AX107, \"\"))))))))","v":""},{"$f":"IF($C$7=\"Australian Capital Territory\", 'K values'!I107, IF($C$7=\"New South Wales\", 'K values'!O107, IF($C$7=\"Northern Territory\", 'K values'!U107, IF($C$7=\"Queensland\", 'K values'!AA107, IF($C$7=\"South Australia\", 'K values'!AG107, IF($C$7=\"Tasmania\", 'K values'!AM107, IF($C$7=\"Victoria\", 'K values'!AS107, IF($C$7=\"Western Australia\", 'K values'!AY107, \"\"))))))))","v":""},{"$f":"IF($C$7=\"Australian Capital Territory\", 'K values'!J107, IF($C$7=\"New South Wales\", 'K values'!P107, IF($C$7=\"Northern Territory\", 'K values'!V107, IF($C$7=\"Queensland\", 'K values'!AB107, IF($C$7=\"South Australia\", 'K values'!AH107, IF($C$7=\"Tasmania\", 'K values'!AN107, IF($C$7=\"Victoria\", 'K values'!AT107, IF($C$7=\"Western Australia\", 'K values'!AZ107, \"\"))))))))","v":""},{"$f":"IF($C$7=\"Australian Capital Territory\", 'K values'!K107, IF($C$7=\"New South Wales\", 'K values'!Q107, IF($C$7=\"Northern Territory\", 'K values'!W107, IF($C$7=\"Queensland\", 'K values'!AC107, IF($C$7=\"South Australia\", 'K values'!AI107, IF($C$7=\"Tasmania\", 'K values'!AO107, IF($C$7=\"Victoria\", 'K values'!AU107, IF($C$7=\"Western Australia\", 'K values'!BA107, \"\"))))))))","v":""}]
[{"$f":"IF($C$7=\"Australian Capital Territory\", 'K values'!G108, IF($C$7=\"New South Wales\", 'K values'!M108, IF($C$7=\"Northern Territory\", 'K values'!S108, IF($C$7=\"Queensland\", 'K values'!Y108, IF($C$7=\"South Australia\", 'K values'!AE108, IF($C$7=\"Tasmania\", 'K values'!AK108, IF($C$7=\"Victoria\", 'K values'!AQ108, IF($C$7=\"Western Australia\", 'K values'!AW108, \"\"))))))))","v":""},{"$f":"IF($C$7=\"Australian Capital Territory\", 'K values'!H108, IF($C$7=\"New South Wales\", 'K values'!N108, IF($C$7=\"Northern Territory\", 'K values'!T108, IF($C$7=\"Queensland\", 'K values'!Z108, IF($C$7=\"South Australia\", 'K values'!AF108, IF($C$7=\"Tasmania\", 'K values'!AL108, IF($C$7=\"Victoria\", 'K values'!AR108, IF($C$7=\"Western Australia\", 'K values'!AX108, \"\"))))))))","v":""},{"$f":"IF($C$7=\"Australian Capital Territory\", 'K values'!I108, IF($C$7=\"New South Wales\", 'K values'!O108, IF($C$7=\"Northern Territory\", 'K values'!U108, IF($C$7=\"Queensland\", 'K values'!AA108, IF($C$7=\"South Australia\", 'K values'!AG108, IF($C$7=\"Tasmania\", 'K values'!AM108, IF($C$7=\"Victoria\", 'K values'!AS108, IF($C$7=\"Western Australia\", 'K values'!AY108, \"\"))))))))","v":""},{"$f":"IF($C$7=\"Australian Capital Territory\", 'K values'!J108, IF($C$7=\"New South Wales\", 'K values'!P108, IF($C$7=\"Northern Territory\", 'K values'!V108, IF($C$7=\"Queensland\", 'K values'!AB108, IF($C$7=\"South Australia\", 'K values'!AH108, IF($C$7=\"Tasmania\", 'K values'!AN108, IF($C$7=\"Victoria\", 'K values'!AT108, IF($C$7=\"Western Australia\", 'K values'!AZ108, \"\"))))))))","v":""},{"$f":"IF($C$7=\"Australian Capital Territory\", 'K values'!K108, IF($C$7=\"New South Wales\", 'K values'!Q108, IF($C$7=\"Northern Territory\", 'K values'!W108, IF($C$7=\"Queensland\", 'K values'!AC108, IF($C$7=\"South Australia\", 'K values'!AI108, IF($C$7=\"Tasmania\", 'K values'!AO108, IF($C$7=\"Victoria\", 'K values'!AU108, IF($C$7=\"Western Australia\", 'K values'!BA108, \"\"))))))))","v":""}]
[{"$f":"IF($C$7=\"Australian Capital Territory\", 'K values'!G109, IF($C$7=\"New South Wales\", 'K values'!M109, IF($C$7=\"Northern Territory\", 'K values'!S109, IF($C$7=\"Queensland\", 'K values'!Y109, IF($C$7=\"South Australia\", 'K values'!AE109, IF($C$7=\"Tasmania\", 'K values'!AK109, IF($C$7=\"Victoria\", 'K values'!AQ109, IF($C$7=\"Western Australia\", 'K values'!AW109, \"\"))))))))","v":""},{"$f":"IF($C$7=\"Australian Capital Territory\", 'K values'!H109, IF($C$7=\"New South Wales\", 'K values'!N109, IF($C$7=\"Northern Territory\", 'K values'!T109, IF($C$7=\"Queensland\", 'K values'!Z109, IF($C$7=\"South Australia\", 'K values'!AF109, IF($C$7=\"Tasmania\", 'K values'!AL109, IF($C$7=\"Victoria\", 'K values'!AR109, IF($C$7=\"Western Australia\", 'K values'!AX109, \"\"))))))))","v":""},{"$f":"IF($C$7=\"Australian Capital Territory\", 'K values'!I109, IF($C$7=\"New South Wales\", 'K values'!O109, IF($C$7=\"Northern Territory\", 'K values'!U109, IF($C$7=\"Queensland\", 'K values'!AA109, IF($C$7=\"South Australia\", 'K values'!AG109, IF($C$7=\"Tasmania\", 'K values'!AM109, IF($C$7=\"Victoria\", 'K values'!AS109, IF($C$7=\"Western Australia\", 'K values'!AY109, \"\"))))))))","v":""},{"$f":"IF($C$7=\"Australian Capital Territory\", 'K values'!J109, IF($C$7=\"New South Wales\", 'K values'!P109, IF($C$7=\"Northern Territory\", 'K values'!V109, IF($C$7=\"Queensland\", 'K values'!AB109, IF($C$7=\"South Australia\", 'K values'!AH109, IF($C$7=\"Tasmania\", 'K values'!AN109, IF($C$7=\"Victoria\", 'K values'!AT109, IF($C$7=\"Western Australia\", 'K values'!AZ109, \"\"))))))))","v":""},{"$f":"IF($C$7=\"Australian Capital Territory\", 'K values'!K109, IF($C$7=\"New South Wales\", 'K values'!Q109, IF($C$7=\"Northern Territory\", 'K values'!W109, IF($C$7=\"Queensland\", 'K values'!AC109, IF($C$7=\"South Australia\", 'K values'!AI109, IF($C$7=\"Tasmania\", 'K values'!AO109, IF($C$7=\"Victoria\", 'K values'!AU109, IF($C$7=\"Western Australia\", 'K values'!BA109, \"\"))))))))","v":""}]
[{"$f":"IF($C$7=\"Australian Capital Territory\", 'K values'!G110, IF($C$7=\"New South Wales\", 'K values'!M110, IF($C$7=\"Northern Territory\", 'K values'!S110, IF($C$7=\"Queensland\", 'K values'!Y110, IF($C$7=\"South Australia\", 'K values'!AE110, IF($C$7=\"Tasmania\", 'K values'!AK110, IF($C$7=\"Victoria\", 'K values'!AQ110, IF($C$7=\"Western Australia\", 'K values'!AW110, \"\"))))))))","v":""},{"$f":"IF($C$7=\"Australian Capital Territory\", 'K values'!H110, IF($C$7=\"New South Wales\", 'K values'!N110, IF($C$7=\"Northern Territory\", 'K values'!T110, IF($C$7=\"Queensland\", 'K values'!Z110, IF($C$7=\"South Australia\", 'K values'!AF110, IF($C$7=\"Tasmania\", 'K values'!AL110, IF($C$7=\"Victoria\", 'K values'!AR110, IF($C$7=\"Western Australia\", 'K values'!AX110, \"\"))))))))","v":""},{"$f":"IF($C$7=\"Australian Capital Territory\", 'K values'!I110, IF($C$7=\"New South Wales\", 'K values'!O110, IF($C$7=\"Northern Territory\", 'K values'!U110, IF($C$7=\"Queensland\", 'K values'!AA110, IF($C$7=\"South Australia\", 'K values'!AG110, IF($C$7=\"Tasmania\", 'K values'!AM110, IF($C$7=\"Victoria\", 'K values'!AS110, IF($C$7=\"Western Australia\", 'K values'!AY110, \"\"))))))))","v":""},{"$f":"IF($C$7=\"Australian Capital Territory\", 'K values'!J110, IF($C$7=\"New South Wales\", 'K values'!P110, IF($C$7=\"Northern Territory\", 'K values'!V110, IF($C$7=\"Queensland\", 'K values'!AB110, IF($C$7=\"South Australia\", 'K values'!AH110, IF($C$7=\"Tasmania\", 'K values'!AN110, IF($C$7=\"Victoria\", 'K values'!AT110, IF($C$7=\"Western Australia\", 'K values'!AZ110, \"\"))))))))","v":""},{"$f":"IF($C$7=\"Australian Capital Territory\", 'K values'!K110, IF($C$7=\"New South Wales\", 'K values'!Q110, IF($C$7=\"Northern Territory\", 'K values'!W110, IF($C$7=\"Queensland\", 'K values'!AC110, IF($C$7=\"South Australia\", 'K values'!AI110, IF($C$7=\"Tasmania\", 'K values'!AO110, IF($C$7=\"Victoria\", 'K values'!AU110, IF($C$7=\"Western Australia\", 'K values'!BA110, \"\"))))))))","v":""}]
[{"$f":"IF($C$7=\"Australian Capital Territory\", 'K values'!G111, IF($C$7=\"New South Wales\", 'K values'!M111, IF($C$7=\"Northern Territory\", 'K values'!S111, IF($C$7=\"Queensland\", 'K values'!Y111, IF($C$7=\"South Australia\", 'K values'!AE111, IF($C$7=\"Tasmania\", 'K values'!AK111, IF($C$7=\"Victoria\", 'K values'!AQ111, IF($C$7=\"Western Australia\", 'K values'!AW111, \"\"))))))))","v":""},{"$f":"IF($C$7=\"Australian Capital Territory\", 'K values'!H111, IF($C$7=\"New South Wales\", 'K values'!N111, IF($C$7=\"Northern Territory\", 'K values'!T111, IF($C$7=\"Queensland\", 'K values'!Z111, IF($C$7=\"South Australia\", 'K values'!AF111, IF($C$7=\"Tasmania\", 'K values'!AL111, IF($C$7=\"Victoria\", 'K values'!AR111, IF($C$7=\"Western Australia\", 'K values'!AX111, \"\"))))))))","v":""},{"$f":"IF($C$7=\"Australian Capital Territory\", 'K values'!I111, IF($C$7=\"New South Wales\", 'K values'!O111, IF($C$7=\"Northern Territory\", 'K values'!U111, IF($C$7=\"Queensland\", 'K values'!AA111, IF($C$7=\"South Australia\", 'K values'!AG111, IF($C$7=\"Tasmania\", 'K values'!AM111, IF($C$7=\"Victoria\", 'K values'!AS111, IF($C$7=\"Western Australia\", 'K values'!AY111, \"\"))))))))","v":""},{"$f":"IF($C$7=\"Australian Capital Territory\", 'K values'!J111, IF($C$7=\"New South Wales\", 'K values'!P111, IF($C$7=\"Northern Territory\", 'K values'!V111, IF($C$7=\"Queensland\", 'K values'!AB111, IF($C$7=\"South Australia\", 'K values'!AH111, IF($C$7=\"Tasmania\", 'K values'!AN111, IF($C$7=\"Victoria\", 'K values'!AT111, IF($C$7=\"Western Australia\", 'K values'!AZ111, \"\"))))))))","v":""},{"$f":"IF($C$7=\"Australian Capital Territory\", 'K values'!K111, IF($C$7=\"New South Wales\", 'K values'!Q111, IF($C$7=\"Northern Territory\", 'K values'!W111, IF($C$7=\"Queensland\", 'K values'!AC111, IF($C$7=\"South Australia\", 'K values'!AI111, IF($C$7=\"Tasmania\", 'K values'!AO111, IF($C$7=\"Victoria\", 'K values'!AU111, IF($C$7=\"Western Australia\", 'K values'!BA111, \"\"))))))))","v":""}]
[{"$f":"IF($C$7=\"Australian Capital Territory\", 'K values'!G112, IF($C$7=\"New South Wales\", 'K values'!M112, IF($C$7=\"Northern Territory\", 'K values'!S112, IF($C$7=\"Queensland\", 'K values'!Y112, IF($C$7=\"South Australia\", 'K values'!AE112, IF($C$7=\"Tasmania\", 'K values'!AK112, IF($C$7=\"Victoria\", 'K values'!AQ112, IF($C$7=\"Western Australia\", 'K values'!AW112, \"\"))))))))","v":""},{"$f":"IF($C$7=\"Australian Capital Territory\", 'K values'!H112, IF($C$7=\"New South Wales\", 'K values'!N112, IF($C$7=\"Northern Territory\", 'K values'!T112, IF($C$7=\"Queensland\", 'K values'!Z112, IF($C$7=\"South Australia\", 'K values'!AF112, IF($C$7=\"Tasmania\", 'K values'!AL112, IF($C$7=\"Victoria\", 'K values'!AR112, IF($C$7=\"Western Australia\", 'K values'!AX112, \"\"))))))))","v":""},{"$f":"IF($C$7=\"Australian Capital Territory\", 'K values'!I112, IF($C$7=\"New South Wales\", 'K values'!O112, IF($C$7=\"Northern Territory\", 'K values'!U112, IF($C$7=\"Queensland\", 'K values'!AA112, IF($C$7=\"South Australia\", 'K values'!AG112, IF($C$7=\"Tasmania\", 'K values'!AM112, IF($C$7=\"Victoria\", 'K values'!AS112, IF($C$7=\"Western Australia\", 'K values'!AY112, \"\"))))))))","v":""},{"$f":"IF($C$7=\"Australian Capital Territory\", 'K values'!J112, IF($C$7=\"New South Wales\", 'K values'!P112, IF($C$7=\"Northern Territory\", 'K values'!V112, IF($C$7=\"Queensland\", 'K values'!AB112, IF($C$7=\"South Australia\", 'K values'!AH112, IF($C$7=\"Tasmania\", 'K values'!AN112, IF($C$7=\"Victoria\", 'K values'!AT112, IF($C$7=\"Western Australia\", 'K values'!AZ112, \"\"))))))))","v":""},{"$f":"IF($C$7=\"Australian Capital Territory\", 'K values'!K112, IF($C$7=\"New South Wales\", 'K values'!Q112, IF($C$7=\"Northern Territory\", 'K values'!W112, IF($C$7=\"Queensland\", 'K values'!AC112, IF($C$7=\"South Australia\", 'K values'!AI112, IF($C$7=\"Tasmania\", 'K values'!AO112, IF($C$7=\"Victoria\", 'K values'!AU112, IF($C$7=\"Western Australia\", 'K values'!BA112, \"\"))))))))","v":""}]
[{"$f":"IF($C$7=\"Australian Capital Territory\", 'K values'!G113, IF($C$7=\"New South Wales\", 'K values'!M113, IF($C$7=\"Northern Territory\", 'K values'!S113, IF($C$7=\"Queensland\", 'K values'!Y113, IF($C$7=\"South Australia\", 'K values'!AE113, IF($C$7=\"Tasmania\", 'K values'!AK113, IF($C$7=\"Victoria\", 'K values'!AQ113, IF($C$7=\"Western Australia\", 'K values'!AW113, \"\"))))))))","v":""},{"$f":"IF($C$7=\"Australian Capital Territory\", 'K values'!H113, IF($C$7=\"New South Wales\", 'K values'!N113, IF($C$7=\"Northern Territory\", 'K values'!T113, IF($C$7=\"Queensland\", 'K values'!Z113, IF($C$7=\"South Australia\", 'K values'!AF113, IF($C$7=\"Tasmania\", 'K values'!AL113, IF($C$7=\"Victoria\", 'K values'!AR113, IF($C$7=\"Western Australia\", 'K values'!AX113, \"\"))))))))","v":""},{"$f":"IF($C$7=\"Australian Capital Territory\", 'K values'!I113, IF($C$7=\"New South Wales\", 'K values'!O113, IF($C$7=\"Northern Territory\", 'K values'!U113, IF($C$7=\"Queensland\", 'K values'!AA113, IF($C$7=\"South Australia\", 'K values'!AG113, IF($C$7=\"Tasmania\", 'K values'!AM113, IF($C$7=\"Victoria\", 'K values'!AS113, IF($C$7=\"Western Australia\", 'K values'!AY113, \"\"))))))))","v":""},{"$f":"IF($C$7=\"Australian Capital Territory\", 'K values'!J113, IF($C$7=\"New South Wales\", 'K values'!P113, IF($C$7=\"Northern Territory\", 'K values'!V113, IF($C$7=\"Queensland\", 'K values'!AB113, IF($C$7=\"South Australia\", 'K values'!AH113, IF($C$7=\"Tasmania\", 'K values'!AN113, IF($C$7=\"Victoria\", 'K values'!AT113, IF($C$7=\"Western Australia\", 'K values'!AZ113, \"\"))))))))","v":""},{"$f":"IF($C$7=\"Australian Capital Territory\", 'K values'!K113, IF($C$7=\"New South Wales\", 'K values'!Q113, IF($C$7=\"Northern Territory\", 'K values'!W113, IF($C$7=\"Queensland\", 'K values'!AC113, IF($C$7=\"South Australia\", 'K values'!AI113, IF($C$7=\"Tasmania\", 'K values'!AO113, IF($C$7=\"Victoria\", 'K values'!AU113, IF($C$7=\"Western Australia\", 'K values'!BA113, \"\"))))))))","v":""}]
[{"$f":"IF($C$7=\"Australian Capital Territory\", 'K values'!G114, IF($C$7=\"New South Wales\", 'K values'!M114, IF($C$7=\"Northern Territory\", 'K values'!S114, IF($C$7=\"Queensland\", 'K values'!Y114, IF($C$7=\"South Australia\", 'K values'!AE114, IF($C$7=\"Tasmania\", 'K values'!AK114, IF($C$7=\"Victoria\", 'K values'!AQ114, IF($C$7=\"Western Australia\", 'K values'!AW114, \"\"))))))))","v":""},{"$f":"IF($C$7=\"Australian Capital Territory\", 'K values'!H114, IF($C$7=\"New South Wales\", 'K values'!N114, IF($C$7=\"Northern Territory\", 'K values'!T114, IF($C$7=\"Queensland\", 'K values'!Z114, IF($C$7=\"South Australia\", 'K values'!AF114, IF($C$7=\"Tasmania\", 'K values'!AL114, IF($C$7=\"Victoria\", 'K values'!AR114, IF($C$7=\"Western Australia\", 'K values'!AX114, \"\"))))))))","v":""},{"$f":"IF($C$7=\"Australian Capital Territory\", 'K values'!I114, IF($C$7=\"New South Wales\", 'K values'!O114, IF($C$7=\"Northern Territory\", 'K values'!U114, IF($C$7=\"Queensland\", 'K values'!AA114, IF($C$7=\"South Australia\", 'K values'!AG114, IF($C$7=\"Tasmania\", 'K values'!AM114, IF($C$7=\"Victoria\", 'K values'!AS114, IF($C$7=\"Western Australia\", 'K values'!AY114, \"\"))))))))","v":""},{"$f":"IF($C$7=\"Australian Capital Territory\", 'K values'!J114, IF($C$7=\"New South Wales\", 'K values'!P114, IF($C$7=\"Northern Territory\", 'K values'!V114, IF($C$7=\"Queensland\", 'K values'!AB114, IF($C$7=\"South Australia\", 'K values'!AH114, IF($C$7=\"Tasmania\", 'K values'!AN114, IF($C$7=\"Victoria\", 'K values'!AT114, IF($C$7=\"Western Australia\", 'K values'!AZ114, \"\"))))))))","v":""},{"$f":"IF($C$7=\"Australian Capital Territory\", 'K values'!K114, IF($C$7=\"New South Wales\", 'K values'!Q114, IF($C$7=\"Northern Territory\", 'K values'!W114, IF($C$7=\"Queensland\", 'K values'!AC114, IF($C$7=\"South Australia\", 'K values'!AI114, IF($C$7=\"Tasmania\", 'K values'!AO114, IF($C$7=\"Victoria\", 'K values'!AU114, IF($C$7=\"Western Australia\", 'K values'!BA114, \"\"))))))))","v":""}]
[{"$f":"IF($C$7=\"Australian Capital Territory\", 'K values'!G115, IF($C$7=\"New South Wales\", 'K values'!M115, IF($C$7=\"Northern Territory\", 'K values'!S115, IF($C$7=\"Queensland\", 'K values'!Y115, IF($C$7=\"South Australia\", 'K values'!AE115, IF($C$7=\"Tasmania\", 'K values'!AK115, IF($C$7=\"Victoria\", 'K values'!AQ115, IF($C$7=\"Western Australia\", 'K values'!AW115, \"\"))))))))","v":""},{"$f":"IF($C$7=\"Australian Capital Territory\", 'K values'!H115, IF($C$7=\"New South Wales\", 'K values'!N115, IF($C$7=\"Northern Territory\", 'K values'!T115, IF($C$7=\"Queensland\", 'K values'!Z115, IF($C$7=\"South Australia\", 'K values'!AF115, IF($C$7=\"Tasmania\", 'K values'!AL115, IF($C$7=\"Victoria\", 'K values'!AR115, IF($C$7=\"Western Australia\", 'K values'!AX115, \"\"))))))))","v":""},{"$f":"IF($C$7=\"Australian Capital Territory\", 'K values'!I115, IF($C$7=\"New South Wales\", 'K values'!O115, IF($C$7=\"Northern Territory\", 'K values'!U115, IF($C$7=\"Queensland\", 'K values'!AA115, IF($C$7=\"South Australia\", 'K values'!AG115, IF($C$7=\"Tasmania\", 'K values'!AM115, IF($C$7=\"Victoria\", 'K values'!AS115, IF($C$7=\"Western Australia\", 'K values'!AY115, \"\"))))))))","v":""},{"$f":"IF($C$7=\"Australian Capital Territory\", 'K values'!J115, IF($C$7=\"New South Wales\", 'K values'!P115, IF($C$7=\"Northern Territory\", 'K values'!V115, IF($C$7=\"Queensland\", 'K values'!AB115, IF($C$7=\"South Australia\", 'K values'!AH115, IF($C$7=\"Tasmania\", 'K values'!AN115, IF($C$7=\"Victoria\", 'K values'!AT115, IF($C$7=\"Western Australia\", 'K values'!AZ115, \"\"))))))))","v":""},{"$f":"IF($C$7=\"Australian Capital Territory\", 'K values'!K115, IF($C$7=\"New South Wales\", 'K values'!Q115, IF($C$7=\"Northern Territory\", 'K values'!W115, IF($C$7=\"Queensland\", 'K values'!AC115, IF($C$7=\"South Australia\", 'K values'!AI115, IF($C$7=\"Tasmania\", 'K values'!AO115, IF($C$7=\"Victoria\", 'K values'!AU115, IF($C$7=\"Western Australia\", 'K values'!BA115, \"\"))))))))","v":""}]
[{"$f":"IF($C$7=\"Australian Capital Territory\", 'K values'!G116, IF($C$7=\"New South Wales\", 'K values'!M116, IF($C$7=\"Northern Territory\", 'K values'!S116, IF($C$7=\"Queensland\", 'K values'!Y116, IF($C$7=\"South Australia\", 'K values'!AE116, IF($C$7=\"Tasmania\", 'K values'!AK116, IF($C$7=\"Victoria\", 'K values'!AQ116, IF($C$7=\"Western Australia\", 'K values'!AW116, \"\"))))))))","v":""},{"$f":"IF($C$7=\"Australian Capital Territory\", 'K values'!H116, IF($C$7=\"New South Wales\", 'K values'!N116, IF($C$7=\"Northern Territory\", 'K values'!T116, IF($C$7=\"Queensland\", 'K values'!Z116, IF($C$7=\"South Australia\", 'K values'!AF116, IF($C$7=\"Tasmania\", 'K values'!AL116, IF($C$7=\"Victoria\", 'K values'!AR116, IF($C$7=\"Western Australia\", 'K values'!AX116, \"\"))))))))","v":""},{"$f":"IF($C$7=\"Australian Capital Territory\", 'K values'!I116, IF($C$7=\"New South Wales\", 'K values'!O116, IF($C$7=\"Northern Territory\", 'K values'!U116, IF($C$7=\"Queensland\", 'K values'!AA116, IF($C$7=\"South Australia\", 'K values'!AG116, IF($C$7=\"Tasmania\", 'K values'!AM116, IF($C$7=\"Victoria\", 'K values'!AS116, IF($C$7=\"Western Australia\", 'K values'!AY116, \"\"))))))))","v":""},{"$f":"IF($C$7=\"Australian Capital Territory\", 'K values'!J116, IF($C$7=\"New South Wales\", 'K values'!P116, IF($C$7=\"Northern Territory\", 'K values'!V116, IF($C$7=\"Queensland\", 'K values'!AB116, IF($C$7=\"South Australia\", 'K values'!AH116, IF($C$7=\"Tasmania\", 'K values'!AN116, IF($C$7=\"Victoria\", 'K values'!AT116, IF($C$7=\"Western Australia\", 'K values'!AZ116, \"\"))))))))","v":""},{"$f":"IF($C$7=\"Australian Capital Territory\", 'K values'!K116, IF($C$7=\"New South Wales\", 'K values'!Q116, IF($C$7=\"Northern Territory\", 'K values'!W116, IF($C$7=\"Queensland\", 'K values'!AC116, IF($C$7=\"South Australia\", 'K values'!AI116, IF($C$7=\"Tasmania\", 'K values'!AO116, IF($C$7=\"Victoria\", 'K values'!AU116, IF($C$7=\"Western Australia\", 'K values'!BA116, \"\"))))))))","v":""}]
[{"$f":"IF($C$7=\"Australian Capital Territory\", 'K values'!G117, IF($C$7=\"New South Wales\", 'K values'!M117, IF($C$7=\"Northern Territory\", 'K values'!S117, IF($C$7=\"Queensland\", 'K values'!Y117, IF($C$7=\"South Australia\", 'K values'!AE117, IF($C$7=\"Tasmania\", 'K values'!AK117, IF($C$7=\"Victoria\", 'K values'!AQ117, IF($C$7=\"Western Australia\", 'K values'!AW117, \"\"))))))))","v":""},{"$f":"IF($C$7=\"Australian Capital Territory\", 'K values'!H117, IF($C$7=\"New South Wales\", 'K values'!N117, IF($C$7=\"Northern Territory\", 'K values'!T117, IF($C$7=\"Queensland\", 'K values'!Z117, IF($C$7=\"South Australia\", 'K values'!AF117, IF($C$7=\"Tasmania\", 'K values'!AL117, IF($C$7=\"Victoria\", 'K values'!AR117, IF($C$7=\"Western Australia\", 'K values'!AX117, \"\"))))))))","v":""},{"$f":"IF($C$7=\"Australian Capital Territory\", 'K values'!I117, IF($C$7=\"New South Wales\", 'K values'!O117, IF($C$7=\"Northern Territory\", 'K values'!U117, IF($C$7=\"Queensland\", 'K values'!AA117, IF($C$7=\"South Australia\", 'K values'!AG117, IF($C$7=\"Tasmania\", 'K values'!AM117, IF($C$7=\"Victoria\", 'K values'!AS117, IF($C$7=\"Western Australia\", 'K values'!AY117, \"\"))))))))","v":""},{"$f":"IF($C$7=\"Australian Capital Territory\", 'K values'!J117, IF($C$7=\"New South Wales\", 'K values'!P117, IF($C$7=\"Northern Territory\", 'K values'!V117, IF($C$7=\"Queensland\", 'K values'!AB117, IF($C$7=\"South Australia\", 'K values'!AH117, IF($C$7=\"Tasmania\", 'K values'!AN117, IF($C$7=\"Victoria\", 'K values'!AT117, IF($C$7=\"Western Australia\", 'K values'!AZ117, \"\"))))))))","v":""},{"$f":"IF($C$7=\"Australian Capital Territory\", 'K values'!K117, IF($C$7=\"New South Wales\", 'K values'!Q117, IF($C$7=\"Northern Territory\", 'K values'!W117, IF($C$7=\"Queensland\", 'K values'!AC117, IF($C$7=\"South Australia\", 'K values'!AI117, IF($C$7=\"Tasmania\", 'K values'!AO117, IF($C$7=\"Victoria\", 'K values'!AU117, IF($C$7=\"Western Australia\", 'K values'!BA117, \"\"))))))))","v":""}]
[{"$f":"IF($C$7=\"Australian Capital Territory\", 'K values'!G118, IF($C$7=\"New South Wales\", 'K values'!M118, IF($C$7=\"Northern Territory\", 'K values'!S118, IF($C$7=\"Queensland\", 'K values'!Y118, IF($C$7=\"South Australia\", 'K values'!AE118, IF($C$7=\"Tasmania\", 'K values'!AK118, IF($C$7=\"Victoria\", 'K values'!AQ118, IF($C$7=\"Western Australia\", 'K values'!AW118, \"\"))))))))","v":""},{"$f":"IF($C$7=\"Australian Capital Territory\", 'K values'!H118, IF($C$7=\"New South Wales\", 'K values'!N118, IF($C$7=\"Northern Territory\", 'K values'!T118, IF($C$7=\"Queensland\", 'K values'!Z118, IF($C$7=\"South Australia\", 'K values'!AF118, IF($C$7=\"Tasmania\", 'K values'!AL118, IF($C$7=\"Victoria\", 'K values'!AR118, IF($C$7=\"Western Australia\", 'K values'!AX118, \"\"))))))))","v":""},{"$f":"IF($C$7=\"Australian Capital Territory\", 'K values'!I118, IF($C$7=\"New South Wales\", 'K values'!O118, IF($C$7=\"Northern Territory\", 'K values'!U118, IF($C$7=\"Queensland\", 'K values'!AA118, IF($C$7=\"South Australia\", 'K values'!AG118, IF($C$7=\"Tasmania\", 'K values'!AM118, IF($C$7=\"Victoria\", 'K values'!AS118, IF($C$7=\"Western Australia\", 'K values'!AY118, \"\"))))))))","v":""},{"$f":"IF($C$7=\"Australian Capital Territory\", 'K values'!J118, IF($C$7=\"New South Wales\", 'K values'!P118, IF($C$7=\"Northern Territory\", 'K values'!V118, IF($C$7=\"Queensland\", 'K values'!AB118, IF($C$7=\"South Australia\", 'K values'!AH118, IF($C$7=\"Tasmania\", 'K values'!AN118, IF($C$7=\"Victoria\", 'K values'!AT118, IF($C$7=\"Western Australia\", 'K values'!AZ118, \"\"))))))))","v":""},{"$f":"IF($C$7=\"Australian Capital Territory\", 'K values'!K118, IF($C$7=\"New South Wales\", 'K values'!Q118, IF($C$7=\"Northern Territory\", 'K values'!W118, IF($C$7=\"Queensland\", 'K values'!AC118, IF($C$7=\"South Australia\", 'K values'!AI118, IF($C$7=\"Tasmania\", 'K values'!AO118, IF($C$7=\"Victoria\", 'K values'!AU118, IF($C$7=\"Western Australia\", 'K values'!BA118, \"\"))))))))","v":""}]
[{"$f":"IF($C$7=\"Australian Capital Territory\", 'K values'!G119, IF($C$7=\"New South Wales\", 'K values'!M119, IF($C$7=\"Northern Territory\", 'K values'!S119, IF($C$7=\"Queensland\", 'K values'!Y119, IF($C$7=\"South Australia\", 'K values'!AE119, IF($C$7=\"Tasmania\", 'K values'!AK119, IF($C$7=\"Victoria\", 'K values'!AQ119, IF($C$7=\"Western Australia\", 'K values'!AW119, \"\"))))))))","v":""},{"$f":"IF($C$7=\"Australian Capital Territory\", 'K values'!H119, IF($C$7=\"New South Wales\", 'K values'!N119, IF($C$7=\"Northern Territory\", 'K values'!T119, IF($C$7=\"Queensland\", 'K values'!Z119, IF($C$7=\"South Australia\", 'K values'!AF119, IF($C$7=\"Tasmania\", 'K values'!AL119, IF($C$7=\"Victoria\", 'K values'!AR119, IF($C$7=\"Western Australia\", 'K values'!AX119, \"\"))))))))","v":""},{"$f":"IF($C$7=\"Australian Capital Territory\", 'K values'!I119, IF($C$7=\"New South Wales\", 'K values'!O119, IF($C$7=\"Northern Territory\", 'K values'!U119, IF($C$7=\"Queensland\", 'K values'!AA119, IF($C$7=\"South Australia\", 'K values'!AG119, IF($C$7=\"Tasmania\", 'K values'!AM119, IF($C$7=\"Victoria\", 'K values'!AS119, IF($C$7=\"Western Australia\", 'K values'!AY119, \"\"))))))))","v":""},{"$f":"IF($C$7=\"Australian Capital Territory\", 'K values'!J119, IF($C$7=\"New South Wales\", 'K values'!P119, IF($C$7=\"Northern Territory\", 'K values'!V119, IF($C$7=\"Queensland\", 'K values'!AB119, IF($C$7=\"South Australia\", 'K values'!AH119, IF($C$7=\"Tasmania\", 'K values'!AN119, IF($C$7=\"Victoria\", 'K values'!AT119, IF($C$7=\"Western Australia\", 'K values'!AZ119, \"\"))))))))","v":""},{"$f":"IF($C$7=\"Australian Capital Territory\", 'K values'!K119, IF($C$7=\"New South Wales\", 'K values'!Q119, IF($C$7=\"Northern Territory\", 'K values'!W119, IF($C$7=\"Queensland\", 'K values'!AC119, IF($C$7=\"South Australia\", 'K values'!AI119, IF($C$7=\"Tasmania\", 'K values'!AO119, IF($C$7=\"Victoria\", 'K values'!AU119, IF($C$7=\"Western Australia\", 'K values'!BA119, \"\"))))))))","v":""}]
[{"$f":"IF($C$7=\"Australian Capital Territory\", 'K values'!G120, IF($C$7=\"New South Wales\", 'K values'!M120, IF($C$7=\"Northern Territory\", 'K values'!S120, IF($C$7=\"Queensland\", 'K values'!Y120, IF($C$7=\"South Australia\", 'K values'!AE120, IF($C$7=\"Tasmania\", 'K values'!AK120, IF($C$7=\"Victoria\", 'K values'!AQ120, IF($C$7=\"Western Australia\", 'K values'!AW120, \"\"))))))))","v":""},{"$f":"IF($C$7=\"Australian Capital Territory\", 'K values'!H120, IF($C$7=\"New South Wales\", 'K values'!N120, IF($C$7=\"Northern Territory\", 'K values'!T120, IF($C$7=\"Queensland\", 'K values'!Z120, IF($C$7=\"South Australia\", 'K values'!AF120, IF($C$7=\"Tasmania\", 'K values'!AL120, IF($C$7=\"Victoria\", 'K values'!AR120, IF($C$7=\"Western Australia\", 'K values'!AX120, \"\"))))))))","v":""},{"$f":"IF($C$7=\"Australian Capital Territory\", 'K values'!I120, IF($C$7=\"New South Wales\", 'K values'!O120, IF($C$7=\"Northern Territory\", 'K values'!U120, IF($C$7=\"Queensland\", 'K values'!AA120, IF($C$7=\"South Australia\", 'K values'!AG120, IF($C$7=\"Tasmania\", 'K values'!AM120, IF($C$7=\"Victoria\", 'K values'!AS120, IF($C$7=\"Western Australia\", 'K values'!AY120, \"\"))))))))","v":""},{"$f":"IF($C$7=\"Australian Capital Territory\", 'K values'!J120, IF($C$7=\"New South Wales\", 'K values'!P120, IF($C$7=\"Northern Territory\", 'K values'!V120, IF($C$7=\"Queensland\", 'K values'!AB120, IF($C$7=\"South Australia\", 'K values'!AH120, IF($C$7=\"Tasmania\", 'K values'!AN120, IF($C$7=\"Victoria\", 'K values'!AT120, IF($C$7=\"Western Australia\", 'K values'!AZ120, \"\"))))))))","v":""},{"$f":"IF($C$7=\"Australian Capital Territory\", 'K values'!K120, IF($C$7=\"New South Wales\", 'K values'!Q120, IF($C$7=\"Northern Territory\", 'K values'!W120, IF($C$7=\"Queensland\", 'K values'!AC120, IF($C$7=\"South Australia\", 'K values'!AI120, IF($C$7=\"Tasmania\", 'K values'!AO120, IF($C$7=\"Victoria\", 'K values'!AU120, IF($C$7=\"Western Australia\", 'K values'!BA120, \"\"))))))))","v":""}]
[{"$f":"IF($C$7=\"Australian Capital Territory\", 'K values'!G121, IF($C$7=\"New South Wales\", 'K values'!M121, IF($C$7=\"Northern Territory\", 'K values'!S121, IF($C$7=\"Queensland\", 'K values'!Y121, IF($C$7=\"South Australia\", 'K values'!AE121, IF($C$7=\"Tasmania\", 'K values'!AK121, IF($C$7=\"Victoria\", 'K values'!AQ121, IF($C$7=\"Western Australia\", 'K values'!AW121, \"\"))))))))","v":""},{"$f":"IF($C$7=\"Australian Capital Territory\", 'K values'!H121, IF($C$7=\"New South Wales\", 'K values'!N121, IF($C$7=\"Northern Territory\", 'K values'!T121, IF($C$7=\"Queensland\", 'K values'!Z121, IF($C$7=\"South Australia\", 'K values'!AF121, IF($C$7=\"Tasmania\", 'K values'!AL121, IF($C$7=\"Victoria\", 'K values'!AR121, IF($C$7=\"Western Australia\", 'K values'!AX121, \"\"))))))))","v":""},{"$f":"IF($C$7=\"Australian Capital Territory\", 'K values'!I121, IF($C$7=\"New South Wales\", 'K values'!O121, IF($C$7=\"Northern Territory\", 'K values'!U121, IF($C$7=\"Queensland\", 'K values'!AA121, IF($C$7=\"South Australia\", 'K values'!AG121, IF($C$7=\"Tasmania\", 'K values'!AM121, IF($C$7=\"Victoria\", 'K values'!AS121, IF($C$7=\"Western Australia\", 'K values'!AY121, \"\"))))))))","v":""},{"$f":"IF($C$7=\"Australian Capital Territory\", 'K values'!J121, IF($C$7=\"New South Wales\", 'K values'!P121, IF($C$7=\"Northern Territory\", 'K values'!V121, IF($C$7=\"Queensland\", 'K values'!AB121, IF($C$7=\"South Australia\", 'K values'!AH121, IF($C$7=\"Tasmania\", 'K values'!AN121, IF($C$7=\"Victoria\", 'K values'!AT121, IF($C$7=\"Western Australia\", 'K values'!AZ121, \"\"))))))))","v":""},{"$f":"IF($C$7=\"Australian Capital Territory\", 'K values'!K121, IF($C$7=\"New South Wales\", 'K values'!Q121, IF($C$7=\"Northern Territory\", 'K values'!W121, IF($C$7=\"Queensland\", 'K values'!AC121, IF($C$7=\"South Australia\", 'K values'!AI121, IF($C$7=\"Tasmania\", 'K values'!AO121, IF($C$7=\"Victoria\", 'K values'!AU121, IF($C$7=\"Western Australia\", 'K values'!BA121, \"\"))))))))","v":""}]
[{"$f":"IF($C$7=\"Australian Capital Territory\", 'K values'!G122, IF($C$7=\"New South Wales\", 'K values'!M122, IF($C$7=\"Northern Territory\", 'K values'!S122, IF($C$7=\"Queensland\", 'K values'!Y122, IF($C$7=\"South Australia\", 'K values'!AE122, IF($C$7=\"Tasmania\", 'K values'!AK122, IF($C$7=\"Victoria\", 'K values'!AQ122, IF($C$7=\"Western Australia\", 'K values'!AW122, \"\"))))))))","v":""},{"$f":"IF($C$7=\"Australian Capital Territory\", 'K values'!H122, IF($C$7=\"New South Wales\", 'K values'!N122, IF($C$7=\"Northern Territory\", 'K values'!T122, IF($C$7=\"Queensland\", 'K values'!Z122, IF($C$7=\"South Australia\", 'K values'!AF122, IF($C$7=\"Tasmania\", 'K values'!AL122, IF($C$7=\"Victoria\", 'K values'!AR122, IF($C$7=\"Western Australia\", 'K values'!AX122, \"\"))))))))","v":""},{"$f":"IF($C$7=\"Australian Capital Territory\", 'K values'!I122, IF($C$7=\"New South Wales\", 'K values'!O122, IF($C$7=\"Northern Territory\", 'K values'!U122, IF($C$7=\"Queensland\", 'K values'!AA122, IF($C$7=\"South Australia\", 'K values'!AG122, IF($C$7=\"Tasmania\", 'K values'!AM122, IF($C$7=\"Victoria\", 'K values'!AS122, IF($C$7=\"Western Australia\", 'K values'!AY122, \"\"))))))))","v":""},{"$f":"IF($C$7=\"Australian Capital Territory\", 'K values'!J122, IF($C$7=\"New South Wales\", 'K values'!P122, IF($C$7=\"Northern Territory\", 'K values'!V122, IF($C$7=\"Queensland\", 'K values'!AB122, IF($C$7=\"South Australia\", 'K values'!AH122, IF($C$7=\"Tasmania\", 'K values'!AN122, IF($C$7=\"Victoria\", 'K values'!AT122, IF($C$7=\"Western Australia\", 'K values'!AZ122, \"\"))))))))","v":""},{"$f":"IF($C$7=\"Australian Capital Territory\", 'K values'!K122, IF($C$7=\"New South Wales\", 'K values'!Q122, IF($C$7=\"Northern Territory\", 'K values'!W122, IF($C$7=\"Queensland\", 'K values'!AC122, IF($C$7=\"South Australia\", 'K values'!AI122, IF($C$7=\"Tasmania\", 'K values'!AO122, IF($C$7=\"Victoria\", 'K values'!AU122, IF($C$7=\"Western Australia\", 'K values'!BA122, \"\"))))))))","v":""}]
[{"$f":"IF($C$7=\"Australian Capital Territory\", 'K values'!G123, IF($C$7=\"New South Wales\", 'K values'!M123, IF($C$7=\"Northern Territory\", 'K values'!S123, IF($C$7=\"Queensland\", 'K values'!Y123, IF($C$7=\"South Australia\", 'K values'!AE123, IF($C$7=\"Tasmania\", 'K values'!AK123, IF($C$7=\"Victoria\", 'K values'!AQ123, IF($C$7=\"Western Australia\", 'K values'!AW123, \"\"))))))))","v":""},{"$f":"IF($C$7=\"Australian Capital Territory\", 'K values'!H123, IF($C$7=\"New South Wales\", 'K values'!N123, IF($C$7=\"Northern Territory\", 'K values'!T123, IF($C$7=\"Queensland\", 'K values'!Z123, IF($C$7=\"South Australia\", 'K values'!AF123, IF($C$7=\"Tasmania\", 'K values'!AL123, IF($C$7=\"Victoria\", 'K values'!AR123, IF($C$7=\"Western Australia\", 'K values'!AX123, \"\"))))))))","v":""},{"$f":"IF($C$7=\"Australian Capital Territory\", 'K values'!I123, IF($C$7=\"New South Wales\", 'K values'!O123, IF($C$7=\"Northern Territory\", 'K values'!U123, IF($C$7=\"Queensland\", 'K values'!AA123, IF($C$7=\"South Australia\", 'K values'!AG123, IF($C$7=\"Tasmania\", 'K values'!AM123, IF($C$7=\"Victoria\", 'K values'!AS123, IF($C$7=\"Western Australia\", 'K values'!AY123, \"\"))))))))","v":""},{"$f":"IF($C$7=\"Australian Capital Territory\", 'K values'!J123, IF($C$7=\"New South Wales\", 'K values'!P123, IF($C$7=\"Northern Territory\", 'K values'!V123, IF($C$7=\"Queensland\", 'K values'!AB123, IF($C$7=\"South Australia\", 'K values'!AH123, IF($C$7=\"Tasmania\", 'K values'!AN123, IF($C$7=\"Victoria\", 'K values'!AT123, IF($C$7=\"Western Australia\", 'K values'!AZ123, \"\"))))))))","v":""},{"$f":"IF($C$7=\"Australian Capital Territory\", 'K values'!K123, IF($C$7=\"New South Wales\", 'K values'!Q123, IF($C$7=\"Northern Territory\", 'K values'!W123, IF($C$7=\"Queensland\", 'K values'!AC123, IF($C$7=\"South Australia\", 'K values'!AI123, IF($C$7=\"Tasmania\", 'K values'!AO123, IF($C$7=\"Victoria\", 'K values'!AU123, IF($C$7=\"Western Australia\", 'K values'!BA123, \"\"))))))))","v":""}]
[{"$f":"IF($C$7=\"Australian Capital Territory\", 'K values'!G124, IF($C$7=\"New South Wales\", 'K values'!M124, IF($C$7=\"Northern Territory\", 'K values'!S124, IF($C$7=\"Queensland\", 'K values'!Y124, IF($C$7=\"South Australia\", 'K values'!AE124, IF($C$7=\"Tasmania\", 'K values'!AK124, IF($C$7=\"Victoria\", 'K values'!AQ124, IF($C$7=\"Western Australia\", 'K values'!AW124, \"\"))))))))","v":""},{"$f":"IF($C$7=\"Australian Capital Territory\", 'K values'!H124, IF($C$7=\"New South Wales\", 'K values'!N124, IF($C$7=\"Northern Territory\", 'K values'!T124, IF($C$7=\"Queensland\", 'K values'!Z124, IF($C$7=\"South Australia\", 'K values'!AF124, IF($C$7=\"Tasmania\", 'K values'!AL124, IF($C$7=\"Victoria\", 'K values'!AR124, IF($C$7=\"Western Australia\", 'K values'!AX124, \"\"))))))))","v":""},{"$f":"IF($C$7=\"Australian Capital Territory\", 'K values'!I124, IF($C$7=\"New South Wales\", 'K values'!O124, IF($C$7=\"Northern Territory\", 'K values'!U124, IF($C$7=\"Queensland\", 'K values'!AA124, IF($C$7=\"South Australia\", 'K values'!AG124, IF($C$7=\"Tasmania\", 'K values'!AM124, IF($C$7=\"Victoria\", 'K values'!AS124, IF($C$7=\"Western Australia\", 'K values'!AY124, \"\"))))))))","v":""},{"$f":"IF($C$7=\"Australian Capital Territory\", 'K values'!J124, IF($C$7=\"New South Wales\", 'K values'!P124, IF($C$7=\"Northern Territory\", 'K values'!V124, IF($C$7=\"Queensland\", 'K values'!AB124, IF($C$7=\"South Australia\", 'K values'!AH124, IF($C$7=\"Tasmania\", 'K values'!AN124, IF($C$7=\"Victoria\", 'K values'!AT124, IF($C$7=\"Western Australia\", 'K values'!AZ124, \"\"))))))))","v":""},{"$f":"IF($C$7=\"Australian Capital Territory\", 'K values'!K124, IF($C$7=\"New South Wales\", 'K values'!Q124, IF($C$7=\"Northern Territory\", 'K values'!W124, IF($C$7=\"Queensland\", 'K values'!AC124, IF($C$7=\"South Australia\", 'K values'!AI124, IF($C$7=\"Tasmania\", 'K values'!AO124, IF($C$7=\"Victoria\", 'K values'!AU124, IF($C$7=\"Western Australia\", 'K values'!BA124, \"\"))))))))","v":""}]
[{"$f":"IF($C$7=\"Australian Capital Territory\", 'K values'!G125, IF($C$7=\"New South Wales\", 'K values'!M125, IF($C$7=\"Northern Territory\", 'K values'!S125, IF($C$7=\"Queensland\", 'K values'!Y125, IF($C$7=\"South Australia\", 'K values'!AE125, IF($C$7=\"Tasmania\", 'K values'!AK125, IF($C$7=\"Victoria\", 'K values'!AQ125, IF($C$7=\"Western Australia\", 'K values'!AW125, \"\"))))))))","v":""},{"$f":"IF($C$7=\"Australian Capital Territory\", 'K values'!H125, IF($C$7=\"New South Wales\", 'K values'!N125, IF($C$7=\"Northern Territory\", 'K values'!T125, IF($C$7=\"Queensland\", 'K values'!Z125, IF($C$7=\"South Australia\", 'K values'!AF125, IF($C$7=\"Tasmania\", 'K values'!AL125, IF($C$7=\"Victoria\", 'K values'!AR125, IF($C$7=\"Western Australia\", 'K values'!AX125, \"\"))))))))","v":""},{"$f":"IF($C$7=\"Australian Capital Territory\", 'K values'!I125, IF($C$7=\"New South Wales\", 'K values'!O125, IF($C$7=\"Northern Territory\", 'K values'!U125, IF($C$7=\"Queensland\", 'K values'!AA125, IF($C$7=\"South Australia\", 'K values'!AG125, IF($C$7=\"Tasmania\", 'K values'!AM125, IF($C$7=\"Victoria\", 'K values'!AS125, IF($C$7=\"Western Australia\", 'K values'!AY125, \"\"))))))))","v":""},{"$f":"IF($C$7=\"Australian Capital Territory\", 'K values'!J125, IF($C$7=\"New South Wales\", 'K values'!P125, IF($C$7=\"Northern Territory\", 'K values'!V125, IF($C$7=\"Queensland\", 'K values'!AB125, IF($C$7=\"South Australia\", 'K values'!AH125, IF($C$7=\"Tasmania\", 'K values'!AN125, IF($C$7=\"Victoria\", 'K values'!AT125, IF($C$7=\"Western Australia\", 'K values'!AZ125, \"\"))))))))","v":""},{"$f":"IF($C$7=\"Australian Capital Territory\", 'K values'!K125, IF($C$7=\"New South Wales\", 'K values'!Q125, IF($C$7=\"Northern Territory\", 'K values'!W125, IF($C$7=\"Queensland\", 'K values'!AC125, IF($C$7=\"South Australia\", 'K values'!AI125, IF($C$7=\"Tasmania\", 'K values'!AO125, IF($C$7=\"Victoria\", 'K values'!AU125, IF($C$7=\"Western Australia\", 'K values'!BA125, \"\"))))))))","v":""}]
[{"$f":"IF($C$7=\"Australian Capital Territory\", 'K values'!G126, IF($C$7=\"New South Wales\", 'K values'!M126, IF($C$7=\"Northern Territory\", 'K values'!S126, IF($C$7=\"Queensland\", 'K values'!Y126, IF($C$7=\"South Australia\", 'K values'!AE126, IF($C$7=\"Tasmania\", 'K values'!AK126, IF($C$7=\"Victoria\", 'K values'!AQ126, IF($C$7=\"Western Australia\", 'K values'!AW126, \"\"))))))))","v":""},{"$f":"IF($C$7=\"Australian Capital Territory\", 'K values'!H126, IF($C$7=\"New South Wales\", 'K values'!N126, IF($C$7=\"Northern Territory\", 'K values'!T126, IF($C$7=\"Queensland\", 'K values'!Z126, IF($C$7=\"South Australia\", 'K values'!AF126, IF($C$7=\"Tasmania\", 'K values'!AL126, IF($C$7=\"Victoria\", 'K values'!AR126, IF($C$7=\"Western Australia\", 'K values'!AX126, \"\"))))))))","v":""},{"$f":"IF($C$7=\"Australian Capital Territory\", 'K values'!I126, IF($C$7=\"New South Wales\", 'K values'!O126, IF($C$7=\"Northern Territory\", 'K values'!U126, IF($C$7=\"Queensland\", 'K values'!AA126, IF($C$7=\"South Australia\", 'K values'!AG126, IF($C$7=\"Tasmania\", 'K values'!AM126, IF($C$7=\"Victoria\", 'K values'!AS126, IF($C$7=\"Western Australia\", 'K values'!AY126, \"\"))))))))","v":""},{"$f":"IF($C$7=\"Australian Capital Territory\", 'K values'!J126, IF($C$7=\"New South Wales\", 'K values'!P126, IF($C$7=\"Northern Territory\", 'K values'!V126, IF($C$7=\"Queensland\", 'K values'!AB126, IF($C$7=\"South Australia\", 'K values'!AH126, IF($C$7=\"Tasmania\", 'K values'!AN126, IF($C$7=\"Victoria\", 'K values'!AT126, IF($C$7=\"Western Australia\", 'K values'!AZ126, \"\"))))))))","v":""},{"$f":"IF($C$7=\"Australian Capital Territory\", 'K values'!K126, IF($C$7=\"New South Wales\", 'K values'!Q126, IF($C$7=\"Northern Territory\", 'K values'!W126, IF($C$7=\"Queensland\", 'K values'!AC126, IF($C$7=\"South Australia\", 'K values'!AI126, IF($C$7=\"Tasmania\", 'K values'!AO126, IF($C$7=\"Victoria\", 'K values'!AU126, IF($C$7=\"Western Australia\", 'K values'!BA126, \"\"))))))))","v":""}]
[{"$f":"IF($C$7=\"Australian Capital Territory\", 'K values'!G127, IF($C$7=\"New South Wales\", 'K values'!M127, IF($C$7=\"Northern Territory\", 'K values'!S127, IF($C$7=\"Queensland\", 'K values'!Y127, IF($C$7=\"South Australia\", 'K values'!AE127, IF($C$7=\"Tasmania\", 'K values'!AK127, IF($C$7=\"Victoria\", 'K values'!AQ127, IF($C$7=\"Western Australia\", 'K values'!AW127, \"\"))))))))","v":""},{"$f":"IF($C$7=\"Australian Capital Territory\", 'K values'!H127, IF($C$7=\"New South Wales\", 'K values'!N127, IF($C$7=\"Northern Territory\", 'K values'!T127, IF($C$7=\"Queensland\", 'K values'!Z127, IF($C$7=\"South Australia\", 'K values'!AF127, IF($C$7=\"Tasmania\", 'K values'!AL127, IF($C$7=\"Victoria\", 'K values'!AR127, IF($C$7=\"Western Australia\", 'K values'!AX127, \"\"))))))))","v":""},{"$f":"IF($C$7=\"Australian Capital Territory\", 'K values'!I127, IF($C$7=\"New South Wales\", 'K values'!O127, IF($C$7=\"Northern Territory\", 'K values'!U127, IF($C$7=\"Queensland\", 'K values'!AA127, IF($C$7=\"South Australia\", 'K values'!AG127, IF($C$7=\"Tasmania\", 'K values'!AM127, IF($C$7=\"Victoria\", 'K values'!AS127, IF($C$7=\"Western Australia\", 'K values'!AY127, \"\"))))))))","v":""},{"$f":"IF($C$7=\"Australian Capital Territory\", 'K values'!J127, IF($C$7=\"New South Wales\", 'K values'!P127, IF($C$7=\"Northern Territory\", 'K values'!V127, IF($C$7=\"Queensland\", 'K values'!AB127, IF($C$7=\"South Australia\", 'K values'!AH127, IF($C$7=\"Tasmania\", 'K values'!AN127, IF($C$7=\"Victoria\", 'K values'!AT127, IF($C$7=\"Western Australia\", 'K values'!AZ127, \"\"))))))))","v":""},{"$f":"IF($C$7=\"Australian Capital Territory\", 'K values'!K127, IF($C$7=\"New South Wales\", 'K values'!Q127, IF($C$7=\"Northern Territory\", 'K values'!W127, IF($C$7=\"Queensland\", 'K values'!AC127, IF($C$7=\"South Australia\", 'K values'!AI127, IF($C$7=\"Tasmania\", 'K values'!AO127, IF($C$7=\"Victoria\", 'K values'!AU127, IF($C$7=\"Western Australia\", 'K values'!BA127, \"\"))))))))","v":""}]
[{"$f":"IF($C$7=\"Australian Capital Territory\", 'K values'!G128, IF($C$7=\"New South Wales\", 'K values'!M128, IF($C$7=\"Northern Territory\", 'K values'!S128, IF($C$7=\"Queensland\", 'K values'!Y128, IF($C$7=\"South Australia\", 'K values'!AE128, IF($C$7=\"Tasmania\", 'K values'!AK128, IF($C$7=\"Victoria\", 'K values'!AQ128, IF($C$7=\"Western Australia\", 'K values'!AW128, \"\"))))))))","v":""},{"$f":"IF($C$7=\"Australian Capital Territory\", 'K values'!H128, IF($C$7=\"New South Wales\", 'K values'!N128, IF($C$7=\"Northern Territory\", 'K values'!T128, IF($C$7=\"Queensland\", 'K values'!Z128, IF($C$7=\"South Australia\", 'K values'!AF128, IF($C$7=\"Tasmania\", 'K values'!AL128, IF($C$7=\"Victoria\", 'K values'!AR128, IF($C$7=\"Western Australia\", 'K values'!AX128, \"\"))))))))","v":""},{"$f":"IF($C$7=\"Australian Capital Territory\", 'K values'!I128, IF($C$7=\"New South Wales\", 'K values'!O128, IF($C$7=\"Northern Territory\", 'K values'!U128, IF($C$7=\"Queensland\", 'K values'!AA128, IF($C$7=\"South Australia\", 'K values'!AG128, IF($C$7=\"Tasmania\", 'K values'!AM128, IF($C$7=\"Victoria\", 'K values'!AS128, IF($C$7=\"Western Australia\", 'K values'!AY128, \"\"))))))))","v":""},{"$f":"IF($C$7=\"Australian Capital Territory\", 'K values'!J128, IF($C$7=\"New South Wales\", 'K values'!P128, IF($C$7=\"Northern Territory\", 'K values'!V128, IF($C$7=\"Queensland\", 'K values'!AB128, IF($C$7=\"South Australia\", 'K values'!AH128, IF($C$7=\"Tasmania\", 'K values'!AN128, IF($C$7=\"Victoria\", 'K values'!AT128, IF($C$7=\"Western Australia\", 'K values'!AZ128, \"\"))))))))","v":""},{"$f":"IF($C$7=\"Australian Capital Territory\", 'K values'!K128, IF($C$7=\"New South Wales\", 'K values'!Q128, IF($C$7=\"Northern Territory\", 'K values'!W128, IF($C$7=\"Queensland\", 'K values'!AC128, IF($C$7=\"South Australia\", 'K values'!AI128, IF($C$7=\"Tasmania\", 'K values'!AO128, IF($C$7=\"Victoria\", 'K values'!AU128, IF($C$7=\"Western Australia\", 'K values'!BA128, \"\"))))))))","v":""}]
[{"$f":"IF($C$7=\"Australian Capital Territory\", 'K values'!G129, IF($C$7=\"New South Wales\", 'K values'!M129, IF($C$7=\"Northern Territory\", 'K values'!S129, IF($C$7=\"Queensland\", 'K values'!Y129, IF($C$7=\"South Australia\", 'K values'!AE129, IF($C$7=\"Tasmania\", 'K values'!AK129, IF($C$7=\"Victoria\", 'K values'!AQ129, IF($C$7=\"Western Australia\", 'K values'!AW129, \"\"))))))))","v":""},{"$f":"IF($C$7=\"Australian Capital Territory\", 'K values'!H129, IF($C$7=\"New South Wales\", 'K values'!N129, IF($C$7=\"Northern Territory\", 'K values'!T129, IF($C$7=\"Queensland\", 'K values'!Z129, IF($C$7=\"South Australia\", 'K values'!AF129, IF($C$7=\"Tasmania\", 'K values'!AL129, IF($C$7=\"Victoria\", 'K values'!AR129, IF($C$7=\"Western Australia\", 'K values'!AX129, \"\"))))))))","v":""},{"$f":"IF($C$7=\"Australian Capital Territory\", 'K values'!I129, IF($C$7=\"New South Wales\", 'K values'!O129, IF($C$7=\"Northern Territory\", 'K values'!U129, IF($C$7=\"Queensland\", 'K values'!AA129, IF($C$7=\"South Australia\", 'K values'!AG129, IF($C$7=\"Tasmania\", 'K values'!AM129, IF($C$7=\"Victoria\", 'K values'!AS129, IF($C$7=\"Western Australia\", 'K values'!AY129, \"\"))))))))","v":""},{"$f":"IF($C$7=\"Australian Capital Territory\", 'K values'!J129, IF($C$7=\"New South Wales\", 'K values'!P129, IF($C$7=\"Northern Territory\", 'K values'!V129, IF($C$7=\"Queensland\", 'K values'!AB129, IF($C$7=\"South Australia\", 'K values'!AH129, IF($C$7=\"Tasmania\", 'K values'!AN129, IF($C$7=\"Victoria\", 'K values'!AT129, IF($C$7=\"Western Australia\", 'K values'!AZ129, \"\"))))))))","v":""},{"$f":"IF($C$7=\"Australian Capital Territory\", 'K values'!K129, IF($C$7=\"New South Wales\", 'K values'!Q129, IF($C$7=\"Northern Territory\", 'K values'!W129, IF($C$7=\"Queensland\", 'K values'!AC129, IF($C$7=\"South Australia\", 'K values'!AI129, IF($C$7=\"Tasmania\", 'K values'!AO129, IF($C$7=\"Victoria\", 'K values'!AU129, IF($C$7=\"Western Australia\", 'K values'!BA129, \"\"))))))))","v":""}]
[{"$f":"IF($C$7=\"Australian Capital Territory\", 'K values'!G130, IF($C$7=\"New South Wales\", 'K values'!M130, IF($C$7=\"Northern Territory\", 'K values'!S130, IF($C$7=\"Queensland\", 'K values'!Y130, IF($C$7=\"South Australia\", 'K values'!AE130, IF($C$7=\"Tasmania\", 'K values'!AK130, IF($C$7=\"Victoria\", 'K values'!AQ130, IF($C$7=\"Western Australia\", 'K values'!AW130, \"\"))))))))","v":""},{"$f":"IF($C$7=\"Australian Capital Territory\", 'K values'!H130, IF($C$7=\"New South Wales\", 'K values'!N130, IF($C$7=\"Northern Territory\", 'K values'!T130, IF($C$7=\"Queensland\", 'K values'!Z130, IF($C$7=\"South Australia\", 'K values'!AF130, IF($C$7=\"Tasmania\", 'K values'!AL130, IF($C$7=\"Victoria\", 'K values'!AR130, IF($C$7=\"Western Australia\", 'K values'!AX130, \"\"))))))))","v":""},{"$f":"IF($C$7=\"Australian Capital Territory\", 'K values'!I130, IF($C$7=\"New South Wales\", 'K values'!O130, IF($C$7=\"Northern Territory\", 'K values'!U130, IF($C$7=\"Queensland\", 'K values'!AA130, IF($C$7=\"South Australia\", 'K values'!AG130, IF($C$7=\"Tasmania\", 'K values'!AM130, IF($C$7=\"Victoria\", 'K values'!AS130, IF($C$7=\"Western Australia\", 'K values'!AY130, \"\"))))))))","v":""},{"$f":"IF($C$7=\"Australian Capital Territory\", 'K values'!J130, IF($C$7=\"New South Wales\", 'K values'!P130, IF($C$7=\"Northern Territory\", 'K values'!V130, IF($C$7=\"Queensland\", 'K values'!AB130, IF($C$7=\"South Australia\", 'K values'!AH130, IF($C$7=\"Tasmania\", 'K values'!AN130, IF($C$7=\"Victoria\", 'K values'!AT130, IF($C$7=\"Western Australia\", 'K values'!AZ130, \"\"))))))))","v":""},{"$f":"IF($C$7=\"Australian Capital Territory\", 'K values'!K130, IF($C$7=\"New South Wales\", 'K values'!Q130, IF($C$7=\"Northern Territory\", 'K values'!W130, IF($C$7=\"Queensland\", 'K values'!AC130, IF($C$7=\"South Australia\", 'K values'!AI130, IF($C$7=\"Tasmania\", 'K values'!AO130, IF($C$7=\"Victoria\", 'K values'!AU130, IF($C$7=\"Western Australia\", 'K values'!BA130, \"\"))))))))","v":""}]
[{"$f":"IF($C$7=\"Australian Capital Territory\", 'K values'!G131, IF($C$7=\"New South Wales\", 'K values'!M131, IF($C$7=\"Northern Territory\", 'K values'!S131, IF($C$7=\"Queensland\", 'K values'!Y131, IF($C$7=\"South Australia\", 'K values'!AE131, IF($C$7=\"Tasmania\", 'K values'!AK131, IF($C$7=\"Victoria\", 'K values'!AQ131, IF($C$7=\"Western Australia\", 'K values'!AW131, \"\"))))))))","v":""},{"$f":"IF($C$7=\"Australian Capital Territory\", 'K values'!H131, IF($C$7=\"New South Wales\", 'K values'!N131, IF($C$7=\"Northern Territory\", 'K values'!T131, IF($C$7=\"Queensland\", 'K values'!Z131, IF($C$7=\"South Australia\", 'K values'!AF131, IF($C$7=\"Tasmania\", 'K values'!AL131, IF($C$7=\"Victoria\", 'K values'!AR131, IF($C$7=\"Western Australia\", 'K values'!AX131, \"\"))))))))","v":""},{"$f":"IF($C$7=\"Australian Capital Territory\", 'K values'!I131, IF($C$7=\"New South Wales\", 'K values'!O131, IF($C$7=\"Northern Territory\", 'K values'!U131, IF($C$7=\"Queensland\", 'K values'!AA131, IF($C$7=\"South Australia\", 'K values'!AG131, IF($C$7=\"Tasmania\", 'K values'!AM131, IF($C$7=\"Victoria\", 'K values'!AS131, IF($C$7=\"Western Australia\", 'K values'!AY131, \"\"))))))))","v":""},{"$f":"IF($C$7=\"Australian Capital Territory\", 'K values'!J131, IF($C$7=\"New South Wales\", 'K values'!P131, IF($C$7=\"Northern Territory\", 'K values'!V131, IF($C$7=\"Queensland\", 'K values'!AB131, IF($C$7=\"South Australia\", 'K values'!AH131, IF($C$7=\"Tasmania\", 'K values'!AN131, IF($C$7=\"Victoria\", 'K values'!AT131, IF($C$7=\"Western Australia\", 'K values'!AZ131, \"\"))))))))","v":""},{"$f":"IF($C$7=\"Australian Capital Territory\", 'K values'!K131, IF($C$7=\"New South Wales\", 'K values'!Q131, IF($C$7=\"Northern Territory\", 'K values'!W131, IF($C$7=\"Queensland\", 'K values'!AC131, IF($C$7=\"South Australia\", 'K values'!AI131, IF($C$7=\"Tasmania\", 'K values'!AO131, IF($C$7=\"Victoria\", 'K values'!AU131, IF($C$7=\"Western Australia\", 'K values'!BA131, \"\"))))))))","v":""}]
[{"$f":"IF($C$7=\"Australian Capital Territory\", 'K values'!G132, IF($C$7=\"New South Wales\", 'K values'!M132, IF($C$7=\"Northern Territory\", 'K values'!S132, IF($C$7=\"Queensland\", 'K values'!Y132, IF($C$7=\"South Australia\", 'K values'!AE132, IF($C$7=\"Tasmania\", 'K values'!AK132, IF($C$7=\"Victoria\", 'K values'!AQ132, IF($C$7=\"Western Australia\", 'K values'!AW132, \"\"))))))))","v":""},{"$f":"IF($C$7=\"Australian Capital Territory\", 'K values'!H132, IF($C$7=\"New South Wales\", 'K values'!N132, IF($C$7=\"Northern Territory\", 'K values'!T132, IF($C$7=\"Queensland\", 'K values'!Z132, IF($C$7=\"South Australia\", 'K values'!AF132, IF($C$7=\"Tasmania\", 'K values'!AL132, IF($C$7=\"Victoria\", 'K values'!AR132, IF($C$7=\"Western Australia\", 'K values'!AX132, \"\"))))))))","v":""},{"$f":"IF($C$7=\"Australian Capital Territory\", 'K values'!I132, IF($C$7=\"New South Wales\", 'K values'!O132, IF($C$7=\"Northern Territory\", 'K values'!U132, IF($C$7=\"Queensland\", 'K values'!AA132, IF($C$7=\"South Australia\", 'K values'!AG132, IF($C$7=\"Tasmania\", 'K values'!AM132, IF($C$7=\"Victoria\", 'K values'!AS132, IF($C$7=\"Western Australia\", 'K values'!AY132, \"\"))))))))","v":""},{"$f":"IF($C$7=\"Australian Capital Territory\", 'K values'!J132, IF($C$7=\"New South Wales\", 'K values'!P132, IF($C$7=\"Northern Territory\", 'K values'!V132, IF($C$7=\"Queensland\", 'K values'!AB132, IF($C$7=\"South Australia\", 'K values'!AH132, IF($C$7=\"Tasmania\", 'K values'!AN132, IF($C$7=\"Victoria\", 'K values'!AT132, IF($C$7=\"Western Australia\", 'K values'!AZ132, \"\"))))))))","v":""},{"$f":"IF($C$7=\"Australian Capital Territory\", 'K values'!K132, IF($C$7=\"New South Wales\", 'K values'!Q132, IF($C$7=\"Northern Territory\", 'K values'!W132, IF($C$7=\"Queensland\", 'K values'!AC132, IF($C$7=\"South Australia\", 'K values'!AI132, IF($C$7=\"Tasmania\", 'K values'!AO132, IF($C$7=\"Victoria\", 'K values'!AU132, IF($C$7=\"Western Australia\", 'K values'!BA132, \"\"))))))))","v":""}]
[{"$f":"IF($C$7=\"Australian Capital Territory\", 'K values'!G133, IF($C$7=\"New South Wales\", 'K values'!M133, IF($C$7=\"Northern Territory\", 'K values'!S133, IF($C$7=\"Queensland\", 'K values'!Y133, IF($C$7=\"South Australia\", 'K values'!AE133, IF($C$7=\"Tasmania\", 'K values'!AK133, IF($C$7=\"Victoria\", 'K values'!AQ133, IF($C$7=\"Western Australia\", 'K values'!AW133, \"\"))))))))","v":""},{"$f":"IF($C$7=\"Australian Capital Territory\", 'K values'!H133, IF($C$7=\"New South Wales\", 'K values'!N133, IF($C$7=\"Northern Territory\", 'K values'!T133, IF($C$7=\"Queensland\", 'K values'!Z133, IF($C$7=\"South Australia\", 'K values'!AF133, IF($C$7=\"Tasmania\", 'K values'!AL133, IF($C$7=\"Victoria\", 'K values'!AR133, IF($C$7=\"Western Australia\", 'K values'!AX133, \"\"))))))))","v":""},{"$f":"IF($C$7=\"Australian Capital Territory\", 'K values'!I133, IF($C$7=\"New South Wales\", 'K values'!O133, IF($C$7=\"Northern Territory\", 'K values'!U133, IF($C$7=\"Queensland\", 'K values'!AA133, IF($C$7=\"South Australia\", 'K values'!AG133, IF($C$7=\"Tasmania\", 'K values'!AM133, IF($C$7=\"Victoria\", 'K values'!AS133, IF($C$7=\"Western Australia\", 'K values'!AY133, \"\"))))))))","v":""},{"$f":"IF($C$7=\"Australian Capital Territory\", 'K values'!J133, IF($C$7=\"New South Wales\", 'K values'!P133, IF($C$7=\"Northern Territory\", 'K values'!V133, IF($C$7=\"Queensland\", 'K values'!AB133, IF($C$7=\"South Australia\", 'K values'!AH133, IF($C$7=\"Tasmania\", 'K values'!AN133, IF($C$7=\"Victoria\", 'K values'!AT133, IF($C$7=\"Western Australia\", 'K values'!AZ133, \"\"))))))))","v":""},{"$f":"IF($C$7=\"Australian Capital Territory\", 'K values'!K133, IF($C$7=\"New South Wales\", 'K values'!Q133, IF($C$7=\"Northern Territory\", 'K values'!W133, IF($C$7=\"Queensland\", 'K values'!AC133, IF($C$7=\"South Australia\", 'K values'!AI133, IF($C$7=\"Tasmania\", 'K values'!AO133, IF($C$7=\"Victoria\", 'K values'!AU133, IF($C$7=\"Western Australia\", 'K values'!BA133, \"\"))))))))","v":""}]
[{"$f":"IF($C$7=\"Australian Capital Territory\", 'K values'!G134, IF($C$7=\"New South Wales\", 'K values'!M134, IF($C$7=\"Northern Territory\", 'K values'!S134, IF($C$7=\"Queensland\", 'K values'!Y134, IF($C$7=\"South Australia\", 'K values'!AE134, IF($C$7=\"Tasmania\", 'K values'!AK134, IF($C$7=\"Victoria\", 'K values'!AQ134, IF($C$7=\"Western Australia\", 'K values'!AW134, \"\"))))))))","v":""},{"$f":"IF($C$7=\"Australian Capital Territory\", 'K values'!H134, IF($C$7=\"New South Wales\", 'K values'!N134, IF($C$7=\"Northern Territory\", 'K values'!T134, IF($C$7=\"Queensland\", 'K values'!Z134, IF($C$7=\"South Australia\", 'K values'!AF134, IF($C$7=\"Tasmania\", 'K values'!AL134, IF($C$7=\"Victoria\", 'K values'!AR134, IF($C$7=\"Western Australia\", 'K values'!AX134, \"\"))))))))","v":""},{"$f":"IF($C$7=\"Australian Capital Territory\", 'K values'!I134, IF($C$7=\"New South Wales\", 'K values'!O134, IF($C$7=\"Northern Territory\", 'K values'!U134, IF($C$7=\"Queensland\", 'K values'!AA134, IF($C$7=\"South Australia\", 'K values'!AG134, IF($C$7=\"Tasmania\", 'K values'!AM134, IF($C$7=\"Victoria\", 'K values'!AS134, IF($C$7=\"Western Australia\", 'K values'!AY134, \"\"))))))))","v":""},{"$f":"IF($C$7=\"Australian Capital Territory\", 'K values'!J134, IF($C$7=\"New South Wales\", 'K values'!P134, IF($C$7=\"Northern Territory\", 'K values'!V134, IF($C$7=\"Queensland\", 'K values'!AB134, IF($C$7=\"South Australia\", 'K values'!AH134, IF($C$7=\"Tasmania\", 'K values'!AN134, IF($C$7=\"Victoria\", 'K values'!AT134, IF($C$7=\"Western Australia\", 'K values'!AZ134, \"\"))))))))","v":""},{"$f":"IF($C$7=\"Australian Capital Territory\", 'K values'!K134, IF($C$7=\"New South Wales\", 'K values'!Q134, IF($C$7=\"Northern Territory\", 'K values'!W134, IF($C$7=\"Queensland\", 'K values'!AC134, IF($C$7=\"South Australia\", 'K values'!AI134, IF($C$7=\"Tasmania\", 'K values'!AO134, IF($C$7=\"Victoria\", 'K values'!AU134, IF($C$7=\"Western Australia\", 'K values'!BA134, \"\"))))))))","v":""}]
[{"$f":"IF($C$7=\"Australian Capital Territory\", 'K values'!G135, IF($C$7=\"New South Wales\", 'K values'!M135, IF($C$7=\"Northern Territory\", 'K values'!S135, IF($C$7=\"Queensland\", 'K values'!Y135, IF($C$7=\"South Australia\", 'K values'!AE135, IF($C$7=\"Tasmania\", 'K values'!AK135, IF($C$7=\"Victoria\", 'K values'!AQ135, IF($C$7=\"Western Australia\", 'K values'!AW135, \"\"))))))))","v":""},{"$f":"IF($C$7=\"Australian Capital Territory\", 'K values'!H135, IF($C$7=\"New South Wales\", 'K values'!N135, IF($C$7=\"Northern Territory\", 'K values'!T135, IF($C$7=\"Queensland\", 'K values'!Z135, IF($C$7=\"South Australia\", 'K values'!AF135, IF($C$7=\"Tasmania\", 'K values'!AL135, IF($C$7=\"Victoria\", 'K values'!AR135, IF($C$7=\"Western Australia\", 'K values'!AX135, \"\"))))))))","v":""},{"$f":"IF($C$7=\"Australian Capital Territory\", 'K values'!I135, IF($C$7=\"New South Wales\", 'K values'!O135, IF($C$7=\"Northern Territory\", 'K values'!U135, IF($C$7=\"Queensland\", 'K values'!AA135, IF($C$7=\"South Australia\", 'K values'!AG135, IF($C$7=\"Tasmania\", 'K values'!AM135, IF($C$7=\"Victoria\", 'K values'!AS135, IF($C$7=\"Western Australia\", 'K values'!AY135, \"\"))))))))","v":""},{"$f":"IF($C$7=\"Australian Capital Territory\", 'K values'!J135, IF($C$7=\"New South Wales\", 'K values'!P135, IF($C$7=\"Northern Territory\", 'K values'!V135, IF($C$7=\"Queensland\", 'K values'!AB135, IF($C$7=\"South Australia\", 'K values'!AH135, IF($C$7=\"Tasmania\", 'K values'!AN135, IF($C$7=\"Victoria\", 'K values'!AT135, IF($C$7=\"Western Australia\", 'K values'!AZ135, \"\"))))))))","v":""},{"$f":"IF($C$7=\"Australian Capital Territory\", 'K values'!K135, IF($C$7=\"New South Wales\", 'K values'!Q135, IF($C$7=\"Northern Territory\", 'K values'!W135, IF($C$7=\"Queensland\", 'K values'!AC135, IF($C$7=\"South Australia\", 'K values'!AI135, IF($C$7=\"Tasmania\", 'K values'!AO135, IF($C$7=\"Victoria\", 'K values'!AU135, IF($C$7=\"Western Australia\", 'K values'!BA135, \"\"))))))))","v":""}]
[{"$f":"IF($C$7=\"Australian Capital Territory\", 'K values'!G136, IF($C$7=\"New South Wales\", 'K values'!M136, IF($C$7=\"Northern Territory\", 'K values'!S136, IF($C$7=\"Queensland\", 'K values'!Y136, IF($C$7=\"South Australia\", 'K values'!AE136, IF($C$7=\"Tasmania\", 'K values'!AK136, IF($C$7=\"Victoria\", 'K values'!AQ136, IF($C$7=\"Western Australia\", 'K values'!AW136, \"\"))))))))","v":""},{"$f":"IF($C$7=\"Australian Capital Territory\", 'K values'!H136, IF($C$7=\"New South Wales\", 'K values'!N136, IF($C$7=\"Northern Territory\", 'K values'!T136, IF($C$7=\"Queensland\", 'K values'!Z136, IF($C$7=\"South Australia\", 'K values'!AF136, IF($C$7=\"Tasmania\", 'K values'!AL136, IF($C$7=\"Victoria\", 'K values'!AR136, IF($C$7=\"Western Australia\", 'K values'!AX136, \"\"))))))))","v":""},{"$f":"IF($C$7=\"Australian Capital Territory\", 'K values'!I136, IF($C$7=\"New South Wales\", 'K values'!O136, IF($C$7=\"Northern Territory\", 'K values'!U136, IF($C$7=\"Queensland\", 'K values'!AA136, IF($C$7=\"South Australia\", 'K values'!AG136, IF($C$7=\"Tasmania\", 'K values'!AM136, IF($C$7=\"Victoria\", 'K values'!AS136, IF($C$7=\"Western Australia\", 'K values'!AY136, \"\"))))))))","v":""},{"$f":"IF($C$7=\"Australian Capital Territory\", 'K values'!J136, IF($C$7=\"New South Wales\", 'K values'!P136, IF($C$7=\"Northern Territory\", 'K values'!V136, IF($C$7=\"Queensland\", 'K values'!AB136, IF($C$7=\"South Australia\", 'K values'!AH136, IF($C$7=\"Tasmania\", 'K values'!AN136, IF($C$7=\"Victoria\", 'K values'!AT136, IF($C$7=\"Western Australia\", 'K values'!AZ136, \"\"))))))))","v":""},{"$f":"IF($C$7=\"Australian Capital Territory\", 'K values'!K136, IF($C$7=\"New South Wales\", 'K values'!Q136, IF($C$7=\"Northern Territory\", 'K values'!W136, IF($C$7=\"Queensland\", 'K values'!AC136, IF($C$7=\"South Australia\", 'K values'!AI136, IF($C$7=\"Tasmania\", 'K values'!AO136, IF($C$7=\"Victoria\", 'K values'!AU136, IF($C$7=\"Western Australia\", 'K values'!BA136, \"\"))))))))","v":""}]
[{"$f":"IF($C$7=\"Australian Capital Territory\", 'K values'!G137, IF($C$7=\"New South Wales\", 'K values'!M137, IF($C$7=\"Northern Territory\", 'K values'!S137, IF($C$7=\"Queensland\", 'K values'!Y137, IF($C$7=\"South Australia\", 'K values'!AE137, IF($C$7=\"Tasmania\", 'K values'!AK137, IF($C$7=\"Victoria\", 'K values'!AQ137, IF($C$7=\"Western Australia\", 'K values'!AW137, \"\"))))))))","v":""},{"$f":"IF($C$7=\"Australian Capital Territory\", 'K values'!H137, IF($C$7=\"New South Wales\", 'K values'!N137, IF($C$7=\"Northern Territory\", 'K values'!T137, IF($C$7=\"Queensland\", 'K values'!Z137, IF($C$7=\"South Australia\", 'K values'!AF137, IF($C$7=\"Tasmania\", 'K values'!AL137, IF($C$7=\"Victoria\", 'K values'!AR137, IF($C$7=\"Western Australia\", 'K values'!AX137, \"\"))))))))","v":""},{"$f":"IF($C$7=\"Australian Capital Territory\", 'K values'!I137, IF($C$7=\"New South Wales\", 'K values'!O137, IF($C$7=\"Northern Territory\", 'K values'!U137, IF($C$7=\"Queensland\", 'K values'!AA137, IF($C$7=\"South Australia\", 'K values'!AG137, IF($C$7=\"Tasmania\", 'K values'!AM137, IF($C$7=\"Victoria\", 'K values'!AS137, IF($C$7=\"Western Australia\", 'K values'!AY137, \"\"))))))))","v":""},{"$f":"IF($C$7=\"Australian Capital Territory\", 'K values'!J137, IF($C$7=\"New South Wales\", 'K values'!P137, IF($C$7=\"Northern Territory\", 'K values'!V137, IF($C$7=\"Queensland\", 'K values'!AB137, IF($C$7=\"South Australia\", 'K values'!AH137, IF($C$7=\"Tasmania\", 'K values'!AN137, IF($C$7=\"Victoria\", 'K values'!AT137, IF($C$7=\"Western Australia\", 'K values'!AZ137, \"\"))))))))","v":""},{"$f":"IF($C$7=\"Australian Capital Territory\", 'K values'!K137, IF($C$7=\"New South Wales\", 'K values'!Q137, IF($C$7=\"Northern Territory\", 'K values'!W137, IF($C$7=\"Queensland\", 'K values'!AC137, IF($C$7=\"South Australia\", 'K values'!AI137, IF($C$7=\"Tasmania\", 'K values'!AO137, IF($C$7=\"Victoria\", 'K values'!AU137, IF($C$7=\"Western Australia\", 'K values'!BA137, \"\"))))))))","v":""}]
[{"$f":"IF($C$7=\"Australian Capital Territory\", 'K values'!G138, IF($C$7=\"New South Wales\", 'K values'!M138, IF($C$7=\"Northern Territory\", 'K values'!S138, IF($C$7=\"Queensland\", 'K values'!Y138, IF($C$7=\"South Australia\", 'K values'!AE138, IF($C$7=\"Tasmania\", 'K values'!AK138, IF($C$7=\"Victoria\", 'K values'!AQ138, IF($C$7=\"Western Australia\", 'K values'!AW138, \"\"))))))))","v":""},{"$f":"IF($C$7=\"Australian Capital Territory\", 'K values'!H138, IF($C$7=\"New South Wales\", 'K values'!N138, IF($C$7=\"Northern Territory\", 'K values'!T138, IF($C$7=\"Queensland\", 'K values'!Z138, IF($C$7=\"South Australia\", 'K values'!AF138, IF($C$7=\"Tasmania\", 'K values'!AL138, IF($C$7=\"Victoria\", 'K values'!AR138, IF($C$7=\"Western Australia\", 'K values'!AX138, \"\"))))))))","v":""},{"$f":"IF($C$7=\"Australian Capital Territory\", 'K values'!I138, IF($C$7=\"New South Wales\", 'K values'!O138, IF($C$7=\"Northern Territory\", 'K values'!U138, IF($C$7=\"Queensland\", 'K values'!AA138, IF($C$7=\"South Australia\", 'K values'!AG138, IF($C$7=\"Tasmania\", 'K values'!AM138, IF($C$7=\"Victoria\", 'K values'!AS138, IF($C$7=\"Western Australia\", 'K values'!AY138, \"\"))))))))","v":""},{"$f":"IF($C$7=\"Australian Capital Territory\", 'K values'!J138, IF($C$7=\"New South Wales\", 'K values'!P138, IF($C$7=\"Northern Territory\", 'K values'!V138, IF($C$7=\"Queensland\", 'K values'!AB138, IF($C$7=\"South Australia\", 'K values'!AH138, IF($C$7=\"Tasmania\", 'K values'!AN138, IF($C$7=\"Victoria\", 'K values'!AT138, IF($C$7=\"Western Australia\", 'K values'!AZ138, \"\"))))))))","v":""},{"$f":"IF($C$7=\"Australian Capital Territory\", 'K values'!K138, IF($C$7=\"New South Wales\", 'K values'!Q138, IF($C$7=\"Northern Territory\", 'K values'!W138, IF($C$7=\"Queensland\", 'K values'!AC138, IF($C$7=\"South Australia\", 'K values'!AI138, IF($C$7=\"Tasmania\", 'K values'!AO138, IF($C$7=\"Victoria\", 'K values'!AU138, IF($C$7=\"Western Australia\", 'K values'!BA138, \"\"))))))))","v":""}]
[{"$f":"IF($C$7=\"Australian Capital Territory\", 'K values'!G139, IF($C$7=\"New South Wales\", 'K values'!M139, IF($C$7=\"Northern Territory\", 'K values'!S139, IF($C$7=\"Queensland\", 'K values'!Y139, IF($C$7=\"South Australia\", 'K values'!AE139, IF($C$7=\"Tasmania\", 'K values'!AK139, IF($C$7=\"Victoria\", 'K values'!AQ139, IF($C$7=\"Western Australia\", 'K values'!AW139, \"\"))))))))","v":""},{"$f":"IF($C$7=\"Australian Capital Territory\", 'K values'!H139, IF($C$7=\"New South Wales\", 'K values'!N139, IF($C$7=\"Northern Territory\", 'K values'!T139, IF($C$7=\"Queensland\", 'K values'!Z139, IF($C$7=\"South Australia\", 'K values'!AF139, IF($C$7=\"Tasmania\", 'K values'!AL139, IF($C$7=\"Victoria\", 'K values'!AR139, IF($C$7=\"Western Australia\", 'K values'!AX139, \"\"))))))))","v":""},{"$f":"IF($C$7=\"Australian Capital Territory\", 'K values'!I139, IF($C$7=\"New South Wales\", 'K values'!O139, IF($C$7=\"Northern Territory\", 'K values'!U139, IF($C$7=\"Queensland\", 'K values'!AA139, IF($C$7=\"South Australia\", 'K values'!AG139, IF($C$7=\"Tasmania\", 'K values'!AM139, IF($C$7=\"Victoria\", 'K values'!AS139, IF($C$7=\"Western Australia\", 'K values'!AY139, \"\"))))))))","v":""},{"$f":"IF($C$7=\"Australian Capital Territory\", 'K values'!J139, IF($C$7=\"New South Wales\", 'K values'!P139, IF($C$7=\"Northern Territory\", 'K values'!V139, IF($C$7=\"Queensland\", 'K values'!AB139, IF($C$7=\"South Australia\", 'K values'!AH139, IF($C$7=\"Tasmania\", 'K values'!AN139, IF($C$7=\"Victoria\", 'K values'!AT139, IF($C$7=\"Western Australia\", 'K values'!AZ139, \"\"))))))))","v":""},{"$f":"IF($C$7=\"Australian Capital Territory\", 'K values'!K139, IF($C$7=\"New South Wales\", 'K values'!Q139, IF($C$7=\"Northern Territory\", 'K values'!W139, IF($C$7=\"Queensland\", 'K values'!AC139, IF($C$7=\"South Australia\", 'K values'!AI139, IF($C$7=\"Tasmania\", 'K values'!AO139, IF($C$7=\"Victoria\", 'K values'!AU139, IF($C$7=\"Western Australia\", 'K values'!BA139, \"\"))))))))","v":""}]
[{"$f":"IF($C$7=\"Australian Capital Territory\", 'K values'!G140, IF($C$7=\"New South Wales\", 'K values'!M140, IF($C$7=\"Northern Territory\", 'K values'!S140, IF($C$7=\"Queensland\", 'K values'!Y140, IF($C$7=\"South Australia\", 'K values'!AE140, IF($C$7=\"Tasmania\", 'K values'!AK140, IF($C$7=\"Victoria\", 'K values'!AQ140, IF($C$7=\"Western Australia\", 'K values'!AW140, \"\"))))))))","v":""},{"$f":"IF($C$7=\"Australian Capital Territory\", 'K values'!H140, IF($C$7=\"New South Wales\", 'K values'!N140, IF($C$7=\"Northern Territory\", 'K values'!T140, IF($C$7=\"Queensland\", 'K values'!Z140, IF($C$7=\"South Australia\", 'K values'!AF140, IF($C$7=\"Tasmania\", 'K values'!AL140, IF($C$7=\"Victoria\", 'K values'!AR140, IF($C$7=\"Western Australia\", 'K values'!AX140, \"\"))))))))","v":""},{"$f":"IF($C$7=\"Australian Capital Territory\", 'K values'!I140, IF($C$7=\"New South Wales\", 'K values'!O140, IF($C$7=\"Northern Territory\", 'K values'!U140, IF($C$7=\"Queensland\", 'K values'!AA140, IF($C$7=\"South Australia\", 'K values'!AG140, IF($C$7=\"Tasmania\", 'K values'!AM140, IF($C$7=\"Victoria\", 'K values'!AS140, IF($C$7=\"Western Australia\", 'K values'!AY140, \"\"))))))))","v":""},{"$f":"IF($C$7=\"Australian Capital Territory\", 'K values'!J140, IF($C$7=\"New South Wales\", 'K values'!P140, IF($C$7=\"Northern Territory\", 'K values'!V140, IF($C$7=\"Queensland\", 'K values'!AB140, IF($C$7=\"South Australia\", 'K values'!AH140, IF($C$7=\"Tasmania\", 'K values'!AN140, IF($C$7=\"Victoria\", 'K values'!AT140, IF($C$7=\"Western Australia\", 'K values'!AZ140, \"\"))))))))","v":""},{"$f":"IF($C$7=\"Australian Capital Territory\", 'K values'!K140, IF($C$7=\"New South Wales\", 'K values'!Q140, IF($C$7=\"Northern Territory\", 'K values'!W140, IF($C$7=\"Queensland\", 'K values'!AC140, IF($C$7=\"South Australia\", 'K values'!AI140, IF($C$7=\"Tasmania\", 'K values'!AO140, IF($C$7=\"Victoria\", 'K values'!AU140, IF($C$7=\"Western Australia\", 'K values'!BA140, \"\"))))))))","v":""}]
[{"$f":"IF($C$7=\"Australian Capital Territory\", 'K values'!G141, IF($C$7=\"New South Wales\", 'K values'!M141, IF($C$7=\"Northern Territory\", 'K values'!S141, IF($C$7=\"Queensland\", 'K values'!Y141, IF($C$7=\"South Australia\", 'K values'!AE141, IF($C$7=\"Tasmania\", 'K values'!AK141, IF($C$7=\"Victoria\", 'K values'!AQ141, IF($C$7=\"Western Australia\", 'K values'!AW141, \"\"))))))))","v":""},{"$f":"IF($C$7=\"Australian Capital Territory\", 'K values'!H141, IF($C$7=\"New South Wales\", 'K values'!N141, IF($C$7=\"Northern Territory\", 'K values'!T141, IF($C$7=\"Queensland\", 'K values'!Z141, IF($C$7=\"South Australia\", 'K values'!AF141, IF($C$7=\"Tasmania\", 'K values'!AL141, IF($C$7=\"Victoria\", 'K values'!AR141, IF($C$7=\"Western Australia\", 'K values'!AX141, \"\"))))))))","v":""},{"$f":"IF($C$7=\"Australian Capital Territory\", 'K values'!I141, IF($C$7=\"New South Wales\", 'K values'!O141, IF($C$7=\"Northern Territory\", 'K values'!U141, IF($C$7=\"Queensland\", 'K values'!AA141, IF($C$7=\"South Australia\", 'K values'!AG141, IF($C$7=\"Tasmania\", 'K values'!AM141, IF($C$7=\"Victoria\", 'K values'!AS141, IF($C$7=\"Western Australia\", 'K values'!AY141, \"\"))))))))","v":""},{"$f":"IF($C$7=\"Australian Capital Territory\", 'K values'!J141, IF($C$7=\"New South Wales\", 'K values'!P141, IF($C$7=\"Northern Territory\", 'K values'!V141, IF($C$7=\"Queensland\", 'K values'!AB141, IF($C$7=\"South Australia\", 'K values'!AH141, IF($C$7=\"Tasmania\", 'K values'!AN141, IF($C$7=\"Victoria\", 'K values'!AT141, IF($C$7=\"Western Australia\", 'K values'!AZ141, \"\"))))))))","v":""},{"$f":"IF($C$7=\"Australian Capital Territory\", 'K values'!K141, IF($C$7=\"New South Wales\", 'K values'!Q141, IF($C$7=\"Northern Territory\", 'K values'!W141, IF($C$7=\"Queensland\", 'K values'!AC141, IF($C$7=\"South Australia\", 'K values'!AI141, IF($C$7=\"Tasmania\", 'K values'!AO141, IF($C$7=\"Victoria\", 'K values'!AU141, IF($C$7=\"Western Australia\", 'K values'!BA141, \"\"))))))))","v":""}]
[{"$f":"IF($C$7=\"Australian Capital Territory\", 'K values'!G142, IF($C$7=\"New South Wales\", 'K values'!M142, IF($C$7=\"Northern Territory\", 'K values'!S142, IF($C$7=\"Queensland\", 'K values'!Y142, IF($C$7=\"South Australia\", 'K values'!AE142, IF($C$7=\"Tasmania\", 'K values'!AK142, IF($C$7=\"Victoria\", 'K values'!AQ142, IF($C$7=\"Western Australia\", 'K values'!AW142, \"\"))))))))","v":""},{"$f":"IF($C$7=\"Australian Capital Territory\", 'K values'!H142, IF($C$7=\"New South Wales\", 'K values'!N142, IF($C$7=\"Northern Territory\", 'K values'!T142, IF($C$7=\"Queensland\", 'K values'!Z142, IF($C$7=\"South Australia\", 'K values'!AF142, IF($C$7=\"Tasmania\", 'K values'!AL142, IF($C$7=\"Victoria\", 'K values'!AR142, IF($C$7=\"Western Australia\", 'K values'!AX142, \"\"))))))))","v":""},{"$f":"IF($C$7=\"Australian Capital Territory\", 'K values'!I142, IF($C$7=\"New South Wales\", 'K values'!O142, IF($C$7=\"Northern Territory\", 'K values'!U142, IF($C$7=\"Queensland\", 'K values'!AA142, IF($C$7=\"South Australia\", 'K values'!AG142, IF($C$7=\"Tasmania\", 'K values'!AM142, IF($C$7=\"Victoria\", 'K values'!AS142, IF($C$7=\"Western Australia\", 'K values'!AY142, \"\"))))))))","v":""},{"$f":"IF($C$7=\"Australian Capital Territory\", 'K values'!J142, IF($C$7=\"New South Wales\", 'K values'!P142, IF($C$7=\"Northern Territory\", 'K values'!V142, IF($C$7=\"Queensland\", 'K values'!AB142, IF($C$7=\"South Australia\", 'K values'!AH142, IF($C$7=\"Tasmania\", 'K values'!AN142, IF($C$7=\"Victoria\", 'K values'!AT142, IF($C$7=\"Western Australia\", 'K values'!AZ142, \"\"))))))))","v":""},{"$f":"IF($C$7=\"Australian Capital Territory\", 'K values'!K142, IF($C$7=\"New South Wales\", 'K values'!Q142, IF($C$7=\"Northern Territory\", 'K values'!W142, IF($C$7=\"Queensland\", 'K values'!AC142, IF($C$7=\"South Australia\", 'K values'!AI142, IF($C$7=\"Tasmania\", 'K values'!AO142, IF($C$7=\"Victoria\", 'K values'!AU142, IF($C$7=\"Western Australia\", 'K values'!BA142, \"\"))))))))","v":""}]
[{"$f":"IF($C$7=\"Australian Capital Territory\", 'K values'!G143, IF($C$7=\"New South Wales\", 'K values'!M143, IF($C$7=\"Northern Territory\", 'K values'!S143, IF($C$7=\"Queensland\", 'K values'!Y143, IF($C$7=\"South Australia\", 'K values'!AE143, IF($C$7=\"Tasmania\", 'K values'!AK143, IF($C$7=\"Victoria\", 'K values'!AQ143, IF($C$7=\"Western Australia\", 'K values'!AW143, \"\"))))))))","v":""},{"$f":"IF($C$7=\"Australian Capital Territory\", 'K values'!H143, IF($C$7=\"New South Wales\", 'K values'!N143, IF($C$7=\"Northern Territory\", 'K values'!T143, IF($C$7=\"Queensland\", 'K values'!Z143, IF($C$7=\"South Australia\", 'K values'!AF143, IF($C$7=\"Tasmania\", 'K values'!AL143, IF($C$7=\"Victoria\", 'K values'!AR143, IF($C$7=\"Western Australia\", 'K values'!AX143, \"\"))))))))","v":""},{"$f":"IF($C$7=\"Australian Capital Territory\", 'K values'!I143, IF($C$7=\"New South Wales\", 'K values'!O143, IF($C$7=\"Northern Territory\", 'K values'!U143, IF($C$7=\"Queensland\", 'K values'!AA143, IF($C$7=\"South Australia\", 'K values'!AG143, IF($C$7=\"Tasmania\", 'K values'!AM143, IF($C$7=\"Victoria\", 'K values'!AS143, IF($C$7=\"Western Australia\", 'K values'!AY143, \"\"))))))))","v":""},{"$f":"IF($C$7=\"Australian Capital Territory\", 'K values'!J143, IF($C$7=\"New South Wales\", 'K values'!P143, IF($C$7=\"Northern Territory\", 'K values'!V143, IF($C$7=\"Queensland\", 'K values'!AB143, IF($C$7=\"South Australia\", 'K values'!AH143, IF($C$7=\"Tasmania\", 'K values'!AN143, IF($C$7=\"Victoria\", 'K values'!AT143, IF($C$7=\"Western Australia\", 'K values'!AZ143, \"\"))))))))","v":""},{"$f":"IF($C$7=\"Australian Capital Territory\", 'K values'!K143, IF($C$7=\"New South Wales\", 'K values'!Q143, IF($C$7=\"Northern Territory\", 'K values'!W143, IF($C$7=\"Queensland\", 'K values'!AC143, IF($C$7=\"South Australia\", 'K values'!AI143, IF($C$7=\"Tasmania\", 'K values'!AO143, IF($C$7=\"Victoria\", 'K values'!AU143, IF($C$7=\"Western Australia\", 'K values'!BA143, \"\"))))))))","v":""}]
[{"$f":"IF($C$7=\"Australian Capital Territory\", 'K values'!G144, IF($C$7=\"New South Wales\", 'K values'!M144, IF($C$7=\"Northern Territory\", 'K values'!S144, IF($C$7=\"Queensland\", 'K values'!Y144, IF($C$7=\"South Australia\", 'K values'!AE144, IF($C$7=\"Tasmania\", 'K values'!AK144, IF($C$7=\"Victoria\", 'K values'!AQ144, IF($C$7=\"Western Australia\", 'K values'!AW144, \"\"))))))))","v":""},{"$f":"IF($C$7=\"Australian Capital Territory\", 'K values'!H144, IF($C$7=\"New South Wales\", 'K values'!N144, IF($C$7=\"Northern Territory\", 'K values'!T144, IF($C$7=\"Queensland\", 'K values'!Z144, IF($C$7=\"South Australia\", 'K values'!AF144, IF($C$7=\"Tasmania\", 'K values'!AL144, IF($C$7=\"Victoria\", 'K values'!AR144, IF($C$7=\"Western Australia\", 'K values'!AX144, \"\"))))))))","v":""},{"$f":"IF($C$7=\"Australian Capital Territory\", 'K values'!I144, IF($C$7=\"New South Wales\", 'K values'!O144, IF($C$7=\"Northern Territory\", 'K values'!U144, IF($C$7=\"Queensland\", 'K values'!AA144, IF($C$7=\"South Australia\", 'K values'!AG144, IF($C$7=\"Tasmania\", 'K values'!AM144, IF($C$7=\"Victoria\", 'K values'!AS144, IF($C$7=\"Western Australia\", 'K values'!AY144, \"\"))))))))","v":""},{"$f":"IF($C$7=\"Australian Capital Territory\", 'K values'!J144, IF($C$7=\"New South Wales\", 'K values'!P144, IF($C$7=\"Northern Territory\", 'K values'!V144, IF($C$7=\"Queensland\", 'K values'!AB144, IF($C$7=\"South Australia\", 'K values'!AH144, IF($C$7=\"Tasmania\", 'K values'!AN144, IF($C$7=\"Victoria\", 'K values'!AT144, IF($C$7=\"Western Australia\", 'K values'!AZ144, \"\"))))))))","v":""},{"$f":"IF($C$7=\"Australian Capital Territory\", 'K values'!K144, IF($C$7=\"New South Wales\", 'K values'!Q144, IF($C$7=\"Northern Territory\", 'K values'!W144, IF($C$7=\"Queensland\", 'K values'!AC144, IF($C$7=\"South Australia\", 'K values'!AI144, IF($C$7=\"Tasmania\", 'K values'!AO144, IF($C$7=\"Victoria\", 'K values'!AU144, IF($C$7=\"Western Australia\", 'K values'!BA144, \"\"))))))))","v":""}]
[{"$f":"IF($C$7=\"Australian Capital Territory\", 'K values'!G145, IF($C$7=\"New South Wales\", 'K values'!M145, IF($C$7=\"Northern Territory\", 'K values'!S145, IF($C$7=\"Queensland\", 'K values'!Y145, IF($C$7=\"South Australia\", 'K values'!AE145, IF($C$7=\"Tasmania\", 'K values'!AK145, IF($C$7=\"Victoria\", 'K values'!AQ145, IF($C$7=\"Western Australia\", 'K values'!AW145, \"\"))))))))","v":""},{"$f":"IF($C$7=\"Australian Capital Territory\", 'K values'!H145, IF($C$7=\"New South Wales\", 'K values'!N145, IF($C$7=\"Northern Territory\", 'K values'!T145, IF($C$7=\"Queensland\", 'K values'!Z145, IF($C$7=\"South Australia\", 'K values'!AF145, IF($C$7=\"Tasmania\", 'K values'!AL145, IF($C$7=\"Victoria\", 'K values'!AR145, IF($C$7=\"Western Australia\", 'K values'!AX145, \"\"))))))))","v":""},{"$f":"IF($C$7=\"Australian Capital Territory\", 'K values'!I145, IF($C$7=\"New South Wales\", 'K values'!O145, IF($C$7=\"Northern Territory\", 'K values'!U145, IF($C$7=\"Queensland\", 'K values'!AA145, IF($C$7=\"South Australia\", 'K values'!AG145, IF($C$7=\"Tasmania\", 'K values'!AM145, IF($C$7=\"Victoria\", 'K values'!AS145, IF($C$7=\"Western Australia\", 'K values'!AY145, \"\"))))))))","v":""},{"$f":"IF($C$7=\"Australian Capital Territory\", 'K values'!J145, IF($C$7=\"New South Wales\", 'K values'!P145, IF($C$7=\"Northern Territory\", 'K values'!V145, IF($C$7=\"Queensland\", 'K values'!AB145, IF($C$7=\"South Australia\", 'K values'!AH145, IF($C$7=\"Tasmania\", 'K values'!AN145, IF($C$7=\"Victoria\", 'K values'!AT145, IF($C$7=\"Western Australia\", 'K values'!AZ145, \"\"))))))))","v":""},{"$f":"IF($C$7=\"Australian Capital Territory\", 'K values'!K145, IF($C$7=\"New South Wales\", 'K values'!Q145, IF($C$7=\"Northern Territory\", 'K values'!W145, IF($C$7=\"Queensland\", 'K values'!AC145, IF($C$7=\"South Australia\", 'K values'!AI145, IF($C$7=\"Tasmania\", 'K values'!AO145, IF($C$7=\"Victoria\", 'K values'!AU145, IF($C$7=\"Western Australia\", 'K values'!BA145, \"\"))))))))","v":""}]
[{"$f":"IF($C$7=\"Australian Capital Territory\", 'K values'!G146, IF($C$7=\"New South Wales\", 'K values'!M146, IF($C$7=\"Northern Territory\", 'K values'!S146, IF($C$7=\"Queensland\", 'K values'!Y146, IF($C$7=\"South Australia\", 'K values'!AE146, IF($C$7=\"Tasmania\", 'K values'!AK146, IF($C$7=\"Victoria\", 'K values'!AQ146, IF($C$7=\"Western Australia\", 'K values'!AW146, \"\"))))))))","v":""},{"$f":"IF($C$7=\"Australian Capital Territory\", 'K values'!H146, IF($C$7=\"New South Wales\", 'K values'!N146, IF($C$7=\"Northern Territory\", 'K values'!T146, IF($C$7=\"Queensland\", 'K values'!Z146, IF($C$7=\"South Australia\", 'K values'!AF146, IF($C$7=\"Tasmania\", 'K values'!AL146, IF($C$7=\"Victoria\", 'K values'!AR146, IF($C$7=\"Western Australia\", 'K values'!AX146, \"\"))))))))","v":""},{"$f":"IF($C$7=\"Australian Capital Territory\", 'K values'!I146, IF($C$7=\"New South Wales\", 'K values'!O146, IF($C$7=\"Northern Territory\", 'K values'!U146, IF($C$7=\"Queensland\", 'K values'!AA146, IF($C$7=\"South Australia\", 'K values'!AG146, IF($C$7=\"Tasmania\", 'K values'!AM146, IF($C$7=\"Victoria\", 'K values'!AS146, IF($C$7=\"Western Australia\", 'K values'!AY146, \"\"))))))))","v":""},{"$f":"IF($C$7=\"Australian Capital Territory\", 'K values'!J146, IF($C$7=\"New South Wales\", 'K values'!P146, IF($C$7=\"Northern Territory\", 'K values'!V146, IF($C$7=\"Queensland\", 'K values'!AB146, IF($C$7=\"South Australia\", 'K values'!AH146, IF($C$7=\"Tasmania\", 'K values'!AN146, IF($C$7=\"Victoria\", 'K values'!AT146, IF($C$7=\"Western Australia\", 'K values'!AZ146, \"\"))))))))","v":""},{"$f":"IF($C$7=\"Australian Capital Territory\", 'K values'!K146, IF($C$7=\"New South Wales\", 'K values'!Q146, IF($C$7=\"Northern Territory\", 'K values'!W146, IF($C$7=\"Queensland\", 'K values'!AC146, IF($C$7=\"South Australia\", 'K values'!AI146, IF($C$7=\"Tasmania\", 'K values'!AO146, IF($C$7=\"Victoria\", 'K values'!AU146, IF($C$7=\"Western Australia\", 'K values'!BA146, \"\"))))))))","v":""}]
[{"$f":"IF($C$7=\"Australian Capital Territory\", 'K values'!G147, IF($C$7=\"New South Wales\", 'K values'!M147, IF($C$7=\"Northern Territory\", 'K values'!S147, IF($C$7=\"Queensland\", 'K values'!Y147, IF($C$7=\"South Australia\", 'K values'!AE147, IF($C$7=\"Tasmania\", 'K values'!AK147, IF($C$7=\"Victoria\", 'K values'!AQ147, IF($C$7=\"Western Australia\", 'K values'!AW147, \"\"))))))))","v":""},{"$f":"IF($C$7=\"Australian Capital Territory\", 'K values'!H147, IF($C$7=\"New South Wales\", 'K values'!N147, IF($C$7=\"Northern Territory\", 'K values'!T147, IF($C$7=\"Queensland\", 'K values'!Z147, IF($C$7=\"South Australia\", 'K values'!AF147, IF($C$7=\"Tasmania\", 'K values'!AL147, IF($C$7=\"Victoria\", 'K values'!AR147, IF($C$7=\"Western Australia\", 'K values'!AX147, \"\"))))))))","v":""},{"$f":"IF($C$7=\"Australian Capital Territory\", 'K values'!I147, IF($C$7=\"New South Wales\", 'K values'!O147, IF($C$7=\"Northern Territory\", 'K values'!U147, IF($C$7=\"Queensland\", 'K values'!AA147, IF($C$7=\"South Australia\", 'K values'!AG147, IF($C$7=\"Tasmania\", 'K values'!AM147, IF($C$7=\"Victoria\", 'K values'!AS147, IF($C$7=\"Western Australia\", 'K values'!AY147, \"\"))))))))","v":""},{"$f":"IF($C$7=\"Australian Capital Territory\", 'K values'!J147, IF($C$7=\"New South Wales\", 'K values'!P147, IF($C$7=\"Northern Territory\", 'K values'!V147, IF($C$7=\"Queensland\", 'K values'!AB147, IF($C$7=\"South Australia\", 'K values'!AH147, IF($C$7=\"Tasmania\", 'K values'!AN147, IF($C$7=\"Victoria\", 'K values'!AT147, IF($C$7=\"Western Australia\", 'K values'!AZ147, \"\"))))))))","v":""},{"$f":"IF($C$7=\"Australian Capital Territory\", 'K values'!K147, IF($C$7=\"New South Wales\", 'K values'!Q147, IF($C$7=\"Northern Territory\", 'K values'!W147, IF($C$7=\"Queensland\", 'K values'!AC147, IF($C$7=\"South Australia\", 'K values'!AI147, IF($C$7=\"Tasmania\", 'K values'!AO147, IF($C$7=\"Victoria\", 'K values'!AU147, IF($C$7=\"Western Australia\", 'K values'!BA147, \"\"))))))))","v":""}]
[{"$f":"IF($C$7=\"Australian Capital Territory\", 'K values'!G148, IF($C$7=\"New South Wales\", 'K values'!M148, IF($C$7=\"Northern Territory\", 'K values'!S148, IF($C$7=\"Queensland\", 'K values'!Y148, IF($C$7=\"South Australia\", 'K values'!AE148, IF($C$7=\"Tasmania\", 'K values'!AK148, IF($C$7=\"Victoria\", 'K values'!AQ148, IF($C$7=\"Western Australia\", 'K values'!AW148, \"\"))))))))","v":""},{"$f":"IF($C$7=\"Australian Capital Territory\", 'K values'!H148, IF($C$7=\"New South Wales\", 'K values'!N148, IF($C$7=\"Northern Territory\", 'K values'!T148, IF($C$7=\"Queensland\", 'K values'!Z148, IF($C$7=\"South Australia\", 'K values'!AF148, IF($C$7=\"Tasmania\", 'K values'!AL148, IF($C$7=\"Victoria\", 'K values'!AR148, IF($C$7=\"Western Australia\", 'K values'!AX148, \"\"))))))))","v":""},{"$f":"IF($C$7=\"Australian Capital Territory\", 'K values'!I148, IF($C$7=\"New South Wales\", 'K values'!O148, IF($C$7=\"Northern Territory\", 'K values'!U148, IF($C$7=\"Queensland\", 'K values'!AA148, IF($C$7=\"South Australia\", 'K values'!AG148, IF($C$7=\"Tasmania\", 'K values'!AM148, IF($C$7=\"Victoria\", 'K values'!AS148, IF($C$7=\"Western Australia\", 'K values'!AY148, \"\"))))))))","v":""},{"$f":"IF($C$7=\"Australian Capital Territory\", 'K values'!J148, IF($C$7=\"New South Wales\", 'K values'!P148, IF($C$7=\"Northern Territory\", 'K values'!V148, IF($C$7=\"Queensland\", 'K values'!AB148, IF($C$7=\"South Australia\", 'K values'!AH148, IF($C$7=\"Tasmania\", 'K values'!AN148, IF($C$7=\"Victoria\", 'K values'!AT148, IF($C$7=\"Western Australia\", 'K values'!AZ148, \"\"))))))))","v":""},{"$f":"IF($C$7=\"Australian Capital Territory\", 'K values'!K148, IF($C$7=\"New South Wales\", 'K values'!Q148, IF($C$7=\"Northern Territory\", 'K values'!W148, IF($C$7=\"Queensland\", 'K values'!AC148, IF($C$7=\"South Australia\", 'K values'!AI148, IF($C$7=\"Tasmania\", 'K values'!AO148, IF($C$7=\"Victoria\", 'K values'!AU148, IF($C$7=\"Western Australia\", 'K values'!BA148, \"\"))))))))","v":""}]
[{"$f":"IF($C$7=\"Australian Capital Territory\", 'K values'!G149, IF($C$7=\"New South Wales\", 'K values'!M149, IF($C$7=\"Northern Territory\", 'K values'!S149, IF($C$7=\"Queensland\", 'K values'!Y149, IF($C$7=\"South Australia\", 'K values'!AE149, IF($C$7=\"Tasmania\", 'K values'!AK149, IF($C$7=\"Victoria\", 'K values'!AQ149, IF($C$7=\"Western Australia\", 'K values'!AW149, \"\"))))))))","v":""},{"$f":"IF($C$7=\"Australian Capital Territory\", 'K values'!H149, IF($C$7=\"New South Wales\", 'K values'!N149, IF($C$7=\"Northern Territory\", 'K values'!T149, IF($C$7=\"Queensland\", 'K values'!Z149, IF($C$7=\"South Australia\", 'K values'!AF149, IF($C$7=\"Tasmania\", 'K values'!AL149, IF($C$7=\"Victoria\", 'K values'!AR149, IF($C$7=\"Western Australia\", 'K values'!AX149, \"\"))))))))","v":""},{"$f":"IF($C$7=\"Australian Capital Territory\", 'K values'!I149, IF($C$7=\"New South Wales\", 'K values'!O149, IF($C$7=\"Northern Territory\", 'K values'!U149, IF($C$7=\"Queensland\", 'K values'!AA149, IF($C$7=\"South Australia\", 'K values'!AG149, IF($C$7=\"Tasmania\", 'K values'!AM149, IF($C$7=\"Victoria\", 'K values'!AS149, IF($C$7=\"Western Australia\", 'K values'!AY149, \"\"))))))))","v":""},{"$f":"IF($C$7=\"Australian Capital Territory\", 'K values'!J149, IF($C$7=\"New South Wales\", 'K values'!P149, IF($C$7=\"Northern Territory\", 'K values'!V149, IF($C$7=\"Queensland\", 'K values'!AB149, IF($C$7=\"South Australia\", 'K values'!AH149, IF($C$7=\"Tasmania\", 'K values'!AN149, IF($C$7=\"Victoria\", 'K values'!AT149, IF($C$7=\"Western Australia\", 'K values'!AZ149, \"\"))))))))","v":""},{"$f":"IF($C$7=\"Australian Capital Territory\", 'K values'!K149, IF($C$7=\"New South Wales\", 'K values'!Q149, IF($C$7=\"Northern Territory\", 'K values'!W149, IF($C$7=\"Queensland\", 'K values'!AC149, IF($C$7=\"South Australia\", 'K values'!AI149, IF($C$7=\"Tasmania\", 'K values'!AO149, IF($C$7=\"Victoria\", 'K values'!AU149, IF($C$7=\"Western Australia\", 'K values'!BA149, \"\"))))))))","v":""}]
[{"$f":"IF($C$7=\"Australian Capital Territory\", 'K values'!G150, IF($C$7=\"New South Wales\", 'K values'!M150, IF($C$7=\"Northern Territory\", 'K values'!S150, IF($C$7=\"Queensland\", 'K values'!Y150, IF($C$7=\"South Australia\", 'K values'!AE150, IF($C$7=\"Tasmania\", 'K values'!AK150, IF($C$7=\"Victoria\", 'K values'!AQ150, IF($C$7=\"Western Australia\", 'K values'!AW150, \"\"))))))))","v":""},{"$f":"IF($C$7=\"Australian Capital Territory\", 'K values'!H150, IF($C$7=\"New South Wales\", 'K values'!N150, IF($C$7=\"Northern Territory\", 'K values'!T150, IF($C$7=\"Queensland\", 'K values'!Z150, IF($C$7=\"South Australia\", 'K values'!AF150, IF($C$7=\"Tasmania\", 'K values'!AL150, IF($C$7=\"Victoria\", 'K values'!AR150, IF($C$7=\"Western Australia\", 'K values'!AX150, \"\"))))))))","v":""},{"$f":"IF($C$7=\"Australian Capital Territory\", 'K values'!I150, IF($C$7=\"New South Wales\", 'K values'!O150, IF($C$7=\"Northern Territory\", 'K values'!U150, IF($C$7=\"Queensland\", 'K values'!AA150, IF($C$7=\"South Australia\", 'K values'!AG150, IF($C$7=\"Tasmania\", 'K values'!AM150, IF($C$7=\"Victoria\", 'K values'!AS150, IF($C$7=\"Western Australia\", 'K values'!AY150, \"\"))))))))","v":""},{"$f":"IF($C$7=\"Australian Capital Territory\", 'K values'!J150, IF($C$7=\"New South Wales\", 'K values'!P150, IF($C$7=\"Northern Territory\", 'K values'!V150, IF($C$7=\"Queensland\", 'K values'!AB150, IF($C$7=\"South Australia\", 'K values'!AH150, IF($C$7=\"Tasmania\", 'K values'!AN150, IF($C$7=\"Victoria\", 'K values'!AT150, IF($C$7=\"Western Australia\", 'K values'!AZ150, \"\"))))))))","v":""},{"$f":"IF($C$7=\"Australian Capital Territory\", 'K values'!K150, IF($C$7=\"New South Wales\", 'K values'!Q150, IF($C$7=\"Northern Territory\", 'K values'!W150, IF($C$7=\"Queensland\", 'K values'!AC150, IF($C$7=\"South Australia\", 'K values'!AI150, IF($C$7=\"Tasmania\", 'K values'!AO150, IF($C$7=\"Victoria\", 'K values'!AU150, IF($C$7=\"Western Australia\", 'K values'!BA150, \"\"))))))))","v":""}]
[{"$f":"IF($C$7=\"Australian Capital Territory\", 'K values'!G151, IF($C$7=\"New South Wales\", 'K values'!M151, IF($C$7=\"Northern Territory\", 'K values'!S151, IF($C$7=\"Queensland\", 'K values'!Y151, IF($C$7=\"South Australia\", 'K values'!AE151, IF($C$7=\"Tasmania\", 'K values'!AK151, IF($C$7=\"Victoria\", 'K values'!AQ151, IF($C$7=\"Western Australia\", 'K values'!AW151, \"\"))))))))","v":""},{"$f":"IF($C$7=\"Australian Capital Territory\", 'K values'!H151, IF($C$7=\"New South Wales\", 'K values'!N151, IF($C$7=\"Northern Territory\", 'K values'!T151, IF($C$7=\"Queensland\", 'K values'!Z151, IF($C$7=\"South Australia\", 'K values'!AF151, IF($C$7=\"Tasmania\", 'K values'!AL151, IF($C$7=\"Victoria\", 'K values'!AR151, IF($C$7=\"Western Australia\", 'K values'!AX151, \"\"))))))))","v":""},{"$f":"IF($C$7=\"Australian Capital Territory\", 'K values'!I151, IF($C$7=\"New South Wales\", 'K values'!O151, IF($C$7=\"Northern Territory\", 'K values'!U151, IF($C$7=\"Queensland\", 'K values'!AA151, IF($C$7=\"South Australia\", 'K values'!AG151, IF($C$7=\"Tasmania\", 'K values'!AM151, IF($C$7=\"Victoria\", 'K values'!AS151, IF($C$7=\"Western Australia\", 'K values'!AY151, \"\"))))))))","v":""},{"$f":"IF($C$7=\"Australian Capital Territory\", 'K values'!J151, IF($C$7=\"New South Wales\", 'K values'!P151, IF($C$7=\"Northern Territory\", 'K values'!V151, IF($C$7=\"Queensland\", 'K values'!AB151, IF($C$7=\"South Australia\", 'K values'!AH151, IF($C$7=\"Tasmania\", 'K values'!AN151, IF($C$7=\"Victoria\", 'K values'!AT151, IF($C$7=\"Western Australia\", 'K values'!AZ151, \"\"))))))))","v":""},{"$f":"IF($C$7=\"Australian Capital Territory\", 'K values'!K151, IF($C$7=\"New South Wales\", 'K values'!Q151, IF($C$7=\"Northern Territory\", 'K values'!W151, IF($C$7=\"Queensland\", 'K values'!AC151, IF($C$7=\"South Australia\", 'K values'!AI151, IF($C$7=\"Tasmania\", 'K values'!AO151, IF($C$7=\"Victoria\", 'K values'!AU151, IF($C$7=\"Western Australia\", 'K values'!BA151, \"\"))))))))","v":""}]
[{"$f":"IF($C$7=\"Australian Capital Territory\", 'K values'!G152, IF($C$7=\"New South Wales\", 'K values'!M152, IF($C$7=\"Northern Territory\", 'K values'!S152, IF($C$7=\"Queensland\", 'K values'!Y152, IF($C$7=\"South Australia\", 'K values'!AE152, IF($C$7=\"Tasmania\", 'K values'!AK152, IF($C$7=\"Victoria\", 'K values'!AQ152, IF($C$7=\"Western Australia\", 'K values'!AW152, \"\"))))))))","v":""},{"$f":"IF($C$7=\"Australian Capital Territory\", 'K values'!H152, IF($C$7=\"New South Wales\", 'K values'!N152, IF($C$7=\"Northern Territory\", 'K values'!T152, IF($C$7=\"Queensland\", 'K values'!Z152, IF($C$7=\"South Australia\", 'K values'!AF152, IF($C$7=\"Tasmania\", 'K values'!AL152, IF($C$7=\"Victoria\", 'K values'!AR152, IF($C$7=\"Western Australia\", 'K values'!AX152, \"\"))))))))","v":""},{"$f":"IF($C$7=\"Australian Capital Territory\", 'K values'!I152, IF($C$7=\"New South Wales\", 'K values'!O152, IF($C$7=\"Northern Territory\", 'K values'!U152, IF($C$7=\"Queensland\", 'K values'!AA152, IF($C$7=\"South Australia\", 'K values'!AG152, IF($C$7=\"Tasmania\", 'K values'!AM152, IF($C$7=\"Victoria\", 'K values'!AS152, IF($C$7=\"Western Australia\", 'K values'!AY152, \"\"))))))))","v":""},{"$f":"IF($C$7=\"Australian Capital Territory\", 'K values'!J152, IF($C$7=\"New South Wales\", 'K values'!P152, IF($C$7=\"Northern Territory\", 'K values'!V152, IF($C$7=\"Queensland\", 'K values'!AB152, IF($C$7=\"South Australia\", 'K values'!AH152, IF($C$7=\"Tasmania\", 'K values'!AN152, IF($C$7=\"Victoria\", 'K values'!AT152, IF($C$7=\"Western Australia\", 'K values'!AZ152, \"\"))))))))","v":""},{"$f":"IF($C$7=\"Australian Capital Territory\", 'K values'!K152, IF($C$7=\"New South Wales\", 'K values'!Q152, IF($C$7=\"Northern Territory\", 'K values'!W152, IF($C$7=\"Queensland\", 'K values'!AC152, IF($C$7=\"South Australia\", 'K values'!AI152, IF($C$7=\"Tasmania\", 'K values'!AO152, IF($C$7=\"Victoria\", 'K values'!AU152, IF($C$7=\"Western Australia\", 'K values'!BA152, \"\"))))))))","v":""}]
[{"$f":"IF($C$7=\"Australian Capital Territory\", 'K values'!G153, IF($C$7=\"New South Wales\", 'K values'!M153, IF($C$7=\"Northern Territory\", 'K values'!S153, IF($C$7=\"Queensland\", 'K values'!Y153, IF($C$7=\"South Australia\", 'K values'!AE153, IF($C$7=\"Tasmania\", 'K values'!AK153, IF($C$7=\"Victoria\", 'K values'!AQ153, IF($C$7=\"Western Australia\", 'K values'!AW153, \"\"))))))))","v":""},{"$f":"IF($C$7=\"Australian Capital Territory\", 'K values'!H153, IF($C$7=\"New South Wales\", 'K values'!N153, IF($C$7=\"Northern Territory\", 'K values'!T153, IF($C$7=\"Queensland\", 'K values'!Z153, IF($C$7=\"South Australia\", 'K values'!AF153, IF($C$7=\"Tasmania\", 'K values'!AL153, IF($C$7=\"Victoria\", 'K values'!AR153, IF($C$7=\"Western Australia\", 'K values'!AX153, \"\"))))))))","v":""},{"$f":"IF($C$7=\"Australian Capital Territory\", 'K values'!I153, IF($C$7=\"New South Wales\", 'K values'!O153, IF($C$7=\"Northern Territory\", 'K values'!U153, IF($C$7=\"Queensland\", 'K values'!AA153, IF($C$7=\"South Australia\", 'K values'!AG153, IF($C$7=\"Tasmania\", 'K values'!AM153, IF($C$7=\"Victoria\", 'K values'!AS153, IF($C$7=\"Western Australia\", 'K values'!AY153, \"\"))))))))","v":""},{"$f":"IF($C$7=\"Australian Capital Territory\", 'K values'!J153, IF($C$7=\"New South Wales\", 'K values'!P153, IF($C$7=\"Northern Territory\", 'K values'!V153, IF($C$7=\"Queensland\", 'K values'!AB153, IF($C$7=\"South Australia\", 'K values'!AH153, IF($C$7=\"Tasmania\", 'K values'!AN153, IF($C$7=\"Victoria\", 'K values'!AT153, IF($C$7=\"Western Australia\", 'K values'!AZ153, \"\"))))))))","v":""},{"$f":"IF($C$7=\"Australian Capital Territory\", 'K values'!K153, IF($C$7=\"New South Wales\", 'K values'!Q153, IF($C$7=\"Northern Territory\", 'K values'!W153, IF($C$7=\"Queensland\", 'K values'!AC153, IF($C$7=\"South Australia\", 'K values'!AI153, IF($C$7=\"Tasmania\", 'K values'!AO153, IF($C$7=\"Victoria\", 'K values'!AU153, IF($C$7=\"Western Australia\", 'K values'!BA153, \"\"))))))))","v":""}]
[{"$f":"IF($C$7=\"Australian Capital Territory\", 'K values'!G154, IF($C$7=\"New South Wales\", 'K values'!M154, IF($C$7=\"Northern Territory\", 'K values'!S154, IF($C$7=\"Queensland\", 'K values'!Y154, IF($C$7=\"South Australia\", 'K values'!AE154, IF($C$7=\"Tasmania\", 'K values'!AK154, IF($C$7=\"Victoria\", 'K values'!AQ154, IF($C$7=\"Western Australia\", 'K values'!AW154, \"\"))))))))","v":""},{"$f":"IF($C$7=\"Australian Capital Territory\", 'K values'!H154, IF($C$7=\"New South Wales\", 'K values'!N154, IF($C$7=\"Northern Territory\", 'K values'!T154, IF($C$7=\"Queensland\", 'K values'!Z154, IF($C$7=\"South Australia\", 'K values'!AF154, IF($C$7=\"Tasmania\", 'K values'!AL154, IF($C$7=\"Victoria\", 'K values'!AR154, IF($C$7=\"Western Australia\", 'K values'!AX154, \"\"))))))))","v":""},{"$f":"IF($C$7=\"Australian Capital Territory\", 'K values'!I154, IF($C$7=\"New South Wales\", 'K values'!O154, IF($C$7=\"Northern Territory\", 'K values'!U154, IF($C$7=\"Queensland\", 'K values'!AA154, IF($C$7=\"South Australia\", 'K values'!AG154, IF($C$7=\"Tasmania\", 'K values'!AM154, IF($C$7=\"Victoria\", 'K values'!AS154, IF($C$7=\"Western Australia\", 'K values'!AY154, \"\"))))))))","v":""},{"$f":"IF($C$7=\"Australian Capital Territory\", 'K values'!J154, IF($C$7=\"New South Wales\", 'K values'!P154, IF($C$7=\"Northern Territory\", 'K values'!V154, IF($C$7=\"Queensland\", 'K values'!AB154, IF($C$7=\"South Australia\", 'K values'!AH154, IF($C$7=\"Tasmania\", 'K values'!AN154, IF($C$7=\"Victoria\", 'K values'!AT154, IF($C$7=\"Western Australia\", 'K values'!AZ154, \"\"))))))))","v":""},{"$f":"IF($C$7=\"Australian Capital Territory\", 'K values'!K154, IF($C$7=\"New South Wales\", 'K values'!Q154, IF($C$7=\"Northern Territory\", 'K values'!W154, IF($C$7=\"Queensland\", 'K values'!AC154, IF($C$7=\"South Australia\", 'K values'!AI154, IF($C$7=\"Tasmania\", 'K values'!AO154, IF($C$7=\"Victoria\", 'K values'!AU154, IF($C$7=\"Western Australia\", 'K values'!BA154, \"\"))))))))","v":""}]
[{"$f":"IF($C$7=\"Australian Capital Territory\", 'K values'!G155, IF($C$7=\"New South Wales\", 'K values'!M155, IF($C$7=\"Northern Territory\", 'K values'!S155, IF($C$7=\"Queensland\", 'K values'!Y155, IF($C$7=\"South Australia\", 'K values'!AE155, IF($C$7=\"Tasmania\", 'K values'!AK155, IF($C$7=\"Victoria\", 'K values'!AQ155, IF($C$7=\"Western Australia\", 'K values'!AW155, \"\"))))))))","v":""},{"$f":"IF($C$7=\"Australian Capital Territory\", 'K values'!H155, IF($C$7=\"New South Wales\", 'K values'!N155, IF($C$7=\"Northern Territory\", 'K values'!T155, IF($C$7=\"Queensland\", 'K values'!Z155, IF($C$7=\"South Australia\", 'K values'!AF155, IF($C$7=\"Tasmania\", 'K values'!AL155, IF($C$7=\"Victoria\", 'K values'!AR155, IF($C$7=\"Western Australia\", 'K values'!AX155, \"\"))))))))","v":""},{"$f":"IF($C$7=\"Australian Capital Territory\", 'K values'!I155, IF($C$7=\"New South Wales\", 'K values'!O155, IF($C$7=\"Northern Territory\", 'K values'!U155, IF($C$7=\"Queensland\", 'K values'!AA155, IF($C$7=\"South Australia\", 'K values'!AG155, IF($C$7=\"Tasmania\", 'K values'!AM155, IF($C$7=\"Victoria\", 'K values'!AS155, IF($C$7=\"Western Australia\", 'K values'!AY155, \"\"))))))))","v":""},{"$f":"IF($C$7=\"Australian Capital Territory\", 'K values'!J155, IF($C$7=\"New South Wales\", 'K values'!P155, IF($C$7=\"Northern Territory\", 'K values'!V155, IF($C$7=\"Queensland\", 'K values'!AB155, IF($C$7=\"South Australia\", 'K values'!AH155, IF($C$7=\"Tasmania\", 'K values'!AN155, IF($C$7=\"Victoria\", 'K values'!AT155, IF($C$7=\"Western Australia\", 'K values'!AZ155, \"\"))))))))","v":""},{"$f":"IF($C$7=\"Australian Capital Territory\", 'K values'!K155, IF($C$7=\"New South Wales\", 'K values'!Q155, IF($C$7=\"Northern Territory\", 'K values'!W155, IF($C$7=\"Queensland\", 'K values'!AC155, IF($C$7=\"South Australia\", 'K values'!AI155, IF($C$7=\"Tasmania\", 'K values'!AO155, IF($C$7=\"Victoria\", 'K values'!AU155, IF($C$7=\"Western Australia\", 'K values'!BA155, \"\"))))))))","v":""}]
[{"$f":"IF($C$7=\"Australian Capital Territory\", 'K values'!G156, IF($C$7=\"New South Wales\", 'K values'!M156, IF($C$7=\"Northern Territory\", 'K values'!S156, IF($C$7=\"Queensland\", 'K values'!Y156, IF($C$7=\"South Australia\", 'K values'!AE156, IF($C$7=\"Tasmania\", 'K values'!AK156, IF($C$7=\"Victoria\", 'K values'!AQ156, IF($C$7=\"Western Australia\", 'K values'!AW156, \"\"))))))))","v":""},{"$f":"IF($C$7=\"Australian Capital Territory\", 'K values'!H156, IF($C$7=\"New South Wales\", 'K values'!N156, IF($C$7=\"Northern Territory\", 'K values'!T156, IF($C$7=\"Queensland\", 'K values'!Z156, IF($C$7=\"South Australia\", 'K values'!AF156, IF($C$7=\"Tasmania\", 'K values'!AL156, IF($C$7=\"Victoria\", 'K values'!AR156, IF($C$7=\"Western Australia\", 'K values'!AX156, \"\"))))))))","v":""},{"$f":"IF($C$7=\"Australian Capital Territory\", 'K values'!I156, IF($C$7=\"New South Wales\", 'K values'!O156, IF($C$7=\"Northern Territory\", 'K values'!U156, IF($C$7=\"Queensland\", 'K values'!AA156, IF($C$7=\"South Australia\", 'K values'!AG156, IF($C$7=\"Tasmania\", 'K values'!AM156, IF($C$7=\"Victoria\", 'K values'!AS156, IF($C$7=\"Western Australia\", 'K values'!AY156, \"\"))))))))","v":""},{"$f":"IF($C$7=\"Australian Capital Territory\", 'K values'!J156, IF($C$7=\"New South Wales\", 'K values'!P156, IF($C$7=\"Northern Territory\", 'K values'!V156, IF($C$7=\"Queensland\", 'K values'!AB156, IF($C$7=\"South Australia\", 'K values'!AH156, IF($C$7=\"Tasmania\", 'K values'!AN156, IF($C$7=\"Victoria\", 'K values'!AT156, IF($C$7=\"Western Australia\", 'K values'!AZ156, \"\"))))))))","v":""},{"$f":"IF($C$7=\"Australian Capital Territory\", 'K values'!K156, IF($C$7=\"New South Wales\", 'K values'!Q156, IF($C$7=\"Northern Territory\", 'K values'!W156, IF($C$7=\"Queensland\", 'K values'!AC156, IF($C$7=\"South Australia\", 'K values'!AI156, IF($C$7=\"Tasmania\", 'K values'!AO156, IF($C$7=\"Victoria\", 'K values'!AU156, IF($C$7=\"Western Australia\", 'K values'!BA156, \"\"))))))))","v":""}]
[{"$f":"IF($C$7=\"Australian Capital Territory\", 'K values'!G157, IF($C$7=\"New South Wales\", 'K values'!M157, IF($C$7=\"Northern Territory\", 'K values'!S157, IF($C$7=\"Queensland\", 'K values'!Y157, IF($C$7=\"South Australia\", 'K values'!AE157, IF($C$7=\"Tasmania\", 'K values'!AK157, IF($C$7=\"Victoria\", 'K values'!AQ157, IF($C$7=\"Western Australia\", 'K values'!AW157, \"\"))))))))","v":""},{"$f":"IF($C$7=\"Australian Capital Territory\", 'K values'!H157, IF($C$7=\"New South Wales\", 'K values'!N157, IF($C$7=\"Northern Territory\", 'K values'!T157, IF($C$7=\"Queensland\", 'K values'!Z157, IF($C$7=\"South Australia\", 'K values'!AF157, IF($C$7=\"Tasmania\", 'K values'!AL157, IF($C$7=\"Victoria\", 'K values'!AR157, IF($C$7=\"Western Australia\", 'K values'!AX157, \"\"))))))))","v":""},{"$f":"IF($C$7=\"Australian Capital Territory\", 'K values'!I157, IF($C$7=\"New South Wales\", 'K values'!O157, IF($C$7=\"Northern Territory\", 'K values'!U157, IF($C$7=\"Queensland\", 'K values'!AA157, IF($C$7=\"South Australia\", 'K values'!AG157, IF($C$7=\"Tasmania\", 'K values'!AM157, IF($C$7=\"Victoria\", 'K values'!AS157, IF($C$7=\"Western Australia\", 'K values'!AY157, \"\"))))))))","v":""},{"$f":"IF($C$7=\"Australian Capital Territory\", 'K values'!J157, IF($C$7=\"New South Wales\", 'K values'!P157, IF($C$7=\"Northern Territory\", 'K values'!V157, IF($C$7=\"Queensland\", 'K values'!AB157, IF($C$7=\"South Australia\", 'K values'!AH157, IF($C$7=\"Tasmania\", 'K values'!AN157, IF($C$7=\"Victoria\", 'K values'!AT157, IF($C$7=\"Western Australia\", 'K values'!AZ157, \"\"))))))))","v":""},{"$f":"IF($C$7=\"Australian Capital Territory\", 'K values'!K157, IF($C$7=\"New South Wales\", 'K values'!Q157, IF($C$7=\"Northern Territory\", 'K values'!W157, IF($C$7=\"Queensland\", 'K values'!AC157, IF($C$7=\"South Australia\", 'K values'!AI157, IF($C$7=\"Tasmania\", 'K values'!AO157, IF($C$7=\"Victoria\", 'K values'!AU157, IF($C$7=\"Western Australia\", 'K values'!BA157, \"\"))))))))","v":""}]
[{"$f":"IF($C$7=\"Australian Capital Territory\", 'K values'!G158, IF($C$7=\"New South Wales\", 'K values'!M158, IF($C$7=\"Northern Territory\", 'K values'!S158, IF($C$7=\"Queensland\", 'K values'!Y158, IF($C$7=\"South Australia\", 'K values'!AE158, IF($C$7=\"Tasmania\", 'K values'!AK158, IF($C$7=\"Victoria\", 'K values'!AQ158, IF($C$7=\"Western Australia\", 'K values'!AW158, \"\"))))))))","v":""},{"$f":"IF($C$7=\"Australian Capital Territory\", 'K values'!H158, IF($C$7=\"New South Wales\", 'K values'!N158, IF($C$7=\"Northern Territory\", 'K values'!T158, IF($C$7=\"Queensland\", 'K values'!Z158, IF($C$7=\"South Australia\", 'K values'!AF158, IF($C$7=\"Tasmania\", 'K values'!AL158, IF($C$7=\"Victoria\", 'K values'!AR158, IF($C$7=\"Western Australia\", 'K values'!AX158, \"\"))))))))","v":""},{"$f":"IF($C$7=\"Australian Capital Territory\", 'K values'!I158, IF($C$7=\"New South Wales\", 'K values'!O158, IF($C$7=\"Northern Territory\", 'K values'!U158, IF($C$7=\"Queensland\", 'K values'!AA158, IF($C$7=\"South Australia\", 'K values'!AG158, IF($C$7=\"Tasmania\", 'K values'!AM158, IF($C$7=\"Victoria\", 'K values'!AS158, IF($C$7=\"Western Australia\", 'K values'!AY158, \"\"))))))))","v":""},{"$f":"IF($C$7=\"Australian Capital Territory\", 'K values'!J158, IF($C$7=\"New South Wales\", 'K values'!P158, IF($C$7=\"Northern Territory\", 'K values'!V158, IF($C$7=\"Queensland\", 'K values'!AB158, IF($C$7=\"South Australia\", 'K values'!AH158, IF($C$7=\"Tasmania\", 'K values'!AN158, IF($C$7=\"Victoria\", 'K values'!AT158, IF($C$7=\"Western Australia\", 'K values'!AZ158, \"\"))))))))","v":""},{"$f":"IF($C$7=\"Australian Capital Territory\", 'K values'!K158, IF($C$7=\"New South Wales\", 'K values'!Q158, IF($C$7=\"Northern Territory\", 'K values'!W158, IF($C$7=\"Queensland\", 'K values'!AC158, IF($C$7=\"South Australia\", 'K values'!AI158, IF($C$7=\"Tasmania\", 'K values'!AO158, IF($C$7=\"Victoria\", 'K values'!AU158, IF($C$7=\"Western Australia\", 'K values'!BA158, \"\"))))))))","v":""}]
[{"$f":"IF($C$7=\"Australian Capital Territory\", 'K values'!G159, IF($C$7=\"New South Wales\", 'K values'!M159, IF($C$7=\"Northern Territory\", 'K values'!S159, IF($C$7=\"Queensland\", 'K values'!Y159, IF($C$7=\"South Australia\", 'K values'!AE159, IF($C$7=\"Tasmania\", 'K values'!AK159, IF($C$7=\"Victoria\", 'K values'!AQ159, IF($C$7=\"Western Australia\", 'K values'!AW159, \"\"))))))))","v":""},{"$f":"IF($C$7=\"Australian Capital Territory\", 'K values'!H159, IF($C$7=\"New South Wales\", 'K values'!N159, IF($C$7=\"Northern Territory\", 'K values'!T159, IF($C$7=\"Queensland\", 'K values'!Z159, IF($C$7=\"South Australia\", 'K values'!AF159, IF($C$7=\"Tasmania\", 'K values'!AL159, IF($C$7=\"Victoria\", 'K values'!AR159, IF($C$7=\"Western Australia\", 'K values'!AX159, \"\"))))))))","v":""},{"$f":"IF($C$7=\"Australian Capital Territory\", 'K values'!I159, IF($C$7=\"New South Wales\", 'K values'!O159, IF($C$7=\"Northern Territory\", 'K values'!U159, IF($C$7=\"Queensland\", 'K values'!AA159, IF($C$7=\"South Australia\", 'K values'!AG159, IF($C$7=\"Tasmania\", 'K values'!AM159, IF($C$7=\"Victoria\", 'K values'!AS159, IF($C$7=\"Western Australia\", 'K values'!AY159, \"\"))))))))","v":""},{"$f":"IF($C$7=\"Australian Capital Territory\", 'K values'!J159, IF($C$7=\"New South Wales\", 'K values'!P159, IF($C$7=\"Northern Territory\", 'K values'!V159, IF($C$7=\"Queensland\", 'K values'!AB159, IF($C$7=\"South Australia\", 'K values'!AH159, IF($C$7=\"Tasmania\", 'K values'!AN159, IF($C$7=\"Victoria\", 'K values'!AT159, IF($C$7=\"Western Australia\", 'K values'!AZ159, \"\"))))))))","v":""},{"$f":"IF($C$7=\"Australian Capital Territory\", 'K values'!K159, IF($C$7=\"New South Wales\", 'K values'!Q159, IF($C$7=\"Northern Territory\", 'K values'!W159, IF($C$7=\"Queensland\", 'K values'!AC159, IF($C$7=\"South Australia\", 'K values'!AI159, IF($C$7=\"Tasmania\", 'K values'!AO159, IF($C$7=\"Victoria\", 'K values'!AU159, IF($C$7=\"Western Australia\", 'K values'!BA159, \"\"))))))))","v":""}]
[{"$f":"IF($C$7=\"Australian Capital Territory\", 'K values'!G160, IF($C$7=\"New South Wales\", 'K values'!M160, IF($C$7=\"Northern Territory\", 'K values'!S160, IF($C$7=\"Queensland\", 'K values'!Y160, IF($C$7=\"South Australia\", 'K values'!AE160, IF($C$7=\"Tasmania\", 'K values'!AK160, IF($C$7=\"Victoria\", 'K values'!AQ160, IF($C$7=\"Western Australia\", 'K values'!AW160, \"\"))))))))","v":""},{"$f":"IF($C$7=\"Australian Capital Territory\", 'K values'!H160, IF($C$7=\"New South Wales\", 'K values'!N160, IF($C$7=\"Northern Territory\", 'K values'!T160, IF($C$7=\"Queensland\", 'K values'!Z160, IF($C$7=\"South Australia\", 'K values'!AF160, IF($C$7=\"Tasmania\", 'K values'!AL160, IF($C$7=\"Victoria\", 'K values'!AR160, IF($C$7=\"Western Australia\", 'K values'!AX160, \"\"))))))))","v":""},{"$f":"IF($C$7=\"Australian Capital Territory\", 'K values'!I160, IF($C$7=\"New South Wales\", 'K values'!O160, IF($C$7=\"Northern Territory\", 'K values'!U160, IF($C$7=\"Queensland\", 'K values'!AA160, IF($C$7=\"South Australia\", 'K values'!AG160, IF($C$7=\"Tasmania\", 'K values'!AM160, IF($C$7=\"Victoria\", 'K values'!AS160, IF($C$7=\"Western Australia\", 'K values'!AY160, \"\"))))))))","v":""},{"$f":"IF($C$7=\"Australian Capital Territory\", 'K values'!J160, IF($C$7=\"New South Wales\", 'K values'!P160, IF($C$7=\"Northern Territory\", 'K values'!V160, IF($C$7=\"Queensland\", 'K values'!AB160, IF($C$7=\"South Australia\", 'K values'!AH160, IF($C$7=\"Tasmania\", 'K values'!AN160, IF($C$7=\"Victoria\", 'K values'!AT160, IF($C$7=\"Western Australia\", 'K values'!AZ160, \"\"))))))))","v":""},{"$f":"IF($C$7=\"Australian Capital Territory\", 'K values'!K160, IF($C$7=\"New South Wales\", 'K values'!Q160, IF($C$7=\"Northern Territory\", 'K values'!W160, IF($C$7=\"Queensland\", 'K values'!AC160, IF($C$7=\"South Australia\", 'K values'!AI160, IF($C$7=\"Tasmania\", 'K values'!AO160, IF($C$7=\"Victoria\", 'K values'!AU160, IF($C$7=\"Western Australia\", 'K values'!BA160, \"\"))))))))","v":""}]
[{"$f":"IF($C$7=\"Australian Capital Territory\", 'K values'!G161, IF($C$7=\"New South Wales\", 'K values'!M161, IF($C$7=\"Northern Territory\", 'K values'!S161, IF($C$7=\"Queensland\", 'K values'!Y161, IF($C$7=\"South Australia\", 'K values'!AE161, IF($C$7=\"Tasmania\", 'K values'!AK161, IF($C$7=\"Victoria\", 'K values'!AQ161, IF($C$7=\"Western Australia\", 'K values'!AW161, \"\"))))))))","v":""},{"$f":"IF($C$7=\"Australian Capital Territory\", 'K values'!H161, IF($C$7=\"New South Wales\", 'K values'!N161, IF($C$7=\"Northern Territory\", 'K values'!T161, IF($C$7=\"Queensland\", 'K values'!Z161, IF($C$7=\"South Australia\", 'K values'!AF161, IF($C$7=\"Tasmania\", 'K values'!AL161, IF($C$7=\"Victoria\", 'K values'!AR161, IF($C$7=\"Western Australia\", 'K values'!AX161, \"\"))))))))","v":""},{"$f":"IF($C$7=\"Australian Capital Territory\", 'K values'!I161, IF($C$7=\"New South Wales\", 'K values'!O161, IF($C$7=\"Northern Territory\", 'K values'!U161, IF($C$7=\"Queensland\", 'K values'!AA161, IF($C$7=\"South Australia\", 'K values'!AG161, IF($C$7=\"Tasmania\", 'K values'!AM161, IF($C$7=\"Victoria\", 'K values'!AS161, IF($C$7=\"Western Australia\", 'K values'!AY161, \"\"))))))))","v":""},{"$f":"IF($C$7=\"Australian Capital Territory\", 'K values'!J161, IF($C$7=\"New South Wales\", 'K values'!P161, IF($C$7=\"Northern Territory\", 'K values'!V161, IF($C$7=\"Queensland\", 'K values'!AB161, IF($C$7=\"South Australia\", 'K values'!AH161, IF($C$7=\"Tasmania\", 'K values'!AN161, IF($C$7=\"Victoria\", 'K values'!AT161, IF($C$7=\"Western Australia\", 'K values'!AZ161, \"\"))))))))","v":""},{"$f":"IF($C$7=\"Australian Capital Territory\", 'K values'!K161, IF($C$7=\"New South Wales\", 'K values'!Q161, IF($C$7=\"Northern Territory\", 'K values'!W161, IF($C$7=\"Queensland\", 'K values'!AC161, IF($C$7=\"South Australia\", 'K values'!AI161, IF($C$7=\"Tasmania\", 'K values'!AO161, IF($C$7=\"Victoria\", 'K values'!AU161, IF($C$7=\"Western Australia\", 'K values'!BA161, \"\"))))))))","v":""}]

{"sheet":"Pond depth calc","index":14,"n_rows":83,"n_cols":10,"rows_kept":83,"cut":false,"hidden":true,"merged":[]}
["Parameter","Units","Value"]
["Vt","m3",{"$f":"'11. Pond design'!C28","v":46000}]
["Dt","m",{"$f":"'11. Pond design'!C35","v":5},null,null,null,null,null,null,"(Lb + 2 zL d) x (Bb + 2 zB d)"]
["Lfsl","m",{"$f":"'11. Pond design'!C41","v":157.5}]
["ZL",null,{"$f":"'11. Pond design'!C36","v":2.5}]
["ZB",null,{"$f":"'11. Pond design'!C37","v":2.5},null,null,"d",1]
[]
["Bfsl","m",{"$f":"'11. Pond design'!C42","v":75.589080459770116},null,null,null,"zL"]
["Lb","m",{"$f":"'11. Pond design'!C45","v":132.5},null,null,null,"zB",null,null,"Lb x Bb"]
["Bb","m",{"$f":"'11. Pond design'!C46","v":50.589080459770116}]
[null,null,null,null,null,null,"Vs = (d / 6) [ Lb Bb + (Lb + 2 zL d) (Bb + 2 zB d) + (2 Lb + 2 zL d) (2 Bb + 2 zB d) ]"]
["Vt calc","m3",{"$f":"(C3/6)*(C4*C8+C9*C10+(C4+C9)*(C8+C10))","v":46000}]
[null,null,null,null,null,null,"0 = (4 / 3) zL zB d3 + (Lb zB + Bb zL) d2 + Lb Bb d - Vs"]
["Sludge Vol, Vs","m3",{"$f":"'11. Pond design'!C25","v":8909.2755671863761}]
["Ds, sludge depth above base","m",{"$f":"C31","v":1.2244716731785843}]
["Length at top of sludge","m",{"$f":"C9+2*C5*C15","v":138.62235836589292}]
["Breadth at top of sludge","m",{"$f":"C10+2*C6*C15","v":56.711438825663038}]
["Sludge Vol Calc Check","m3",{"$f":"(C15/6)*(C16*C17+C9*C10+(C16+C9)*(C17+C10))","v":8909.2755671863379}]
[null,null,{"$f":"C14-C18","v":3.8198777474462986E-11}]
[]
[]
["Solution of any cubic equation with real coefficients using Cardano's Method"]
[]
["0 = A d3 + B d2 + C d + D"]
[]
["A = (4 / 3) zL zB",null,{"$f":"(4/3)*C5*C6","v":8.3333333333333321},null,null,{"$f":"G26^3","v":3433.3310255817401},{"$f":"(((-C27^3)/(27*C26^3)+(C27*C28)/(6*C26^2)-C29/(2*C26))+SQRT(((-C27^3)/(27*C26^3)+(C27*C28)/(6*C26^2)-C29/(2*C26))^2+((C28/(3*C26)-(C27^2)/(9*C26^2))^3)))^(1/3)","v":15.085923207901567}]
["B = Lb zB + Bb zL",null,{"$f":"C9*C6+C10*C5","v":457.72270114942529},null,null,{"$f":"G27^3","v":87.97010904149127},{"$f":"(((-C27^3)/(27*C26^3)+(C27*C28)/(6*C26^2)-C29/(2*C26))-SQRT(((-C27^3)/(27*C26^3)+(C27*C28)/(6*C26^2)-C29/(2*C26))^2+((C28/(3*C26)-(C27^2)/(9*C26^2))^3)))^(1/3)","v":4.4474565112540283}]
["C =  Lb Bb",null,{"$f":"C9*C10","v":6703.0531609195405},null,null,null,{"$f":"-C27/(3*C26)","v":-18.308908045977013}]
["D = - Vs",null,{"$f":"-C14","v":-8909.2755671863761},null,null,null,{"$f":"SUM(G26:G28)","v":1.2244716731785843}]
[]
["d",null,{"$f":"(((-C27^3)/(27*C26^3)+(C27*C28)/(6*C26^2)-C29/(2*C26))+SQRT(((-C27^3)/(27*C26^3)+(C27*C28)/(6*C26^2)-C29/(2*C26))^2+((C28/(3*C26)-(C27^2)/(9*C26^2))^3)))^(1/3)+(((-C27^3)/(27*C26^3)+(C27*C28)/(6*C26^2)-C29/(2*C26))-SQRT(((-C27^3)/(27*C26^3)+(C27*C28)/(6*C26^2)-C29/(2*C26))^2+((C28/(3*C26)-(C27^2)/(9*C26^2))^3)))^(1/3)-C27/(3*C26)","v":1.2244716731785843},null,"https://math.vanderbilt.edu/schectex/courses/cubic/",null,null,null,null,"Vanderbilt University"]
[null,null,null,null,null,null,null,null,null,"2301 Vanderbilt Place"]
[null,null,null,null,null,null,null,null,null,"Nashville, TN 37235"]
["This yields: x3+Ex2+Fx+G=0"]
[]
["E = B/A",null,{"$f":"C27/C26","v":54.926724137931039}]
["F = C/A",null,{"$f":"C28/C26","v":804.366379310345}]
["G = D/A",null,{"$f":"C29/C26","v":-1069.1130680623653}]
[]
["The Depressed Cubic: y3 + by = c"]
["x = y - E/3"]
["b = F - E2/3",null,{"$f":"C37-C36^2/3","v":-201.28196219778033}]
["c = FE/3 - 2E3/27 -G",null,{"$f":"C37*C36/3-2*C36^3/27-C38","v":3521.3011346232352}]
["c2 + 4b3/27 ",null,{"$f":"C43^2+4*C42^3/27","v":11191439.661915038}]
[]
["y3 + by = c"]
["(Q + P)3 - 3QP(Q + P)  = Q3 + P3"]
["y = Q + P"]
["P = -b/(3Q)"]
["Q3 + P3 = c"]
["Q6 - cQ3 - b3/27 = 0"]
["Q3  = ( c + sqrt( c2 + 4b3/27) )/2 = Rexp(i*Phi)"]
[]
["R = abs((c + sqrt(c2 + 4b3/27))/2)  if  c2 + 4b3/27 > 0",null,{"$f":"IF(C44>0,IF(ABS(C43+SQRT(C44))/2>0,ABS(C43+SQRT(C44))/2,ABS(C43-SQRT(C44))/2),SQRT(-C42^3/27))","v":3433.3310255817437}]
["R = sqrt(-b3/27)  if  c2 + 4b3/27 < 0"]
["Phi = 0, if c2 + 4b3/27 > 0  and  c + sqrt(c2 + 4b3/27) > 0",null,{"$f":"IF(C44>=0,IF(C43+SQRT(C44)>0,0,PI()),ACOS(C43/(2*C54)))","v":0}]
["Phi = PI, if c2 + 4b3/27 > 0  and  c + sqrt(c2 + 4b3/27) < 0"]
["cos(Phi) = c/(2R)  if  c2 + 4b3/27 < 0"]
["Phi needs to be a First or Second Quadrant Angle consistent with a non negative imaginary part."]
["Solve for Q : The three cube roots"]
[]
["Q0 = R^(1/3)cos(Phi/3)+iR^(1/3)sin(Phi/3)",null,{"$f":"$C$54^(1/3)*COS($C$56/3)","v":15.085923207901574}," + i",{"$f":"$C$54^(1/3)*SIN($C$56/3)","v":0}]
["Q1 = R^(1/3)cos((Phi+2PI)/3)+iR^(1/3)sin((Phi+2PI)/3)",null,{"$f":"$C$54^(1/3)*COS(($C$56+2*PI())/3)","v":-7.5429616039507836}," + i",{"$f":"$C$54^(1/3)*SIN(($C$56+2*PI())/3)","v":13.064792737583996}]
["Q2 = R^(1/3)cos((Phi+4PI)/3)+iR^(1/3)sin((Phi+4PI)/3)",null,{"$f":"$C$54^(1/3)*COS(($C$56+4*PI())/3)","v":-7.5429616039507943}," + i",{"$f":"$C$54^(1/3)*SIN(($C$56+4*PI())/3)","v":-13.064792737583991}]
[]
["P0 = -b/(3R^(1/3))( cos(Phi/3) - isin(Phi/3) )",null,{"$f":"-$C$42/(3*$C$54^(1/3))*COS(($C$56)/3)","v":4.4474565112540274}," + i",{"$f":"$C$42/(3*$C$54^(1/3))*SIN(($C$56)/3)","v":0}]
["P1 = -b/(3R^(1/3))( cos((Phi+2PI)/3) - isin((Phi+2PI)/3) )",null,{"$f":"-$C$42/(3*$C$54^(1/3))*COS(($C$56+2*PI())/3)","v":-2.2237282556270128}," + i",{"$f":"$C$42/(3*$C$54^(1/3))*SIN(($C$56+2*PI())/3)","v":-3.8516103209725001}]
["P2 = -b/(3R^(1/3))( cos((Phi+4PI)/3) - isin((Phi+4PI)/3) )",null,{"$f":"-$C$42/(3*$C$54^(1/3))*COS(($C$56+4*PI())/3)","v":-2.2237282556270155}," + i",{"$f":"$C$42/(3*$C$54^(1/3))*SIN(($C$56+4*PI())/3)","v":3.8516103209724988}]
[]
["y0 = Q0 + P0",null,{"$f":"C62+C66","v":19.533379719155601}," + i",{"$f":"E62+E66","v":0}]
["y1 = Q1 + P1",null,{"$f":"C63+C67","v":-9.7666898595777969}," + i",9.2131824166114953]
["y2 = Q2 + P2",null,-9.7666898595778093," + i",-9.2131824166114917]
[]
["x0 = y0 - E/3",null,{"$f":"IF(($C$54=0),IF($C$29>0,-$C$29^(1/3),(-$C$29)^(1/3)),C70-$C$36/3)","v":1.2244716731785878}," + i",{"$f":"IF(($C$54=0),0,E70)","v":0}]
["x1 = y1 - E/3",null,{"$f":"IF(($C$54=0),IF($C$29>0,-$C$29^(1/3),(-$C$29)^(1/3)),C71-$C$36/3)","v":-28.075597905554808}," + i",{"$f":"IF(($C$54=0),0,E71)","v":9.2131824166114953}]
["x2 = y2 - E/3",null,{"$f":"IF(($C$54=0),IF($C$29>0,-$C$29^(1/3),(-$C$29)^(1/3)),C72-$C$36/3)","v":-28.075597905554822}," + i",{"$f":"IF(($C$54=0),0,E72)","v":-9.2131824166114917}]
[]
["Check:"]
["Ax03+BX02+CX0+D=",null,{"$f":"$C$26*(C74^3-3*C74*E74^2)+$C$27*(C74^2-E74^2)+$C$28*C74+$C$29","v":0}," + i",{"$f":"$C$26*(3*C74^2*E74-E74^3)+$C$27*2*C74*E74+$C$28*E74","v":0}]
["Ax13+BX12+CX1+D=",null,{"$f":"$C$26*(C75^3-3*C75*E75^2)+$C$27*(C75^2-E75^2)+$C$28*C75+$C$29","v":6.730260793119669E-11}," + i",{"$f":"$C$26*(3*C75^2*E75-E75^3)+$C$27*2*C75*E75+$C$28*E75","v":0}]
["Ax23+BX22+CX2+D=",null,{"$f":"$C$26*(C76^3-3*C76*E76^2)+$C$27*(C76^2-E76^2)+$C$28*C76+$C$29","v":9.6406438387930393E-11}," + i",{"$f":"$C$26*(3*C76^2*E76-E76^3)+$C$27*2*C76*E76+$C$28*E76","v":0}]
[]
["https://www.google.com.au/url?sa=t&rct=j&q=&esrc=s&source=web&cd=6&cad=rja&uact=8&ved=0ahUKEwjAtOPC8uDYAhUFTLwKHXZfAYYQFghEMAU&url=http%3A%2F%2Fmy.execpc.com%2F~aplehnen%2FCubic_Solution.xls&usg=AOvVaw0HqIK41cvNGhNWwrJhHBse"]

{"sheet":"K values","index":15,"n_rows":691,"n_cols":53,"rows_kept":691,"cut":false,"hidden":true,"merged":[]}
["State","Location","Latitude","Longitude","K Value","Climate","State","Location","Latitude","Longitude","K Value",null,"State","Location","Latitude","Longitude","K Value",null,"State","Location","Latitude","Longitude","K Value",null,"State","Location","Latitude","Longitude","K Value",null,"State","Location","Latitude","Longitude","K Value",null,"State","Location","Latitude","Longitude","K Value",null,"State","Location","Latitude","Longitude","K Value",null,"State","Location","Latitude","Longitude","K Value"]
["Australian Capital Territory","Canberra",-35.200000000000003,149.1,0.57999999999999996,{"$f":"IF(E2<0.7,\"Cool\",IF(E2<0.9,\"Warm\",\"Hot\"))","v":"Cool"},"Australian Capital Territory","Canberra",-35.200000000000003,149.1,0.57999999999999996,null,"New South Wales","Albury",-36.049999999999997,146.55000000000001,0.75,null,"Northern Territory","Alice Springs",-23.5,133.53,1,null,"Queensland","Adavale",-25.55,144.36000000000001,1.0900000000000001,null,"South Australia","Adelaide",-34.56,138.36000000000001,0.8,null,"Tasmania","Bicheno",-41.53,148.18,0.56999999999999995,null,"Victoria","Aberfeldy",-37.42,146.22,0.36,null,"Western Australia","Albany",-35.020000000000003,117.52,0.7]
["Australian Capital Territory","Gudgenby",-35.450000000000003,148.59,0.4,{"$f":"IF(E3<0.7,\"Cool\",IF(E3<0.9,\"Warm\",\"Hot\"))","v":"Cool"},"Australian Capital Territory","Gudgenby",-35.450000000000003,148.59,0.4,null,"New South Wales","Ardlethan",-34.21,146.54,0.74,null,"Northern Territory","Avon Downs Homestd",-20.02,137.29,1.26,null,"Queensland","Atherton",-17.16,145.29,0.98,null,"South Australia","Angorichina",-31.05,138.44999999999999,0.83,null,"Tasmania","Bothwell",-42.23,147.01,0.4,null,"Victoria","Alexandra PO",-37.119999999999997,145.43,0.57999999999999996,null,"Western Australia","Anna Plains",-19.11,121.37,1.35]
["New South Wales","Albury",-36.049999999999997,146.55000000000001,0.75,{"$f":"IF(E4<0.7,\"Cool\",IF(E4<0.9,\"Warm\",\"Hot\"))","v":"Warm"},null,null,null,null,null,null,"New South Wales","Armidale",-30.31,151.38,0.61,null,"Northern Territory","Barrow Creek PO",-21.3,133.54,1.22,null,"Queensland","Ayr",-19.350000000000001,147.24,1.18,null,"South Australia","Berri",-34.17,140.36000000000001,0.77,null,"Tasmania","Bridport PO",-41,147.24,0.55000000000000004,null,"Victoria","Ararat",-37.17,142.56,0.57999999999999996,null,"Western Australia","Balladonia",-32.28,123.52,0.78]
["New South Wales","Ardlethan",-34.21,146.54,0.74,"Warm",null,null,null,null,null,null,"New South Wales","Badgerys Creek",-33.520000000000003,150.44,0.78,null,"Northern Territory","Borroloola",-16.05,136.19999999999999,1.37,null,"Queensland","Baralaba PO",-24.11,149.49,1.1000000000000001,null,"South Australia","Bundaleer Forest",-33.17,138.35,0.66,null,"Tasmania","Bronte Park",-42.08,146.30000000000001,0.33,null,"Victoria","Aspendale (CSIRO)",-38.020000000000003,145.06,0.63,null,"Western Australia","Bencubbin",-30.48,117.51,0.86]
["New South Wales","Armidale",-30.31,151.38,0.61,"Cool",null,null,null,null,null,null,"New South Wales","Balranald PO",-34.380000000000003,143.34,0.78,null,"Northern Territory","Brunette Downs",-18.39,135.57,1.34,null,"Queensland","Barcaldine",-23.34,145.16999999999999,1.1399999999999999,null,"South Australia","Cape Borda",-35.450000000000003,136.35,0.64,null,"Tasmania","Burnie",-41.06,145.54,0.52,null,"Victoria","Avoca",-37.049999999999997,143.29,0.6,null,"Western Australia","Beverley",-32.06,116.54,0.81]
["New South Wales","Badgerys Creek",-33.520000000000003,150.44,0.78,"Warm",null,null,null,null,null,null,"New South Wales","Baradine Forest",-30.57,149.04,0.82,null,"Northern Territory","Cape Don Light",-11.19,131.46,1.4,null,"Queensland","Beaudesert Shire",-27.48,153,0.94,null,"South Australia","Cape De Couedie",-36.04,136.41999999999999,0.64,null,"Tasmania","Bushy Park",-42.42,147.02000000000001,0.49,null,"Victoria","Bairnsdale",-37.5,147.38,0.59,null,"Western Australia","Booylgoo",-27.45,119.55,0.99]
["New South Wales","Balranald PO",-34.380000000000003,143.34,0.78,"Warm",null,null,null,null,null,null,"New South Wales","Barraba PO",-30.23,150.36000000000001,0.73,null,"Northern Territory","Charlotte Waters",-25.55,134.55000000000001,1.06,null,"Queensland","Biloela",-24.24,150.30000000000001,0.98,null,"South Australia","Cape Northumberland",-38.04,140.4,0.59,null,"Tasmania","Bushy Park (Hops)",-42.43,146.53,0.47,null,"Victoria","Ballan (Fiskville)",-37.36,144.12,0.5,null,"Western Australia","Boyup Brook PO",-33.5,116.23,0.69]
["New South Wales","Baradine Forest",-30.57,149.04,0.82,"Warm",null,null,null,null,null,null,"New South Wales","Bathurst",-33.25,149.34,0.62,null,"Northern Territory","Croker Island",-11.09,132.35,1.39,null,"Queensland","Birdsville",-25.55,139.22,1.1499999999999999,null,"South Australia","Cape Willoughby",-35.51,138.07,0.66,null,"Tasmania","Butlers Gorge",-42.17,146.16,0.31,null,"Victoria","Ballarat",-37.33,143.52000000000001,0.51,null,"Western Australia","Bridgetown",-33.57,116.07,0.67]
["New South Wales","Barraba PO",-30.23,150.36000000000001,0.73,"Warm",null,null,null,null,null,null,"New South Wales","Bega",-36.4,149.5,0.7,null,"Northern Territory","Curtain Springs",-25.19,131.44999999999999,1.03,null,"Queensland","Blackall",-24.25,145.28,1.1100000000000001,null,"South Australia","Ceduna",-32.08,133.4,0.77,null,"Tasmania","Cape Bruni",-43.29,147.08000000000001,0.45,null,"Victoria","Beechworth",-36.22,146.43,0.78,null,"Western Australia","Brookton PO",-32.22,117.01,0.76]
["New South Wales","Bathurst",-33.25,149.34,0.62,"Cool",null,null,null,null,null,null,"New South Wales","Bellangry Brie",-31.2,152.35,0.84,null,"Northern Territory","Daly Waters",-16.149999999999999,133.22,1.39,null,"Queensland","Bollon",-28.02,147.29,1,null,"South Australia","Clare",-33.5,138.37,0.66,null,"Tasmania","Cape Sorell",-42.12,145.1,0.49,null,"Victoria","Benalla",-36.33,145.59,0.67,null,"Western Australia","Broome",-17.57,122.14,1.37]
["New South Wales","Bega",-36.4,149.5,0.7,"Warm",null,null,null,null,null,null,"New South Wales","Bellingen PO",-30.27,152.54,0.89,null,"Northern Territory","Darwin",-12.28,130.5,1.44,null,"Queensland","Boulia",-22.55,139.54,1.26,null,"South Australia","Cleve PO",-33.42,136.30000000000001,0.76,null,"Tasmania","Cradle Valley",-41.38,145.57,0.27,null,"Victoria","Bendigo",-36.46,144.16,0.66,null,"Western Australia","Bunbury",-33.200000000000003,115.38,0.78]
["New South Wales","Bellangry Brie",-31.2,152.35,0.84,"Warm",null,null,null,null,null,null,"New South Wales","Berrigan PO",-35.39,145.47999999999999,0.73,null,"Northern Territory","Elcho Island",-11.55,135.44999999999999,1.41,null,"Queensland","Bowen",-20.010000000000002,148.13999999999999,1.21,null,"South Australia","Coober Pedy",-29.01,134.44999999999999,1,null,"Tasmania","Cressy Research",-41.43,147.05000000000001,0.46,null,"Victoria","Beulah PO",-35.57,142.25,0.7,null,"Western Australia","Busselton",-33.39,115.21,0.76]
["New South Wales","Bellingen PO",-30.27,152.54,0.89,"Warm",null,null,null,null,null,null,"New South Wales","Bingara PO",-29.52,150.34,0.87,null,"Northern Territory","Finke PO",-25.35,134.34,1.1100000000000001,null,"Queensland","Brisbane",-27.28,153.02000000000001,1,null,"South Australia","Cook PO",-30.37,130.25,0.86,null,"Tasmania","Currie",-39.56,143.5,0.54,null,"Victoria","Birchip PO",-35.590000000000003,142.54,0.7,null,"Western Australia","Camballin",-17.579999999999998,124.06,1.48]
["New South Wales","Berrigan PO",-35.39,145.47999999999999,0.73,"Warm",null,null,null,null,null,null,"New South Wales","Black Spring SF",-33.51,149.44,0.44,null,"Northern Territory","Goulburn Is Sound",-11.39,133.22999999999999,1.42,null,"Queensland","Bulburin (Forest)",-24.32,151.28,0.88,null,"South Australia","Elliston",-33.39,134.53,0.75,null,"Tasmania","Deloraine",-41.32,146.4,0.4,null,"Victoria","Bogong",-36.479999999999997,147.13999999999999,0.5,null,"Western Australia","Cape Leeuwin",-34.22,115.08,0.78]
["New South Wales","Bingara PO",-29.52,150.34,0.87,"Warm",null,null,null,null,null,null,"New South Wales","Blayney PO",-33.32,149.16,0.48,null,"Northern Territory","Groote Eylandt",-13.59,136.28,1.33,null,"Queensland","Bundaberg",-24.52,152.21,1.04,null,"South Australia","Ernabella",-26.17,132.08000000000001,0.95,null,"Tasmania","Devonport East",-41.11,146.22,0.51,null,"Victoria","Boort",-36.06,143.41999999999999,0.71,null,"Western Australia","Cape Leveque",-16.239999999999998,122.55,1.38]
["New South Wales","Black Spring SF",-33.51,149.44,0.44,"Cool",null,null,null,null,null,null,"New South Wales","Bombala (Chusan)",-36.54,149.13999999999999,0.48,null,"Northern Territory","Hooker Creek",-18.2,130.38,1.35,null,"Queensland","Burketown",-17.440000000000001,139.33000000000001,1.33,null,"South Australia","Euduna",-34.11,139.05000000000001,0.66,null,"Tasmania","Eddystone Point",-41,148.21,0.56000000000000005,null,"Victoria","Brighton East",-37.56,145.01,0.65,null,"Western Australia","Cape Naturaliste",-33.32,115.01,0.76]
["New South Wales","Blayney PO",-33.32,149.16,0.48,"Cool",null,null,null,null,null,null,"New South Wales","Bourke",-30.06,145.57,0.99,null,"Northern Territory","Inverway Stn",-17.5,129.38999999999999,1.31,null,"Queensland","Bustard Head",-24.02,151.44999999999999,1.07,null,"South Australia","Farina",-30.04,138.16999999999999,0.94,null,"Tasmania","Erriba",-41.27,146.07,0.33,null,"Victoria","Camperdown",-38.14,143.1,0.59,null,"Western Australia","Carnamah",-29.5,115.53,0.92]
["New South Wales","Bombala (Chusan)",-36.54,149.13999999999999,0.48,"Cool",null,null,null,null,null,null,"New South Wales","Brewarrina",-29.57,146.52000000000001,0.96,null,"Northern Territory","Katherine",-14.18,132.28,1.39,null,"Queensland","Cairns",-16.55,145.47,1.24,null,"South Australia","Fowlers Bay",-31.59,132.34,0.78,null,"Tasmania","Grove Research",-42.59,147.06,0.45,null,"Victoria","Cann River Forest",-37.340000000000003,149.09,0.62,null,"Western Australia","Carnamah",-29.41,115.53,0.93]
["New South Wales","Bourke",-30.06,145.57,0.99,"Hot",null,null,null,null,null,null,"New South Wales","Broken Hill",-31.57,141.25,0.84,null,"Northern Territory","Katherine PO",-14.28,132.16,1.41,null,"Queensland","Caloundra (Sig)",-26.48,153.09,1,null,"South Australia","Georgetown PO",-33.22,138.24,0.73,null,"Tasmania","Hastings Chalet",-43.25,146.53,0.43,null,"Victoria","Cape Otway",-38.51,143.31,0.56999999999999995,null,"Western Australia","Carnarvon",-24.52,113.38,1.08]
["New South Wales","Brewarrina",-29.57,146.52000000000001,0.96,"Hot",null,null,null,null,null,null,"New South Wales","Broken Hill Aero",-31.54,141.36000000000001,0.83,null,"Northern Territory","Larrimah PO",-15.35,133.13,1.39,null,"Queensland","Cambooya",-27.43,151.52000000000001,0.79,null,"South Australia","Hawker PO",-31.53,138.25,0.82,null,"Tasmania","Hobart",-42.55,147.19999999999999,0.51,null,"Victoria","Cape Schanck",-38.299999999999997,144.53,0.59,null,"Western Australia","Cashmere Downs",-28.57,119.35,1.01]
["New South Wales","Broken Hill",-31.57,141.25,0.84,"Warm",null,null,null,null,null,null,"New South Wales","Burrinjuck Dam",-35,148.36000000000001,0.65,null,"Northern Territory","Maningrida",-12.03,134.13999999999999,1.36,null,"Queensland","Camooweal",-19.55,138.07,1.29,null,"South Australia","Kadina",-33.58,137.43,0.77,null,"Tasmania","Hobart Airport",-42.5,147.32,0.51,null,"Victoria","Casterton (Clim)",-37.35,141.24,0.61,null,"Western Australia","Chapman Res Stn",-28.28,114.46,0.94]
["New South Wales","Broken Hill Aero",-31.54,141.36000000000001,0.83,"Warm",null,null,null,null,null,null,"New South Wales","Cabramurra (SMC)",-35.56,148.22999999999999,0.33,null,"Northern Territory","Middle Point",-12.27,131.16999999999999,1.39,null,"Queensland","Cape Capricorn",-23.3,151.13999999999999,1.07,null,"South Australia","Kapunda PO",-34.21,138.55000000000001,0.71,null,"Tasmania","Hythe",-43.25,146.04,0.44,null,"Victoria","Charlton",-36.159999999999997,143.21,0.68,null,"Western Australia","Collie",-33.22,116.09,0.69]
["New South Wales","Burrinjuck Dam",-35,148.36000000000001,0.65,"Cool",null,null,null,null,null,null,"New South Wales","Campbelltown",-34.049999999999997,150.49,0.77,null,"Northern Territory","Millingimbi",-12.06,134.54,1.36,null,"Queensland","Cape Cleveland",-19.11,147.02000000000001,1.24,null,"South Australia","Keith",-36.06,140.21,0.7,null,"Tasmania","Lake St Clair",-42.06,146.13,0.31,null,"Victoria","Clunes",-37.18,143.47,0.54,null,"Western Australia","Coolgardie",-30.57,121.1,0.85]
["New South Wales","Cabramurra (SMC)",-35.56,148.22999999999999,0.33,"Cool",null,null,null,null,null,null,"New South Wales","Cessnock PO",-32.5,151.21,0.86,null,"Northern Territory","Newcastle Waters",-17.22,133.25,1.39,null,"Queensland","Cape Moreton",-27.02,153.25,1,null,"South Australia","Kimba PO",-33.090000000000003,136.25,0.76,null,"Tasmania","Launceston",-41.25,147.08000000000001,0.54,null,"Victoria","Clunes PO",-37.24,143.47999999999999,0.54,null,"Western Australia","Corrigin PO",-32.200000000000003,117.52,0.77]
["New South Wales","Campbelltown",-34.049999999999997,150.49,0.77,"Warm",null,null,null,null,null,null,"New South Wales","Clarence Heads",-29.26,153.22,0.92,null,"Northern Territory","Noonamah",-12.35,131.05000000000001,1.38,null,"Queensland","Cardwell",-18.16,146.02000000000001,1.1599999999999999,null,"South Australia","Kingscote",-35.4,137.38,0.67,null,"Tasmania","Launceston Aero",-41.33,147.13,0.47,null,"Victoria","Colac",-38.200000000000003,143.35,0.56999999999999995,null,"Western Australia","Cossack",-20.5,117.12,1.34]
["New South Wales","Cessnock PO",-32.5,151.21,0.86,"Warm",null,null,null,null,null,null,"New South Wales","Cobar",-31.3,145.49,0.89,null,"Northern Territory","Oenpelli",-12.2,133.04,1.43,null,"Queensland","Casino PO",-28.52,153.03,0.98,null,"South Australia","Kyancutta",-33.08,135.34,0.79,null,"Tasmania","Low Head",-41.04,146.47999999999999,0.51,null,"Victoria","Corryong Forest",-36.119999999999997,147.54,0.61,null,"Western Australia","Cue",-27.25,117.54,1.06]
["New South Wales","Clarence Heads",-29.26,153.22,0.92,"Hot",null,null,null,null,null,null,"New South Wales","Coffs Harbour",-30.19,153.08000000000001,0.86,null,"Northern Territory","Port Keats Mission",-14.14,129.34,1.36,null,"Queensland","Charleville",-26.24,146.15,1.04,null,"South Australia","Kybybolite",-36.54,141,0.59,null,"Tasmania","Maatsuyker Is",-43.41,146.16999999999999,0.42,null,"Victoria","Creswick For Sch",-37.25,143.54,0.53,null,"Western Australia","Cunderdin",-31.39,117.14,0.85]
["New South Wales","Cobar",-31.3,145.49,0.89,"Warm",null,null,null,null,null,null,"New South Wales","Collarenebri",-29.33,148.35,0.98,null,"Northern Territory","Ringwood Stn",-23.5,134.57,1.07,null,"Queensland","Charters Towers",-20.059999999999999,146.16,1.18,null,"South Australia","Lameroo PO",-35.200000000000003,140.31,0.7,null,"Tasmania","Maydena",-42.46,146.36000000000001,0.4,null,"Victoria","Dookie",-36.200000000000003,145.41999999999999,0.71,null,"Western Australia","Dallwallinu",-30.17,116.39,0.9]
["New South Wales","Coffs Harbour",-30.19,153.08000000000001,0.86,"Warm",null,null,null,null,null,null,"New South Wales","Condobolin PO",-33.049999999999997,147.09,0.82,null,"Northern Territory","Roper River Mission",-14.44,134.44,1.43,null,"Queensland","Childers",-25.15,152.16,1.04,null,"South Australia","Leigh Creek",-30.28,138.26,0.93,null,"Tasmania","Miena",-41.59,146.44,0.25,null,"Victoria","Durdidwarrah",-37.49,144.13,0.53,null,"Western Australia","Denmark Res Stn",-34.56,117.2,0.67]
["New South Wales","Collarenebri",-29.33,148.35,0.98,"Hot",null,null,null,null,null,null,"New South Wales","Coolah Bowl Club",-31.5,149.43,0.67,null,"Northern Territory","Snake Bay",-11.25,130.4,1.39,null,"Queensland","Clermont",-22.49,147.38,1.0900000000000001,null,"South Australia","Loxton",-34.270000000000003,140.34,0.74,null,"Tasmania","Oatlands",-42.18,147.22,0.41,null,"Victoria","Echuca",-36.08,144.44999999999999,0.72,null,"Western Australia","Derby",-17.18,123.38,1.44]
["New South Wales","Condobolin PO",-33.049999999999997,147.09,0.82,"Warm",null,null,null,null,null,null,"New South Wales","Coolongalook SF",-32.119999999999997,152.12,0.77,null,"Northern Territory","Tempe Downs",-24.23,132.26,1.03,null,"Queensland","Cloncurry",-20.43,140.30000000000001,1.34,null,"South Australia","Lucindale PO",-36.590000000000003,140.22,0.65,null,"Tasmania","Orford PO",-42.34,147.52000000000001,0.52,null,"Victoria","Erica State Forest",-38,146.24,0.53,null,"Western Australia","Donnybrook",-33.44,115.49,0.73]
["New South Wales","Coolah Bowl Club",-31.5,149.43,0.67,"Cool",null,null,null,null,null,null,"New South Wales","Cooma",-36.14,149.07,0.52,null,"Northern Territory","Tennant Creek",-19.39,134.12,1.29,null,"Queensland","Coen",-13.56,143.12,1.26,null,"South Australia","Maitland PO",-34.229999999999997,137.4,0.72,null,"Tasmania","Pats River",-40.06,148.01,0.56000000000000005,null,"Victoria","Essendon Airport",-37.44,144.54,0.62,null,"Western Australia","Donnybrook PO",-33.340000000000003,115.49,0.76]
["New South Wales","Coolongalook SF",-32.119999999999997,152.12,0.77,"Warm",null,null,null,null,null,null,"New South Wales","Coonabarabran",-31.16,149.16999999999999,0.7,null,"Northern Territory","Victoria River",-16.239999999999998,131,1.44,null,"Queensland","Coen Aero",-13.46,143.07,1.31,null,"South Australia","Maralinga",-30.09,131.35,0.89,null,"Tasmania","Port Davey",-43.2,145.57,0.45,null,"Victoria","Euroa",-36.46,145.33000000000001,0.67,null,"Western Australia","Dwellingup",-32.44,116.04,0.67]
["New South Wales","Cooma",-36.14,149.07,0.52,"Cool",null,null,null,null,null,null,"New South Wales","Coonamble",-30.57,148.24,0.92,null,"Northern Territory","Wave Hill",-17.29,130.57,1.39,null,"Queensland","Collinsville",-20.329999999999998,147.5,1.1299999999999999,null,"South Australia","Marree",-29.39,138.04,0.97,null,"Tasmania","Redpa",-40.56,144.44999999999999,0.48,null,"Victoria","Forrest SF",-38.32,143.43,0.52,null,"Western Australia","Eclipse Is",-35.11,117.53,0.69]
["New South Wales","Coonabarabran",-31.16,149.16999999999999,0.7,"Warm",null,null,null,null,null,null,"New South Wales","Cootamundra",-34.39,148.02000000000001,0.7,null,"Northern Territory","Wonarah",-19.54,136.19999999999999,1.3,null,"Queensland","Consuelo",-24.48,148,0.85,null,"South Australia","Meningie",-35.229999999999997,138.58000000000001,0.68,null,"Tasmania","Risdon",-42.48,147.19999999999999,0.52,null,"Victoria","Gabo Island",-37.340000000000003,149.55000000000001,0.66,null,"Western Australia","Errabiddy",-25.27,117.11,1.18]
["New South Wales","Coonamble",-30.57,148.24,0.92,"Hot",null,null,null,null,null,null,"New South Wales","Corowa",-35,146.38999999999999,0.7,null,"Northern Territory","Yirrkala Mission",-12.15,136.55000000000001,1.37,null,"Queensland","Cooktown",-15.26,145.15,1.3,null,"South Australia","Minnipa Seed Farm",-32.5,135.1,0.8,null,"Tasmania","Ross (Ellinthorp)",-42,147.19,0.45,null,"Victoria","Geelong",-38.090000000000003,144.21,0.63,null,"Western Australia","Esperance",-33.51,121.53,0.75]
["New South Wales","Cootamundra",-34.39,148.02000000000001,0.7,{"$f":"IF(E38<0.7,\"Cool\",IF(E38<0.9,\"Warm\",\"Hot\"))","v":"Warm"},null,null,null,null,null,null,"New South Wales","Cowra PO",-33.54,148.41999999999999,0.72,null,"Northern Territory","Yuendumu",-22.16,131.47999999999999,1.1200000000000001,null,"Queensland","Coolangatta Aero",-28.1,153.30000000000001,0.95,null,"South Australia","Mount Gambier",-37.5,140.46,0.59,null,"Tasmania","Rossarden",-41.39,147.44,0.38,null,"Victoria","Gellibrand For",-38.32,143.32,0.52,null,"Western Australia","Esperance Downs",-33.36,121.48,0.73]
["New South Wales","Corowa",-35,146.38999999999999,0.7,{"$f":"IF(E39<0.7,\"Cool\",IF(E39<0.9,\"Warm\",\"Hot\"))","v":"Warm"},null,null,null,null,null,null,"New South Wales","Crookwell PO",-34.28,149.29,0.5,null,null,null,null,null,null,null,"Queensland","Crohamhurst",-26.49,152.5,0.92,null,"South Australia","Mt Barker",-35.04,138.52000000000001,0.59,null,"Tasmania","Scottsdale (Kraft)",-41.09,147.31,0.48,null,"Victoria","Hamilton",-37.450000000000003,142.02000000000001,0.55000000000000004,null,"Western Australia","Eucla",-31.43,128.52000000000001,0.81]
["New South Wales","Cowra PO",-33.54,148.41999999999999,0.72,"Warm",null,null,null,null,null,null,"New South Wales","Cumberland SF",-33.450000000000003,151,0.78,null,null,null,null,null,null,null,"Queensland","Cronulla",-25.24,151.24,1.06,null,"South Australia","Mt Burr Forest",-37.33,140.26,0.59,null,"Tasmania","Sheffield",-41.23,146.19999999999999,0.42,null,"Victoria","Heathcote PO",-36.56,144.41999999999999,0.61,null,"Western Australia","Fitzroy Crossing",-18.11,125.35,1.44]
["New South Wales","Crookwell PO",-34.28,149.29,0.5,"Cool",null,null,null,null,null,null,"New South Wales","Dalkeith",-32,149.58000000000001,0.72,null,null,null,null,null,null,null,"Queensland","Croydon",-18.13,142.41999999999999,1.41,null,"South Australia","Mt Crawford For",-34.43,138.57,0.56000000000000005,null,"Tasmania","Smithton PO",-40.51,145.08000000000001,0.51,null,"Victoria","Heywood For Off",-38.08,141.38,0.56999999999999995,null,"Western Australia","Forrest",-30.52,128.06,0.81]
["New South Wales","Cumberland SF",-33.450000000000003,151,0.78,"Warm",null,null,null,null,null,null,"New South Wales","Deepwater PO",-29.27,151.5,0.59,null,null,null,null,null,null,null,"Queensland","Croydon PO",-18.12,142.15,1.41,null,"South Australia","Murray Bridge",-35.07,139.16999999999999,0.73,null,"Tasmania","St Helens",-41.2,148.15,0.53,null,"Victoria","Horsham",-36.43,142.12,0.67,null,"Western Australia","Gascoyne Junction",-25.03,115.13,1.21]
["New South Wales","Dalkeith",-32,149.58000000000001,0.72,"Warm",null,null,null,null,null,null,"New South Wales","Deniliquin",-35.32,144.58000000000001,0.76,null,null,null,null,null,null,null,"Queensland","Cunnamulla",-28.16,145.49,1.04,null,"South Australia","Myponga",-35.24,138.28,0.57999999999999996,null,"Tasmania","Stanley",-40.46,145.18,0.52,null,"Victoria","Jeparit PO",-36.08,141.59,0.71,null,"Western Australia","Geraldton",-28.46,114.36,0.96]
["New South Wales","Deepwater PO",-29.27,151.5,0.59,"Cool",null,null,null,null,null,null,"New South Wales","Dubbo",-32.15,148.36000000000001,0.82,null,null,null,null,null,null,null,"Queensland","Cunnamulla",-28.04,145.41,1.03,null,"South Australia","Naracoorte PO",-36.58,140.44,0.63,null,"Tasmania","Swansea",-42.08,148.04,0.52,null,"Victoria","Kerang",-35.42,143.54,0.73,null,"Western Australia","Geraldton Met",-28.48,114.42,0.94]
["New South Wales","Deniliquin",-35.32,144.58000000000001,0.76,"Warm",null,null,null,null,null,null,"New South Wales","Dunedoo",-32.01,149.24,0.76,null,null,null,null,null,null,null,"Queensland","Dalby",-27.11,151.16,0.91,null,"South Australia","Neptune Island",-35.21,136.07,0.71,null,"Tasmania","Tasman Island",-43.15,148,0.41,null,"Victoria","Kyabram",-36.19,145.03,0.64,null,"Western Australia","Giles",-25.02,128.18,1.1200000000000001]
["New South Wales","Deniliquin",-35.22,145.03,0.73,"Warm",null,null,null,null,null,null,"New South Wales","Dungog",-32.24,151.46,0.81,null,null,null,null,null,null,null,"Queensland","Donors Hill",-18.43,140.33000000000001,1.35,null,"South Australia","Nonning",-32.31,136.30000000000001,0.8,null,"Tasmania","Tewkesbury Res",-41.14,145.41999999999999,0.38,null,"Victoria","Kyneton PO",-37.15,144.27000000000001,0.49,null,"Western Australia","Goomaling PO",-31.18,116.49,0.84]
["New South Wales","Dubbo",-32.15,148.36000000000001,0.82,"Warm",null,null,null,null,null,null,"New South Wales","Euston PO",-34.35,142.44,0.75,null,null,null,null,null,null,null,"Queensland","Double Is Point",-25.56,153.11000000000001,1.03,null,"South Australia","Nuriootpa Viticu",-34.29,139.01,0.65,null,"Tasmania","Waratah",-41.27,145.32,0.3,null,"Victoria","Lake Eildon",-37.14,145.55000000000001,0.61,null,"Western Australia","Halls Creek",-18.16,127.46,1.31]
["New South Wales","Dunedoo",-32.01,149.24,0.76,"Warm",null,null,null,null,null,null,"New South Wales","Forbes",-33.229999999999997,148,0.81,null,null,null,null,null,null,null,"Queensland","Emerald",-23.37,148.1,1.1100000000000001,null,"South Australia","Oodnadatta",-27.33,135.28,1.06,null,"Tasmania","Wynyard Aeradio",-41,145.41999999999999,0.46,null,"Victoria","Leongatha",-38.29,145.57,0.59,null,"Western Australia","Halls Creek",-18.14,127.4,1.39]
["New South Wales","Dungog",-32.24,151.46,0.81,"Warm",null,null,null,null,null,null,"New South Wales","Frogmore PO",-34.159999999999997,148.5,0.63,null,null,null,null,null,null,null,"Queensland","Fairview",-15.33,144.19,1.3,null,"South Australia","Parafield Plant",-34.46,138.38,0.76,null,"Tasmania","Zeehan PO",-41.53,145.19999999999999,0.41,null,"Victoria","Lismore PO",-37.58,143.21,0.59,null,"Western Australia","Hamelin Pool",-26.26,114.11,1.07]
["New South Wales","Euston PO",-34.35,142.44,0.75,"Warm",null,null,null,null,null,null,"New South Wales","Gilgandra",-31.42,148.41999999999999,0.81,null,null,null,null,null,null,null,"Queensland","Gatton",-27.33,152.16999999999999,0.96,null,"South Australia","Parndana East",-35.47,137.21,0.61,null,null,null,null,null,null,null,"Victoria","Longerenong",-36.42,142.18,0.64,null,"Western Australia","Hyden PO",-32.270000000000003,118.52,0.77]
["New South Wales","Forbes",-33.229999999999997,148,0.81,"Warm",null,null,null,null,null,null,"New South Wales","Glen Innes",-29.44,151.44,0.59,null,null,null,null,null,null,null,"Queensland","Gayndah",-25.38,151.36000000000001,1,null,"South Australia","Port Augusta",-32.299999999999997,137.46,0.9,null,null,null,null,null,null,null,"Victoria","Macedon State Nr",-37.25,144.34,0.48,null,"Western Australia","Kalamunda PO",-32,116.04,0.78]
["New South Wales","Frogmore PO",-34.159999999999997,148.5,0.63,"Cool",null,null,null,null,null,null,"New South Wales","Glenfield Vet Rs",-33.58,150.54,0.79,null,null,null,null,null,null,null,"Queensland","Georgetown",-18.18,143.32,1.29,null,"South Australia","Port Augusta Stn",-33.32,137.46,0.9,null,null,null,null,null,null,null,"Victoria","Maffra",-37.58,146.59,0.61,null,"Western Australia","Kalgoolie",-30.45,121.28,0.89]
["New South Wales","Gilgandra",-31.42,148.41999999999999,0.81,"Warm",null,null,null,null,null,null,"New South Wales","Glenorie",-33.36,151,0.78,null,null,null,null,null,null,null,"Queensland","Girard SF",-28.54,152.18,0.68,null,"South Australia","Port Lincoln",-34.44,135.52000000000001,0.73,null,null,null,null,null,null,null,"Victoria","Maldon",-37,144.06,0.6,null,"Western Australia","Kalumburu",-14.18,126.38,1.4]
["New South Wales","Glen Innes",-29.44,151.44,0.59,"Cool",null,null,null,null,null,null,"New South Wales","Goodooga PO",-29.07,147.27000000000001,0.99,null,null,null,null,null,null,null,"Queensland","Gladstone",-23.51,151.15,1.0900000000000001,null,"South Australia","Port Pirie",-33.11,138,0.87,null,null,null,null,null,null,null,"Victoria","Mangalore Aero",-36.54,145.1,0.64,null,"Western Australia","Karridale",-34.130000000000003,115.05,0.69]
["New South Wales","Glenfield Vet Rs",-33.58,150.54,0.79,"Warm",null,null,null,null,null,null,"New South Wales","Goulburn",-34.450000000000003,149.43,0.62,null,null,null,null,null,null,null,"Queensland","Goondiwindi",-28.33,150.19,0.95,null,"South Australia","Price",-34.18,138,0.76,null,null,null,null,null,null,null,"Victoria","Maryborough",-37.03,143.44,0.63,null,"Western Australia","Katanning",-33.42,117.33,0.71]
["New South Wales","Glenorie",-33.36,151,0.78,"Warm",null,null,null,null,null,null,"New South Wales","Grafton",-29.41,152.56,0.99,null,null,null,null,null,null,null,"Queensland","Gympie",-26.11,152.4,0.98,null,"South Australia","Renmark PO",-34.11,140.44999999999999,0.82,null,null,null,null,null,null,null,"Victoria","Melbourne",-37.5,145,0.66,null,"Western Australia","Kellerberrin",-31.38,117.43,0.84]
["New South Wales","Goodooga PO",-29.07,147.27000000000001,0.99,"Hot",null,null,null,null,null,null,"New South Wales","Green Cape",-37.159999999999997,150.03,0.66,null,null,null,null,null,null,null,"Queensland","Hayman Island",-20.03,148.54,1.24,null,"South Australia","Rennick",-37.5,140.59,0.56999999999999995,null,null,null,null,null,null,null,"Victoria","Mildura",-34.119999999999997,142.09,0.81,null,"Western Australia","Kimberley Res Stn",-15.47,128.41999999999999,1.44]
["New South Wales","Goulburn",-34.450000000000003,149.43,0.62,"Cool",null,null,null,null,null,null,"New South Wales","Grenfell PO",-33.54,148.1,0.72,null,null,null,null,null,null,null,"Queensland","Herberton",-17.239999999999998,145.28,0.96,null,"South Australia","Robe",-37.11,139.44999999999999,0.62,null,null,null,null,null,null,null,"Victoria","Mitta Mitta",-36.32,147.22,0.59,null,"Western Australia","Kojonup PO",-33.5,117.09,0.67]
["New South Wales","Grafton",-29.41,152.56,0.99,"Hot",null,null,null,null,null,null,"New South Wales","Griffith",-34.71,146.03,0.77,null,null,null,null,null,null,null,"Queensland","Heron Island",-23.26,151.55000000000001,1.17,null,"South Australia","Roseworthy",-34.32,138.44,0.75,null,null,null,null,null,null,null,"Victoria","Mornington",-38.119999999999997,145,0.66,null,"Western Australia","Kondinin PO",-32.299999999999997,118.16,0.79]
["New South Wales","Green Cape",-37.159999999999997,150.03,0.66,"Cool",null,null,null,null,null,null,"New South Wales","Griffith Res Stn",-34.17,146.02000000000001,0.73,null,null,null,null,null,null,null,"Queensland","Hughendon",-20.51,144.12,1.21,null,"South Australia","Serviceton",-36.22,140.59,0.63,null,null,null,null,null,null,null,"Victoria","Mount Eliza",-38.119999999999997,145.06,0.66,null,"Western Australia","La Grange Mission",-18.41,121.46,1.38]
["New South Wales","Grenfell PO",-33.54,148.1,0.72,"Warm",null,null,null,null,null,null,"New South Wales","Gulgong PO",-32.22,149.32,0.7,null,null,null,null,null,null,null,"Queensland","Imbil Forest",-26.28,152.4,0.98,null,"South Australia","Snowtown PO",-33.47,138.13,0.75,null,null,null,null,null,null,null,"Victoria","Mt Buffalo",-36.47,146.46,0.35,null,"Western Australia","Lake Grace",-33.07,118.28,0.76]
["New South Wales","Griffith",-34.71,146.03,0.77,"Warm",null,null,null,null,null,null,"New South Wales","Gunnedah",-30.59,150.15,0.86,null,null,null,null,null,null,null,"Queensland","Injune",-25.51,148.33000000000001,0.93,null,"South Australia","Stirling West",-35,138.43,0.55000000000000004,null,null,null,null,null,null,null,"Victoria","Mt St Leonard",-37.36,145.30000000000001,0.48,null,"Western Australia","Laverton",-28.38,122.25,0.98]
["New South Wales","Griffith Res Stn",-34.17,146.02000000000001,0.73,"Warm",null,null,null,null,null,null,"New South Wales","Gurnang",-34,150.06,0.39,null,null,null,null,null,null,null,"Queensland","Innisfail",-17.32,146.02000000000001,1.17,null,"South Australia","Strathalbyn",-35.159999999999997,138.54,0.68,null,null,null,null,null,null,null,"Victoria","Myrtleford",-36.33,146.44,0.62,null,"Western Australia","Leonora",-28.53,121.19,1.03]
["New South Wales","Gulgong PO",-32.22,149.32,0.7,"Warm",null,null,null,null,null,null,"New South Wales","Guyra PO",-30.13,151.4,0.48,null,null,null,null,null,null,null,"Queensland","Ipswich",-27.37,152.46,0.99,null,"South Australia","Streaky Bay",-32.479999999999997,134.13,0.81,null,null,null,null,null,null,null,"Victoria","Nhill",-36.21,141.38999999999999,0.65,null,"Western Australia","Madura Motel",-31.54,127,0.86]
["New South Wales","Gunnedah",-30.59,150.15,0.86,"Warm",null,null,null,null,null,null,"New South Wales","Harden PO",-34.33,148.22,0.66,null,null,null,null,null,null,null,"Queensland","Iron Range Aero",-12.47,143.18,1.28,null,"South Australia","Tailem Bend",-35.159999999999997,139.27000000000001,0.74,null,null,null,null,null,null,null,"Victoria","Numurkah",-36.06,145.24,0.72,null,"Western Australia","Mandora Homestead",-19.45,120.51,1.37]
["New South Wales","Gurnang",-34,150.06,0.39,"Cool",null,null,null,null,null,null,"New South Wales","Harrington PO",-31.52,152.41999999999999,0.84,null,null,null,null,null,null,null,"Queensland","Isisford PO",-24.15,144.26,1.1499999999999999,null,"South Australia","Tarcoola",-30.41,134.33000000000001,0.88,null,null,null,null,null,null,null,"Victoria","Olsons Bridge",-38.29,146.19,0.48,null,"Western Australia","Mandurah",-32.32,115.43,0.84]
["New South Wales","Guyra PO",-30.13,151.4,0.48,"Cool",null,null,null,null,null,null,"New South Wales","Harwood Sugar Mill",-29.26,153.15,0.9,null,null,null,null,null,null,null,"Queensland","Julia Creek PO",-20.399999999999999,141.44999999999999,1.3,null,"South Australia","Turretfield Res",-34.33,138.5,0.72,null,null,null,null,null,null,null,"Victoria","Omeo",-37.06,147.36000000000001,0.47,null,"Western Australia","Manjimup",-34.14,116.09,0.63]
["New South Wales","Harden PO",-34.33,148.22,0.66,"Cool",null,null,null,null,null,null,"New South Wales","Hay",-34.299999999999997,144.5,0.78,null,null,null,null,null,null,null,"Queensland","Kalpower Res",-24.42,151.18,0.89,null,"South Australia","Victor Harbour",-35.33,138.37,0.71,null,null,null,null,null,null,null,"Victoria","Omeo",-37.06,147.86000000000001,0.48,null,"Western Australia","Marble Bar",-21.11,119.44,1.47]
["New South Wales","Harrington PO",-31.52,152.41999999999999,0.84,{"$f":"IF(E69<0.7,\"Cool\",IF(E69<0.9,\"Warm\",\"Hot\"))","v":"Warm"},null,null,null,null,null,null,"New South Wales","Hillston PO",-33.29,145.32,0.82,null,null,null,null,null,null,null,"Queensland","Killarney",-28.2,152.18,0.76,null,"South Australia","Waikerie (Lands)",-34.11,139.59,0.8,null,null,null,null,null,null,null,"Victoria","Orbost",-37.42,148.27000000000001,0.6,null,"Western Australia","Mardie",-21.12,115.57,1.33]
["New South Wales","Harwood Sugar Mill",-29.26,153.15,0.9,"Hot",null,null,null,null,null,null,"New South Wales","Hume Reservoir",-36.06,147.02000000000001,0.69,null,null,null,null,null,null,null,"Queensland","Kingaroy",-26.32,151.5,0.82,null,"South Australia","Wanbi",-34.46,140.18,0.71,null,null,null,null,null,null,null,"Victoria","Ouyen",-35.06,142.18,0.76,null,"Western Australia","Margaret River",-33.57,115.04,0.72]
["New South Wales","Hay",-34.299999999999997,144.5,0.78,"Warm",null,null,null,null,null,null,"New South Wales","Inverell",-29.47,151.07,0.71,null,null,null,null,null,null,null,"Queensland","Kingaroy PO",-26.32,151.32,0.84,null,"South Australia","Warooka PO",-34.590000000000003,137.25,0.73,null,null,null,null,null,null,null,"Victoria","Portland",-38.21,141.36000000000001,0.59,null,"Western Australia","Meekatharra",-26.36,118.29,1.0900000000000001]
["New South Wales","Hillston PO",-33.29,145.32,0.82,"Warm",null,null,null,null,null,null,"New South Wales","Ivanhoe",-32.54,144.18,0.85,null,null,null,null,null,null,null,"Queensland","Lady Elliot Is",-24.07,152.43,1.1499999999999999,null,"South Australia","Whyalla PO",-33.020000000000003,137.35,0.85,null,null,null,null,null,null,null,"Victoria","Portsea Quarantine",-38.19,144.41999999999999,0.61,null,"Western Australia","Menzies",-29.41,121.02,0.92]
["New South Wales","Hume Reservoir",-36.06,147.02000000000001,0.69,"Cool",null,null,null,null,null,null,"New South Wales","Jerrys Plains PO",-32.299999999999997,150.55000000000001,0.82,null,null,null,null,null,null,null,"Queensland","Longreach",-23.27,144.15,1.1599999999999999,null,"South Australia","Woomera",-31.12,136.47999999999999,0.89,null,null,null,null,null,null,null,"Victoria","Powelltown",-37.520000000000003,145.44999999999999,0.56000000000000005,null,"Western Australia","Merredin Agr Rs",-31.29,118.17,0.83]
["New South Wales","Inverell",-29.47,151.07,0.71,"Warm",null,null,null,null,null,null,"New South Wales","Jervis Bay",-35.08,150.41999999999999,0.77,null,null,null,null,null,null,null,"Queensland","Low Isles",-16.23,145.34,1.33,null,"South Australia","Yongala",-33.020000000000003,138.44999999999999,0.65,null,null,null,null,null,null,null,"Victoria","Rainbow PO",-35.54,142,0.72,null,"Western Australia","Merredin Shire",-31.29,118.11,0.82]
["New South Wales","Ivanhoe",-32.54,144.18,0.85,"Warm",null,null,null,null,null,null,"New South Wales","Jervis Bay",-35.06,150.47999999999999,0.77,null,null,null,null,null,null,null,"Queensland","Mackay Sugar",-21.1,149.13,1.08,null,"South Australia","Yudjapinna",-32.08,137.09,0.87,null,null,null,null,null,null,null,"Victoria","Rochester",-36.21,144.41999999999999,0.69,null,"Western Australia","Mingenew",-29.11,115.26,0.97]
["New South Wales","Jerrys Plains PO",-32.299999999999997,150.55000000000001,0.82,"Warm",null,null,null,null,null,null,"New South Wales","Junee",-34.520000000000003,147.35,0.72,null,null,null,null,null,null,null,"Queensland","Mapoon",-11.58,141.54,1.44,null,"South Australia","Yunta PO",-32.35,139.34,0.76,null,null,null,null,null,null,null,"Victoria","Rubicon Sec",-37.200000000000003,145.52000000000001,0.47,null,"Western Australia","Moora Shire Council",-30.38,116,0.85]
["New South Wales","Jervis Bay",-35.08,150.41999999999999,0.77,"Warm",null,null,null,null,null,null,"New South Wales","Katoomba",-33.42,150.18,0.53,null,null,null,null,null,null,null,"Queensland","Mareeba",-17.010000000000002,145.25,1.1299999999999999,null,null,null,null,null,null,null,null,null,null,null,null,null,"Victoria","Rutherglen",-36.03,146.28,0.66,null,"Western Australia","Morawa PO",-29.13,116,0.95]
["New South Wales","Jervis Bay",-35.06,150.47999999999999,0.77,"Warm",null,null,null,null,null,null,"New South Wales","Kempsey West",-31.05,152.5,0.89,null,null,null,null,null,null,null,"Queensland","Maryborough",-25.32,152.41999999999999,1.04,null,null,null,null,null,null,null,null,null,null,null,null,null,"Victoria","Rutherglen Exp F",-36.06,146.36000000000001,0.64,null,"Western Australia","Mount Barker",-34.380000000000003,117.4,0.63]
["New South Wales","Junee",-34.520000000000003,147.35,0.72,"Warm",null,null,null,null,null,null,"New South Wales","Kendall Forestry",-31.36,152.41999999999999,0.82,null,null,null,null,null,null,null,"Queensland","Mein",-13.15,142.5,1.32,null,null,null,null,null,null,null,null,null,null,null,null,null,"Victoria","Sale",-38.06,147.04,0.62,null,"Western Australia","Mt Magnet",-28.04,117.51,1.06]
["New South Wales","Katoomba",-33.42,150.18,0.53,"Cool",null,null,null,null,null,null,"New South Wales","Kirkconnell Prison",-33.25,149.5,0.44,null,null,null,null,null,null,null,"Queensland","Miles",-26.4,150.11000000000001,0.94,null,null,null,null,null,null,null,null,null,null,null,null,null,"Victoria","Scoresby",-37.520000000000003,145.13999999999999,0.62,null,"Western Australia","Mullewa",-28.33,115.3,1]
["New South Wales","Kempsey West",-31.05,152.5,0.89,"Warm",null,null,null,null,null,null,"New South Wales","Kulnura (Boots R)",-33.14,151.12,0.73,null,null,null,null,null,null,null,"Queensland","Millaroo",-20.03,147.16999999999999,1.18,null,null,null,null,null,null,null,null,null,null,null,null,null,"Victoria","Seymour",-37.020000000000003,145.08000000000001,0.65,null,"Western Australia","Mundiwindi",-23.5,120.1,1.1299999999999999]
["New South Wales","Kendall Forestry",-31.36,152.41999999999999,0.82,"Warm",null,null,null,null,null,null,"New South Wales","Lake Victoria",-34.03,141.16,0.78,null,null,null,null,null,null,null,"Queensland","Mitchell",-26.29,147.58000000000001,0.93,null,null,null,null,null,null,null,null,null,null,null,null,null,"Victoria","Shepparton",-36.229999999999997,145.24,0.7,null,"Western Australia","Mundrabilla",-31.51,127.51,0.86]
["New South Wales","Kirkconnell Prison",-33.25,149.5,0.44,"Cool",null,null,null,null,null,null,"New South Wales","Leeton Soldier C",-34.33,146.25,0.77,null,null,null,null,null,null,null,"Queensland","Mitchell River Miss",-15.28,141.44999999999999,1.38,null,null,null,null,null,null,null,null,null,null,null,null,null,"Victoria","St Arnaud",-36.369999999999997,143.16,0.64,null,"Western Australia","Muresk",-31.45,116.4,0.81]
["New South Wales","Kulnura (Boots R)",-33.14,151.12,0.73,"Warm",null,null,null,null,null,null,"New South Wales","Lismore",-28.48,153.16,0.92,null,null,null,null,null,null,null,"Queensland","Monto PO",-24.51,151.01,0.96,null,null,null,null,null,null,null,null,null,null,null,null,null,"Victoria","Stawell",-37.06,142.47999999999999,0.65,null,"Western Australia","Murgoo",-27.22,116.26,1.05]
["New South Wales","Lake Victoria",-34.03,141.16,0.78,"Warm",null,null,null,null,null,null,"New South Wales","Lithgow",-33.29,150.09,0.5,null,null,null,null,null,null,null,"Queensland","Moreton",-12.27,142.38,1.31,null,null,null,null,null,null,null,null,null,null,null,null,null,"Victoria","Swan Hill",-35.21,143.34,0.75,null,"Western Australia","Narembeen",-32.06,118.24,0.81]
["New South Wales","Leeton Soldier C",-34.33,146.25,0.77,"Warm",null,null,null,null,null,null,"New South Wales","Mathoura SF",-35.49,144.54,0.71,null,null,null,null,null,null,null,"Queensland","Mornington Island",-16.420000000000002,139.12,1.44,null,null,null,null,null,null,null,null,null,null,null,null,null,"Victoria","Tanjil Bren",-37.479999999999997,146.12,0.44,null,"Western Australia","Narrogin",-32.56,117.1,0.71]
["New South Wales","Lismore",-28.48,153.16,0.92,"Hot",null,null,null,null,null,null,"New South Wales","Menindie",-32.24,142.25,0.86,null,null,null,null,null,null,null,"Queensland","Mt Isa PO",-20.440000000000001,139.28,1.29,null,null,null,null,null,null,null,null,null,null,null,null,null,"Victoria","Tatura Res Stn",-36.26,145.16,0.65,null,"Western Australia","Norseman PO",-32.119999999999997,121.47,0.81]
["New South Wales","Lithgow",-33.29,150.09,0.5,"Cool",null,null,null,null,null,null,"New South Wales","Molong",-33.06,148.52000000000001,0.64,null,null,null,null,null,null,null,"Queensland","Mt Morgan",-23.39,150.22999999999999,1.04,null,null,null,null,null,null,null,null,null,null,null,null,null,"Victoria","Terang",-38.119999999999997,142.54,0.56999999999999995,null,"Western Australia","Nullagine",-21.53,120.06,1.25]
["New South Wales","Mathoura SF",-35.49,144.54,0.71,"Warm",null,null,null,null,null,null,"New South Wales","Monkstadt",-29.08,151.27000000000001,0.82,null,null,null,null,null,null,null,"Queensland","Mt Surprise",-18.09,144.19,1.17,null,null,null,null,null,null,null,null,null,null,null,null,null,"Victoria","Tidal River",-39.020000000000003,146.19,0.6,null,"Western Australia","Nyang Wogoola",-23,115,1.36]
["New South Wales","Menindie",-32.24,142.25,0.86,"Warm",null,null,null,null,null,null,"New South Wales","Montague Island",-36.15,150.13999999999999,0.75,null,null,null,null,null,null,null,"Queensland","Mungindi PO",-28.59,149,0.97,null,null,null,null,null,null,null,null,null,null,null,null,null,"Victoria","Tooradin",-38.119999999999997,145.24,0.57999999999999996,null,"Western Australia","Ongerup PO",-33.58,118.28,0.69]
["New South Wales","Molong",-33.06,148.52000000000001,0.64,"Cool",null,null,null,null,null,null,"New South Wales","Moree",-29.28,149.5,0.95,null,null,null,null,null,null,null,"Queensland","Musgrave",-14.47,143.30000000000001,1.3,null,null,null,null,null,null,null,null,null,null,null,null,null,"Victoria","Wail",-36.31,142.1,0.66,null,"Western Australia","Onslow Aero",-21.4,115.07,1.29]
["New South Wales","Monkstadt",-29.08,151.27000000000001,0.82,"Warm",null,null,null,null,null,null,"New South Wales","Moruya Heads",-35.549999999999997,150.1,0.71,null,null,null,null,null,null,null,"Queensland","Nanango",-26.4,152,0.82,null,null,null,null,null,null,null,null,null,null,null,null,null,"Victoria","Walpeup",-35.08,142.02000000000001,0.73,null,"Western Australia","Peak Hill",-25.48,118.43,1.1200000000000001]
["New South Wales","Montague Island",-36.15,150.13999999999999,0.75,"Warm",null,null,null,null,null,null,"New South Wales","Moss Vale PO",-34.33,150.22,0.56000000000000005,null,null,null,null,null,null,null,"Queensland","Normanton",-17.399999999999999,141.05000000000001,1.4,null,null,null,null,null,null,null,null,null,null,null,null,null,"Victoria","Wangaratta",-36.21,146.19,0.68,null,"Western Australia","Pearce Aerodrome",-31.4,116,0.87]
["New South Wales","Moree",-29.28,149.5,0.95,"Hot",null,null,null,null,null,null,"New South Wales","Moulamein PO",-35.049999999999997,144.02000000000001,0.77,null,null,null,null,null,null,null,"Queensland","Ormiston Redland",-27.35,153.16,0.95,null,null,null,null,null,null,null,null,null,null,null,null,null,"Victoria","Warragul PO",-38.1,145.56,0.6,null,"Western Australia","Pemberton Forest",-34.270000000000003,116.01,0.67]
["New South Wales","Moruya Heads",-35.549999999999997,150.1,0.71,"Warm",null,null,null,null,null,null,"New South Wales","Mt Mitchell Aff",-29.39,152.06,0.56999999999999995,null,null,null,null,null,null,null,"Queensland","Palmerville",-16,144.05000000000001,1.32,null,null,null,null,null,null,null,null,null,null,null,null,null,"Victoria","Warrnambool",-38.229999999999997,142.29,0.56999999999999995,null,"Western Australia","Perth",-31.59,115.5,0.85]
["New South Wales","Moss Vale PO",-34.33,150.22,0.56000000000000005,"Cool",null,null,null,null,null,null,"New South Wales","Mt Victoria",-33.549999999999997,150.15,0.5,null,null,null,null,null,null,null,"Queensland","Palmerville",-15.49,144.05000000000001,1.3,null,null,null,null,null,null,null,null,null,null,null,null,null,"Victoria","Watsonia (Loyola)",-37.42,145.05000000000001,0.63,null,"Western Australia","Perth Guildford",-31.55,115.58,0.85]
["New South Wales","Moulamein PO",-35.049999999999997,144.02000000000001,0.77,"Warm",null,null,null,null,null,null,"New South Wales","Mt Victoria",-33.36,150.15,0.49,null,null,null,null,null,null,null,"Queensland","Pine Islet",-21.39,150.13,1.19,null,null,null,null,null,null,null,null,null,null,null,null,null,"Victoria","Werribee",-37.54,144.4,0.62,null,"Western Australia","Perth Regional",-31.57,115.51,0.88]
["New South Wales","Mt Mitchell Aff",-29.39,152.06,0.56999999999999995,"Cool",null,null,null,null,null,null,"New South Wales","Mudgee",-32.36,149.35,0.68,null,null,null,null,null,null,null,"Queensland","Pineapple Rsh St",-26.38,152.56,0.93,null,null,null,null,null,null,null,null,null,null,null,null,null,"Victoria","Wilsons Prom",-39.01,146.28,0.57999999999999996,null,"Western Australia","Pingelly",-32.32,117.05,0.75]
["New South Wales","Mt Victoria",-33.549999999999997,150.15,0.5,"Cool",null,null,null,null,null,null,"New South Wales","Mungindi PO",-28.59,149,0.97,null,null,null,null,null,null,null,"Queensland","Pittsworth",-27.43,151.38999999999999,0.84,null,null,null,null,null,null,null,null,null,null,null,null,null,"Victoria","Wilsons Promont",-39.08,146.25,0.57999999999999996,null,"Western Australia","Port George IV",-15.25,124.43,1.35]
["New South Wales","Mt Victoria",-33.36,150.15,0.49,"Cool",null,null,null,null,null,null,"New South Wales","Murrurundi",-31.46,150.5,0.72,null,null,null,null,null,null,null,"Queensland","Pomona (Como)",-26.12,152.55000000000001,0.97,null,null,null,null,null,null,null,null,null,null,null,null,null,"Victoria","Woods Point",-37.35,146.15,0.43,null,"Western Australia","Port Hedland",-20.23,118.37,1.35]
["New South Wales","Mudgee",-32.36,149.35,0.68,"Cool",null,null,null,null,null,null,"New South Wales","Muswellbrook",-32.15,150.53,0.77,null,null,null,null,null,null,null,"Queensland","Port Douglas",-16.29,145.28,1.22,null,null,null,null,null,null,null,null,null,null,null,null,null,"Victoria","Woohlpooer",-37.200000000000003,142.09,0.56999999999999995,null,"Western Australia","Port Hedland",-20.190000000000001,118.03,1.34]
["New South Wales","Mungindi PO",-28.59,149,0.97,"Hot",null,null,null,null,null,null,"New South Wales","Nalbaugh SF",-37.04,149.21,0.48,null,null,null,null,null,null,null,"Queensland","Proserpine PO",-20.239999999999998,148.35,1.17,null,null,null,null,null,null,null,null,null,null,null,null,null,"Victoria","Yallourn Sec",-38.11,146.22,0.57999999999999996,null,"Western Australia","Ravensthorpe",-33.35,120.03,0.75]
["New South Wales","Murrurundi",-31.46,150.5,0.72,"Warm",null,null,null,null,null,null,"New South Wales","Naradhan PO",-33.369999999999997,146.19,0.79,null,null,null,null,null,null,null,"Queensland","Quilpie",-26.37,144.16,1.1100000000000001,null,null,null,null,null,null,null,null,null,null,null,null,null,"Victoria","Yarrawonga",-36.01,146.01,0.73,null,"Western Australia","Rawlinna",-31,125.15,0.84]
["New South Wales","Muswellbrook",-32.15,150.53,0.77,"Warm",null,null,null,null,null,null,"New South Wales","Narara (Gosford)",-33.24,151.19999999999999,0.77,null,null,null,null,null,null,null,"Queensland","Richmond",-20.43,143.08000000000001,1.26,null,null,null,null,null,null,null,null,null,null,null,null,null,null,null,null,null,null,null,"Western Australia","Rottnest Island",-32,115.3,0.87]
["New South Wales","Nalbaugh SF",-37.04,149.21,0.48,"Cool",null,null,null,null,null,null,"New South Wales","Narrabri",-30.19,149.47,0.91,null,null,null,null,null,null,null,"Queensland","Rockhampton",-23.23,150.30000000000001,1.1399999999999999,null,null,null,null,null,null,null,null,null,null,null,null,null,null,null,null,null,null,null,"Western Australia","Salmon Gums Res",-32.590000000000003,121.39,0.74]
["New South Wales","Naradhan PO",-33.369999999999997,146.19,0.79,"Warm",null,null,null,null,null,null,"New South Wales","Narranderra PO",-34.450000000000003,146.33000000000001,0.8,null,null,null,null,null,null,null,"Queensland","Roma",-26.35,148.47999999999999,0.98,null,null,null,null,null,null,null,null,null,null,null,null,null,null,null,null,null,null,null,"Western Australia","Sandstone",-27.59,119.17,0.98]
["New South Wales","Narara (Gosford)",-33.24,151.19999999999999,0.77,"Warm",null,null,null,null,null,null,"New South Wales","Nelson Bay (RSL)",-32.43,152.09,0.86,null,null,null,null,null,null,null,"Queensland","Roseberry SF",-28.29,152.55000000000001,0.89,null,null,null,null,null,null,null,null,null,null,null,null,null,null,null,null,null,null,null,"Western Australia","Southern Cross",-31.13,119.19,0.84]
["New South Wales","Narrabri",-30.19,149.47,0.91,"Hot",null,null,null,null,null,null,"New South Wales","Nerriga PO",-35.07,150.05000000000001,0.56000000000000005,null,null,null,null,null,null,null,"Queensland","Samford (CSIRO)",-27.22,152.53,0.91,null,null,null,null,null,null,null,null,null,null,null,null,null,null,null,null,null,null,null,"Western Australia","Swan Upper",-31.45,116.06,0.84]
["New South Wales","Narranderra PO",-34.450000000000003,146.33000000000001,0.8,"Warm",null,null,null,null,null,null,"New South Wales","Newcastle",-32.57,151.44999999999999,0.84,null,null,null,null,null,null,null,"Queensland","Sandgate",-27.2,153.05000000000001,0.97,null,null,null,null,null,null,null,null,null,null,null,null,null,null,null,null,null,null,null,"Western Australia","Three Rivers",-25.08,119.1,1.1200000000000001]
["New South Wales","Nelson Bay (RSL)",-32.43,152.09,0.86,"Warm",null,null,null,null,null,null,"New South Wales","Newnes Prison Cp",-33.21,150.15,0.48,null,null,null,null,null,null,null,"Queensland","Sandy Cape",-24.5,153.16999999999999,1.1100000000000001,null,null,null,null,null,null,null,null,null,null,null,null,null,null,null,null,null,null,null,"Western Australia","Troughton Island",-13.45,126.09,1.45]
["New South Wales","Nerriga PO",-35.07,150.05000000000001,0.56000000000000005,"Cool",null,null,null,null,null,null,"New South Wales","Nimmitabel PO",-36.31,149.16999999999999,0.4,null,null,null,null,null,null,null,"Queensland","Sandy Cape",-24.44,153.13,1.0900000000000001,null,null,null,null,null,null,null,null,null,null,null,null,null,null,null,null,null,null,null,"Western Australia","Turkey Creek",-17.02,128.12,1.46]
["New South Wales","Newcastle",-32.57,151.44999999999999,0.84,"Warm",null,null,null,null,null,null,"New South Wales","Nowa",-37.43,148.06,0.61,null,null,null,null,null,null,null,"Queensland","Somerset Dam",-27.06,152.35,0.95,null,null,null,null,null,null,null,null,null,null,null,null,null,null,null,null,null,null,null,"Western Australia","Vlaming Head",-21.48,114.06,1.21]
["New South Wales","Newnes Prison Cp",-33.21,150.15,0.48,"Cool",null,null,null,null,null,null,"New South Wales","Nowra Ranas",-34.57,150.32,0.73,null,null,null,null,null,null,null,"Queensland","Southport",-27.57,153.27000000000001,0.97,null,null,null,null,null,null,null,null,null,null,null,null,null,null,null,null,null,null,null,"Western Australia","Wagin PO",-33.18,117.2,0.73]
["New South Wales","Nimmitabel PO",-36.31,149.16999999999999,0.4,"Cool",null,null,null,null,null,null,"New South Wales","Nyngan",-31.34,147.11000000000001,0.86,null,null,null,null,null,null,null,"Queensland","Springsure",-24.07,148.05000000000001,1.06,null,null,null,null,null,null,null,null,null,null,null,null,null,null,null,null,null,null,null,"Western Australia","Wandering",-32.4,116.41,0.71]
["New South Wales","Nowa",-37.43,148.06,0.61,"Cool",null,null,null,null,null,null,"New South Wales","Oberon PO",-34.01,149.51,0.41,null,null,null,null,null,null,null,"Queensland","St George",-28.02,143.35,0.99,null,null,null,null,null,null,null,null,null,null,null,null,null,null,null,null,null,null,null,"Western Australia","Watheroo",-30.17,116.04,0.82]
["New South Wales","Nowra Ranas",-34.57,150.32,0.73,"Warm",null,null,null,null,null,null,"New South Wales","Oberon PO",-33.43,149.52000000000001,0.45,null,null,null,null,null,null,null,"Queensland","St George PO",-28.02,148.35,1.01,null,null,null,null,null,null,null,null,null,null,null,null,null,null,null,null,null,null,null,"Western Australia","Wiluna",-26.36,120.13,1.05]
["New South Wales","Nyngan",-31.34,147.11000000000001,0.86,"Warm",null,null,null,null,null,null,"New South Wales","Orange PO",-33.17,149.06,0.6,null,null,null,null,null,null,null,"Queensland","St Lawrence",-22.21,149.31,0.96,null,null,null,null,null,null,null,null,null,null,null,null,null,null,null,null,null,null,null,"Western Australia","Winning Pool",-23.09,114.01,1.26]
["New South Wales","Oberon PO",-34.01,149.51,0.41,"Cool",null,null,null,null,null,null,"New South Wales","Parkes PO",-33.08,148.11000000000001,0.78,null,null,null,null,null,null,null,"Queensland","Stanthorpe",-28.4,151.57,0.69,null,null,null,null,null,null,null,null,null,null,null,null,null,null,null,null,null,null,null,"Western Australia","Wittenoom Gorge",-22.18,118.18,1.36]
["New South Wales","Oberon PO",-33.43,149.52000000000001,0.45,"Cool",null,null,null,null,null,null,"New South Wales","Peak Hill",-32.42,148.12,0.83,null,null,null,null,null,null,null,"Queensland","Surat",-27.1,149.04,0.98,null,null,null,null,null,null,null,null,null,null,null,null,null,null,null,null,null,null,null,"Western Australia","Wokalup",-33.08,115.53,0.8]
["New South Wales","Orange PO",-33.17,149.06,0.6,"Cool",null,null,null,null,null,null,"New South Wales","Picton",-34.1,150.37,0.72,null,null,null,null,null,null,null,"Queensland","Tambo",-24.53,146.15,1.02,null,null,null,null,null,null,null,null,null,null,null,null,null,null,null,null,null,null,null,"Western Australia","Wongan Hills RF",-30.53,116.43,0.83]
["New South Wales","Parkes PO",-33.08,148.11000000000001,0.78,"Warm",null,null,null,null,null,null,"New South Wales","Pilliga",-30.21,148.54,0.85,null,null,null,null,null,null,null,"Queensland","Tamborine",-27.53,153.08000000000001,0.81,null,null,null,null,null,null,null,null,null,null,null,null,null,null,null,null,null,null,null,"Western Australia","Wyalkatchem",-31.12,117.24,0.85]
["New South Wales","Peak Hill",-32.42,148.12,0.83,"Warm",null,null,null,null,null,null,"New South Wales","Port Kembla",-34.28,150.55000000000001,0.83,null,null,null,null,null,null,null,"Queensland","Taroom PO",-25.39,149.47999999999999,1,null,null,null,null,null,null,null,null,null,null,null,null,null,null,null,null,null,null,null,"Western Australia","Wyndham",-15.28,128.06,1.54]
["New South Wales","Picton",-34.1,150.37,0.72,"Warm",null,null,null,null,null,null,"New South Wales","Port Macquarie",-31.28,152.56,0.82,null,null,null,null,null,null,null,"Queensland","Tewantin PO",-26.23,153.02000000000001,1.01,null,null,null,null,null,null,null,null,null,null,null,null,null,null,null,null,null,null,null,"Western Australia","Yalgoo",-28.2,116.41,1.02]
["New South Wales","Pilliga",-30.21,148.54,0.85,"Warm",null,null,null,null,null,null,"New South Wales","Quambone PO",-30.56,147.52000000000001,0.91,null,null,null,null,null,null,null,"Queensland","Texas PO",-28.51,151.11000000000001,0.87,null,null,null,null,null,null,null,null,null,null,null,null,null,null,null,null,null,null,null,"Western Australia","Yampi Sound",-16.059999999999999,123.36,1.45]
["New South Wales","Port Kembla",-34.28,150.55000000000001,0.83,"Warm",null,null,null,null,null,null,"New South Wales","Richmond Aero",-33.36,150.41999999999999,0.81,null,null,null,null,null,null,null,"Queensland","Thargomindah",-28,143.49,1.07,null,null,null,null,null,null,null,null,null,null,null,null,null,null,null,null,null,null,null,"Western Australia","York PO",-31.53,116.46,0.83]
["New South Wales","Port Macquarie",-31.28,152.56,0.82,"Warm",null,null,null,null,null,null,"New South Wales","Riverview",-33.5,151.09,0.81,null,null,null,null,null,null,null,"Queensland","Theodore Iwsc",-24.57,150.04,1.05]
["New South Wales","Quambone PO",-30.56,147.52000000000001,0.91,"Hot",null,null,null,null,null,null,"New South Wales","Scone",-32.049999999999997,150.5,0.8,null,null,null,null,null,null,null,"Queensland","Thursday Island",-10.35,142.13,1.39]
["New South Wales","Richmond Aero",-33.36,150.41999999999999,0.81,"Warm",null,null,null,null,null,null,"New South Wales","Seven Hills Exp",-33.43,150.47,0.81,null,null,null,null,null,null,null,"Queensland","Toorak Field Stn",-21.02,141.47999999999999,1.24]
["New South Wales","Riverview",-33.5,151.09,0.81,"Warm",null,null,null,null,null,null,"New South Wales","Smoky Cape",-30.55,153.05000000000001,0.93,null,null,null,null,null,null,null,"Queensland","Toowoomba",-27.33,151.58000000000001,0.79]
["New South Wales","Scone",-32.049999999999997,150.5,0.8,"Warm",null,null,null,null,null,null,"New South Wales","Sydney",-33.53,151.12,0.83,null,null,null,null,null,null,null,"Queensland","Townsville",-19.14,146.51,1.24]
["New South Wales","Seven Hills Exp",-33.43,150.47,0.81,"Warm",null,null,null,null,null,null,"New South Wales","Tamworth",-31.06,150.59,0.84,null,null,null,null,null,null,null,"Queensland","Twin Hills",-21.57,146.59,1.1599999999999999]
["New South Wales","Smoky Cape",-30.55,153.05000000000001,0.93,"Hot",null,null,null,null,null,null,"New South Wales","Taralga PO",-34.24,149.49,0.5,null,null,null,null,null,null,null,"Queensland","Urandangie",-21.37,138.19,1.24]
["New South Wales","Sydney",-33.53,151.12,0.83,"Warm",null,null,null,null,null,null,"New South Wales","Taree Radio Stn",-31.54,152.29,0.84,null,null,null,null,null,null,null,"Queensland","Urbenville SF",-28.28,152.33000000000001,0.79]
["New South Wales","Tamworth",-31.06,150.59,0.84,{"$f":"IF(E134<0.7,\"Cool\",IF(E134<0.9,\"Warm\",\"Hot\"))","v":"Warm"},null,null,null,null,null,null,"New South Wales","Temora",-34.26,147.32,0.7,null,null,null,null,null,null,null,"Queensland","Wallangarra PO",-28.55,151.56,0.64]
["New South Wales","Taralga PO",-34.24,149.49,0.5,"Cool",null,null,null,null,null,null,"New South Wales","Tenterfield",-29.03,152,0.66,null,null,null,null,null,null,null,"Queensland","Warwick",-28.14,152,0.82]
["New South Wales","Taree Radio Stn",-31.54,152.29,0.84,"Warm",null,null,null,null,null,null,"New South Wales","Tibooburra",-29.26,142,0.99,null,null,null,null,null,null,null,"Queensland","Westwood",-23.37,150.1,1.02]
["New South Wales","Temora",-34.26,147.32,0.7,"Warm",null,null,null,null,null,null,"New South Wales","Tocumwal PO",-35.49,145.34,0.74,null,null,null,null,null,null,null,"Queensland","Willis Island",-16.18,150,1.32]
["New South Wales","Tenterfield",-29.03,152,0.66,"Cool",null,null,null,null,null,null,"New South Wales","Trangie (Exp Fm)",-31.59,147.57,0.8,null,null,null,null,null,null,null,"Queensland","Windorah",-25.26,142.38999999999999,1.1499999999999999]
["New South Wales","Tibooburra",-29.26,142,0.99,"Hot",null,null,null,null,null,null,"New South Wales","Tullamore PO",-32.380000000000003,147.34,0.79,null,null,null,null,null,null,null,"Queensland","Winton",-22.24,143.02000000000001,1.24]
["New South Wales","Tocumwal PO",-35.49,145.34,0.74,"Warm",null,null,null,null,null,null,"New South Wales","Tumbarumba PO",-35.47,148.01,0.53,null,null,null,null,null,null,null,"Queensland","Yeppoon",-23.06,150.41999999999999,1.07]
["New South Wales","Trangie (Exp Fm)",-31.59,147.57,0.8,"Warm",null,null,null,null,null,null,"New South Wales","Urana",-35.200000000000003,146.16,0.77,null,null,null,null,null,null,null,"Queensland","Yuleba",-26.37,149.22999999999999,0.95]
["New South Wales","Tullamore PO",-32.380000000000003,147.34,0.79,"Warm",null,null,null,null,null,null,"New South Wales","Wagga",-35.07,147.22,0.76]
["New South Wales","Tumbarumba PO",-35.47,148.01,0.53,"Cool",null,null,null,null,null,null,"New South Wales","Wagga Aero",-35.06,147.30000000000001,0.69]
["New South Wales","Urana",-35.200000000000003,146.16,0.77,"Warm",null,null,null,null,null,null,"New South Wales","Walcha",-31,151.36000000000001,0.52]
["New South Wales","Wagga",-35.07,147.22,0.76,"Warm",null,null,null,null,null,null,"New South Wales","Walgett",-30.01,148.07,0.94]
["New South Wales","Wagga Aero",-35.06,147.30000000000001,0.69,"Cool",null,null,null,null,null,null,"New South Wales","Wallangarra PO",-28.55,151.56,0.64]
["New South Wales","Walcha",-31,151.36000000000001,0.52,"Cool",null,null,null,null,null,null,"New South Wales","Wallangra (Stat)",-29.15,150.54,0.79]
["New South Wales","Walgett",-30.01,148.07,0.94,"Hot",null,null,null,null,null,null,"New South Wales","Wallaroo SF",-32.36,151.47999999999999,0.75]
["New South Wales","Wallangarra PO",-28.55,151.56,0.64,"Cool",null,null,null,null,null,null,"New South Wales","Warialda",-29.33,150.34,0.8]
["New South Wales","Wallangra (Stat)",-29.15,150.54,0.79,"Warm",null,null,null,null,null,null,"New South Wales","Wauchope SF",-31.28,152.44,0.85]
["New South Wales","Wallaroo SF",-32.36,151.47999999999999,0.75,"Warm",null,null,null,null,null,null,"New South Wales","Wellington",-32.33,148.57,0.79]
["New South Wales","Warialda",-29.33,150.34,0.8,"Warm",null,null,null,null,null,null,"New South Wales","Wentworth",-34.06,141.55000000000001,0.82]
["New South Wales","Wauchope SF",-31.28,152.44,0.85,"Warm",null,null,null,null,null,null,"New South Wales","White Cliffs PO",-30.51,143.05000000000001,0.94]
["New South Wales","Wellington",-32.33,148.57,0.79,"Warm",null,null,null,null,null,null,"New South Wales","Willcannia",-31.34,143.22999999999999,0.92]
["New South Wales","Wentworth",-34.06,141.55000000000001,0.82,"Warm",null,null,null,null,null,null,"New South Wales","Williamtown Aero",-32.479999999999997,151.5,0.81]
["New South Wales","White Cliffs PO",-30.51,143.05000000000001,0.94,"Hot",null,null,null,null,null,null,"New South Wales","Woolbrook PO",-30.58,151.21,0.54]
["New South Wales","Willcannia",-31.34,143.22999999999999,0.92,"Hot",null,null,null,null,null,null,"New South Wales","Wyalong PO",-33.56,147.15,0.75]
["New South Wales","Williamtown Aero",-32.479999999999997,151.5,0.81,"Warm",null,null,null,null,null,null,"New South Wales","Yarras (Mt Seav)",-31.23,152.15,0.81]
["New South Wales","Woolbrook PO",-30.58,151.21,0.54,"Cool",null,null,null,null,null,null,"New South Wales","Yass",-34.51,148.56,0.59]
["New South Wales","Wyalong PO",-33.56,147.15,0.75,"Warm",null,null,null,null,null,null,"New South Wales","Yenda PO",-34.15,146.11000000000001,0.79]
["New South Wales","Yarras (Mt Seav)",-31.23,152.15,0.81,"Warm",null,null,null,null,null,null,"New South Wales","Young PO",-34.19,148.18,0.66]
["New South Wales","Yass",-34.51,148.56,0.59,"Cool"]
["New South Wales","Yenda PO",-34.15,146.11000000000001,0.79,"Warm"]
["New South Wales","Young PO",-34.19,148.18,0.66,"Cool"]
["Northern Territory","Alice Springs",-23.5,133.53,1,"Hot"]
["Northern Territory","Avon Downs Homestd",-20.02,137.29,1.26,"Hot"]
["Northern Territory","Barrow Creek PO",-21.3,133.54,1.22,"Hot"]
["Northern Territory","Borroloola",-16.05,136.19999999999999,1.37,"Hot"]
["Northern Territory","Brunette Downs",-18.39,135.57,1.34,"Hot"]
["Northern Territory","Cape Don Light",-11.19,131.46,1.4,"Hot"]
["Northern Territory","Charlotte Waters",-25.55,134.55000000000001,1.06,"Hot"]
["Northern Territory","Croker Island",-11.09,132.35,1.39,"Hot"]
["Northern Territory","Curtain Springs",-25.19,131.44999999999999,1.03,"Hot"]
["Northern Territory","Daly Waters",-16.149999999999999,133.22,1.39,"Hot"]
["Northern Territory","Darwin",-12.28,130.5,1.44,"Hot"]
["Northern Territory","Elcho Island",-11.55,135.44999999999999,1.41,"Hot"]
["Northern Territory","Finke PO",-25.35,134.34,1.1100000000000001,"Hot"]
["Northern Territory","Goulburn Is Sound",-11.39,133.22999999999999,1.42,"Hot"]
["Northern Territory","Groote Eylandt",-13.59,136.28,1.33,"Hot"]
["Northern Territory","Hooker Creek",-18.2,130.38,1.35,"Hot"]
["Northern Territory","Inverway Stn",-17.5,129.38999999999999,1.31,"Hot"]
["Northern Territory","Katherine",-14.18,132.28,1.39,"Hot"]
["Northern Territory","Katherine PO",-14.28,132.16,1.41,"Hot"]
["Northern Territory","Larrimah PO",-15.35,133.13,1.39,"Hot"]
["Northern Territory","Maningrida",-12.03,134.13999999999999,1.36,"Hot"]
["Northern Territory","Middle Point",-12.27,131.16999999999999,1.39,"Hot"]
["Northern Territory","Millingimbi",-12.06,134.54,1.36,"Hot"]
["Northern Territory","Newcastle Waters",-17.22,133.25,1.39,"Hot"]
["Northern Territory","Noonamah",-12.35,131.05000000000001,1.38,"Hot"]
["Northern Territory","Oenpelli",-12.2,133.04,1.43,"Hot"]
["Northern Territory","Port Keats Mission",-14.14,129.34,1.36,"Hot"]
["Northern Territory","Ringwood Stn",-23.5,134.57,1.07,"Hot"]
["Northern Territory","Roper River Mission",-14.44,134.44,1.43,"Hot"]
["Northern Territory","Snake Bay",-11.25,130.4,1.39,"Hot"]
["Northern Territory","Tempe Downs",-24.23,132.26,1.03,"Hot"]
["Northern Territory","Tennant Creek",-19.39,134.12,1.29,"Hot"]
["Northern Territory","Victoria River",-16.239999999999998,131,1.44,"Hot"]
["Northern Territory","Wave Hill",-17.29,130.57,1.39,{"$f":"IF(E198<0.7,\"Cool\",IF(E198<0.9,\"Warm\",\"Hot\"))","v":"Hot"}]
["Northern Territory","Wonarah",-19.54,136.19999999999999,1.3,"Hot"]
["Northern Territory","Yirrkala Mission",-12.15,136.55000000000001,1.37,"Hot"]
["Northern Territory","Yuendumu",-22.16,131.47999999999999,1.1200000000000001,"Hot"]
["Queensland","Adavale",-25.55,144.36000000000001,1.0900000000000001,"Hot"]
["Queensland","Atherton",-17.16,145.29,0.98,"Hot"]
["Queensland","Ayr",-19.350000000000001,147.24,1.18,"Hot"]
["Queensland","Baralaba PO",-24.11,149.49,1.1000000000000001,"Hot"]
["Queensland","Barcaldine",-23.34,145.16999999999999,1.1399999999999999,"Hot"]
["Queensland","Beaudesert Shire",-27.48,153,0.94,"Hot"]
["Queensland","Biloela",-24.24,150.30000000000001,0.98,"Hot"]
["Queensland","Birdsville",-25.55,139.22,1.1499999999999999,"Hot"]
["Queensland","Blackall",-24.25,145.28,1.1100000000000001,"Hot"]
["Queensland","Bollon",-28.02,147.29,1,"Hot"]
["Queensland","Boulia",-22.55,139.54,1.26,"Hot"]
["Queensland","Bowen",-20.010000000000002,148.13999999999999,1.21,"Hot"]
["Queensland","Brisbane",-27.28,153.02000000000001,1,"Hot"]
["Queensland","Bulburin (Forest)",-24.32,151.28,0.88,"Warm"]
["Queensland","Bundaberg",-24.52,152.21,1.04,"Hot"]
["Queensland","Burketown",-17.440000000000001,139.33000000000001,1.33,"Hot"]
["Queensland","Bustard Head",-24.02,151.44999999999999,1.07,"Hot"]
["Queensland","Cairns",-16.55,145.47,1.24,"Hot"]
["Queensland","Caloundra (Sig)",-26.48,153.09,1,"Hot"]
["Queensland","Cambooya",-27.43,151.52000000000001,0.79,"Warm"]
["Queensland","Camooweal",-19.55,138.07,1.29,"Hot"]
["Queensland","Cape Capricorn",-23.3,151.13999999999999,1.07,"Hot"]
["Queensland","Cape Cleveland",-19.11,147.02000000000001,1.24,"Hot"]
["Queensland","Cape Moreton",-27.02,153.25,1,"Hot"]
["Queensland","Cardwell",-18.16,146.02000000000001,1.1599999999999999,"Hot"]
["Queensland","Casino PO",-28.52,153.03,0.98,"Hot"]
["Queensland","Charleville",-26.24,146.15,1.04,"Hot"]
["Queensland","Charters Towers",-20.059999999999999,146.16,1.18,"Hot"]
["Queensland","Childers",-25.15,152.16,1.04,"Hot"]
["Queensland","Clermont",-22.49,147.38,1.0900000000000001,"Hot"]
["Queensland","Cloncurry",-20.43,140.30000000000001,1.34,"Hot"]
["Queensland","Coen",-13.56,143.12,1.26,"Hot"]
["Queensland","Coen Aero",-13.46,143.07,1.31,"Hot"]
["Queensland","Collinsville",-20.329999999999998,147.5,1.1299999999999999,"Hot"]
["Queensland","Consuelo",-24.48,148,0.85,"Warm"]
["Queensland","Cooktown",-15.26,145.15,1.3,"Hot"]
["Queensland","Coolangatta Aero",-28.1,153.30000000000001,0.95,"Hot"]
["Queensland","Crohamhurst",-26.49,152.5,0.92,"Hot"]
["Queensland","Cronulla",-25.24,151.24,1.06,"Hot"]
["Queensland","Croydon",-18.13,142.41999999999999,1.41,"Hot"]
["Queensland","Croydon PO",-18.12,142.15,1.41,"Hot"]
["Queensland","Cunnamulla",-28.16,145.49,1.04,"Hot"]
["Queensland","Cunnamulla",-28.04,145.41,1.03,"Hot"]
["Queensland","Dalby",-27.11,151.16,0.91,"Hot"]
["Queensland","Donors Hill",-18.43,140.33000000000001,1.35,"Hot"]
["Queensland","Double Is Point",-25.56,153.11000000000001,1.03,"Hot"]
["Queensland","Emerald",-23.37,148.1,1.1100000000000001,"Hot"]
["Queensland","Fairview",-15.33,144.19,1.3,"Hot"]
["Queensland","Gatton",-27.33,152.16999999999999,0.96,"Hot"]
["Queensland","Gayndah",-25.38,151.36000000000001,1,"Hot"]
["Queensland","Georgetown",-18.18,143.32,1.29,"Hot"]
["Queensland","Girard SF",-28.54,152.18,0.68,"Cool"]
["Queensland","Gladstone",-23.51,151.15,1.0900000000000001,"Hot"]
["Queensland","Goondiwindi",-28.33,150.19,0.95,"Hot"]
["Queensland","Gympie",-26.11,152.4,0.98,"Hot"]
["Queensland","Hayman Island",-20.03,148.54,1.24,"Hot"]
["Queensland","Herberton",-17.239999999999998,145.28,0.96,"Hot"]
["Queensland","Heron Island",-23.26,151.55000000000001,1.17,"Hot"]
["Queensland","Hughendon",-20.51,144.12,1.21,"Hot"]
["Queensland","Imbil Forest",-26.28,152.4,0.98,"Hot"]
["Queensland","Injune",-25.51,148.33000000000001,0.93,{"$f":"IF(E262<0.7,\"Cool\",IF(E262<0.9,\"Warm\",\"Hot\"))","v":"Hot"}]
["Queensland","Innisfail",-17.32,146.02000000000001,1.17,"Hot"]
["Queensland","Ipswich",-27.37,152.46,0.99,"Hot"]
["Queensland","Iron Range Aero",-12.47,143.18,1.28,"Hot"]
["Queensland","Isisford PO",-24.15,144.26,1.1499999999999999,"Hot"]
["Queensland","Julia Creek PO",-20.399999999999999,141.44999999999999,1.3,"Hot"]
["Queensland","Kalpower Res",-24.42,151.18,0.89,"Warm"]
["Queensland","Killarney",-28.2,152.18,0.76,"Warm"]
["Queensland","Kingaroy",-26.32,151.5,0.82,"Warm"]
["Queensland","Kingaroy PO",-26.32,151.32,0.84,"Warm"]
["Queensland","Lady Elliot Is",-24.07,152.43,1.1499999999999999,"Hot"]
["Queensland","Lismore",-28.48,153.16,0.92,"Hot"]
["Queensland","Longreach",-23.27,144.15,1.1599999999999999,"Hot"]
["Queensland","Low Isles",-16.23,145.34,1.33,"Hot"]
["Queensland","Mackay Sugar",-21.1,149.13,1.08,"Hot"]
["Queensland","Mapoon",-11.58,141.54,1.44,"Hot"]
["Queensland","Mareeba",-17.010000000000002,145.25,1.1299999999999999,"Hot"]
["Queensland","Maryborough",-25.32,152.41999999999999,1.04,"Hot"]
["Queensland","Mein",-13.15,142.5,1.32,"Hot"]
["Queensland","Miles",-26.4,150.11000000000001,0.94,"Hot"]
["Queensland","Millaroo",-20.03,147.16999999999999,1.18,"Hot"]
["Queensland","Mitchell",-26.29,147.58000000000001,0.93,"Hot"]
["Queensland","Mitchell River Miss",-15.28,141.44999999999999,1.38,"Hot"]
["Queensland","Monto PO",-24.51,151.01,0.96,"Hot"]
["Queensland","Moreton",-12.27,142.38,1.31,"Hot"]
["Queensland","Mornington Island",-16.420000000000002,139.12,1.44,"Hot"]
["Queensland","Mt Isa PO",-20.440000000000001,139.28,1.29,"Hot"]
["Queensland","Mt Morgan",-23.39,150.22999999999999,1.04,"Hot"]
["Queensland","Mt Surprise",-18.09,144.19,1.17,"Hot"]
["Queensland","Mungindi PO",-28.59,149,0.97,"Hot"]
["Queensland","Musgrave",-14.47,143.30000000000001,1.3,"Hot"]
["Queensland","Nanango",-26.4,152,0.82,"Warm"]
["Queensland","Normanton",-17.399999999999999,141.05000000000001,1.4,"Hot"]
["Queensland","Ormiston Redland",-27.35,153.16,0.95,"Hot"]
["Queensland","Palmerville",-16,144.05000000000001,1.32,"Hot"]
["Queensland","Palmerville",-15.49,144.05000000000001,1.3,"Hot"]
["Queensland","Pine Islet",-21.39,150.13,1.19,"Hot"]
["Queensland","Pineapple Rsh St",-26.38,152.56,0.93,"Hot"]
["Queensland","Pittsworth",-27.43,151.38999999999999,0.84,"Warm"]
["Queensland","Pomona (Como)",-26.12,152.55000000000001,0.97,"Hot"]
["Queensland","Port Douglas",-16.29,145.28,1.22,"Hot"]
["Queensland","Proserpine PO",-20.239999999999998,148.35,1.17,"Hot"]
["Queensland","Quilpie",-26.37,144.16,1.1100000000000001,"Hot"]
["Queensland","Richmond",-20.43,143.08000000000001,1.26,"Hot"]
["Queensland","Rockhampton",-23.23,150.30000000000001,1.1399999999999999,"Hot"]
["Queensland","Roma",-26.35,148.47999999999999,0.98,"Hot"]
["Queensland","Roseberry SF",-28.29,152.55000000000001,0.89,"Warm"]
["Queensland","Samford (CSIRO)",-27.22,152.53,0.91,"Hot"]
["Queensland","Sandgate",-27.2,153.05000000000001,0.97,"Hot"]
["Queensland","Sandy Cape",-24.5,153.16999999999999,1.1100000000000001,"Hot"]
["Queensland","Sandy Cape",-24.44,153.13,1.0900000000000001,"Hot"]
["Queensland","Somerset Dam",-27.06,152.35,0.95,"Hot"]
["Queensland","Southport",-27.57,153.27000000000001,0.97,"Hot"]
["Queensland","Springsure",-24.07,148.05000000000001,1.06,"Hot"]
["Queensland","St George",-28.02,143.35,0.99,"Hot"]
["Queensland","St George PO",-28.02,148.35,1.01,"Hot"]
["Queensland","St Lawrence",-22.21,149.31,0.96,"Hot"]
["Queensland","Stanthorpe",-28.4,151.57,0.69,"Cool"]
["Queensland","Surat",-27.1,149.04,0.98,"Hot"]
["Queensland","Tambo",-24.53,146.15,1.02,"Hot"]
["Queensland","Tamborine",-27.53,153.08000000000001,0.81,"Warm"]
["Queensland","Taroom PO",-25.39,149.47999999999999,1,"Hot"]
["Queensland","Tewantin PO",-26.23,153.02000000000001,1.01,"Hot"]
["Queensland","Texas PO",-28.51,151.11000000000001,0.87,"Warm"]
["Queensland","Thargomindah",-28,143.49,1.07,{"$f":"IF(E326<0.7,\"Cool\",IF(E326<0.9,\"Warm\",\"Hot\"))","v":"Hot"}]
["Queensland","Theodore Iwsc",-24.57,150.04,1.05,"Hot"]
["Queensland","Thursday Island",-10.35,142.13,1.39,"Hot"]
["Queensland","Toorak Field Stn",-21.02,141.47999999999999,1.24,"Hot"]
["Queensland","Toowoomba",-27.33,151.58000000000001,0.79,"Warm"]
["Queensland","Townsville",-19.14,146.51,1.24,"Hot"]
["Queensland","Twin Hills",-21.57,146.59,1.1599999999999999,"Hot"]
["Queensland","Urandangie",-21.37,138.19,1.24,"Hot"]
["Queensland","Urbenville SF",-28.28,152.33000000000001,0.79,"Warm"]
["Queensland","Wallangarra PO",-28.55,151.56,0.64,"Cool"]
["Queensland","Warwick",-28.14,152,0.82,"Warm"]
["Queensland","Westwood",-23.37,150.1,1.02,"Hot"]
["Queensland","Willis Island",-16.18,150,1.32,"Hot"]
["Queensland","Windorah",-25.26,142.38999999999999,1.1499999999999999,"Hot"]
["Queensland","Winton",-22.24,143.02000000000001,1.24,"Hot"]
["Queensland","Yeppoon",-23.06,150.41999999999999,1.07,"Hot"]
["Queensland","Yuleba",-26.37,149.22999999999999,0.95,"Hot"]
["South Australia","Adelaide",-34.56,138.36000000000001,0.8,"Warm"]
["South Australia","Angorichina",-31.05,138.44999999999999,0.83,"Warm"]
["South Australia","Berri",-34.17,140.36000000000001,0.77,"Warm"]
["South Australia","Bundaleer Forest",-33.17,138.35,0.66,"Cool"]
["South Australia","Cape Borda",-35.450000000000003,136.35,0.64,"Cool"]
["South Australia","Cape De Couedie",-36.04,136.41999999999999,0.64,"Cool"]
["South Australia","Cape Northumberland",-38.04,140.4,0.59,"Cool"]
["South Australia","Cape Willoughby",-35.51,138.07,0.66,"Cool"]
["South Australia","Ceduna",-32.08,133.4,0.77,"Warm"]
["South Australia","Clare",-33.5,138.37,0.66,"Cool"]
["South Australia","Cleve PO",-33.42,136.30000000000001,0.76,"Warm"]
["South Australia","Coober Pedy",-29.01,134.44999999999999,1,"Hot"]
["South Australia","Cook PO",-30.37,130.25,0.86,"Warm"]
["South Australia","Elliston",-33.39,134.53,0.75,"Warm"]
["South Australia","Ernabella",-26.17,132.08000000000001,0.95,"Hot"]
["South Australia","Euduna",-34.11,139.05000000000001,0.66,"Cool"]
["South Australia","Farina",-30.04,138.16999999999999,0.94,"Hot"]
["South Australia","Fowlers Bay",-31.59,132.34,0.78,"Warm"]
["South Australia","Georgetown PO",-33.22,138.24,0.73,"Warm"]
["South Australia","Hawker PO",-31.53,138.25,0.82,"Warm"]
["South Australia","Kadina",-33.58,137.43,0.77,"Warm"]
["South Australia","Kapunda PO",-34.21,138.55000000000001,0.71,"Warm"]
["South Australia","Keith",-36.06,140.21,0.7,"Warm"]
["South Australia","Kimba PO",-33.090000000000003,136.25,0.76,"Warm"]
["South Australia","Kingscote",-35.4,137.38,0.67,"Cool"]
["South Australia","Kyancutta",-33.08,135.34,0.79,"Warm"]
["South Australia","Kybybolite",-36.54,141,0.59,"Cool"]
["South Australia","Lameroo PO",-35.200000000000003,140.31,0.7,"Warm"]
["South Australia","Leigh Creek",-30.28,138.26,0.93,"Hot"]
["South Australia","Loxton",-34.270000000000003,140.34,0.74,"Warm"]
["South Australia","Lucindale PO",-36.590000000000003,140.22,0.65,"Cool"]
["South Australia","Maitland PO",-34.229999999999997,137.4,0.72,"Warm"]
["South Australia","Maralinga",-30.09,131.35,0.89,"Warm"]
["South Australia","Marree",-29.39,138.04,0.97,"Hot"]
["South Australia","Meningie",-35.229999999999997,138.58000000000001,0.68,"Cool"]
["South Australia","Minnipa Seed Farm",-32.5,135.1,0.8,"Warm"]
["South Australia","Mount Gambier",-37.5,140.46,0.59,"Cool"]
["South Australia","Mt Barker",-35.04,138.52000000000001,0.59,"Cool"]
["South Australia","Mt Burr Forest",-37.33,140.26,0.59,"Cool"]
["South Australia","Mt Crawford For",-34.43,138.57,0.56000000000000005,"Cool"]
["South Australia","Murray Bridge",-35.07,139.16999999999999,0.73,"Warm"]
["South Australia","Myponga",-35.24,138.28,0.57999999999999996,"Cool"]
["South Australia","Naracoorte PO",-36.58,140.44,0.63,"Cool"]
["South Australia","Neptune Island",-35.21,136.07,0.71,"Warm"]
["South Australia","Nonning",-32.31,136.30000000000001,0.8,"Warm"]
["South Australia","Nuriootpa Viticu",-34.29,139.01,0.65,"Cool"]
["South Australia","Oodnadatta",-27.33,135.28,1.06,"Hot"]
["South Australia","Parafield Plant",-34.46,138.38,0.76,{"$f":"IF(E390<0.7,\"Cool\",IF(E390<0.9,\"Warm\",\"Hot\"))","v":"Warm"}]
["South Australia","Parndana East",-35.47,137.21,0.61,"Cool"]
["South Australia","Port Augusta",-32.299999999999997,137.46,0.9,"Hot"]
["South Australia","Port Augusta Stn",-33.32,137.46,0.9,"Hot"]
["South Australia","Port Lincoln",-34.44,135.52000000000001,0.73,"Warm"]
["South Australia","Port Pirie",-33.11,138,0.87,"Warm"]
["South Australia","Price",-34.18,138,0.76,"Warm"]
["South Australia","Renmark PO",-34.11,140.44999999999999,0.82,"Warm"]
["South Australia","Rennick",-37.5,140.59,0.56999999999999995,"Cool"]
["South Australia","Robe",-37.11,139.44999999999999,0.62,"Cool"]
["South Australia","Roseworthy",-34.32,138.44,0.75,"Warm"]
["South Australia","Serviceton",-36.22,140.59,0.63,"Cool"]
["South Australia","Snowtown PO",-33.47,138.13,0.75,"Warm"]
["South Australia","Stirling West",-35,138.43,0.55000000000000004,"Cool"]
["South Australia","Strathalbyn",-35.159999999999997,138.54,0.68,"Cool"]
["South Australia","Streaky Bay",-32.479999999999997,134.13,0.81,"Warm"]
["South Australia","Tailem Bend",-35.159999999999997,139.27000000000001,0.74,"Warm"]
["South Australia","Tarcoola",-30.41,134.33000000000001,0.88,"Warm"]
["South Australia","Turretfield Res",-34.33,138.5,0.72,"Warm"]
["South Australia","Victor Harbour",-35.33,138.37,0.71,"Warm"]
["South Australia","Waikerie (Lands)",-34.11,139.59,0.8,"Warm"]
["South Australia","Wanbi",-34.46,140.18,0.71,"Warm"]
["South Australia","Warooka PO",-34.590000000000003,137.25,0.73,"Warm"]
["South Australia","Whyalla PO",-33.020000000000003,137.35,0.85,"Warm"]
["South Australia","Woomera",-31.12,136.47999999999999,0.89,"Warm"]
["South Australia","Yongala",-33.020000000000003,138.44999999999999,0.65,"Cool"]
["South Australia","Yudjapinna",-32.08,137.09,0.87,"Warm"]
["South Australia","Yunta PO",-32.35,139.34,0.76,"Warm"]
["Tasmania","Bicheno",-41.53,148.18,0.56999999999999995,"Cool"]
["Tasmania","Bothwell",-42.23,147.01,0.4,"Cool"]
["Tasmania","Bridport PO",-41,147.24,0.55000000000000004,"Cool"]
["Tasmania","Bronte Park",-42.08,146.30000000000001,0.33,"Cool"]
["Tasmania","Burnie",-41.06,145.54,0.52,"Cool"]
["Tasmania","Bushy Park",-42.42,147.02000000000001,0.49,"Cool"]
["Tasmania","Bushy Park (Hops)",-42.43,146.53,0.47,"Cool"]
["Tasmania","Butlers Gorge",-42.17,146.16,0.31,"Cool"]
["Tasmania","Cape Bruni",-43.29,147.08000000000001,0.45,"Cool"]
["Tasmania","Cape Sorell",-42.12,145.1,0.49,"Cool"]
["Tasmania","Cradle Valley",-41.38,145.57,0.27,"Cool"]
["Tasmania","Cressy Research",-41.43,147.05000000000001,0.46,"Cool"]
["Tasmania","Currie",-39.56,143.5,0.54,"Cool"]
["Tasmania","Deloraine",-41.32,146.4,0.4,"Cool"]
["Tasmania","Devonport East",-41.11,146.22,0.51,"Cool"]
["Tasmania","Eddystone Point",-41,148.21,0.56000000000000005,"Cool"]
["Tasmania","Erriba",-41.27,146.07,0.33,"Cool"]
["Tasmania","Grove Research",-42.59,147.06,0.45,"Cool"]
["Tasmania","Hastings Chalet",-43.25,146.53,0.43,"Cool"]
["Tasmania","Hobart",-42.55,147.19999999999999,0.51,"Cool"]
["Tasmania","Hobart Airport",-42.5,147.32,0.51,"Cool"]
["Tasmania","Hythe",-43.25,146.04,0.44,"Cool"]
["Tasmania","Lake St Clair",-42.06,146.13,0.31,"Cool"]
["Tasmania","Launceston",-41.25,147.08000000000001,0.54,"Cool"]
["Tasmania","Launceston Aero",-41.33,147.13,0.47,"Cool"]
["Tasmania","Low Head",-41.04,146.47999999999999,0.51,"Cool"]
["Tasmania","Maatsuyker Is",-43.41,146.16999999999999,0.42,"Cool"]
["Tasmania","Maydena",-42.46,146.36000000000001,0.4,"Cool"]
["Tasmania","Miena",-41.59,146.44,0.25,"Cool"]
["Tasmania","Oatlands",-42.18,147.22,0.41,"Cool"]
["Tasmania","Orford PO",-42.34,147.52000000000001,0.52,"Cool"]
["Tasmania","Pats River",-40.06,148.01,0.56000000000000005,"Cool"]
["Tasmania","Port Davey",-43.2,145.57,0.45,"Cool"]
["Tasmania","Redpa",-40.56,144.44999999999999,0.48,"Cool"]
["Tasmania","Risdon",-42.48,147.19999999999999,0.52,"Cool"]
["Tasmania","Ross (Ellinthorp)",-42,147.19,0.45,"Cool"]
["Tasmania","Rossarden",-41.39,147.44,0.38,{"$f":"IF(E454<0.7,\"Cool\",IF(E454<0.9,\"Warm\",\"Hot\"))","v":"Cool"}]
["Tasmania","Scottsdale (Kraft)",-41.09,147.31,0.48,"Cool"]
["Tasmania","Sheffield",-41.23,146.19999999999999,0.42,"Cool"]
["Tasmania","Smithton PO",-40.51,145.08000000000001,0.51,"Cool"]
["Tasmania","St Helens",-41.2,148.15,0.53,"Cool"]
["Tasmania","Stanley",-40.46,145.18,0.52,"Cool"]
["Tasmania","Swansea",-42.08,148.04,0.52,"Cool"]
["Tasmania","Tasman Island",-43.15,148,0.41,"Cool"]
["Tasmania","Tewkesbury Res",-41.14,145.41999999999999,0.38,"Cool"]
["Tasmania","Waratah",-41.27,145.32,0.3,"Cool"]
["Tasmania","Wynyard Aeradio",-41,145.41999999999999,0.46,"Cool"]
["Tasmania","Zeehan PO",-41.53,145.19999999999999,0.41,"Cool"]
["Victoria","Aberfeldy",-37.42,146.22,0.36,"Cool"]
["Victoria","Alexandra PO",-37.119999999999997,145.43,0.57999999999999996,"Cool"]
["Victoria","Ararat",-37.17,142.56,0.57999999999999996,"Cool"]
["Victoria","Aspendale (CSIRO)",-38.020000000000003,145.06,0.63,"Cool"]
["Victoria","Avoca",-37.049999999999997,143.29,0.6,"Cool"]
["Victoria","Bairnsdale",-37.5,147.38,0.59,"Cool"]
["Victoria","Ballan (Fiskville)",-37.36,144.12,0.5,"Cool"]
["Victoria","Ballarat",-37.33,143.52000000000001,0.51,"Cool"]
["Victoria","Beechworth",-36.22,146.43,0.78,"Warm"]
["Victoria","Benalla",-36.33,145.59,0.67,"Cool"]
["Victoria","Bendigo",-36.46,144.16,0.66,"Cool"]
["Victoria","Beulah PO",-35.57,142.25,0.7,"Warm"]
["Victoria","Birchip PO",-35.590000000000003,142.54,0.7,"Warm"]
["Victoria","Bogong",-36.479999999999997,147.13999999999999,0.5,"Cool"]
["Victoria","Boort",-36.06,143.41999999999999,0.71,"Warm"]
["Victoria","Brighton East",-37.56,145.01,0.65,"Cool"]
["Victoria","Camperdown",-38.14,143.1,0.59,"Cool"]
["Victoria","Cann River Forest",-37.340000000000003,149.09,0.62,"Cool"]
["Victoria","Cape Otway",-38.51,143.31,0.56999999999999995,"Cool"]
["Victoria","Cape Schanck",-38.299999999999997,144.53,0.59,"Cool"]
["Victoria","Casterton (Clim)",-37.35,141.24,0.61,"Cool"]
["Victoria","Charlton",-36.159999999999997,143.21,0.68,"Cool"]
["Victoria","Clunes",-37.18,143.47,0.54,"Cool"]
["Victoria","Clunes PO",-37.24,143.47999999999999,0.54,"Cool"]
["Victoria","Colac",-38.200000000000003,143.35,0.56999999999999995,"Cool"]
["Victoria","Corryong Forest",-36.119999999999997,147.54,0.61,"Cool"]
["Victoria","Creswick For Sch",-37.25,143.54,0.53,"Cool"]
["Victoria","Dookie",-36.200000000000003,145.41999999999999,0.71,"Warm"]
["Victoria","Durdidwarrah",-37.49,144.13,0.53,"Cool"]
["Victoria","Echuca",-36.08,144.44999999999999,0.72,"Warm"]
["Victoria","Erica State Forest",-38,146.24,0.53,"Cool"]
["Victoria","Essendon Airport",-37.44,144.54,0.62,"Cool"]
["Victoria","Euroa",-36.46,145.33000000000001,0.67,"Cool"]
["Victoria","Forrest SF",-38.32,143.43,0.52,"Cool"]
["Victoria","Gabo Island",-37.340000000000003,149.55000000000001,0.66,"Cool"]
["Victoria","Geelong",-38.090000000000003,144.21,0.63,"Cool"]
["Victoria","Gellibrand For",-38.32,143.32,0.52,"Cool"]
["Victoria","Hamilton",-37.450000000000003,142.02000000000001,0.55000000000000004,"Cool"]
["Victoria","Heathcote PO",-36.56,144.41999999999999,0.61,"Cool"]
["Victoria","Heywood For Off",-38.08,141.38,0.56999999999999995,"Cool"]
["Victoria","Horsham",-36.43,142.12,0.67,"Cool"]
["Victoria","Jeparit PO",-36.08,141.59,0.71,"Warm"]
["Victoria","Kerang",-35.42,143.54,0.73,"Warm"]
["Victoria","Kyabram",-36.19,145.03,0.64,"Cool"]
["Victoria","Kyneton PO",-37.15,144.27000000000001,0.49,"Cool"]
["Victoria","Lake Eildon",-37.14,145.55000000000001,0.61,"Cool"]
["Victoria","Leongatha",-38.29,145.57,0.59,"Cool"]
["Victoria","Lismore PO",-37.58,143.21,0.59,"Cool"]
["Victoria","Longerenong",-36.42,142.18,0.64,"Cool"]
["Victoria","Macedon State Nr",-37.25,144.34,0.48,"Cool"]
["Victoria","Maffra",-37.58,146.59,0.61,"Cool"]
["Victoria","Maldon",-37,144.06,0.6,"Cool"]
["Victoria","Mangalore Aero",-36.54,145.1,0.64,{"$f":"IF(E518<0.7,\"Cool\",IF(E518<0.9,\"Warm\",\"Hot\"))","v":"Cool"}]
["Victoria","Maryborough",-37.03,143.44,0.63,"Cool"]
["Victoria","Melbourne",-37.5,145,0.66,"Cool"]
["Victoria","Mildura",-34.119999999999997,142.09,0.81,"Warm"]
["Victoria","Mitta Mitta",-36.32,147.22,0.59,"Cool"]
["Victoria","Mornington",-38.119999999999997,145,0.66,"Cool"]
["Victoria","Mount Eliza",-38.119999999999997,145.06,0.66,"Cool"]
["Victoria","Mt Buffalo",-36.47,146.46,0.35,"Cool"]
["Victoria","Mt St Leonard",-37.36,145.30000000000001,0.48,"Cool"]
["Victoria","Myrtleford",-36.33,146.44,0.62,"Cool"]
["Victoria","Nhill",-36.21,141.38999999999999,0.65,"Cool"]
["Victoria","Numurkah",-36.06,145.24,0.72,"Warm"]
["Victoria","Olsons Bridge",-38.29,146.19,0.48,"Cool"]
["Victoria","Omeo",-37.06,147.36000000000001,0.47,"Cool"]
["Victoria","Omeo",-37.06,147.86000000000001,0.48,"Cool"]
["Victoria","Orbost",-37.42,148.27000000000001,0.6,"Cool"]
["Victoria","Ouyen",-35.06,142.18,0.76,"Warm"]
["Victoria","Portland",-38.21,141.36000000000001,0.59,"Cool"]
["Victoria","Portsea Quarantine",-38.19,144.41999999999999,0.61,"Cool"]
["Victoria","Powelltown",-37.520000000000003,145.44999999999999,0.56000000000000005,"Cool"]
["Victoria","Rainbow PO",-35.54,142,0.72,"Warm"]
["Victoria","Rochester",-36.21,144.41999999999999,0.69,"Cool"]
["Victoria","Rubicon Sec",-37.200000000000003,145.52000000000001,0.47,"Cool"]
["Victoria","Rutherglen",-36.03,146.28,0.66,"Cool"]
["Victoria","Rutherglen Exp F",-36.06,146.36000000000001,0.64,"Cool"]
["Victoria","Sale",-38.06,147.04,0.62,"Cool"]
["Victoria","Scoresby",-37.520000000000003,145.13999999999999,0.62,"Cool"]
["Victoria","Seymour",-37.020000000000003,145.08000000000001,0.65,"Cool"]
["Victoria","Shepparton",-36.229999999999997,145.24,0.7,"Warm"]
["Victoria","St Arnaud",-36.369999999999997,143.16,0.64,"Cool"]
["Victoria","Stawell",-37.06,142.47999999999999,0.65,"Cool"]
["Victoria","Swan Hill",-35.21,143.34,0.75,"Warm"]
["Victoria","Tanjil Bren",-37.479999999999997,146.12,0.44,"Cool"]
["Victoria","Tatura Res Stn",-36.26,145.16,0.65,"Cool"]
["Victoria","Terang",-38.119999999999997,142.54,0.56999999999999995,"Cool"]
["Victoria","Tidal River",-39.020000000000003,146.19,0.6,"Cool"]
["Victoria","Tooradin",-38.119999999999997,145.24,0.57999999999999996,"Cool"]
["Victoria","Wail",-36.31,142.1,0.66,"Cool"]
["Victoria","Walpeup",-35.08,142.02000000000001,0.73,"Warm"]
["Victoria","Wangaratta",-36.21,146.19,0.68,"Cool"]
["Victoria","Warragul PO",-38.1,145.56,0.6,"Cool"]
["Victoria","Warrnambool",-38.229999999999997,142.29,0.56999999999999995,"Cool"]
["Victoria","Watsonia (Loyola)",-37.42,145.05000000000001,0.63,"Cool"]
["Victoria","Werribee",-37.54,144.4,0.62,"Cool"]
["Victoria","Wilsons Prom",-39.01,146.28,0.57999999999999996,"Cool"]
["Victoria","Wilsons Promont",-39.08,146.25,0.57999999999999996,"Cool"]
["Victoria","Woods Point",-37.35,146.15,0.43,"Cool"]
["Victoria","Woohlpooer",-37.200000000000003,142.09,0.56999999999999995,"Cool"]
["Victoria","Yallourn Sec",-38.11,146.22,0.57999999999999996,"Cool"]
["Victoria","Yarrawonga",-36.01,146.01,0.73,"Warm"]
["Western Australia","Albany",-35.020000000000003,117.52,0.7,"Warm"]
["Western Australia","Anna Plains",-19.11,121.37,1.35,"Hot"]
["Western Australia","Balladonia",-32.28,123.52,0.78,"Warm"]
["Western Australia","Bencubbin",-30.48,117.51,0.86,"Warm"]
["Western Australia","Beverley",-32.06,116.54,0.81,"Warm"]
["Western Australia","Booylgoo",-27.45,119.55,0.99,"Hot"]
["Western Australia","Boyup Brook PO",-33.5,116.23,0.69,"Cool"]
["Western Australia","Bridgetown",-33.57,116.07,0.67,"Cool"]
["Western Australia","Brookton PO",-32.22,117.01,0.76,"Warm"]
["Western Australia","Broome",-17.57,122.14,1.37,"Hot"]
["Western Australia","Bunbury",-33.200000000000003,115.38,0.78,"Warm"]
["Western Australia","Busselton",-33.39,115.21,0.76,"Warm"]
["Western Australia","Camballin",-17.579999999999998,124.06,1.48,"Hot"]
["Western Australia","Cape Leeuwin",-34.22,115.08,0.78,"Warm"]
["Western Australia","Cape Leveque",-16.239999999999998,122.55,1.38,{"$f":"IF(E582<0.7,\"Cool\",IF(E582<0.9,\"Warm\",\"Hot\"))","v":"Hot"}]
["Western Australia","Cape Naturaliste",-33.32,115.01,0.76,"Warm"]
["Western Australia","Carnamah",-29.5,115.53,0.92,"Hot"]
["Western Australia","Carnamah",-29.41,115.53,0.93,"Hot"]
["Western Australia","Carnarvon",-24.52,113.38,1.08,"Hot"]
["Western Australia","Cashmere Downs",-28.57,119.35,1.01,"Hot"]
["Western Australia","Chapman Res Stn",-28.28,114.46,0.94,"Hot"]
["Western Australia","Collie",-33.22,116.09,0.69,"Cool"]
["Western Australia","Coolgardie",-30.57,121.1,0.85,"Warm"]
["Western Australia","Corrigin PO",-32.200000000000003,117.52,0.77,"Warm"]
["Western Australia","Cossack",-20.5,117.12,1.34,"Hot"]
["Western Australia","Cue",-27.25,117.54,1.06,"Hot"]
["Western Australia","Cunderdin",-31.39,117.14,0.85,"Warm"]
["Western Australia","Dallwallinu",-30.17,116.39,0.9,"Hot"]
["Western Australia","Denmark Res Stn",-34.56,117.2,0.67,"Cool"]
["Western Australia","Derby",-17.18,123.38,1.44,"Hot"]
["Western Australia","Donnybrook",-33.44,115.49,0.73,"Warm"]
["Western Australia","Donnybrook PO",-33.340000000000003,115.49,0.76,"Warm"]
["Western Australia","Dwellingup",-32.44,116.04,0.67,"Cool"]
["Western Australia","Eclipse Is",-35.11,117.53,0.69,"Cool"]
["Western Australia","Errabiddy",-25.27,117.11,1.18,"Hot"]
["Western Australia","Esperance",-33.51,121.53,0.75,"Warm"]
["Western Australia","Esperance Downs",-33.36,121.48,0.73,"Warm"]
["Western Australia","Eucla",-31.43,128.52000000000001,0.81,"Warm"]
["Western Australia","Fitzroy Crossing",-18.11,125.35,1.44,"Hot"]
["Western Australia","Forrest",-30.52,128.06,0.81,"Warm"]
["Western Australia","Gascoyne Junction",-25.03,115.13,1.21,"Hot"]
["Western Australia","Geraldton",-28.46,114.36,0.96,"Hot"]
["Western Australia","Geraldton Met",-28.48,114.42,0.94,"Hot"]
["Western Australia","Giles",-25.02,128.18,1.1200000000000001,"Hot"]
["Western Australia","Goomaling PO",-31.18,116.49,0.84,"Warm"]
["Western Australia","Halls Creek",-18.16,127.46,1.31,"Hot"]
["Western Australia","Halls Creek",-18.14,127.4,1.39,"Hot"]
["Western Australia","Hamelin Pool",-26.26,114.11,1.07,"Hot"]
["Western Australia","Hyden PO",-32.270000000000003,118.52,0.77,"Warm"]
["Western Australia","Kalamunda PO",-32,116.04,0.78,"Warm"]
["Western Australia","Kalgoolie",-30.45,121.28,0.89,"Warm"]
["Western Australia","Kalumburu",-14.18,126.38,1.4,"Hot"]
["Western Australia","Karridale",-34.130000000000003,115.05,0.69,"Cool"]
["Western Australia","Katanning",-33.42,117.33,0.71,"Warm"]
["Western Australia","Kellerberrin",-31.38,117.43,0.84,"Warm"]
["Western Australia","Kimberley Res Stn",-15.47,128.41999999999999,1.44,"Hot"]
["Western Australia","Kojonup PO",-33.5,117.09,0.67,"Cool"]
["Western Australia","Kondinin PO",-32.299999999999997,118.16,0.79,"Warm"]
["Western Australia","La Grange Mission",-18.41,121.46,1.38,"Hot"]
["Western Australia","Lake Grace",-33.07,118.28,0.76,"Warm"]
["Western Australia","Laverton",-28.38,122.25,0.98,"Hot"]
["Western Australia","Leonora",-28.53,121.19,1.03,"Hot"]
["Western Australia","Madura Motel",-31.54,127,0.86,"Warm"]
["Western Australia","Mandora Homestead",-19.45,120.51,1.37,"Hot"]
["Western Australia","Mandurah",-32.32,115.43,0.84,"Warm"]
["Western Australia","Manjimup",-34.14,116.09,0.63,"Cool"]
["Western Australia","Marble Bar",-21.11,119.44,1.47,"Hot"]
["Western Australia","Mardie",-21.12,115.57,1.33,"Hot"]
["Western Australia","Margaret River",-33.57,115.04,0.72,"Warm"]
["Western Australia","Meekatharra",-26.36,118.29,1.0900000000000001,"Hot"]
["Western Australia","Menzies",-29.41,121.02,0.92,"Hot"]
["Western Australia","Merredin Agr Rs",-31.29,118.17,0.83,"Warm"]
["Western Australia","Merredin Shire",-31.29,118.11,0.82,"Warm"]
["Western Australia","Mingenew",-29.11,115.26,0.97,"Hot"]
["Western Australia","Moora Shire Council",-30.38,116,0.85,"Warm"]
["Western Australia","Morawa PO",-29.13,116,0.95,"Hot"]
["Western Australia","Mount Barker",-34.380000000000003,117.4,0.63,"Cool"]
["Western Australia","Mt Magnet",-28.04,117.51,1.06,"Hot"]
["Western Australia","Mullewa",-28.33,115.3,1,{"$f":"IF(E646<0.7,\"Cool\",IF(E646<0.9,\"Warm\",\"Hot\"))","v":"Hot"}]
["Western Australia","Mundiwindi",-23.5,120.1,1.1299999999999999,"Hot"]
["Western Australia","Mundrabilla",-31.51,127.51,0.86,"Warm"]
["Western Australia","Muresk",-31.45,116.4,0.81,"Warm"]
["Western Australia","Murgoo",-27.22,116.26,1.05,"Hot"]
["Western Australia","Narembeen",-32.06,118.24,0.81,"Warm"]
["Western Australia","Narrogin",-32.56,117.1,0.71,"Warm"]
["Western Australia","Norseman PO",-32.119999999999997,121.47,0.81,"Warm"]
["Western Australia","Nullagine",-21.53,120.06,1.25,"Hot"]
["Western Australia","Nyang Wogoola",-23,115,1.36,"Hot"]
["Western Australia","Ongerup PO",-33.58,118.28,0.69,"Cool"]
["Western Australia","Onslow Aero",-21.4,115.07,1.29,"Hot"]
["Western Australia","Peak Hill",-25.48,118.43,1.1200000000000001,"Hot"]
["Western Australia","Pearce Aerodrome",-31.4,116,0.87,"Warm"]
["Western Australia","Pemberton Forest",-34.270000000000003,116.01,0.67,"Cool"]
["Western Australia","Perth",-31.59,115.5,0.85,"Warm"]
["Western Australia","Perth Guildford",-31.55,115.58,0.85,"Warm"]
["Western Australia","Perth Regional",-31.57,115.51,0.88,"Warm"]
["Western Australia","Pingelly",-32.32,117.05,0.75,"Warm"]
["Western Australia","Port George IV",-15.25,124.43,1.35,"Hot"]
["Western Australia","Port Hedland",-20.23,118.37,1.35,"Hot"]
["Western Australia","Port Hedland",-20.190000000000001,118.03,1.34,"Hot"]
["Western Australia","Ravensthorpe",-33.35,120.03,0.75,"Warm"]
["Western Australia","Rawlinna",-31,125.15,0.84,"Warm"]
["Western Australia","Rottnest Island",-32,115.3,0.87,"Warm"]
["Western Australia","Salmon Gums Res",-32.590000000000003,121.39,0.74,"Warm"]
["Western Australia","Sandstone",-27.59,119.17,0.98,"Hot"]
["Western Australia","Southern Cross",-31.13,119.19,0.84,"Warm"]
["Western Australia","Swan Upper",-31.45,116.06,0.84,"Warm"]
["Western Australia","Three Rivers",-25.08,119.1,1.1200000000000001,"Hot"]
["Western Australia","Troughton Island",-13.45,126.09,1.45,"Hot"]
["Western Australia","Turkey Creek",-17.02,128.12,1.46,"Hot"]
["Western Australia","Vlaming Head",-21.48,114.06,1.21,"Hot"]
["Western Australia","Wagin PO",-33.18,117.2,0.73,"Warm"]
["Western Australia","Wandering",-32.4,116.41,0.71,"Warm"]
["Western Australia","Watheroo",-30.17,116.04,0.82,"Warm"]
["Western Australia","Wiluna",-26.36,120.13,1.05,"Hot"]
["Western Australia","Winning Pool",-23.09,114.01,1.26,"Hot"]
["Western Australia","Wittenoom Gorge",-22.18,118.18,1.36,"Hot"]
["Western Australia","Wokalup",-33.08,115.53,0.8,"Warm"]
["Western Australia","Wongan Hills RF",-30.53,116.43,0.83,"Warm"]
["Western Australia","Wyalkatchem",-31.12,117.24,0.85,"Warm"]
["Western Australia","Wyndham",-15.28,128.06,1.54,"Hot"]
["Western Australia","Yalgoo",-28.2,116.41,1.02,"Hot"]
["Western Australia","Yampi Sound",-16.059999999999999,123.36,1.45,"Hot"]
["Western Australia","York PO",-31.53,116.46,0.83,"Warm"]

{"sheet":"12. Diet ingredient data","index":16,"n_rows":173,"n_cols":26,"rows_kept":173,"cut":false,"hidden":false,"merged":[[1,0,1,26]]}
["Menu"]
["12. Diet ingredient data"]
[]
[]
[]
[]
[null,"Ingredient","DM\n(%)",null,"Ash\n(%)","GE\n(MJ. kg-1)","DE\n(MJ. kg-1)","DMD\n(%)*","CP\n(%)","N\n(%)","Total P\n(%)","Phos availability\n(%)","Avail Phos\n(%)","K\n(%)",null,"CF\n(%)","Na\n(%)","Cl\n(%)","Salt\n(%)","Mg\n(%)","Cu\n(mg. kg-1)","Zn\n(mg. kg-1)","Mn\n(mg. kg-1)","Fe\n(mg. kg-1)","CO2 -e\n(kg/kg CO2 -e-1)","References"]
[null,"Cereal Grains"]
[null,"Barley",0.88,null,2.1999999999999999E-2,15.97,13,{"$f":"G9/F9","v":0.81402629931120851},0.1,{"$f":"I9/6.25","v":1.6E-2},2.8E-3,0.35,{"$f":"L9*K9","v":9.7999999999999997E-4},4.6999999999999993E-3,null,4.3999999999999997E-2,1E-4,1.4E-3,2.3E-3,1E-3,5,25,16,85,null,"1, 2, 9"]
[null,"Groats",0.9,null,2.1400000000000002E-2,16.059999999999999,15,0.93399750933997516,0.11,{"$f":"I10/6.25","v":1.7600000000000001E-2},3.0000000000000001E-3,0.32,9.6000000000000002E-4,3.4999999999999996E-3,null,1.8000000000000002E-2,1E-4,7.000000000000001E-4,null,1.1000000000000001E-3,6.8,25,40,54,null,"2, 9"]
[null,"Oats 9",0.88,null,2.64E-2,17.149999999999999,12,{"$f":"G11/F11","v":0.69970845481049571},0.09,{"$f":"I11/6.25","v":1.44E-2},3.2000000000000002E-3,0.32,{"$f":"L11*K11","v":1.0240000000000002E-3},3.5999999999999999E-3,null,0.12189999999999999,1E-4,7.000000000000001E-4,1.1999999999999999E-3,1.1999999999999999E-3,6,25,40,76,0.37,"1, 2, 7, 9"]
[null,"Maize 8",0.88,null,1.21E-2,16.13,14.5,{"$f":"G12/F12","v":0.89894606323620585},0.08,{"$f":"I12/6.25","v":1.2800000000000001E-2},2.5999999999999999E-3,0.28000000000000003,{"$f":"L12*K12","v":7.2800000000000002E-4},3.3E-3,null,2.1499999999999998E-2,null,5.9999999999999995E-4,1E-3,1E-3,6,20,5,30,0.15,"1, 2, 7, 9"]
[null,"Sorghum 11",0.88,null,0.02,16.28,14.2,0.87223587223587218,0.11,{"$f":"I13/6.25","v":1.7600000000000001E-2},2.8000000000000004E-3,0.2,5.6000000000000006E-4,3.4999999999999996E-3,null,2.3E-2,2.0000000000000001E-4,7.000000000000001E-4,1.1999999999999999E-3,1.4000000000000002E-3,5,20,15,45,0.31,"1, 2, 7, 9"]
[null,"Triticale 11",0.88,null,1.9199999999999998E-2,15.75,14,0.88888888888888884,0.11,1.7600000000000001E-2,3.4999999999999996E-3,0.4,1.4E-3,5.0000000000000001E-3,null,2.3E-2,1E-4,1E-3,1.6000000000000001E-3,1.1000000000000001E-3,8,40,25,50,0.33,"1, 2, 7, 9"]
[null,"Wheat 10",0.88,null,1.4999999999999999E-2,15.87,14,{"$f":"G15/F15","v":0.88216761184625081},0.1,1.6E-2,3.4000000000000002E-3,0.5,{"$f":"L15*K15","v":1.7000000000000001E-3},4.0999999999999995E-3,null,0.02,5.0000000000000001E-4,8.9999999999999998E-4,1.5E-3,1.4000000000000002E-3,4,30,30,55,0.36,"1, 2, 7, 9"]
[null,"Wheat 12",0.88,null,1.4999999999999999E-2,15.87,14,0.88216761184625081,0.12,1.9199999999999998E-2,3.4000000000000002E-3,0.5,1.7000000000000001E-3,4.0999999999999995E-3,null,0.02,5.0000000000000001E-4,8.9999999999999998E-4,1.5E-3,1.4000000000000002E-3,4,30,30,55,0.36,"1, 2, 7, 9"]
[null,"Wheat Extruded",0.88,null,1.4999999999999999E-2,17,15,0.88235294117647056,0.12,1.9199999999999998E-2,3.4000000000000002E-3,0.5,1.7000000000000001E-3,4.0999999999999995E-3,null,0.02,5.0000000000000001E-4,8.9999999999999998E-4,1.5E-3,1.4000000000000002E-3,4,30,30,55,null,9]
[null,"Cereal by-products"]
[null,"Hominy Meal",0.89,null,4.6500000000000007E-2,16.98,14.6,{"$f":"G19/F19","v":0.85983510011778563},0.13400000000000001,2.1440000000000001E-2,7.7000000000000002E-3,0.21,{"$f":"L19*K19","v":1.6169999999999999E-3},0,null,5.5199999999999999E-2,null,null,null,2.3999999999999998E-3,10,90,112,100,null,2]
[null,"Millrun",0.87,null,0.05,16.5,11.5,0.69696969696969702,0.15,2.4E-2,9.4999999999999998E-3,0.28999999999999998,2.7549999999999996E-3,8.0000000000000002E-3,null,0.09,1E-4,8.9999999999999998E-4,1.5E-3,4.0000000000000001E-3,10,95,112,150,null,1]
[null,"Rice Hulls",0.89,null,0.05,16,2.5,0.15625,0.02,3.2000000000000002E-3,7.000000000000001E-4,0.3,2.1000000000000004E-4,8.0000000000000002E-3,null,0.4,null,null,1E-3,null,"-","-","-","-",null,"Coprice Feeds"]
[null,"Rice bran",0.9,null,0.13,16,7.7,0.48125000000000001,0.155,2.4799999999999999E-2,1.7000000000000001E-2,0.2,3.4000000000000002E-3,1.15E-2,null,0.14000000000000001,2.0000000000000001E-4,5.0000000000000001E-4,8.0000000000000004E-4,8.5000000000000006E-3,6,30,265,190,null,"1, 2"]
[null,"Soya hulls",0.89,null,4.4999999999999998E-2,16.23,8.36,0.51509550215650024,0.12,1.9199999999999998E-2,1.1000000000000001E-3,null,null,1.2E-2,null,0.34799999999999998,2.0000000000000001E-4,2.9999999999999997E-4,5.0000000000000001E-4,2.3E-3,10,50,15,500,null,2]
[null,"Wheat Bran",0.87,null,5.0499999999999996E-2,16.440000000000001,9.4,0.57177615571776153,0.15,2.4E-2,9.8999999999999991E-3,0.3,2.9699999999999996E-3,4.0000000000000001E-3,null,9.1999999999999998E-2,1E-4,8.9999999999999998E-4,1.5E-3,4.5000000000000005E-3,10,100,112,200,null,"1,2"]
[null,"Wheat Pollard",0.87,null,4.7E-2,16.53,11.2,0.67755595886267383,0.15,2.4E-2,9.4999999999999998E-3,0.28999999999999998,2.7549999999999996E-3,1.2E-2,null,8.5000000000000006E-2,1E-4,8.9999999999999998E-4,1.5E-3,3.4999999999999996E-3,10,90,112,100,null,"1,2"]
[null,"Roots & Tubers"]
[null,"Cassava",0.87,null,5.5E-2,14.5,12.8,{"$f":"G27/F27","v":0.88275862068965527},0.03,4.7999999999999996E-3,8.9999999999999998E-4,0.1,{"$f":"L27*K27","v":9.0000000000000006E-5},8.5000000000000006E-3,null,4.4999999999999998E-2,2.9999999999999997E-4,5.0000000000000001E-4,8.0000000000000004E-4,1E-3,4,18,20,15,null,"1,2"]
[null,"By-products"]
[null,"Biscuit Meal",0.89,null,0.03,17,15.1,{"$f":"G29/F29","v":0.88823529411764701},0.1,1.6E-2,3.4999999999999996E-3,0.43,1.5049999999999998E-3,3.9000000000000003E-3,null,0.01,3.3E-3,5.0000000000000001E-3,8.199999999999999E-3,5.0000000000000001E-4,4,28,25,50,null,"1, 2"]
[null,"Brewers Grains",0.88,null,4.4999999999999998E-2,18.2,12,0.65934065934065933,0.22,3.5200000000000002E-2,5.0000000000000001E-3,0.6,3.0000000000000001E-3,3.0000000000000001E-3,null,0.16,2.9999999999999997E-4,1.5E-3,2.5000000000000001E-3,1.9E-3,18,80,40,100,null,2]
[null,"Distller's Dried Grains & Solubles (DDGS)",0.9,null,0.05,20.399999999999999,15.5,0.75980392156862753,0.26,4.1599999999999998E-2,8.5000000000000006E-3,0.56000000000000005,4.7600000000000012E-3,1.23E-2,null,7.0999999999999994E-2,1E-4,2.7000000000000001E-3,4.5000000000000005E-3,4.1999999999999997E-3,12,90,90,165,null,1]
[null,"Molasses",0.745,null,0.1032,11.02,10.3,0.93466424682395655,0.04,6.4000000000000003E-3,5.9999999999999995E-4,0.2,1.1999999999999999E-4,3.5000000000000003E-2,null,0,2.0999999999999999E-3,1.4999999999999999E-2,2.4700000000000003E-2,3.4999999999999996E-3,29,15,15,200,null,1]
[null,"Peanut shell",0.92,null,0.08,16,1.1000000000000001,6.8750000000000006E-2,0.03,4.7999999999999996E-3,8.9999999999999998E-4,0.2,1.8000000000000001E-4,0.01,null,0.6,2.0000000000000001E-4,5.0000000000000001E-4,null,1E-3,4,23,50,100,null,"Ridley"]
[null,"Sugar",0.99,null,5.0000000000000001E-3,20,15.1,0.755,0,0,4.0000000000000002E-4,1,4.0000000000000002E-4,0,null,0,0,0,0,null,0,0,0,0,0.16,"1, 7"]
[null,"Pulses"]
[null,"Faba beans",0.9,null,3.5299999999999998E-2,16.8,14.5,{"$f":"G36/F36","v":0.86309523809523803},0.23,3.6799999999999999E-2,4.6999999999999993E-3,0.37,{"$f":"L36*K36","v":1.7389999999999997E-3},9.5999999999999992E-3,null,6.9000000000000006E-2,1E-4,null,null,1E-3,8.8000000000000007,16,11,95,null,"3, 4"]
[null,"Lupins, albus",0.88,null,3.3000000000000002E-2,18.7,16,0.85561497326203206,0.34,5.4400000000000004E-2,3.5999999999999999E-3,0.5,1.8E-3,1.1000000000000001E-2,null,0.106,2.0000000000000001E-4,8.9999999999999998E-4,1.5E-3,1.5E-3,7,35,29.5,30,null,"3, 4"]
[null,"Lupins, augustifolius",0.88,null,2.7999999999999997E-2,18.100000000000001,14.6,0.80662983425414359,0.30499999999999999,4.8799999999999996E-2,3.0000000000000001E-3,0.5,1.5E-3,8.5000000000000006E-3,null,0.13,2.0000000000000001E-4,8.9999999999999998E-4,1.5E-3,1.5E-3,5,35,35,60,null,"3, 4"]
[null,"Chick Peas",0.9,null,0.03,17.53,15.1,0.86138049058756405,0.2,3.2000000000000001E-2,3.7000000000000002E-3,0.2,7.400000000000001E-4,8.0000000000000002E-3,null,7.0000000000000007E-2,2.9999999999999997E-4,1.1999999999999999E-3,2E-3,1.1999999999999999E-3,5,20,20,60,null,"3, 4"]
[null,"Field Peas",0.86,null,0.03,16.8,14.5,0.86309523809523803,0.20499999999999999,3.2799999999999996E-2,4.0000000000000001E-3,0.5,2E-3,9.4999999999999998E-3,null,6.0999999999999999E-2,2.0000000000000001E-4,1E-3,1.6000000000000001E-3,1.2999999999999999E-3,7,31,10,80,0.31,"3, 4, 7"]
[null,"Mung Beans",0.9,null,3.7000000000000005E-2,17,15.4,0.90588235294117647,0.24,3.8399999999999997E-2,6.9999999999999993E-3,0.33,2.31E-3,4.0999999999999995E-3,null,3.9E-2,1E-4,null,null,1.8E-3,"7.2.",31.5,12.3,49,null,3]
[null,"Navy Beans",0.9,null,3.7999999999999999E-2,16.399999999999999,14.4,0.87804878048780499,0.24,3.8399999999999997E-2,4.3E-3,0.33,1.4190000000000001E-3,1.3500000000000002E-2,null,6.9699999999999998E-2,2.0000000000000001E-4,4.0000000000000002E-4,null,1.5E-3,8.3000000000000007,29.5,15,68,null,"3, 4"]
[null,"Oilseed Meals"]
[null,"Canola Meal 37 Solvent",0.91,null,6.5000000000000002E-2,17.68,13,{"$f":"G44/F44","v":0.73529411764705888},0.37,5.9200000000000003E-2,1.1000000000000001E-2,0.21,2.31E-3,1.2500000000000001E-2,null,0.105,1E-3,8.0000000000000004E-4,1.2999999999999999E-3,5.0000000000000001E-3,6.5,60,105,190,0.43,"1, 2, 7, 9"]
[null,"Canola meal 32 Expeller",0.9,null,6.4000000000000001E-2,18.98,13.7,0.72181243414120122,0.32,5.1200000000000002E-2,9.4999999999999998E-3,0.26,2.47E-3,1.0500000000000001E-2,null,0.106,4.0000000000000002E-4,4.0000000000000002E-4,6.9999999999999999E-4,4.0000000000000001E-3,12,70,63,182,null,"1, 2, 9"]
[null,"Canola meal Cold Pressed 34",0.9,null,6.2E-2,19,14,0.73684210526315785,0.34,5.4400000000000004E-2,9.5999999999999992E-3,null,null,1.23E-2,null,0.12,2.0000000000000001E-4,8.0000000000000004E-4,5.0000000000000001E-4,4.0000000000000001E-3,12,70,63,182]
[null,"Copra meal",0.9,null,6.2E-2,18.190000000000001,13.1,0.72017592083562387,0.21,3.3599999999999998E-2,5.7999999999999996E-3,0.31,1.7979999999999999E-3,1.2999999999999999E-2,null,0.128,5.0000000000000001E-4,6.0000000000000001E-3,9.9000000000000008E-3,3.0000000000000001E-3,30,50,null,null,null,"1, 2, 9"]
[null,"Cotton seed meal 43",0.9,null,6.5000000000000002E-2,18.72,13,0.69444444444444453,0.43,6.88E-2,1.1399999999999999E-2,0.26,2.9639999999999996E-3,1.2500000000000001E-2,null,0.16800000000000001,5.0000000000000001E-4,4.0000000000000002E-4,7.000000000000001E-4,5.0000000000000001E-3,10,60,20,150,null,"1, 2, 9"]
[null,"Palm Kernel meal",0.9,null,4.2000000000000003E-2,18.21,12.5,0.68643602416254801,0.14800000000000002,2.3680000000000003E-2,5.6000000000000008E-3,0.31,1.7360000000000003E-3,6.5000000000000006E-3,null,0.17899999999999999,2.9999999999999997E-4,1.6000000000000001E-3,2.5999999999999999E-3,2.8000000000000004E-3,25,45,250,500,null,"1, 2, 9"]
[null,"Peanut Meal 48",0.9,null,0.05,18.2,14.6,0.80219780219780223,0.48,7.6799999999999993E-2,6.0000000000000001E-3,0.3,1.8E-3,1.1299999999999999E-2,null,5.5999999999999994E-2,2.0000000000000001E-4,2.9999999999999997E-4,5.0000000000000001E-4,3.5999999999999999E-3,22,61,54,"-",0.27,"1, 2, 7, 9"]
[null,"Soybean Meal 46 Solvent",0.88,null,6.480000000000001E-2,17.079999999999998,14.9,0.87236533957845441,0.46,7.3599999999999999E-2,6.1999999999999998E-3,0.2,1.24E-3,1.9E-2,null,6.1100000000000002E-2,2.0000000000000001E-4,2.9999999999999997E-4,5.0000000000000001E-4,2.5000000000000001E-3,15,46,43,150,0.27,"1, 2, 7, 9"]
[null,"Soybean Meal 48 Solvent",0.88500000000000001,null,6.5000000000000002E-2,17.41,14.9,0.85582998276852384,0.48,7.6799999999999993E-2,6.5000000000000006E-3,0.31,2.0150000000000003E-3,2.1000000000000001E-2,null,3.7000000000000005E-2,2.9999999999999997E-4,8.9999999999999998E-4,1.5E-3,2.8000000000000004E-3,15,50,43,150,0.73,"1, 2, 7, 9"]
[null,"Soybean, Full fat",0.875,null,5.2999999999999999E-2,20.5,17.5,0.85365853658536583,0.35499999999999998,5.6799999999999996E-2,5.5000000000000005E-3,0.31,1.7050000000000001E-3,1.7000000000000001E-2,null,5.7999999999999996E-2,2.0000000000000001E-4,4.0000000000000002E-4,7.000000000000001E-4,2.3E-3,12,40,30,130,null,"1, 2"]
[null,"Selecta Soy/X-Soy 600",0.92,null,6.8000000000000005E-2,18.850000000000001,17.2,0.91246684350132612,0.6,9.6000000000000002E-2,8.0000000000000002E-3,0.3,2.3999999999999998E-3,2.3E-2,null,3.5000000000000003E-2,4.0000000000000002E-4,5.9999999999999995E-4,1E-3,3.4999999999999996E-3,20,60,50,200,null,1]
[null,"Soycomil 65",0.91,null,0.06,18.920000000000002,17.600000000000001,0.93023255813953487,0.65,0.10400000000000001,8.0000000000000002E-3,0.3,2.3999999999999998E-3,2.2000000000000002E-2,null,3.6999999999999998E-2,1E-4,1E-3,1.6000000000000001E-3,3.4000000000000002E-3,12,35,"-",150,null,"ADM"]
[null,"Sunflower 30",0.89,null,6.3E-2,17.22,8.3000000000000007,0.48199767711962843,0.3,4.8000000000000001E-2,0.01,0.19,1.9E-3,1.46E-2,null,0.24,1E-4,1E-3,1.6000000000000001E-3,5.5000000000000005E-3,20,90,40,260,null,"1, 2, 9"]
[null,"Sunflower 36",0.89,null,7.0000000000000007E-2,17.23,13.1,0.76030179918746366,0.36,5.7599999999999998E-2,1.2E-2,0.19,2.2799999999999999E-3,1.52E-2,null,0.18,1E-4,1.1000000000000001E-3,1.8E-3,6.0000000000000001E-3,20,90,40,260,null,"1, 2, 9"]
[null,"Yeast Products"]
[null,"Brewers Yeast",0.9,null,7.0999999999999994E-2,18.64,16,{"$f":"G59/F59","v":0.85836909871244638},0.5,0.08,1.1599999999999999E-2,0.2,{"$f":"L59*K59","v":2.32E-3},1.7000000000000001E-2,null,1.9E-2,1E-3,2.5000000000000001E-3,4.0999999999999995E-3,2E-3,35,50,30,150,null,"1, 2"]
[null,"Hilyses",0.94,null,5.5E-2,19.600000000000001,14.95,{"$f":"G60/F60","v":0.7627551020408162},0.40500000000000003,6.480000000000001E-2,6.8599999999999998E-3,null,null,8.1499999999999993E-3,null,1.4E-2,1.3100000000000001E-2,2.5000000000000001E-3,4.1000000000000003E-3,2E-3,35,50,30,150]
[null,"Nupro",0.94,null,8.3000000000000004E-2,18.600000000000001,14.2,{"$f":"G61/F61","v":0.76344086021505364},0.47,7.5199999999999989E-2,1.4999999999999999E-2,0.9,{"$f":"L61*K61","v":1.35E-2},1.9E-2,null,0.01,1E-3,null,null,4.4000000000000003E-3,30,240,65,527,null,"Alltech"]
[null,"Animal & Fish products"]
[null,"Blood meal 85",0.9,null,3.1E-2,20.99,19.5,{"$f":"G63/F63","v":0.92901381610290623},0.85,{"$f":"I63/6.25","v":0.13600000000000001},2.0999999999999999E-3,0.9,{"$f":"L63*K63","v":1.89E-3},2.5999999999999999E-3,null,2.18E-2,4.1999999999999997E-3,3.4000000000000002E-3,7.6E-3,2.9999999999999997E-4,10,36,3,2300,null,"1, 2, 9"]
[null,"Blood meal 90",0.91,null,2.8300000000000002E-2,20.99,19.5,0.92901381610290623,0.9,0.14400000000000002,2.0999999999999999E-3,0.9,1.89E-3,2.5999999999999999E-3,null,2.18E-2,4.1999999999999997E-3,3.4000000000000002E-3,7.6E-3,2.9999999999999997E-4,10,36,3,2300,null,"1, 2, 9"]
[null,"Blood Plasma",0.92,null,0.1,19,17.82,0.93789473684210523,0.78,0.12480000000000001,1.3000000000000001E-2,0.95,1.235E-2,3.0000000000000001E-3,null,3.0000000000000001E-3,2.2000000000000002E-2,1.1000000000000001E-2,1.8000000000000002E-2,2.9999999999999997E-4,0,0,0,90,null,"1, 2"]
[null,"Fishmeal 60",0.92,null,0.20749999999999999,18.32,14.8,0.80786026200873362,0.6,9.6000000000000002E-2,2.8500000000000001E-2,0.9,2.5650000000000003E-2,9.3999999999999986E-3,null,0,8.0000000000000002E-3,3.0999999999999999E-3,2.1600000000000001E-2,2E-3,3,100,10,300,null,"1, 2, 9 "]
[null,"Fishmeal 65",0.92,null,0.16140000000000002,18.98,15.7,0.82718651211801886,0.65,0.10400000000000001,2.6000000000000002E-2,0.9,2.3400000000000004E-2,1.3000000000000001E-2,null,0,1.1000000000000001E-2,1.6899999999999998E-2,2.7900000000000001E-2,2.5000000000000001E-3,5,100,10,300,null,"1, 2, 9"]
[null,"Fishmeal 70",0.91,null,0.125,19.8,17.5,0.88383838383838376,0.7,0.11199999999999999,0.02,null,null,1.2999999999999999E-2,null,5.0000000000000001E-3,0.01,1.6500000000000001E-2,2.5999999999999999E-2,2E-3,5,100,10,280]
[null,"Meat & bone meal 45 ",0.95,null,0.35,15,11.3,0.75333333333333341,0.45,7.2000000000000008E-2,0.06,0.2,1.2E-2,5.0000000000000001E-3,null,0.02,6.7999999999999996E-3,6.3E-3,1.3299999999999999E-2,3.0000000000000001E-3,15,100,25,850,null,"1, 2"]
[null,"Meat & bone meal 50",0.95,null,0.3,15.64,11.73,0.75,0.5,0.08,4.9000000000000002E-2,0.75,3.6750000000000005E-2,5.0000000000000001E-3,null,0.02,6.9999999999999993E-3,6.3E-3,1.3300000000000001E-2,3.0000000000000001E-3,15,100,25,850,0.5,"1, 2, 7, 9"]
[null,"Meat & bone meal 60",0.95,null,0.22,17.82,13.36,0.74971941638608297,0.6,9.6000000000000002E-2,3.5999999999999997E-2,null,null,5.4999999999999997E-3,null,0.02,7.4999999999999997E-3,6.3E-3,1.3299999999999999E-2,3.0000000000000001E-3,15,100,25,850]
[null,"Milk, chocolate milk powder",0.97,null,0.06,17.350000000000001,16.399999999999999,0.94524495677233411,0.17,2.7200000000000002E-2,0.01,0.9,9.0000000000000011E-3,0,null,0,5.4999999999999997E-3,1.0999999999999999E-2,1.8100000000000002E-2,0,null,null,null,null,null,2]
[null,"Milk, skim milk powder",0.95,null,0.08,17.350000000000001,16.399999999999999,0.94524495677233411,0.35499999999999998,5.6799999999999996E-2,0.01,0.9,9.0000000000000011E-3,1.6E-2,null,0,5.5000000000000005E-3,1.1000000000000001E-2,1.8100000000000002E-2,1.1000000000000001E-3,3,40,3,10,null,"1, 2"]
[null,"Milk, full cream  powder",0.95,null,0.06,22.66,21.8,0.9620476610767873,0.25,0.04,8.0000000000000002E-3,0.9,7.2000000000000007E-3,1.3000000000000001E-2,null,0,3.8E-3,7.4999999999999997E-3,1.23E-2,1E-3,2,35,2,7,null,2]
[null,"Milk, whey powder",0.95,null,8.6999999999999994E-2,16,14,0.875,0.125,0.02,9.0000000000000011E-3,0.9,8.1000000000000013E-3,0.05,null,0,2.2499999999999999E-2,4.0099999999999997E-2,6.6000000000000003E-2,2.5000000000000001E-3,2,30,2,60,null,"1, 2"]
[null,"Hay & Straw"]
[null,"Barley straw",0.89,null,5.28E-2,16,1,{"$f":"G77/F77","v":6.25E-2},3.7999999999999999E-2,6.0799999999999995E-3,2E-3,0.2,{"$f":"L77*K77","v":4.0000000000000002E-4},1.1699999999999999E-2,null,0.38900000000000001,0.01,1.9E-2,8.0000000000000004E-4,5.0000000000000001E-4,0.8,12.5,35,200,null,"2, 5"]
[null,"Cereal straw pellets",0.88,null,0.06,16.010000000000002,2,{"$f":"G78/F78","v":0.12492192379762647},3.5000000000000003E-2,5.6000000000000008E-3,8.0000000000000004E-4,0.2,{"$f":"L78*K78","v":1.6000000000000001E-4},8.0000000000000002E-3,null,0.38,1E-3,5.0000000000000001E-4,8.0000000000000004E-4,7.000000000000001E-4,3,14,33,183,null,"2, 5"]
[null,"Lucerne meal/crumbles",0.9,null,0.1,16.27,7.3,{"$f":"G79/F79","v":0.44867854947756608},0.16500000000000001,{"$f":"I79/6.25","v":2.64E-2},2.3E-3,0.2,{"$f":"L79*K79","v":4.6000000000000001E-4},1.9E-2,null,0.26,8.0000000000000004E-4,4.7999999999999996E-3,7.9000000000000008E-3,2E-3,9,"-","-","-",null,"2, 5"]
[null,"Oat straw",0.87,null,8.8000000000000009E-2,16,1,{"$f":"G80/F80","v":6.25E-2},5.2000000000000005E-2,{"$f":"I80/6.25","v":8.320000000000001E-3},2.2000000000000001E-3,0.2,{"$f":"L80*K80","v":4.4000000000000007E-4},2.2700000000000001E-2,null,0.33899999999999997,null,null,null,1.5E-3,"-",6.5,38,185,null,"2, 5"]
[null,"Wheat straw",0.9,null,5.8499999999999996E-2,16.899999999999999,2.5,{"$f":"G81/F81","v":0.14792899408284024},3.7999999999999999E-2,{"$f":"I81/6.25","v":6.0799999999999995E-3},7.000000000000001E-4,0.2,{"$f":"L81*K81","v":1.4000000000000001E-4},1.3300000000000001E-2,null,0.38170000000000004,1E-3,5.0000000000000001E-4,8.0000000000000004E-4,1.1999999999999999E-3,3,6.8,38,160,null,"2, 5"]
[null,"Fats"]
[null,"Tallow",0.99,null,0,39.29,36,{"$f":"G83/F83","v":0.91626368032578265},5.0000000000000001E-3,{"$f":"I83/6.25","v":8.0000000000000004E-4},0,0,{"$f":"L83*K83","v":0},0,null,0,0,0,0,0,0,0,0,0,null,"1, 2"]
[null,"Vegetable oil",0.995,null,0,38.39,36.200000000000003,{"$f":"G84/F84","v":0.94295389424329257},0,{"$f":"I84/6.25","v":0},0,0,{"$f":"L84*K84","v":0},0,null,0,0,0,0,0,0,0,0,0,null,"1, 2"]
[null,"Minerals"]
[null,"Bentonite",0.99,null,0.99,0,0,0,0,0,0,0,{"$f":"L86*K86","v":0},0,null,0,0.44800000000000001,0,0,0,0,0,0,0]
[null,"Choline Chloride",0.95,null,0.05,0,0,0,0,0,0,0,{"$f":"L87*K87","v":0},0,null,0,0,0.127,0.20899999999999999,0,0,0,0,0,null,1]
[null,"Copper Sulphate",0.98499999999999999,null,1,0,0,0,0,0,0,0,0,0,null,0,0,0,0,0,24.5,0,0,0,null,1]
[null,"Dicalcium phosphate (DCP)",1,null,0.78,0,0,0,0,0,0.182,1,0.182,0,null,0,6.0000000000000001E-3,0,0,0,0,0,0,0,null,"1, 2"]
[null,"Ferrous Sulphate",0.98499999999999999,null,0.99,0,0,0,0,0,0,0,0,0,null,0,0,0,0,0,0,0,0,30]
[null,"Kynofos",0.98,null,1,0,0,0,0,0,0.21,1,0.21,0,null,0,0,0,0,1.4999999999999999E-2,0,0,0,0]
[null,"Limestone",0.99,null,0.99,0,0,0,0,0,2.0000000000000001E-4,0,0,0,null,0,5.0000000000000001E-4,0,0,0,0,0,0,0,null,"1, 6"]
[null,"Monodicalcium phosphate (MDCP)",0.995,null,0.82,0,0,0,0,0,0.218,null,null,0,null,0,0,0,0,0,0,0,0,0]
[null,"Potassium Choride",1,null,1,0,0,0,0,0,0,0,{"$f":"L94*K94","v":0},0.52100000000000002,null,0,3.0999999999999999E-3,0.47200000000000003,0.77400000000000002,1E-3,0,0,0,0,null,6]
[null,"Potassium sulphate",1,null,1,0,0,0,0,0,0,0,{"$f":"L95*K95","v":0},0.17550000000000002,null,0,9.7999999999999997E-3,1.52E-2,2.5000000000000001E-2,5.5500000000000001E-2,0,0,0,0]
[null,"Sodium Bicarbonate",1,null,0.625,0,0,0,0,0,0,null,null,0,null,0,0.27400000000000002,0,0,0,0,0,0,0]
[null,"Salt",1,null,1,0,0,0,0,0,0,0,0,0,null,0,0.39200000000000002,0.60799999999999998,1,0,0,0,0,0,null,1]
[null,"HiZox/Zinco Plus",1,null,0.98,0,0,0,0,0,0,0,0,0,null,0,0,0,0,0,0,500,0,0]
[null,"Zinc Oxide",1,null,0.98,0,0,0,0,0,0,0,0,0,null,0,0,0,0,0,0,803,0,0,null,6]
[null,"Synthetic amino acids"]
[null,"L-Isoleucine",0.98499999999999999,null,5.0000000000000001E-3,25.9,25.9,{"$f":"G101/F101","v":1},0.625,{"$f":"I101/6.25","v":0.1},0,null,null,0,null,0,0,0,0,0,0,0,0,0,3.6]
[null,"L-Lysine HCL",0.995,null,5.0000000000000001E-3,20.010000000000002,20,{"$f":"G102/F102","v":0.99950024987506236},0.95400000000000007,{"$f":"I102/6.25","v":0.15264},0,0,{"$f":"L102*K102","v":0},0,null,0,0,0.19399999999999998,0.31909999999999999,0,0,0,0,0,3.6,"1, 2, 7"]
[null,"DL-Methionine",0.995,null,2E-3,23.6,23.6,{"$f":"G103/F103","v":1},0.58399999999999996,{"$f":"I103/6.25","v":9.3439999999999995E-2},0,0,{"$f":"L103*K103","v":0},0,null,0,0,0,0,0,0,0,0,0,3.6,"1, 2, 7"]
[null,"L-Threonine",0.995,null,5.0000000000000001E-3,17.239999999999998,17.2,{"$f":"G104/F104","v":0.99767981438515085},0.73099999999999998,{"$f":"I104/6.25","v":0.11695999999999999},0,0,{"$f":"L104*K104","v":0},0,null,0,0,0,0,0,0,0,0,0,3.6,"1, 2, 7"]
[null,"L-Tryptophan",0.995,null,5.0000000000000001E-3,27.48,27.5,{"$f":"G105/F105","v":1.0007278020378456},0.85299999999999998,{"$f":"I105/6.25","v":0.13647999999999999},0,0,{"$f":"L105*K105","v":0},0,null,0,0,0,0,0,0,0,0,0,3.6,"1, 2, 7"]
[null,"Micellaneous ingredients"]
[null,"Lactose",0.99,null,5.0000000000000001E-3,20,15.1,{"$f":"G107/F107","v":0.755},0,{"$f":"I107/6.25","v":0},4.0000000000000002E-4,1,{"$f":"L107*K107","v":4.0000000000000002E-4},0,null,0,0,0,0,0,0,0,0,0]
[null,"Levucell",0.95,null,0.06,20,17.399999999999999,{"$f":"G108/F108","v":0.86999999999999988},0,{"$f":"I108/6.25","v":0},0,null,null,0,null,0,0,0,0,0,0,0,0,0]
[null,"Vitamin/mineral premixes"]
[null,"Breeder premix",1,null,0.23,0,0,0,0,0,0,0,{"$f":"L110*K110","v":0},0,null,0,0,0,0,0]
[null,"Grower premix",1,null,0.23,0,0,0,0.05,0,2.3999999999999998E-3,0,{"$f":"L111*K111","v":0},2.8E-3,null,0,0,0,0,0]
[null,"Weaner premix",1,null,0.23,0,0,0,0,0,0,0,{"$f":"L112*K112","v":0},0,null,0,0,0,0,0]
[null,"Enzymes"]
[null,"Feedzyme ",1,null,0,0,0,0,0,{"$f":"I114/6.25","v":0},0,1.2,{"$f":"L114*K114","v":0},0,null,0,0,0,0,0,0,0,0,0,null,"FEEDWORKS"]
[null,"Axtra Phy",1,null,0,0,0,0,0,0,0,0,{"$f":"L115*K115","v":0},0,null,0,0,0,0,0,0,0,0,0,null,"Kemin"]
[null,"Axtra XB",1,null,0,0,0,0,0,0,0,1,{"$f":"L116*K116","v":0},0,null,0,0,0,0,0,0,0,0,0,null,"FEEDWORKS"]
[null,"Natuphos Blue",1,null,0,0,0,0,0,0,0,1,{"$f":"L117*K117","v":0},0,null,0,0,0,0,0,0,0,0,0,null,"FEEDWORKS"]
[null,"Ronozyme P 5000 (150g dose)",1,null,0,0,0,0,0,0,0,0.75,{"$f":"L118*K118","v":0},0,null,0,0,0,0,0,0,0,0,0,null,"DSM"]
[null,"Rovabio Excel premix",1,null,0,0,0,0,0,0,0,null,null,0,null,0,0,0,0,0,0,0,0,0]
[null,"Rovabio T-Flex ",1,null,0,0,0,0,0,0,0,0,0,0,null,0,0,0,0,0,0,0,0,0,null,"Alltech"]
[null,"Toxin Binders"]
[null,"Mycofix",1,null,0.98,0,0,0,0,0,0,0,{"$f":"L122*K122","v":0},0,null,0,0,0,0,0,0,0,0,0]
[null,"Mycosorb",1,null,0.85,0,0,0,0,0,0,0,{"$f":"L123*K123","v":0},0,null,0,0,0,0,0,0,0,0,0]
[null,"Elitox",1,null,0.85,0,0,0,0,0,0,0,{"$f":"L124*K124","v":0},0,null,0,0,0,0,0,0,0,0,0]
[null,"Mastersorb ",1,null,0.85,0,0,0,0,0,0,0,{"$f":"L125*K125","v":0},0,null,0,0,0,0,0,0,0,0,0]
[null,"Acidifiers"]
[null,"Formi Acid",1,null,0,0,0,0,0,0,0,0,{"$f":"L127*K127","v":0},0,null,0,0,0,0,0,0,0,0,0]
[null,"Top3",1,null,0,0,0,0,0,0,0,0,{"$f":"L128*K128","v":0},0,null,0,0,0,0,0,0,0,0,0]
[null,"Tetracid 500",1,null,0,0,0,0,0,0,0,0,{"$f":"L129*K129","v":0},0,null,0,0,0,0,0,0,0,0,0,null,"JEFO"]
[null,"AcidLac",1,null,0,0,0,0,0,0,0,0,{"$f":"L130*K130","v":0},0,null,0,0,0,0,0,0,0,0,0]
[null,"VevoVital ",1,null,0,0,0,0,0,0,0,0,{"$f":"L131*K131","v":0},0,null,0,0,0,0,0,0,0,0,0]
[null,"Other Additives"]
[null,"Krave",1,null,0.98,0,0,0,0,0,0,0,{"$f":"L133*K133","v":0},0,null,0,0,0,0,0,0,0,0,0]
[null,"Betaine",1,null,0.98,0,0,0,0,0,0,0,{"$f":"L134*K134","v":0},0,null,0,0,0,0,0,0,0,0,0,null,"FEEDWORKS"]
[null,"Biomos",1,null,0.98,0,0,0,0,0,0,0,{"$f":"L135*K135","v":0},0,null,0,0,0,0,0,0,0,0,0]
[null,"De-Oderase",0.99,null,0.98,0,0,0,0,0,0,0,{"$f":"L136*K136","v":0},0,null,0,0,0,0,0,0,0,0,0]
[null,"Bedding Materials"]
[null,"Hardwood sawdust",0.9,null,0,null,0.3,0.05,{"$f":"J138*6.25","v":1.2375000000000001E-2},{"$f":"0.0022*C138","v":1.98E-3},{"$f":"0.0001*C138","v":9.0000000000000006E-5},0.1,{"$f":"L138*K138","v":9.0000000000000002E-6},{"$f":"0.0005*C138","v":4.5000000000000004E-4},null,0,0,0,1E-4,0,null,null,null,null,null,10]
[null,"Softwood sawdust/shavings",0.9,null,0,null,1,0.16,7.8750000000000001E-3,{"$f":"0.0014*C139","v":1.2600000000000001E-3},{"$f":"0.0001*C139","v":9.0000000000000006E-5},0.1,{"$f":"L139*K139","v":9.0000000000000002E-6},{"$f":"0.0003*C139","v":2.7E-4},null,0,0,0,1E-4,0,null,null,null,null,null,10]
[null,"Rice Hulls",0.92,null,0.05,16,2.5,{"$f":"G140/F140","v":0.15625},3.0475000000000002E-2,{"$f":"0.0053*C140","v":4.8760000000000001E-3},{"$f":"0.0008*C140","v":7.3600000000000011E-4},0.3,{"$f":"L140*K140","v":2.2080000000000003E-4},{"$f":"0.0132*C140","v":1.2144E-2},null,0.4,null,null,1E-3,null,null,null,null,null,null,"Coprice Feeds, 10"]
[null,"Barley straw",0.91,null,0.06,16,2,{"$f":"G141/F141","v":0.125},3.9243750000000001E-2,{"$f":"0.0069*C141","v":6.2789999999999999E-3},{"$f":"0.0007*C141","v":6.3699999999999998E-4},0.2,{"$f":"L141*K141","v":1.2740000000000001E-4},{"$f":"0.0237*C141","v":2.1566999999999999E-2},null,0.38,1E-3,5.0000000000000001E-4,8.0000000000000004E-4,7.000000000000001E-4,3,14,33,183,null,"2, 5, 10"]
[null,"Wheat straw",0.89,null,5.8500000000000003E-2,16.899999999999999,2.5,{"$f":"G142/F142","v":0.14792899408284024},3.22625E-2,{"$f":"0.0058*C142","v":5.1619999999999999E-3},{"$f":"0.0041*C142","v":3.6490000000000003E-3},null,null,{"$f":"0.0051*C142","v":4.5390000000000005E-3},null,null,null,null,null,null,null,null,null,null,null,10]
[null,"Shredded paper",0.9,null,0,null,0.6,0.1,0,0,{"$f":"0.0001*C143","v":9.0000000000000006E-5},0.1,{"$f":"L143*K143","v":9.0000000000000002E-6},0,null,0,0,0,1E-4,0]
[null,"Additional Ingredients"]
[null,"Sow milk",0.2,null,0.01,4.63,null,1,5.6300000000000003E-2,{"$f":"IF(I145<>\"\", I145/6.25,\"\")","v":9.0080000000000004E-3},1.5E-3,null,null,6.9999999999999999E-4]
[null,"Milk fat",0.99,null,0,30,30,{"$f":"G146/F146","v":1},0,{"$f":"IF(I146<>\"\", I146/6.25,\"\")","v":0},0,null,null,0,null,0,0,0]
[]
[null,null,null,null,null,null,null,null,null,{"$f":"IF(I148<>\"\", I148/6.25,\"\")","v":""}]
[]
[null,"Nutritional Data Source References:"]
[null,1,"Premier Nutrition Products Ltd (2008): Premier Atlas: Ingredients Matrix. Redwood Business Ltd, UK."]
[null,2,"EvaPig® (2008) - INRA (French National Institute for Agricultural Research), Ajinomoto Eurolysine SAS and AFZ (French association for animal production).Copyright 2008 INRA - Ajinomoto Eurolysine SAS – AFZ"]
[null,3,"Grains Research and Development Corporation (2006); Pulses Nutritional Value and their role in the feed industry."]
[null,4,"Grains Research and Development Corporation (1997); The Chemical Composition and Nutritive Value of Australian Pulses (1997):"]
[null,5,"Ewing, W.N. (1997). The Feeds Directory - Vol 1 Commodity Products. Context Publications, Leicestershire, England."]
[null,6,"Ewing, W.N. and Charlton, S.J. The Minerals Directory 2nd Ed. Context Products, Leicestershire, England."]
[null,7,"Australian Greenhouse Office (2002). Australia's National Greenhouse Gas Inventory 1990, 1995 and 1999 - End Use Allocation of Emissions. Vol 2, Section 5. Agriculture, Livestock and Forestry, Commonwealth of Australia, Canberra"]
[null,8,"National Academies Press (1998): Nutrient Requirements of Swine. 10th Rev Ed."]
[null,9,"Davies, G.T et al (1998). Auspig Feeds Database, CSIRO Division of Animal Production, Australia."]
[null,10,"National Environmental Guidelines for Indoor Piggeries, 2018 (Tucker)"]
[]
[null,"Nutrient Codes:"]
[null,"Dry Matter","DM",null,null,"%"]
[null,"Gross Energy","GE",null,null,"MJ. kg-1"]
[null,"Digestible Energy","DE",null,null,"MJ. kg-1"]
[null,"Dry Matter Digestibility","DMD",null,null,"%","Calculated according to King/Gannon theory - DE (MJ/kg)/GE(MJ/kg)"]
[null,"Crude Protein","CP",null,null,"%"]
[null,"Nitrogen content","N",null,null,"%"]
[null,"Crude Fibre","CF",null,null,"%"]
[null,"Ash","Ash",null,null,"%"]
[null,"Total Phosphorus","Total P",null,null,"%"]
[null,"Available Phosphorus","Avail Phos",null,null,"%","Total phos * Phos availability"]
[null,"Comparative end use CO2 -e emissions","CO2 -e",null,null,"kg. kg CO2 -e-1"]

{"sheet":"13. Diet input","index":17,"n_rows":152,"n_cols":22,"rows_kept":152,"cut":false,"hidden":false,"merged":[[1,0,1,22]]}
["Menu"]
["13. Diet input"]
[]
[]
[null,"Enter standard diet:",null,null,{"$f":"IF(E8=\"Unallocated\", \"\", IF(ABS(1-E6)>0.00005, \"Total diet ingredients\n≠ 100%\", \"\"))","v":""},{"$f":"IF(F8=\"Unallocated\", \"\", IF(ABS(1-F6)>0.00005, \"Total diet ingredients\n≠ 100%\", \"\"))","v":""},"","","","","",{"$f":"IF('5. Herd details'!E13=0, \"\", IF(ABS(1-L6)>0.00005, \"Total diet ingredients\n≠ 100%\", \"\"))","v":""},{"$f":"IF('5. Herd details'!E11=0, \"\", IF(ABS(1-M152)>0.00005, \"Total diet ingredients\n≠ 100%\", \"\"))","v":""},{"$f":"IF('5. Herd details'!E9=0, \"\", IF(ABS(1-N152)>0.00005, \"Total diet ingredients\n≠ 100%\", \"\"))","v":""},{"$f":"IF('5. Herd details'!E10=0, \"\", IF(ABS(1-O152)>0.00005, \"Total diet ingredients\n≠ 100%\", \"\"))","v":""}]
[null,"Most recently entered diet:","A","Totals:",{"$f":"E152","v":1},{"$f":"F152","v":0.99999999999999989},0.99999999999999978,0.99999999999999989,0.99999999999999989,0,0,1.0000000000000002,1,1,1]
[]
[null,"Ingredient","Default crude protein","Alternate crude protein","Sucker",{"$f":"'3. Herd Input'!M17","v":"Weaner"},{"$f":"'3. Herd Input'!M18","v":"Porker"},{"$f":"'3. Herd Input'!M19","v":"Grower"},{"$f":"'3. Herd Input'!M20","v":"Finisher"},{"$f":"'3. Herd Input'!M21","v":"Unallocated"},{"$f":"'3. Herd Input'!M22","v":"Unallocated"},"Lac sow","Dry sow","Gilts","Boars",null,"DM\n","Ash","N","Total P","K","DMD"]
[null,null,"(%)","(%)","(% fed weight)","(% fed weight)","(% fed weight)","(% fed weight)","(% fed weight)","(% fed weight)","(% fed weight)","(% fed weight)","(% fed weight)","(% fed weight)","(% fed weight)",null,"(%) Ing DM","(%) Ing Ash","(%)","(%)","(%)","(%) Ing DM"]
[null,"Cereal Grains"]
[null,{"$f":"'12. Diet ingredient data'!B9","v":"Barley"},{"$f":"'12. Diet ingredient data'!I9","v":0.1},null,1.4999999999999999E-2,0.15,0.2,0.4,0.7,0,0,0.3,0.7,0.7,0.85914999999999997,null,{"$f":"'12. Diet ingredient data'!C9","v":0.88},{"$f":"'12. Diet ingredient data'!E9","v":2.1999999999999999E-2},{"$f":"(IF(D11=\"\", C11, D11))/6.25","v":1.6E-2},{"$f":"'12. Diet ingredient data'!K9","v":2.8E-3},{"$f":"'12. Diet ingredient data'!N9","v":4.6999999999999993E-3},{"$f":"'12. Diet ingredient data'!H9","v":0.81402629931120851}]
[null,{"$f":"'12. Diet ingredient data'!B10","v":"Groats"},{"$f":"'12. Diet ingredient data'!I10","v":0.11},null,null,null,null,null,null,null,null,null,null,null,null,null,{"$f":"'12. Diet ingredient data'!C10","v":0.9},{"$f":"'12. Diet ingredient data'!E10","v":2.1400000000000002E-2},{"$f":"(IF(D12=\"\", C12, D12))/6.25","v":1.7600000000000001E-2},{"$f":"'12. Diet ingredient data'!K10","v":3.0000000000000001E-3},{"$f":"'12. Diet ingredient data'!N10","v":3.4999999999999996E-3},{"$f":"'12. Diet ingredient data'!H10","v":0.93399750933997516}]
[null,{"$f":"'12. Diet ingredient data'!B11","v":"Oats 9"},{"$f":"'12. Diet ingredient data'!I11","v":0.09},null,null,null,null,null,null,null,null,null,null,null,null,null,{"$f":"'12. Diet ingredient data'!C11","v":0.88},{"$f":"'12. Diet ingredient data'!E11","v":2.64E-2},1.44E-2,{"$f":"'12. Diet ingredient data'!K11","v":3.2000000000000002E-3},{"$f":"'12. Diet ingredient data'!N11","v":3.5999999999999999E-3},{"$f":"'12. Diet ingredient data'!H11","v":0.69970845481049571}]
[null,{"$f":"'12. Diet ingredient data'!B12","v":"Maize 8"},{"$f":"'12. Diet ingredient data'!I12","v":0.08},null,null,5.2499999999999998E-2,0,0,0,0,0,null,null,null,null,null,{"$f":"'12. Diet ingredient data'!C12","v":0.88},{"$f":"'12. Diet ingredient data'!E12","v":1.21E-2},1.2800000000000001E-2,{"$f":"'12. Diet ingredient data'!K12","v":2.5999999999999999E-3},{"$f":"'12. Diet ingredient data'!N12","v":3.3E-3},{"$f":"'12. Diet ingredient data'!H12","v":0.89894606323620585}]
[null,{"$f":"'12. Diet ingredient data'!B13","v":"Sorghum 11"},{"$f":"'12. Diet ingredient data'!I13","v":0.11},null,null,null,null,null,null,null,null,null,null,null,null,null,{"$f":"'12. Diet ingredient data'!C13","v":0.88},{"$f":"'12. Diet ingredient data'!E13","v":0.02},1.7600000000000001E-2,{"$f":"'12. Diet ingredient data'!K13","v":2.8000000000000004E-3},{"$f":"'12. Diet ingredient data'!N13","v":3.4999999999999996E-3},{"$f":"'12. Diet ingredient data'!H13","v":0.87223587223587218}]
[null,{"$f":"'12. Diet ingredient data'!B14","v":"Triticale 11"},{"$f":"'12. Diet ingredient data'!I14","v":0.11},null,null,null,null,null,null,null,null,null,null,null,null,null,{"$f":"'12. Diet ingredient data'!C14","v":0.88},{"$f":"'12. Diet ingredient data'!E14","v":1.9199999999999998E-2},1.7600000000000001E-2,{"$f":"'12. Diet ingredient data'!K14","v":3.4999999999999996E-3},{"$f":"'12. Diet ingredient data'!N14","v":5.0000000000000001E-3},{"$f":"'12. Diet ingredient data'!H14","v":0.88888888888888884}]
[null,{"$f":"'12. Diet ingredient data'!B15","v":"Wheat 10"},{"$f":"'12. Diet ingredient data'!I15","v":0.1},null,5.1862499999999999E-2,0.54032500000000006,0.54079999999999995,0.45774999999999999,0.12855,0,0,0.50739299999999998,0.16470000000000001,0.16899600000000001,null,null,{"$f":"'12. Diet ingredient data'!C15","v":0.88},{"$f":"'12. Diet ingredient data'!E15","v":1.4999999999999999E-2},1.6E-2,{"$f":"'12. Diet ingredient data'!K15","v":3.4000000000000002E-3},{"$f":"'12. Diet ingredient data'!N15","v":4.0999999999999995E-3},{"$f":"'12. Diet ingredient data'!H15","v":0.88216761184625081}]
[null,{"$f":"'12. Diet ingredient data'!B16","v":"Wheat 12"},{"$f":"'12. Diet ingredient data'!I16","v":0.12},null,null,null,null,null,null,null,null,null,null,null,null,null,{"$f":"'12. Diet ingredient data'!C16","v":0.88},{"$f":"'12. Diet ingredient data'!E16","v":1.4999999999999999E-2},1.9199999999999998E-2,{"$f":"'12. Diet ingredient data'!K16","v":3.4000000000000002E-3},{"$f":"'12. Diet ingredient data'!N16","v":4.0999999999999995E-3},{"$f":"'12. Diet ingredient data'!H16","v":0.88216761184625081}]
[null,{"$f":"'12. Diet ingredient data'!B17","v":"Wheat Extruded"},{"$f":"'12. Diet ingredient data'!I17","v":0.12},null,null,null,null,null,null,null,null,null,null,null,null,null,{"$f":"'12. Diet ingredient data'!C17","v":0.88},{"$f":"'12. Diet ingredient data'!E17","v":1.4999999999999999E-2},1.9199999999999998E-2,{"$f":"'12. Diet ingredient data'!K17","v":3.4000000000000002E-3},{"$f":"'12. Diet ingredient data'!N17","v":4.0999999999999995E-3},{"$f":"'12. Diet ingredient data'!H17","v":0.88235294117647056}]
[null,"Cereal by-products"]
[null,{"$f":"'12. Diet ingredient data'!B19","v":"Hominy Meal"},{"$f":"'12. Diet ingredient data'!I19","v":0.13400000000000001},null,null,null,null,null,null,null,null,null,null,null,null,null,{"$f":"'12. Diet ingredient data'!C19","v":0.89},{"$f":"'12. Diet ingredient data'!E19","v":4.6500000000000007E-2},2.1440000000000001E-2,{"$f":"'12. Diet ingredient data'!K19","v":7.7000000000000002E-3},{"$f":"'12. Diet ingredient data'!N19","v":0},{"$f":"'12. Diet ingredient data'!H19","v":0.85983510011778563}]
[null,{"$f":"'12. Diet ingredient data'!B20","v":"Millrun"},{"$f":"'12. Diet ingredient data'!I20","v":0.15},null,null,null,null,null,null,null,null,null,null,null,null,null,{"$f":"'12. Diet ingredient data'!C20","v":0.87},{"$f":"'12. Diet ingredient data'!E20","v":0.05},2.4E-2,{"$f":"'12. Diet ingredient data'!K20","v":9.4999999999999998E-3},{"$f":"'12. Diet ingredient data'!N20","v":8.0000000000000002E-3},{"$f":"'12. Diet ingredient data'!H20","v":0.69696969696969702}]
[null,{"$f":"'12. Diet ingredient data'!B21","v":"Rice Hulls"},{"$f":"'12. Diet ingredient data'!I21","v":0.02},null,null,null,null,null,null,null,null,null,null,null,null,null,{"$f":"'12. Diet ingredient data'!C21","v":0.89},{"$f":"'12. Diet ingredient data'!E21","v":0.05},3.2000000000000002E-3,{"$f":"'12. Diet ingredient data'!K21","v":7.000000000000001E-4},{"$f":"'12. Diet ingredient data'!N21","v":8.0000000000000002E-3},{"$f":"'12. Diet ingredient data'!H21","v":0.15625}]
[null,{"$f":"'12. Diet ingredient data'!B22","v":"Rice bran"},{"$f":"'12. Diet ingredient data'!I22","v":0.155},null,null,null,null,null,null,null,null,null,null,null,null,null,{"$f":"'12. Diet ingredient data'!C22","v":0.9},{"$f":"'12. Diet ingredient data'!E22","v":0.13},2.4799999999999999E-2,{"$f":"'12. Diet ingredient data'!K22","v":1.7000000000000001E-2},{"$f":"'12. Diet ingredient data'!N22","v":1.15E-2},{"$f":"'12. Diet ingredient data'!H22","v":0.48125000000000001}]
[null,{"$f":"'12. Diet ingredient data'!B23","v":"Soya hulls"},{"$f":"'12. Diet ingredient data'!I23","v":0.12},null,null,null,null,null,null,null,null,null,null,null,null,null,{"$f":"'12. Diet ingredient data'!C23","v":0.89},{"$f":"'12. Diet ingredient data'!E23","v":4.4999999999999998E-2},1.9199999999999998E-2,{"$f":"'12. Diet ingredient data'!K23","v":1.1000000000000001E-3},{"$f":"'12. Diet ingredient data'!N23","v":1.2E-2},{"$f":"'12. Diet ingredient data'!H23","v":0.51509550215650024}]
[null,{"$f":"'12. Diet ingredient data'!B24","v":"Wheat Bran"},{"$f":"'12. Diet ingredient data'!I24","v":0.15},null,null,null,null,null,null,null,null,null,null,null,null,null,{"$f":"'12. Diet ingredient data'!C24","v":0.87},{"$f":"'12. Diet ingredient data'!E24","v":5.0499999999999996E-2},2.4E-2,{"$f":"'12. Diet ingredient data'!K24","v":9.8999999999999991E-3},{"$f":"'12. Diet ingredient data'!N24","v":4.0000000000000001E-3},{"$f":"'12. Diet ingredient data'!H24","v":0.57177615571776153}]
[null,{"$f":"'12. Diet ingredient data'!B25","v":"Wheat Pollard"},{"$f":"'12. Diet ingredient data'!I25","v":0.15},null,null,null,null,null,null,null,null,null,null,null,null,null,{"$f":"'12. Diet ingredient data'!C25","v":0.87},{"$f":"'12. Diet ingredient data'!E25","v":4.7E-2},2.4E-2,{"$f":"'12. Diet ingredient data'!K25","v":9.4999999999999998E-3},{"$f":"'12. Diet ingredient data'!N25","v":1.2E-2},{"$f":"'12. Diet ingredient data'!H25","v":0.67755595886267383}]
[null,"Roots & Tubers"]
[null,{"$f":"'12. Diet ingredient data'!B27","v":"Cassava"},{"$f":"'12. Diet ingredient data'!I27","v":0.03},null,null,null,null,null,null,null,null,null,null,null,null,null,{"$f":"'12. Diet ingredient data'!C27","v":0.87},{"$f":"'12. Diet ingredient data'!E27","v":5.5E-2},4.7999999999999996E-3,{"$f":"'12. Diet ingredient data'!K27","v":8.9999999999999998E-4},{"$f":"'12. Diet ingredient data'!N27","v":8.5000000000000006E-3},{"$f":"'12. Diet ingredient data'!H27","v":0.88275862068965527}]
[null,"By-products",{"$f":"'12. Diet ingredient data'!I28","v":0}]
[null,{"$f":"'12. Diet ingredient data'!B29","v":"Biscuit Meal"},{"$f":"'12. Diet ingredient data'!I29","v":0.1},null,null,null,null,null,null,null,null,null,null,null,null,null,{"$f":"'12. Diet ingredient data'!C29","v":0.89},{"$f":"'12. Diet ingredient data'!E29","v":0.03},1.6E-2,{"$f":"'12. Diet ingredient data'!K29","v":3.4999999999999996E-3},{"$f":"'12. Diet ingredient data'!N29","v":3.9000000000000003E-3},{"$f":"'12. Diet ingredient data'!H29","v":0.88823529411764701}]
[null,{"$f":"'12. Diet ingredient data'!B30","v":"Brewers Grains"},{"$f":"'12. Diet ingredient data'!I30","v":0.22},null,null,null,null,null,null,null,null,null,null,null,null,null,{"$f":"'12. Diet ingredient data'!C30","v":0.88},{"$f":"'12. Diet ingredient data'!E30","v":4.4999999999999998E-2},3.5200000000000002E-2,{"$f":"'12. Diet ingredient data'!K30","v":5.0000000000000001E-3},{"$f":"'12. Diet ingredient data'!N30","v":3.0000000000000001E-3},{"$f":"'12. Diet ingredient data'!H30","v":0.65934065934065933}]
[null,{"$f":"'12. Diet ingredient data'!B31","v":"Distller's Dried Grains & Solubles (DDGS)"},{"$f":"'12. Diet ingredient data'!I31","v":0.26},null,null,null,null,null,null,null,null,null,null,null,null,null,{"$f":"'12. Diet ingredient data'!C31","v":0.9},{"$f":"'12. Diet ingredient data'!E31","v":0.05},4.1599999999999998E-2,{"$f":"'12. Diet ingredient data'!K31","v":8.5000000000000006E-3},{"$f":"'12. Diet ingredient data'!N31","v":1.23E-2},{"$f":"'12. Diet ingredient data'!H31","v":0.75980392156862753}]
[null,{"$f":"'12. Diet ingredient data'!B32","v":"Molasses"},{"$f":"'12. Diet ingredient data'!I32","v":0.04},null,null,null,null,null,null,null,null,null,null,null,null,null,{"$f":"'12. Diet ingredient data'!C32","v":0.745},{"$f":"'12. Diet ingredient data'!E32","v":0.1032},6.4000000000000003E-3,{"$f":"'12. Diet ingredient data'!K32","v":5.9999999999999995E-4},{"$f":"'12. Diet ingredient data'!N32","v":3.5000000000000003E-2},{"$f":"'12. Diet ingredient data'!H32","v":0.93466424682395655}]
[null,{"$f":"'12. Diet ingredient data'!B33","v":"Peanut shell"},{"$f":"'12. Diet ingredient data'!I33","v":0.03},null,null,null,null,null,null,null,null,null,null,null,null,null,{"$f":"'12. Diet ingredient data'!C33","v":0.92},{"$f":"'12. Diet ingredient data'!E33","v":0.08},4.7999999999999996E-3,{"$f":"'12. Diet ingredient data'!K33","v":8.9999999999999998E-4},{"$f":"'12. Diet ingredient data'!N33","v":0.01},{"$f":"'12. Diet ingredient data'!H33","v":6.8750000000000006E-2}]
[null,{"$f":"'12. Diet ingredient data'!B34","v":"Sugar"},{"$f":"'12. Diet ingredient data'!I34","v":0},null,null,null,null,null,null,null,null,null,null,null,null,null,{"$f":"'12. Diet ingredient data'!C34","v":0.99},{"$f":"'12. Diet ingredient data'!E34","v":5.0000000000000001E-3},0,{"$f":"'12. Diet ingredient data'!K34","v":4.0000000000000002E-4},{"$f":"'12. Diet ingredient data'!N34","v":0},{"$f":"'12. Diet ingredient data'!H34","v":0.755}]
[null,"Pulses"]
[null,{"$f":"'12. Diet ingredient data'!B36","v":"Faba beans"},{"$f":"'12. Diet ingredient data'!I36","v":0.23},null,null,null,null,null,null,null,null,null,null,null,null,null,{"$f":"'12. Diet ingredient data'!C36","v":0.9},{"$f":"'12. Diet ingredient data'!E36","v":3.5299999999999998E-2},3.6799999999999999E-2,{"$f":"'12. Diet ingredient data'!K36","v":4.6999999999999993E-3},{"$f":"'12. Diet ingredient data'!N36","v":9.5999999999999992E-3},{"$f":"'12. Diet ingredient data'!H36","v":0.86309523809523803}]
[null,{"$f":"'12. Diet ingredient data'!B37","v":"Lupins, albus"},{"$f":"'12. Diet ingredient data'!I37","v":0.34},null,null,null,null,null,null,null,null,null,null,null,null,null,{"$f":"'12. Diet ingredient data'!C37","v":0.88},{"$f":"'12. Diet ingredient data'!E37","v":3.3000000000000002E-2},5.4400000000000004E-2,{"$f":"'12. Diet ingredient data'!K37","v":3.5999999999999999E-3},{"$f":"'12. Diet ingredient data'!N37","v":1.1000000000000001E-2},{"$f":"'12. Diet ingredient data'!H37","v":0.85561497326203206}]
[null,{"$f":"'12. Diet ingredient data'!B38","v":"Lupins, augustifolius"},{"$f":"'12. Diet ingredient data'!I38","v":0.30499999999999999},null,null,0,0,0,7.0000000000000007E-2,0,0,0.05,0.04,0.04,0.05,null,{"$f":"'12. Diet ingredient data'!C38","v":0.88},{"$f":"'12. Diet ingredient data'!E38","v":2.7999999999999997E-2},4.8799999999999996E-2,{"$f":"'12. Diet ingredient data'!K38","v":3.0000000000000001E-3},{"$f":"'12. Diet ingredient data'!N38","v":8.5000000000000006E-3},{"$f":"'12. Diet ingredient data'!H38","v":0.80662983425414359}]
[null,{"$f":"'12. Diet ingredient data'!B39","v":"Chick Peas"},{"$f":"'12. Diet ingredient data'!I39","v":0.2},null,null,null,null,null,null,null,null,null,null,null,null,null,{"$f":"'12. Diet ingredient data'!C39","v":0.9},{"$f":"'12. Diet ingredient data'!E39","v":0.03},3.2000000000000001E-2,{"$f":"'12. Diet ingredient data'!K39","v":3.7000000000000002E-3},{"$f":"'12. Diet ingredient data'!N39","v":8.0000000000000002E-3},{"$f":"'12. Diet ingredient data'!H39","v":0.86138049058756405}]
[null,{"$f":"'12. Diet ingredient data'!B40","v":"Field Peas"},{"$f":"'12. Diet ingredient data'!I40","v":0.20499999999999999},null,null,null,null,null,null,null,null,null,null,null,null,null,{"$f":"'12. Diet ingredient data'!C40","v":0.86},{"$f":"'12. Diet ingredient data'!E40","v":0.03},3.2799999999999996E-2,{"$f":"'12. Diet ingredient data'!K40","v":4.0000000000000001E-3},{"$f":"'12. Diet ingredient data'!N40","v":9.4999999999999998E-3},{"$f":"'12. Diet ingredient data'!H40","v":0.86309523809523803}]
[null,{"$f":"'12. Diet ingredient data'!B41","v":"Mung Beans"},{"$f":"'12. Diet ingredient data'!I41","v":0.24},null,null,null,null,null,null,null,null,null,null,null,null,null,{"$f":"'12. Diet ingredient data'!C41","v":0.9},{"$f":"'12. Diet ingredient data'!E41","v":3.7000000000000005E-2},3.8399999999999997E-2,{"$f":"'12. Diet ingredient data'!K41","v":6.9999999999999993E-3},{"$f":"'12. Diet ingredient data'!N41","v":4.0999999999999995E-3},{"$f":"'12. Diet ingredient data'!H41","v":0.90588235294117647}]
[null,{"$f":"'12. Diet ingredient data'!B42","v":"Navy Beans"},{"$f":"'12. Diet ingredient data'!I42","v":0.24},null,null,null,null,null,null,null,null,null,null,null,null,null,{"$f":"'12. Diet ingredient data'!C42","v":0.9},{"$f":"'12. Diet ingredient data'!E42","v":3.7999999999999999E-2},3.8399999999999997E-2,{"$f":"'12. Diet ingredient data'!K42","v":4.3E-3},{"$f":"'12. Diet ingredient data'!N42","v":1.3500000000000002E-2},{"$f":"'12. Diet ingredient data'!H42","v":0.87804878048780499}]
[null,"Oilseed Meals"]
[null,{"$f":"'12. Diet ingredient data'!B44","v":"Canola Meal 37 Solvent"},{"$f":"'12. Diet ingredient data'!I44","v":0.37},null,null,null,null,null,null,null,null,null,null,null,null,null,{"$f":"'12. Diet ingredient data'!C44","v":0.91},{"$f":"'12. Diet ingredient data'!E44","v":6.5000000000000002E-2},5.9200000000000003E-2,{"$f":"'12. Diet ingredient data'!K44","v":1.1000000000000001E-2},{"$f":"'12. Diet ingredient data'!N44","v":1.2500000000000001E-2},{"$f":"'12. Diet ingredient data'!H44","v":0.73529411764705888}]
[null,{"$f":"'12. Diet ingredient data'!B45","v":"Canola meal 32 Expeller"},{"$f":"'12. Diet ingredient data'!I45","v":0.32},null,null,null,null,null,null,null,null,null,null,null,null,null,{"$f":"'12. Diet ingredient data'!C45","v":0.9},{"$f":"'12. Diet ingredient data'!E45","v":6.4000000000000001E-2},{"$f":"(IF(D47=\"\", C47, D47))/6.25","v":5.1200000000000002E-2},{"$f":"'12. Diet ingredient data'!K45","v":9.4999999999999998E-3},{"$f":"'12. Diet ingredient data'!N45","v":1.0500000000000001E-2},{"$f":"'12. Diet ingredient data'!H45","v":0.72181243414120122}]
[null,{"$f":"'12. Diet ingredient data'!B46","v":"Canola meal Cold Pressed 34"},{"$f":"'12. Diet ingredient data'!I46","v":0.34},null,null,2.5000000000000001E-2,6.8000000000000005E-2,0.04,0.05,0,0,0.05,2.2599999999999999E-2,0.02,0.02,null,{"$f":"'12. Diet ingredient data'!C46","v":0.9},{"$f":"'12. Diet ingredient data'!E46","v":6.2E-2},5.4400000000000004E-2,{"$f":"'12. Diet ingredient data'!K46","v":9.5999999999999992E-3},{"$f":"'12. Diet ingredient data'!N46","v":1.23E-2},{"$f":"'12. Diet ingredient data'!H46","v":0.73684210526315785}]
[null,{"$f":"'12. Diet ingredient data'!B47","v":"Copra meal"},{"$f":"'12. Diet ingredient data'!I47","v":0.21},null,null,null,null,null,null,null,null,null,null,null,null,null,{"$f":"'12. Diet ingredient data'!C47","v":0.9},{"$f":"'12. Diet ingredient data'!E47","v":6.2E-2},3.3599999999999998E-2,{"$f":"'12. Diet ingredient data'!K47","v":5.7999999999999996E-3},{"$f":"'12. Diet ingredient data'!N47","v":1.2999999999999999E-2},{"$f":"'12. Diet ingredient data'!H47","v":0.72017592083562387}]
[null,{"$f":"'12. Diet ingredient data'!B48","v":"Cotton seed meal 43"},{"$f":"'12. Diet ingredient data'!I48","v":0.43},null,null,null,null,null,null,null,null,null,null,null,null,null,{"$f":"'12. Diet ingredient data'!C48","v":0.9},{"$f":"'12. Diet ingredient data'!E48","v":6.5000000000000002E-2},6.88E-2,{"$f":"'12. Diet ingredient data'!K48","v":1.1399999999999999E-2},{"$f":"'12. Diet ingredient data'!N48","v":1.2500000000000001E-2},{"$f":"'12. Diet ingredient data'!H48","v":0.69444444444444453}]
[null,{"$f":"'12. Diet ingredient data'!B49","v":"Palm Kernel meal"},{"$f":"'12. Diet ingredient data'!I49","v":0.14800000000000002},null,null,null,null,null,null,null,null,null,null,null,null,null,{"$f":"'12. Diet ingredient data'!C49","v":0.9},{"$f":"'12. Diet ingredient data'!E49","v":4.2000000000000003E-2},2.3680000000000003E-2,{"$f":"'12. Diet ingredient data'!K49","v":5.6000000000000008E-3},{"$f":"'12. Diet ingredient data'!N49","v":6.5000000000000006E-3},{"$f":"'12. Diet ingredient data'!H49","v":0.68643602416254801}]
[null,{"$f":"'12. Diet ingredient data'!B50","v":"Peanut Meal 48"},{"$f":"'12. Diet ingredient data'!I50","v":0.48},null,null,null,null,null,null,null,null,null,null,null,null,null,{"$f":"'12. Diet ingredient data'!C50","v":0.9},{"$f":"'12. Diet ingredient data'!E50","v":0.05},7.6799999999999993E-2,{"$f":"'12. Diet ingredient data'!K50","v":6.0000000000000001E-3},{"$f":"'12. Diet ingredient data'!N50","v":1.1299999999999999E-2},{"$f":"'12. Diet ingredient data'!H50","v":0.80219780219780223}]
[null,{"$f":"'12. Diet ingredient data'!B51","v":"Soybean Meal 46 Solvent"},{"$f":"'12. Diet ingredient data'!I51","v":0.46},null,null,0.1,0.125,4.2500000000000003E-2,0,0,0,null,null,null,null,null,{"$f":"'12. Diet ingredient data'!C51","v":0.88},{"$f":"'12. Diet ingredient data'!E51","v":6.480000000000001E-2},7.3599999999999999E-2,{"$f":"'12. Diet ingredient data'!K51","v":6.1999999999999998E-3},{"$f":"'12. Diet ingredient data'!N51","v":1.9E-2},{"$f":"'12. Diet ingredient data'!H51","v":0.87236533957845441}]
[null,{"$f":"'12. Diet ingredient data'!B52","v":"Soybean Meal 48 Solvent"},{"$f":"'12. Diet ingredient data'!I52","v":0.48},null,null,null,null,null,null,null,null,null,null,null,null,null,{"$f":"'12. Diet ingredient data'!C52","v":0.88500000000000001},{"$f":"'12. Diet ingredient data'!E52","v":6.5000000000000002E-2},7.6799999999999993E-2,{"$f":"'12. Diet ingredient data'!K52","v":6.5000000000000006E-3},{"$f":"'12. Diet ingredient data'!N52","v":2.1000000000000001E-2},{"$f":"'12. Diet ingredient data'!H52","v":0.85582998276852384}]
[null,{"$f":"'12. Diet ingredient data'!B53","v":"Soybean, Full fat"},{"$f":"'12. Diet ingredient data'!I53","v":0.35499999999999998},null,null,null,null,null,null,null,null,null,null,null,null,null,{"$f":"'12. Diet ingredient data'!C53","v":0.875},{"$f":"'12. Diet ingredient data'!E53","v":5.2999999999999999E-2},5.6799999999999996E-2,{"$f":"'12. Diet ingredient data'!K53","v":5.5000000000000005E-3},{"$f":"'12. Diet ingredient data'!N53","v":1.7000000000000001E-2},{"$f":"'12. Diet ingredient data'!H53","v":0.85365853658536583}]
[null,{"$f":"'12. Diet ingredient data'!B54","v":"Selecta Soy/X-Soy 600"},{"$f":"'12. Diet ingredient data'!I54","v":0.6},null,5.0000000000000001E-3,null,null,null,null,null,null,null,null,null,null,null,{"$f":"'12. Diet ingredient data'!C54","v":0.92},{"$f":"'12. Diet ingredient data'!E54","v":6.8000000000000005E-2},9.6000000000000002E-2,{"$f":"'12. Diet ingredient data'!K54","v":8.0000000000000002E-3},{"$f":"'12. Diet ingredient data'!N54","v":2.3E-2},{"$f":"'12. Diet ingredient data'!H54","v":0.91246684350132612}]
[null,{"$f":"'12. Diet ingredient data'!B55","v":"Soycomil 65"},{"$f":"'12. Diet ingredient data'!I55","v":0.65},null,null,null,null,null,null,null,null,null,null,null,null,null,{"$f":"'12. Diet ingredient data'!C55","v":0.91},{"$f":"'12. Diet ingredient data'!E55","v":0.06},0.10400000000000001,{"$f":"'12. Diet ingredient data'!K55","v":8.0000000000000002E-3},{"$f":"'12. Diet ingredient data'!N55","v":2.2000000000000002E-2},{"$f":"'12. Diet ingredient data'!H55","v":0.93023255813953487}]
[null,{"$f":"'12. Diet ingredient data'!B56","v":"Sunflower 30"},{"$f":"'12. Diet ingredient data'!I56","v":0.3},null,null,null,null,null,null,null,null,null,null,null,null,null,{"$f":"'12. Diet ingredient data'!C56","v":0.89},{"$f":"'12. Diet ingredient data'!E56","v":6.3E-2},4.8000000000000001E-2,{"$f":"'12. Diet ingredient data'!K56","v":0.01},{"$f":"'12. Diet ingredient data'!N56","v":1.46E-2},{"$f":"'12. Diet ingredient data'!H56","v":0.48199767711962843}]
[null,{"$f":"'12. Diet ingredient data'!B57","v":"Sunflower 36"},{"$f":"'12. Diet ingredient data'!I57","v":0.36},null,null,null,null,null,null,null,null,null,null,null,null,null,{"$f":"'12. Diet ingredient data'!C57","v":0.89},{"$f":"'12. Diet ingredient data'!E57","v":7.0000000000000007E-2},5.7599999999999998E-2,{"$f":"'12. Diet ingredient data'!K57","v":1.2E-2},{"$f":"'12. Diet ingredient data'!N57","v":1.52E-2},{"$f":"'12. Diet ingredient data'!H57","v":0.76030179918746366}]
[null,"Yeast Products"]
[null,{"$f":"'12. Diet ingredient data'!B59","v":"Brewers Yeast"},{"$f":"'12. Diet ingredient data'!I59","v":0.5},null,null,null,null,null,null,null,null,null,null,null,null,null,{"$f":"'12. Diet ingredient data'!C59","v":0.9},{"$f":"'12. Diet ingredient data'!E59","v":7.0999999999999994E-2},0.08,{"$f":"'12. Diet ingredient data'!K59","v":1.1599999999999999E-2},{"$f":"'12. Diet ingredient data'!N59","v":1.7000000000000001E-2},{"$f":"'12. Diet ingredient data'!H59","v":0.85836909871244638}]
[null,{"$f":"'12. Diet ingredient data'!B60","v":"Hilyses"},{"$f":"'12. Diet ingredient data'!I60","v":0.40500000000000003},null,null,null,null,null,null,null,null,null,null,null,null,null,{"$f":"'12. Diet ingredient data'!C60","v":0.94},{"$f":"'12. Diet ingredient data'!E60","v":5.5E-2},{"$f":"(IF(D62=\"\", C62, D62))/6.25","v":6.480000000000001E-2},{"$f":"'12. Diet ingredient data'!K60","v":6.8599999999999998E-3},{"$f":"'12. Diet ingredient data'!N60","v":8.1499999999999993E-3},{"$f":"'12. Diet ingredient data'!H60","v":0.7627551020408162}]
[null,{"$f":"'12. Diet ingredient data'!B61","v":"Nupro"},{"$f":"'12. Diet ingredient data'!I61","v":0.47},null,null,null,null,null,null,null,null,null,null,null,null,null,{"$f":"'12. Diet ingredient data'!C61","v":0.94},{"$f":"'12. Diet ingredient data'!E61","v":8.3000000000000004E-2},7.5199999999999989E-2,{"$f":"'12. Diet ingredient data'!K61","v":1.4999999999999999E-2},{"$f":"'12. Diet ingredient data'!N61","v":1.9E-2},{"$f":"'12. Diet ingredient data'!H61","v":0.76344086021505364}]
[null,"Animal & Fish products"]
[null,{"$f":"'12. Diet ingredient data'!B63","v":"Blood meal 85"},{"$f":"'12. Diet ingredient data'!I63","v":0.85},null,null,null,null,null,null,null,null,null,null,null,null,null,{"$f":"'12. Diet ingredient data'!C63","v":0.9},{"$f":"'12. Diet ingredient data'!E63","v":3.1E-2},{"$f":"(IF(D65=\"\", C65, D65))/6.25","v":0.13600000000000001},{"$f":"'12. Diet ingredient data'!K63","v":2.0999999999999999E-3},{"$f":"'12. Diet ingredient data'!N63","v":2.5999999999999999E-3},{"$f":"'12. Diet ingredient data'!H63","v":0.92901381610290623}]
[null,{"$f":"'12. Diet ingredient data'!B64","v":"Blood meal 90"},{"$f":"'12. Diet ingredient data'!I64","v":0.9},null,1.5E-3,2.5000000000000001E-2,5.0000000000000001E-3,0,0,0,0,1.2E-2,null,null,null,null,{"$f":"'12. Diet ingredient data'!C64","v":0.91},{"$f":"'12. Diet ingredient data'!E64","v":2.8300000000000002E-2},{"$f":"(IF(D66=\"\", C66, D66))/6.25","v":0.14400000000000002},{"$f":"'12. Diet ingredient data'!K64","v":2.0999999999999999E-3},{"$f":"'12. Diet ingredient data'!N64","v":2.5999999999999999E-3},{"$f":"'12. Diet ingredient data'!H64","v":0.92901381610290623}]
[null,{"$f":"'12. Diet ingredient data'!B65","v":"Blood Plasma"},{"$f":"'12. Diet ingredient data'!I65","v":0.78},null,3.0000000000000001E-3,null,null,null,null,null,null,null,null,null,null,null,{"$f":"'12. Diet ingredient data'!C65","v":0.92},{"$f":"'12. Diet ingredient data'!E65","v":0.1},{"$f":"(IF(D67=\"\", C67, D67))/6.25","v":0.12480000000000001},{"$f":"'12. Diet ingredient data'!K65","v":1.3000000000000001E-2},{"$f":"'12. Diet ingredient data'!N65","v":3.0000000000000001E-3},{"$f":"'12. Diet ingredient data'!H65","v":0.93789473684210523}]
[null,{"$f":"'12. Diet ingredient data'!B66","v":"Fishmeal 60"},{"$f":"'12. Diet ingredient data'!I66","v":0.6},null,null,null,null,null,null,null,null,0.02,null,null,null,null,{"$f":"'12. Diet ingredient data'!C66","v":0.92},{"$f":"'12. Diet ingredient data'!E66","v":0.20749999999999999},9.6000000000000002E-2,{"$f":"'12. Diet ingredient data'!K66","v":2.8500000000000001E-2},{"$f":"'12. Diet ingredient data'!N66","v":9.3999999999999986E-3},{"$f":"'12. Diet ingredient data'!H66","v":0.80786026200873362}]
[null,{"$f":"'12. Diet ingredient data'!B67","v":"Fishmeal 65"},{"$f":"'12. Diet ingredient data'!I67","v":0.65},null,2.5000000000000001E-3,2.5000000000000001E-2,0,0,0,0,0,null,null,null,null,null,{"$f":"'12. Diet ingredient data'!C67","v":0.92},{"$f":"'12. Diet ingredient data'!E67","v":0.16140000000000002},0.10400000000000001,{"$f":"'12. Diet ingredient data'!K67","v":2.6000000000000002E-2},{"$f":"'12. Diet ingredient data'!N67","v":1.3000000000000001E-2},{"$f":"'12. Diet ingredient data'!H67","v":0.82718651211801886}]
[null,{"$f":"'12. Diet ingredient data'!B68","v":"Fishmeal 70"},{"$f":"'12. Diet ingredient data'!I68","v":0.7},null,null,null,null,null,null,null,null,null,null,null,null,null,{"$f":"'12. Diet ingredient data'!C68","v":0.91},{"$f":"'12. Diet ingredient data'!E68","v":0.125},0.11199999999999999,{"$f":"'12. Diet ingredient data'!K68","v":0.02},{"$f":"'12. Diet ingredient data'!N68","v":1.2999999999999999E-2},{"$f":"'12. Diet ingredient data'!H68","v":0.88383838383838376}]
[null,{"$f":"'12. Diet ingredient data'!B69","v":"Meat & bone meal 45 "},{"$f":"'12. Diet ingredient data'!I69","v":0.45},null,null,null,null,null,null,null,null,null,null,null,null,null,{"$f":"'12. Diet ingredient data'!C69","v":0.95},{"$f":"'12. Diet ingredient data'!E69","v":0.35},7.2000000000000008E-2,{"$f":"'12. Diet ingredient data'!K69","v":0.06},{"$f":"'12. Diet ingredient data'!N69","v":5.0000000000000001E-3},{"$f":"'12. Diet ingredient data'!H69","v":0.75333333333333341}]
[null,{"$f":"'12. Diet ingredient data'!B70","v":"Meat & bone meal 50"},{"$f":"'12. Diet ingredient data'!I70","v":0.5},null,4.4999999999999997E-3,0.04,3.7499999999999999E-2,3.5000000000000003E-2,3.5000000000000003E-2,0,0,3.1E-2,0.06,5.2499999999999998E-2,0.06,null,{"$f":"'12. Diet ingredient data'!C70","v":0.95},{"$f":"'12. Diet ingredient data'!E70","v":0.3},0.08,{"$f":"'12. Diet ingredient data'!K70","v":4.9000000000000002E-2},{"$f":"'12. Diet ingredient data'!N70","v":5.0000000000000001E-3},{"$f":"'12. Diet ingredient data'!H70","v":0.75}]
[null,{"$f":"'12. Diet ingredient data'!B71","v":"Meat & bone meal 60"},{"$f":"'12. Diet ingredient data'!I71","v":0.6},null,null,null,null,null,null,null,null,null,null,null,null,null,{"$f":"'12. Diet ingredient data'!C71","v":0.95},{"$f":"'12. Diet ingredient data'!E71","v":0.22},9.6000000000000002E-2,{"$f":"'12. Diet ingredient data'!K71","v":3.5999999999999997E-2},{"$f":"'12. Diet ingredient data'!N71","v":5.4999999999999997E-3},{"$f":"'12. Diet ingredient data'!H71","v":0.74971941638608297}]
[null,{"$f":"'12. Diet ingredient data'!B72","v":"Milk, chocolate milk powder"},{"$f":"'12. Diet ingredient data'!I72","v":0.17},null,null,null,null,null,null,null,null,null,null,null,null,null,{"$f":"'12. Diet ingredient data'!C72","v":0.97},{"$f":"'12. Diet ingredient data'!E72","v":0.06},2.7200000000000002E-2,{"$f":"'12. Diet ingredient data'!K72","v":0.01},{"$f":"'12. Diet ingredient data'!N72","v":0},{"$f":"'12. Diet ingredient data'!H72","v":0.94524495677233411}]
[null,{"$f":"'12. Diet ingredient data'!B73","v":"Milk, skim milk powder"},{"$f":"'12. Diet ingredient data'!I73","v":0.35499999999999998},null,null,null,null,null,null,null,null,null,null,null,null,null,{"$f":"'12. Diet ingredient data'!C73","v":0.95},{"$f":"'12. Diet ingredient data'!E73","v":0.08},5.6799999999999996E-2,{"$f":"'12. Diet ingredient data'!K73","v":0.01},{"$f":"'12. Diet ingredient data'!N73","v":1.6E-2},{"$f":"'12. Diet ingredient data'!H73","v":0.94524495677233411}]
[null,{"$f":"'12. Diet ingredient data'!B74","v":"Milk, full cream  powder"},{"$f":"'12. Diet ingredient data'!I74","v":0.25},null,null,null,null,null,null,null,null,null,null,null,null,null,{"$f":"'12. Diet ingredient data'!C74","v":0.95},{"$f":"'12. Diet ingredient data'!E74","v":0.06},0.04,{"$f":"'12. Diet ingredient data'!K74","v":8.0000000000000002E-3},{"$f":"'12. Diet ingredient data'!N74","v":1.3000000000000001E-2},{"$f":"'12. Diet ingredient data'!H74","v":0.9620476610767873}]
[null,{"$f":"'12. Diet ingredient data'!B75","v":"Milk, whey powder"},{"$f":"'12. Diet ingredient data'!I75","v":0.125},null,0.01,null,null,null,null,null,null,null,null,null,null,null,{"$f":"'12. Diet ingredient data'!C75","v":0.95},{"$f":"'12. Diet ingredient data'!E75","v":8.6999999999999994E-2},0.02,{"$f":"'12. Diet ingredient data'!K75","v":9.0000000000000011E-3},{"$f":"'12. Diet ingredient data'!N75","v":0.05},{"$f":"'12. Diet ingredient data'!H75","v":0.875}]
[null,"Hay & Straw"]
[null,{"$f":"'12. Diet ingredient data'!B77","v":"Barley straw"},{"$f":"'12. Diet ingredient data'!I77","v":3.7999999999999999E-2},null,null,null,null,null,null,null,null,null,null,null,null,null,{"$f":"'12. Diet ingredient data'!C77","v":0.89},{"$f":"'12. Diet ingredient data'!E77","v":5.28E-2},{"$f":"(IF(D79=\"\", C79, D79))/6.25","v":6.0799999999999995E-3},{"$f":"'12. Diet ingredient data'!K77","v":2E-3},{"$f":"'12. Diet ingredient data'!N77","v":1.1699999999999999E-2},{"$f":"'12. Diet ingredient data'!H77","v":6.25E-2}]
[null,{"$f":"'12. Diet ingredient data'!B78","v":"Cereal straw pellets"},{"$f":"'12. Diet ingredient data'!I78","v":3.5000000000000003E-2},null,null,null,null,null,null,null,null,null,null,null,null,null,{"$f":"'12. Diet ingredient data'!C78","v":0.88},{"$f":"'12. Diet ingredient data'!E78","v":0.06},5.6000000000000008E-3,{"$f":"'12. Diet ingredient data'!K78","v":8.0000000000000004E-4},{"$f":"'12. Diet ingredient data'!N78","v":8.0000000000000002E-3},{"$f":"'12. Diet ingredient data'!H78","v":0.12492192379762647}]
[null,{"$f":"'12. Diet ingredient data'!B79","v":"Lucerne meal/crumbles"},{"$f":"'12. Diet ingredient data'!I79","v":0.16500000000000001},null,null,null,null,null,null,null,null,null,null,null,null,null,{"$f":"'12. Diet ingredient data'!C79","v":0.9},{"$f":"'12. Diet ingredient data'!E79","v":0.1},2.64E-2,{"$f":"'12. Diet ingredient data'!K79","v":2.3E-3},{"$f":"'12. Diet ingredient data'!N79","v":1.9E-2},{"$f":"'12. Diet ingredient data'!H79","v":0.44867854947756608}]
[null,{"$f":"'12. Diet ingredient data'!B80","v":"Oat straw"},{"$f":"'12. Diet ingredient data'!I80","v":5.2000000000000005E-2},null,null,null,null,null,null,null,null,null,null,null,null,null,{"$f":"'12. Diet ingredient data'!C80","v":0.87},{"$f":"'12. Diet ingredient data'!E80","v":8.8000000000000009E-2},8.320000000000001E-3,{"$f":"'12. Diet ingredient data'!K80","v":2.2000000000000001E-3},{"$f":"'12. Diet ingredient data'!N80","v":2.2700000000000001E-2},{"$f":"'12. Diet ingredient data'!H80","v":6.25E-2}]
[null,{"$f":"'12. Diet ingredient data'!B81","v":"Wheat straw"},{"$f":"'12. Diet ingredient data'!I81","v":3.7999999999999999E-2},null,null,null,null,null,null,null,null,null,null,null,null,null,{"$f":"'12. Diet ingredient data'!C81","v":0.9},{"$f":"'12. Diet ingredient data'!E81","v":5.8499999999999996E-2},6.0799999999999995E-3,{"$f":"'12. Diet ingredient data'!K81","v":7.000000000000001E-4},{"$f":"'12. Diet ingredient data'!N81","v":1.3300000000000001E-2},{"$f":"'12. Diet ingredient data'!H81","v":0.14792899408284024}]
[null,"Fats"]
[null,{"$f":"'12. Diet ingredient data'!B83","v":"Tallow"},{"$f":"'12. Diet ingredient data'!I83","v":5.0000000000000001E-3},null,null,null,null,null,null,null,null,null,null,null,null,null,{"$f":"'12. Diet ingredient data'!C83","v":0.99},{"$f":"'12. Diet ingredient data'!E83","v":0},8.0000000000000004E-4,0,0,0.87]
[null,{"$f":"'12. Diet ingredient data'!B84","v":"Vegetable oil"},{"$f":"'12. Diet ingredient data'!I84","v":0},null,1.3500000000000001E-3,2.1000000000000001E-2,5.0000000000000001E-3,5.0000000000000001E-3,0,0,0,5.0000000000000001E-3,null,null,null,null,{"$f":"'12. Diet ingredient data'!C84","v":0.995},{"$f":"'12. Diet ingredient data'!E84","v":0},0,0,0,0.87]
[null,"Minerals"]
[null,{"$f":"'12. Diet ingredient data'!B86","v":"Bentonite"},{"$f":"'12. Diet ingredient data'!I86","v":0},null,null,null,null,null,null,null,null,null,null,null,null,null,{"$f":"'12. Diet ingredient data'!C86","v":0.99},{"$f":"'12. Diet ingredient data'!E86","v":0.99},0,{"$f":"'12. Diet ingredient data'!K86","v":0},{"$f":"'12. Diet ingredient data'!N86","v":0},{"$f":"'12. Diet ingredient data'!H86","v":0}]
[null,{"$f":"'12. Diet ingredient data'!B87","v":"Choline Chloride"},{"$f":"'12. Diet ingredient data'!I87","v":0},null,null,0,0,5.7499999999999999E-4,6.9999999999999999E-4,0,0,null,null,null,null,null,{"$f":"'12. Diet ingredient data'!C87","v":0.95},{"$f":"'12. Diet ingredient data'!E87","v":0.05},{"$f":"(IF(D89=\"\", C89, D89))/6.25","v":0},{"$f":"'12. Diet ingredient data'!K87","v":0},{"$f":"'12. Diet ingredient data'!N87","v":0},{"$f":"'12. Diet ingredient data'!H87","v":0}]
[null,{"$f":"'12. Diet ingredient data'!B88","v":"Copper Sulphate"},{"$f":"'12. Diet ingredient data'!I88","v":0},null,null,null,null,null,null,null,null,null,null,null,null,null,{"$f":"'12. Diet ingredient data'!C88","v":0.98499999999999999},{"$f":"'12. Diet ingredient data'!E88","v":1},{"$f":"(IF(D90=\"\", C90, D90))/6.25","v":0},{"$f":"'12. Diet ingredient data'!K88","v":0},{"$f":"'12. Diet ingredient data'!N88","v":0},{"$f":"'12. Diet ingredient data'!H88","v":0}]
[null,{"$f":"'12. Diet ingredient data'!B89","v":"Dicalcium phosphate (DCP)"},{"$f":"'12. Diet ingredient data'!I89","v":0},null,null,null,null,null,null,null,null,null,null,null,null,null,{"$f":"'12. Diet ingredient data'!C89","v":1},{"$f":"'12. Diet ingredient data'!E89","v":0.78},{"$f":"(IF(D91=\"\", C91, D91))/6.25","v":0},{"$f":"'12. Diet ingredient data'!K89","v":0.182},{"$f":"'12. Diet ingredient data'!N89","v":0},{"$f":"'12. Diet ingredient data'!H89","v":0}]
[null,{"$f":"'12. Diet ingredient data'!B90","v":"Ferrous Sulphate"},{"$f":"'12. Diet ingredient data'!I90","v":0},null,null,null,null,null,null,null,null,null,null,null,null,null,{"$f":"'12. Diet ingredient data'!C90","v":0.98499999999999999},{"$f":"'12. Diet ingredient data'!E90","v":0.99},{"$f":"(IF(D92=\"\", C92, D92))/6.25","v":0},{"$f":"'12. Diet ingredient data'!K90","v":0},{"$f":"'12. Diet ingredient data'!N90","v":0},{"$f":"'12. Diet ingredient data'!H90","v":0}]
[null,{"$f":"'12. Diet ingredient data'!B91","v":"Kynofos"},{"$f":"'12. Diet ingredient data'!I91","v":0},null,null,null,null,null,null,null,null,null,null,null,null,null,{"$f":"'12. Diet ingredient data'!C91","v":0.98},{"$f":"'12. Diet ingredient data'!E91","v":1},0,{"$f":"'12. Diet ingredient data'!K91","v":0.21},{"$f":"'12. Diet ingredient data'!N91","v":0},{"$f":"'12. Diet ingredient data'!H91","v":0}]
[null,{"$f":"'12. Diet ingredient data'!B92","v":"Limestone"},{"$f":"'12. Diet ingredient data'!I92","v":0},null,null,0,5.0000000000000001E-3,6.0000000000000001E-3,6.0000000000000001E-3,0,0,6.0000000000000001E-3,null,5.0000000000000001E-3,4.5999999999999999E-3,null,{"$f":"'12. Diet ingredient data'!C92","v":0.99},{"$f":"'12. Diet ingredient data'!E92","v":0.99},0,{"$f":"'12. Diet ingredient data'!K92","v":2.0000000000000001E-4},{"$f":"'12. Diet ingredient data'!N92","v":0},{"$f":"'12. Diet ingredient data'!H92","v":0}]
[null,{"$f":"'12. Diet ingredient data'!B93","v":"Monodicalcium phosphate (MDCP)"},{"$f":"'12. Diet ingredient data'!I93","v":0},null,null,null,null,null,null,null,null,null,null,null,null,null,{"$f":"'12. Diet ingredient data'!C93","v":0.995},{"$f":"'12. Diet ingredient data'!E93","v":0.82},0,{"$f":"'12. Diet ingredient data'!K93","v":0.218},{"$f":"'12. Diet ingredient data'!N93","v":0},{"$f":"'12. Diet ingredient data'!H93","v":0}]
[null,{"$f":"'12. Diet ingredient data'!B94","v":"Potassium Choride"},{"$f":"'12. Diet ingredient data'!I94","v":0},null,null,null,null,null,null,null,null,4.0000000000000001E-3,3.0000000000000001E-3,null,null,null,{"$f":"'12. Diet ingredient data'!C94","v":1},{"$f":"'12. Diet ingredient data'!E94","v":1},0,{"$f":"'12. Diet ingredient data'!K94","v":0},{"$f":"'12. Diet ingredient data'!N94","v":0.52100000000000002},{"$f":"'12. Diet ingredient data'!H94","v":0}]
[null,{"$f":"'12. Diet ingredient data'!B95","v":"Potassium sulphate"},{"$f":"'12. Diet ingredient data'!I95","v":0},null,null,null,null,null,null,null,null,null,null,null,null,null,{"$f":"'12. Diet ingredient data'!C95","v":1},{"$f":"'12. Diet ingredient data'!E95","v":1},0,{"$f":"'12. Diet ingredient data'!K95","v":0},{"$f":"'12. Diet ingredient data'!N95","v":0.17550000000000002},{"$f":"'12. Diet ingredient data'!H95","v":0}]
[null,{"$f":"'12. Diet ingredient data'!B96","v":"Sodium Bicarbonate"},{"$f":"'12. Diet ingredient data'!I96","v":0},null,null,null,null,null,null,null,null,null,null,null,null,null,{"$f":"'12. Diet ingredient data'!C96","v":1},{"$f":"'12. Diet ingredient data'!E96","v":0.625},0,{"$f":"'12. Diet ingredient data'!K96","v":0},{"$f":"'12. Diet ingredient data'!N96","v":0},{"$f":"'12. Diet ingredient data'!H96","v":0}]
[null,{"$f":"'12. Diet ingredient data'!B97","v":"Salt"},{"$f":"'12. Diet ingredient data'!I97","v":0},null,3.5E-4,2.5000000000000001E-3,2.5000000000000001E-3,2.5000000000000001E-3,2.5000000000000001E-3,0,0,4.0000000000000001E-3,4.0000000000000001E-3,4.0000000000000001E-3,4.0000000000000001E-3,null,{"$f":"'12. Diet ingredient data'!C97","v":1},{"$f":"'12. Diet ingredient data'!E97","v":1},0,{"$f":"'12. Diet ingredient data'!K97","v":0},{"$f":"'12. Diet ingredient data'!N97","v":0},{"$f":"'12. Diet ingredient data'!H97","v":0}]
[null,{"$f":"'12. Diet ingredient data'!B98","v":"HiZox/Zinco Plus"},{"$f":"'12. Diet ingredient data'!I98","v":0},null,null,null,null,null,null,null,null,null,null,null,null,null,{"$f":"'12. Diet ingredient data'!C98","v":1},{"$f":"'12. Diet ingredient data'!E98","v":0.98},0,{"$f":"'12. Diet ingredient data'!K98","v":0},{"$f":"'12. Diet ingredient data'!N98","v":0},{"$f":"'12. Diet ingredient data'!H98","v":0}]
[null,{"$f":"'12. Diet ingredient data'!B99","v":"Zinc Oxide"},{"$f":"'12. Diet ingredient data'!I99","v":0},null,2.9999999999999997E-4,3.0000000000000001E-3,0,0,0,0,0,null,null,null,null,null,{"$f":"'12. Diet ingredient data'!C99","v":1},{"$f":"'12. Diet ingredient data'!E99","v":0.98},0,{"$f":"'12. Diet ingredient data'!K99","v":0},{"$f":"'12. Diet ingredient data'!N99","v":0},{"$f":"'12. Diet ingredient data'!H99","v":0}]
[null,"Synthetic amino acids"]
[null,{"$f":"'12. Diet ingredient data'!B101","v":"L-Isoleucine"},{"$f":"'12. Diet ingredient data'!I101","v":0.625},null,1.05E-4,8.25E-4,0,3.5E-4,0,0,0,null,null,null,null,null,{"$f":"'12. Diet ingredient data'!C101","v":0.98499999999999999},{"$f":"'12. Diet ingredient data'!E101","v":5.0000000000000001E-3},{"$f":"(IF(D103=\"\", C103, D103))/6.25","v":0.1},{"$f":"'12. Diet ingredient data'!K101","v":0},{"$f":"'12. Diet ingredient data'!N101","v":0},{"$f":"'12. Diet ingredient data'!H101","v":1}]
[null,{"$f":"'12. Diet ingredient data'!B102","v":"L-Lysine HCL"},{"$f":"'12. Diet ingredient data'!I102","v":0.95400000000000007},null,4.4999999999999999E-4,4.4999999999999997E-3,4.4999999999999997E-3,4.4999999999999997E-3,3.0000000000000001E-3,0,0,3.3E-3,5.0000000000000001E-4,3.0500000000000002E-3,1.4999999999999999E-4,null,{"$f":"'12. Diet ingredient data'!C102","v":0.995},{"$f":"'12. Diet ingredient data'!E102","v":5.0000000000000001E-3},{"$f":"(IF(D104=\"\", C104, D104))/6.25","v":0.15264},{"$f":"'12. Diet ingredient data'!K102","v":0},{"$f":"'12. Diet ingredient data'!N102","v":0},{"$f":"'12. Diet ingredient data'!H102","v":0.99950024987506236}]
[null,{"$f":"'12. Diet ingredient data'!B103","v":"DL-Methionine"},{"$f":"'12. Diet ingredient data'!I103","v":0.58399999999999996},null,2.2000000000000001E-4,1.75E-3,8.0000000000000004E-4,7.7499999999999997E-4,4.75E-4,0,0,2.4000000000000001E-4,null,3.8099999999999999E-4,null,null,{"$f":"'12. Diet ingredient data'!C103","v":0.995},{"$f":"'12. Diet ingredient data'!E103","v":2E-3},{"$f":"(IF(D105=\"\", C105, D105))/6.25","v":9.3439999999999995E-2},{"$f":"'12. Diet ingredient data'!K103","v":0},{"$f":"'12. Diet ingredient data'!N103","v":0},{"$f":"'12. Diet ingredient data'!H103","v":1}]
[null,{"$f":"'12. Diet ingredient data'!B104","v":"L-Threonine"},{"$f":"'12. Diet ingredient data'!I104","v":0.73099999999999998},null,1.95E-4,1.8E-3,1.25E-3,1.2750000000000001E-3,5.2499999999999997E-4,0,0,8.4999999999999995E-4,null,1.33E-3,null,null,{"$f":"'12. Diet ingredient data'!C104","v":0.995},{"$f":"'12. Diet ingredient data'!E104","v":5.0000000000000001E-3},{"$f":"(IF(D106=\"\", C106, D106))/6.25","v":0.11695999999999999},{"$f":"'12. Diet ingredient data'!K104","v":0},{"$f":"'12. Diet ingredient data'!N104","v":0},{"$f":"'12. Diet ingredient data'!H104","v":0.99767981438515085}]
[null,{"$f":"'12. Diet ingredient data'!B105","v":"L-Tryptophan"},{"$f":"'12. Diet ingredient data'!I105","v":0.85299999999999998},null,6.7500000000000001E-5,2.9999999999999997E-4,5.0000000000000002E-5,1.75E-4,1.4999999999999999E-4,0,0,1.17E-4,null,1.4300000000000001E-4,null,null,{"$f":"'12. Diet ingredient data'!C105","v":0.995},{"$f":"'12. Diet ingredient data'!E105","v":5.0000000000000001E-3},0.13647999999999999,{"$f":"'12. Diet ingredient data'!K105","v":0},{"$f":"'12. Diet ingredient data'!N105","v":0},{"$f":"'12. Diet ingredient data'!H105","v":1.0007278020378456}]
[null,"Micellaneous ingredients"]
[null,{"$f":"'12. Diet ingredient data'!B107","v":"Lactose"},{"$f":"'12. Diet ingredient data'!I107","v":0},null,2.5000000000000001E-3,null,null,null,null,null,null,null,null,null,null,null,{"$f":"'12. Diet ingredient data'!C107","v":0.99},{"$f":"'12. Diet ingredient data'!E107","v":5.0000000000000001E-3},{"$f":"(IF(D109=\"\", C109, D109))/6.25","v":0},{"$f":"'12. Diet ingredient data'!K107","v":4.0000000000000002E-4},{"$f":"'12. Diet ingredient data'!N107","v":0},{"$f":"'12. Diet ingredient data'!H107","v":0.755}]
[null,{"$f":"'12. Diet ingredient data'!B108","v":"Levucell"},{"$f":"'12. Diet ingredient data'!I108","v":0},null,null,null,null,null,null,null,null,null,null,null,null,null,{"$f":"'12. Diet ingredient data'!C108","v":0.95},{"$f":"'12. Diet ingredient data'!E108","v":0.06},0,{"$f":"'12. Diet ingredient data'!K108","v":0},{"$f":"'12. Diet ingredient data'!N108","v":0},{"$f":"'12. Diet ingredient data'!H108","v":0.86999999999999988}]
[null,"Vitamin/mineral premixes"]
[null,{"$f":"'12. Diet ingredient data'!B110","v":"Breeder premix"},{"$f":"'12. Diet ingredient data'!I110","v":0},null,null,null,null,null,null,null,null,2E-3,2E-3,2E-3,2E-3,null,{"$f":"'12. Diet ingredient data'!C110","v":1},{"$f":"'12. Diet ingredient data'!E110","v":0.23},0,{"$f":"'12. Diet ingredient data'!K110","v":0},{"$f":"'12. Diet ingredient data'!N110","v":0},{"$f":"'12. Diet ingredient data'!H110","v":0}]
[null,{"$f":"'12. Diet ingredient data'!B111","v":"Grower premix"},{"$f":"'12. Diet ingredient data'!I111","v":0.05},null,null,0,2E-3,2E-3,2E-3,0,0,null,null,null,null,null,{"$f":"'12. Diet ingredient data'!C111","v":1},{"$f":"'12. Diet ingredient data'!E111","v":0.23},8.0000000000000002E-3,{"$f":"'12. Diet ingredient data'!K111","v":2.3999999999999998E-3},{"$f":"'12. Diet ingredient data'!N111","v":2.8E-3},{"$f":"'12. Diet ingredient data'!H111","v":0}]
[null,{"$f":"'12. Diet ingredient data'!B112","v":"Weaner premix"},{"$f":"'12. Diet ingredient data'!I112","v":0},null,2.0000000000000001E-4,2E-3,0,0,0,0,0,null,null,null,null,null,{"$f":"'12. Diet ingredient data'!C112","v":1},{"$f":"'12. Diet ingredient data'!E112","v":0.23},0,{"$f":"'12. Diet ingredient data'!K112","v":0},{"$f":"'12. Diet ingredient data'!N112","v":0},{"$f":"'12. Diet ingredient data'!H112","v":0}]
[null,"Enzymes"]
[null,{"$f":"'12. Diet ingredient data'!B114","v":"Feedzyme "},{"$f":"'12. Diet ingredient data'!I114","v":0},null,null,null,null,null,null,null,null,null,null,null,null,null,{"$f":"'12. Diet ingredient data'!C114","v":1},{"$f":"'12. Diet ingredient data'!E114","v":0},0,{"$f":"'12. Diet ingredient data'!K114","v":0},{"$f":"'12. Diet ingredient data'!N114","v":0},{"$f":"'12. Diet ingredient data'!H114","v":0}]
[null,{"$f":"'12. Diet ingredient data'!B115","v":"Axtra Phy"},{"$f":"'12. Diet ingredient data'!I115","v":0},null,1.0000000000000001E-5,1E-4,1E-4,1E-4,1E-4,0,0,1E-4,1E-4,1E-4,1E-4,null,{"$f":"'12. Diet ingredient data'!C115","v":1},{"$f":"'12. Diet ingredient data'!E115","v":0},0,{"$f":"'12. Diet ingredient data'!K115","v":0},{"$f":"'12. Diet ingredient data'!N115","v":0},{"$f":"'12. Diet ingredient data'!H115","v":0}]
[null,{"$f":"'12. Diet ingredient data'!B116","v":"Axtra XB"},{"$f":"'12. Diet ingredient data'!I116","v":0},null,null,null,null,null,null,null,null,null,1E-4,null,null,null,{"$f":"'12. Diet ingredient data'!C116","v":1},{"$f":"'12. Diet ingredient data'!E116","v":0},0,{"$f":"'12. Diet ingredient data'!K116","v":0},{"$f":"'12. Diet ingredient data'!N116","v":0},{"$f":"'12. Diet ingredient data'!H116","v":0}]
[null,{"$f":"'12. Diet ingredient data'!B117","v":"Natuphos Blue"},{"$f":"'12. Diet ingredient data'!I117","v":0},null,null,null,null,null,null,null,null,null,null,null,null,null,{"$f":"'12. Diet ingredient data'!C117","v":1},{"$f":"'12. Diet ingredient data'!E117","v":0},0,{"$f":"'12. Diet ingredient data'!K117","v":0},{"$f":"'12. Diet ingredient data'!N117","v":0},{"$f":"'12. Diet ingredient data'!H117","v":0}]
[null,{"$f":"'12. Diet ingredient data'!B118","v":"Ronozyme P 5000 (150g dose)"},{"$f":"'12. Diet ingredient data'!I118","v":0},null,null,null,null,null,null,null,null,null,null,null,null,null,{"$f":"'12. Diet ingredient data'!C118","v":1},{"$f":"'12. Diet ingredient data'!E118","v":0},0,{"$f":"'12. Diet ingredient data'!K118","v":0},{"$f":"'12. Diet ingredient data'!N118","v":0},{"$f":"'12. Diet ingredient data'!H118","v":0}]
[null,{"$f":"'12. Diet ingredient data'!B119","v":"Rovabio Excel premix"},{"$f":"'12. Diet ingredient data'!I119","v":0},null,5.0000000000000002E-5,5.0000000000000001E-4,5.0000000000000001E-4,5.0000000000000001E-4,5.0000000000000001E-4,0,0,5.0000000000000001E-4,null,null,null,null,{"$f":"'12. Diet ingredient data'!C119","v":1},{"$f":"'12. Diet ingredient data'!E119","v":0},0,{"$f":"'12. Diet ingredient data'!K119","v":0},{"$f":"'12. Diet ingredient data'!N119","v":0},{"$f":"'12. Diet ingredient data'!H119","v":0}]
[null,{"$f":"'12. Diet ingredient data'!B120","v":"Rovabio T-Flex "},{"$f":"'12. Diet ingredient data'!I120","v":0},null,null,null,null,null,null,null,null,null,null,null,null,null,{"$f":"'12. Diet ingredient data'!C120","v":1},{"$f":"'12. Diet ingredient data'!E120","v":0},0,{"$f":"'12. Diet ingredient data'!K120","v":0},{"$f":"'12. Diet ingredient data'!N120","v":0},{"$f":"'12. Diet ingredient data'!H120","v":0}]
[null,"Toxin Binders"]
[null,{"$f":"'12. Diet ingredient data'!B122","v":"Mycofix"},{"$f":"'12. Diet ingredient data'!I122","v":0},null,2.0000000000000001E-4,null,null,null,null,null,null,2E-3,2E-3,2E-3,null,null,{"$f":"'12. Diet ingredient data'!C122","v":1},{"$f":"'12. Diet ingredient data'!E122","v":0.98},0,{"$f":"'12. Diet ingredient data'!K122","v":0},{"$f":"'12. Diet ingredient data'!N122","v":0},{"$f":"'12. Diet ingredient data'!H122","v":0}]
[null,{"$f":"'12. Diet ingredient data'!B123","v":"Mycosorb"},{"$f":"'12. Diet ingredient data'!I123","v":0},null,null,null,null,null,null,null,null,null,null,null,null,null,{"$f":"'12. Diet ingredient data'!C123","v":1},{"$f":"'12. Diet ingredient data'!E123","v":0.85},{"$f":"(IF(D125=\"\", C125, D125))/6.25","v":0},{"$f":"'12. Diet ingredient data'!K123","v":0},{"$f":"'12. Diet ingredient data'!N123","v":0},{"$f":"'12. Diet ingredient data'!H123","v":0}]
[null,{"$f":"'12. Diet ingredient data'!B124","v":"Elitox"},{"$f":"'12. Diet ingredient data'!I123","v":0},null,null,1E-3,1E-3,1E-3,0,0,0,null,null,null,null,null,{"$f":"'12. Diet ingredient data'!C123","v":1},{"$f":"'12. Diet ingredient data'!E123","v":0.85},0,{"$f":"'12. Diet ingredient data'!K123","v":0},{"$f":"'12. Diet ingredient data'!N123","v":0},{"$f":"'12. Diet ingredient data'!H123","v":0}]
[null,{"$f":"'12. Diet ingredient data'!B125","v":"Mastersorb "},{"$f":"'12. Diet ingredient data'!I124","v":0},null,null,0,0,0,5.0000000000000001E-4,0,0,null,null,null,null,null,{"$f":"'12. Diet ingredient data'!C124","v":1},{"$f":"'12. Diet ingredient data'!E124","v":0.85},0,{"$f":"'12. Diet ingredient data'!K124","v":0},{"$f":"'12. Diet ingredient data'!N124","v":0},{"$f":"'12. Diet ingredient data'!H124","v":0}]
[null,"Acidifiers",{"$f":"'12. Diet ingredient data'!I125","v":0}]
[null,{"$f":"'12. Diet ingredient data'!B127","v":"Formi Acid"},null,null,null,null,null,null,null,null,null,null,null,null,null,null,{"$f":"'12. Diet ingredient data'!C126","v":0},{"$f":"'12. Diet ingredient data'!E126","v":0},{"$f":"(IF(D129=\"\", C129, D129))/6.25","v":0},{"$f":"'12. Diet ingredient data'!K126","v":0},{"$f":"'12. Diet ingredient data'!N126","v":0},{"$f":"'12. Diet ingredient data'!H126","v":0}]
[null,{"$f":"'12. Diet ingredient data'!B128","v":"Top3"},{"$f":"'12. Diet ingredient data'!I127","v":0},null,null,1.5E-3,0,0,0,0,0,null,null,null,null,null,{"$f":"'12. Diet ingredient data'!C127","v":1},{"$f":"'12. Diet ingredient data'!E127","v":0},0,{"$f":"'12. Diet ingredient data'!K127","v":0},{"$f":"'12. Diet ingredient data'!N127","v":0},{"$f":"'12. Diet ingredient data'!H127","v":0}]
[null,{"$f":"'12. Diet ingredient data'!B129","v":"Tetracid 500"},{"$f":"'12. Diet ingredient data'!I129","v":0},null,null,null,null,null,null,null,null,null,null,null,null,null,{"$f":"'12. Diet ingredient data'!C129","v":1},{"$f":"'12. Diet ingredient data'!E129","v":0},0,{"$f":"'12. Diet ingredient data'!K129","v":0},{"$f":"'12. Diet ingredient data'!N129","v":0},{"$f":"'12. Diet ingredient data'!H129","v":0}]
[null,{"$f":"'12. Diet ingredient data'!B130","v":"AcidLac"},{"$f":"'12. Diet ingredient data'!I130","v":0},null,null,null,null,null,null,null,null,null,null,null,null,null,{"$f":"'12. Diet ingredient data'!C130","v":1},{"$f":"'12. Diet ingredient data'!E130","v":0},0,{"$f":"'12. Diet ingredient data'!K130","v":0},{"$f":"'12. Diet ingredient data'!N130","v":0},{"$f":"'12. Diet ingredient data'!H130","v":0}]
[null,{"$f":"'12. Diet ingredient data'!B131","v":"VevoVital "},{"$f":"'12. Diet ingredient data'!I131","v":0},null,5.0000000000000001E-4,null,null,null,null,null,null,null,null,null,null,null,{"$f":"'12. Diet ingredient data'!C131","v":1},{"$f":"'12. Diet ingredient data'!E131","v":0},0,{"$f":"'12. Diet ingredient data'!K131","v":0},{"$f":"'12. Diet ingredient data'!N131","v":0},{"$f":"'12. Diet ingredient data'!H131","v":0}]
[null,"Other Additives"]
[null,{"$f":"'12. Diet ingredient data'!B133","v":"Krave"},{"$f":"'12. Diet ingredient data'!I133","v":0},null,4.0000000000000003E-5,4.0000000000000002E-4,0,0,0,0,0,null,null,null,null,null,{"$f":"'12. Diet ingredient data'!C133","v":1},{"$f":"'12. Diet ingredient data'!E133","v":0.98},0,{"$f":"'12. Diet ingredient data'!K133","v":0},{"$f":"'12. Diet ingredient data'!N133","v":0},{"$f":"'12. Diet ingredient data'!H133","v":0}]
[null,{"$f":"'12. Diet ingredient data'!B134","v":"Betaine"},{"$f":"'12. Diet ingredient data'!I134","v":0},null,1E-4,1E-3,1E-3,0,0,0,0,1.5E-3,1E-3,5.0000000000000001E-4,null,null,{"$f":"'12. Diet ingredient data'!C134","v":1},{"$f":"'12. Diet ingredient data'!E134","v":0.98},0,{"$f":"'12. Diet ingredient data'!K134","v":0},{"$f":"'12. Diet ingredient data'!N134","v":0},{"$f":"'12. Diet ingredient data'!H134","v":0}]
[null,{"$f":"'12. Diet ingredient data'!B135","v":"Biomos"},{"$f":"'12. Diet ingredient data'!I135","v":0},null,null,null,null,null,null,null,null,null,null,null,null,null,{"$f":"'12. Diet ingredient data'!C135","v":1},{"$f":"'12. Diet ingredient data'!E135","v":0.98},0,{"$f":"'12. Diet ingredient data'!K135","v":0},{"$f":"'12. Diet ingredient data'!N135","v":0},{"$f":"'12. Diet ingredient data'!H135","v":0}]
[null,{"$f":"'12. Diet ingredient data'!B136","v":"De-Oderase"},{"$f":"'12. Diet ingredient data'!I136","v":0},null,null,null,null,null,null,null,null,null,null,null,null,null,{"$f":"'12. Diet ingredient data'!C136","v":0.99},{"$f":"'12. Diet ingredient data'!E136","v":0.98},0,{"$f":"'12. Diet ingredient data'!K136","v":0},{"$f":"'12. Diet ingredient data'!N136","v":0},{"$f":"'12. Diet ingredient data'!H136","v":0}]
[null,"Bedding Materials"]
[null,{"$f":"'12. Diet ingredient data'!B138","v":"Hardwood sawdust"},{"$f":"'12. Diet ingredient data'!I138","v":1.2375000000000001E-2},null,null,null,null,null,null,null,null,null,null,null,null,null,{"$f":"'12. Diet ingredient data'!C138","v":0.9},{"$f":"'12. Diet ingredient data'!E138","v":0},{"$f":"(IF(D140=\"\", C140, D140))/6.25","v":1.98E-3},{"$f":"'12. Diet ingredient data'!K138","v":9.0000000000000006E-5},{"$f":"'12. Diet ingredient data'!N138","v":4.5000000000000004E-4},{"$f":"'12. Diet ingredient data'!H138","v":0.05}]
[null,{"$f":"'12. Diet ingredient data'!B139","v":"Softwood sawdust/shavings"},{"$f":"'12. Diet ingredient data'!I139","v":7.8750000000000001E-3},null,null,null,null,null,null,null,null,null,null,null,null,null,{"$f":"'12. Diet ingredient data'!C139","v":0.9},{"$f":"'12. Diet ingredient data'!E139","v":0},1.2600000000000001E-3,{"$f":"'12. Diet ingredient data'!K139","v":9.0000000000000006E-5},{"$f":"'12. Diet ingredient data'!N139","v":2.7E-4},{"$f":"'12. Diet ingredient data'!H139","v":0.16}]
[null,{"$f":"'12. Diet ingredient data'!B140","v":"Rice Hulls"},{"$f":"'12. Diet ingredient data'!I140","v":3.0475000000000002E-2},null,null,null,null,null,null,null,null,null,null,null,null,null,{"$f":"'12. Diet ingredient data'!C140","v":0.92},{"$f":"'12. Diet ingredient data'!E140","v":0.05},4.8760000000000001E-3,{"$f":"'12. Diet ingredient data'!K140","v":7.3600000000000011E-4},{"$f":"'12. Diet ingredient data'!N140","v":1.2144E-2},{"$f":"'12. Diet ingredient data'!H140","v":0.15625}]
[null,{"$f":"'12. Diet ingredient data'!B141","v":"Barley straw"},{"$f":"'12. Diet ingredient data'!I141","v":3.9243750000000001E-2},null,null,null,null,null,null,null,null,null,null,null,null,null,{"$f":"'12. Diet ingredient data'!C141","v":0.91},{"$f":"'12. Diet ingredient data'!E141","v":0.06},6.2789999999999999E-3,{"$f":"'12. Diet ingredient data'!K141","v":6.3699999999999998E-4},{"$f":"'12. Diet ingredient data'!N141","v":2.1566999999999999E-2},{"$f":"'12. Diet ingredient data'!H141","v":0.125}]
[null,{"$f":"'12. Diet ingredient data'!B142","v":"Wheat straw"},{"$f":"'12. Diet ingredient data'!I142","v":3.22625E-2},null,null,null,null,null,null,null,null,null,null,null,null,null,{"$f":"'12. Diet ingredient data'!C142","v":0.89},{"$f":"'12. Diet ingredient data'!E142","v":5.8500000000000003E-2},5.1619999999999999E-3,{"$f":"'12. Diet ingredient data'!K142","v":3.6490000000000003E-3},{"$f":"'12. Diet ingredient data'!N142","v":4.5390000000000005E-3},{"$f":"'12. Diet ingredient data'!H142","v":0.14792899408284024}]
[null,{"$f":"'12. Diet ingredient data'!B143","v":"Shredded paper"},{"$f":"'12. Diet ingredient data'!I143","v":0},null,null,null,null,null,null,null,null,null,null,null,null,null,{"$f":"'12. Diet ingredient data'!C143","v":0.9},{"$f":"'12. Diet ingredient data'!E143","v":0},0,{"$f":"'12. Diet ingredient data'!K143","v":9.0000000000000006E-5},{"$f":"'12. Diet ingredient data'!N143","v":0},{"$f":"'12. Diet ingredient data'!H143","v":0.1}]
[null,"Additional ingredients"]
[null,{"$f":"IF('12. Diet ingredient data'!B145=\"\", \"\",'12. Diet ingredient data'!B145)","v":"Sow milk"},{"$f":"'12. Diet ingredient data'!I145","v":5.6300000000000003E-2},null,0.9,null,null,null,null,null,null,null,null,null,null,null,{"$f":"'12. Diet ingredient data'!C145","v":0.2},{"$f":"'12. Diet ingredient data'!E145","v":0.01},{"$f":"(IF(D147=\"\", C147, D147))/6.25","v":9.0080000000000004E-3},{"$f":"'12. Diet ingredient data'!K145","v":1.5E-3},{"$f":"'12. Diet ingredient data'!N145","v":6.9999999999999999E-4},{"$f":"'12. Diet ingredient data'!H145","v":1}]
[null,{"$f":"IF('12. Diet ingredient data'!B146=\"\", \"\",'12. Diet ingredient data'!B146)","v":"Milk fat"},{"$f":"'12. Diet ingredient data'!I146","v":0},null,null,null,null,null,null,null,null,null,null,null,null,null,{"$f":"'12. Diet ingredient data'!C146","v":0.99},{"$f":"'12. Diet ingredient data'!E146","v":0},{"$f":"(IF(D148=\"\", C148, D148))/6.25","v":0},{"$f":"'12. Diet ingredient data'!K146","v":0},{"$f":"'12. Diet ingredient data'!N146","v":0},{"$f":"'12. Diet ingredient data'!H146","v":1}]
[null,{"$f":"IF('12. Diet ingredient data'!B147=\"\", \"\",'12. Diet ingredient data'!B147)","v":""},{"$f":"'12. Diet ingredient data'!I147","v":0}]
[null,{"$f":"IF('12. Diet ingredient data'!B148=\"\", \"\",'12. Diet ingredient data'!B148)","v":""},{"$f":"'12. Diet ingredient data'!I148","v":0},null,null,null,null,null,null,null,null,null,null,null,null,null,{"$f":"'12. Diet ingredient data'!C148","v":0},{"$f":"'12. Diet ingredient data'!E148","v":0},{"$f":"(IF(D150=\"\", C150, D150))/6.25","v":0},{"$f":"'12. Diet ingredient data'!K148","v":0},{"$f":"'12. Diet ingredient data'!N148","v":0},{"$f":"'12. Diet ingredient data'!H148","v":0}]
[]
[null,"Totals:",null,null,{"$f":"SUM(E11:E150)","v":1},0.99999999999999989,0.99999999999999978,0.99999999999999989,0.99999999999999989,0,0,1.0000000000000002,1,1,1]

{"sheet":"Diet calcs","index":18,"n_rows":150,"n_cols":100,"rows_kept":150,"cut":false,"hidden":true,"merged":[[1,0,1,10]]}
[]
["Diet calculations"]
[]
[]
[]
[null,null,"Sucker",null,null,null,null,null,null,null,null,{"$f":"'13. Diet input'!F8","v":"Weaner"},null,null,null,null,null,null,null,null,{"$f":"'13. Diet input'!G8","v":"Porker"},null,null,null,null,null,null,null,null,{"$f":"'13. Diet input'!H8","v":"Grower"},null,null,null,null,null,null,null,null,{"$f":"'13. Diet input'!I8","v":"Finisher"},null,null,null,null,null,null,null,null,{"$f":"'13. Diet input'!J8","v":"Unallocated"},null,null,null,null,null,null,null,null,{"$f":"'13. Diet input'!K8","v":"Unallocated"},null,null,null,null,null,null,null,null,"Lactating Sows",null,null,null,null,null,null,null,null,"Dry Sows",null,null,null,null,null,null,null,null,"Gilts",null,null,null,null,null,null,null,null,"Boars"]
[null,"Ingredient","% fed weight","TS Injested\n(kg/100 kg fed)","FS Injested\n(kg/100 kg fed)","VS Injested\n(kg/100 kg fed)","N Injested\n(kg/100 kg fed)","P Injested\n(kg/100 kg fed)","K Injested\n(kg/100 kg fed)","TS Excreted\n(kg/100 kg fed)",null,"% fed weight","TS Injested\n(kg/100 kg fed)","FS Injested\n(kg/100 kg fed)","VS Injested\n(kg/100 kg fed)","N Injested\n(kg/100 kg fed)","P Injested\n(kg/100 kg fed)","K Injested\n(kg/100 kg fed)","TS Excreted\n(kg/100 kg fed)",null,"% fed weight","TS Injested\n(kg/100 kg fed)","FS Injested\n(kg/100 kg fed)","VS Injested\n(kg/100 kg fed)","N Injested\n(kg/100 kg fed)","P Injested\n(kg/100 kg fed)","K Injested\n(kg/100 kg fed)","TS Excreted\n(kg/100 kg fed)",null,"% fed weight","TS Injested\n(kg/100 kg fed)","FS Injested\n(kg/100 kg fed)","VS Injested\n(kg/100 kg fed)","N Injested\n(kg/100 kg fed)","P Injested\n(kg/100 kg fed)","K Injested\n(kg/100 kg fed)","TS Excreted\n(kg/100 kg fed)",null,"% fed weight","TS Injested\n(kg/100 kg fed)","FS Injested\n(kg/100 kg fed)","VS Injested\n(kg/100 kg fed)","N Injested\n(kg/100 kg fed)","P Injested\n(kg/100 kg fed)","K Injested\n(kg/100 kg fed)","TS Excreted\n(kg/100 kg fed)",null,"% fed weight","TS Injested\n(kg/100 kg fed)","FS Injested\n(kg/100 kg fed)","VS Injested\n(kg/100 kg fed)","N Injested\n(kg/100 kg fed)","P Injested\n(kg/100 kg fed)","K Injested\n(kg/100 kg fed)","TS Excreted\n(kg/100 kg fed)",null,"% fed weight","TS Injested\n(kg/100 kg fed)","FS Injested\n(kg/100 kg fed)","VS Injested\n(kg/100 kg fed)","N Injested\n(kg/100 kg fed)","P Injested\n(kg/100 kg fed)","K Injested\n(kg/100 kg fed)","TS Excreted\n(kg/100 kg fed)",null,"% fed weight","TS Injested\n(kg/100 kg fed)","FS Injested\n(kg/100 kg fed)","VS Injested\n(kg/100 kg fed)","N Injested\n(kg/100 kg fed)","P Injested\n(kg/100 kg fed)","K Injested\n(kg/100 kg fed)","TS Excreted\n(kg/100 kg fed)",null,"% fed weight","TS Injested\n(kg/100 kg fed)","FS Injested\n(kg/100 kg fed)","VS Injested\n(kg/100 kg fed)","N Injested\n(kg/100 kg fed)","P Injested\n(kg/100 kg fed)","K Injested\n(kg/100 kg fed)","TS Excreted\n(kg/100 kg fed)",null,"% fed weight","TS Injested\n(kg/100 kg fed)","FS Injested\n(kg/100 kg fed)","VS Injested\n(kg/100 kg fed)","N Injested\n(kg/100 kg fed)","P Injested\n(kg/100 kg fed)","K Injested\n(kg/100 kg fed)","TS Excreted\n(kg/100 kg fed)",null,"% fed weight","TS Injested\n(kg/100 kg fed)","FS Injested\n(kg/100 kg fed)","VS Injested\n(kg/100 kg fed)","N Injested\n(kg/100 kg fed)","P Injested\n(kg/100 kg fed)","K Injested\n(kg/100 kg fed)","TS Excreted\n(kg/100 kg fed)"]
[null,"Cereal Grains"]
[null,{"$f":"'13. Diet input'!B11","v":"Barley"},{"$f":"'13. Diet input'!E11","v":1.4999999999999999E-2},{"$f":"C9*'13. Diet input'!$Q11*100","v":1.32},{"$f":"C9*'13. Diet input'!$R11*100","v":3.2999999999999995E-2},{"$f":"D9-E9","v":1.2870000000000001},{"$f":"C9*'13. Diet input'!$S11*100","v":2.4E-2},{"$f":"C9*'13. Diet input'!$T11*100","v":4.1999999999999997E-3},{"$f":"C9*'13. Diet input'!$U11*100","v":7.049999999999999E-3},{"$f":"D9*(1-'13. Diet input'!$V11)","v":0.24548528490920477},null,{"$f":"'13. Diet input'!F11","v":0.15},{"$f":"L9*'13. Diet input'!$Q11*100","v":13.200000000000001},{"$f":"L9*'13. Diet input'!$R11*100","v":0.32999999999999996},{"$f":"M9-N9","v":12.870000000000001},{"$f":"L9*'13. Diet input'!$S11*100","v":0.24},{"$f":"L9*'13. Diet input'!$T11*100","v":4.1999999999999996E-2},{"$f":"L9*'13. Diet input'!$U11*100","v":7.0499999999999993E-2},{"$f":"M9*(1-'13. Diet input'!$V11)","v":2.454852849092048},null,{"$f":"'13. Diet input'!G11","v":0.2},{"$f":"U9*'13. Diet input'!$Q11*100","v":17.600000000000001},{"$f":"U9*'13. Diet input'!$R11*100","v":0.44},{"$f":"V9-W9","v":17.16},{"$f":"U9*'13. Diet input'!$S11*100","v":0.32},{"$f":"U9*'13. Diet input'!$T11*100","v":5.6000000000000008E-2},{"$f":"U9*'13. Diet input'!$U11*100","v":9.3999999999999986E-2},{"$f":"V9*(1-'13. Diet input'!$V11)","v":3.2731371321227303},null,{"$f":"'13. Diet input'!H11","v":0.4},{"$f":"AD9*'13. Diet input'!$Q11*100","v":35.200000000000003},{"$f":"AD9*'13. Diet input'!$R11*100","v":0.88},{"$f":"AE9-AF9","v":34.32},{"$f":"AD9*'13. Diet input'!$S11*100","v":0.64},{"$f":"AD9*'13. Diet input'!$T11*100","v":0.11200000000000002},{"$f":"AD9*'13. Diet input'!$U11*100","v":0.18799999999999997},{"$f":"AE9*(1-'13. Diet input'!$V11)","v":6.5462742642454606},null,{"$f":"'13. Diet input'!I11","v":0.7},{"$f":"AM9*'13. Diet input'!$Q11*100","v":61.6},{"$f":"AM9*'13. Diet input'!$R11*100","v":1.5399999999999998},{"$f":"AN9-AO9","v":60.06},{"$f":"AM9*'13. Diet input'!$S11*100","v":1.1199999999999999},{"$f":"AM9*'13. Diet input'!$T11*100","v":0.19600000000000001},{"$f":"AM9*'13. Diet input'!$U11*100","v":0.32899999999999996},{"$f":"AN9*(1-'13. Diet input'!$V11)","v":11.455979962429556},null,{"$f":"'13. Diet input'!J11","v":0},{"$f":"AV9*'13. Diet input'!$Q11*100","v":0},{"$f":"AV9*'13. Diet input'!$R11*100","v":0},{"$f":"AW9-AX9","v":0},{"$f":"AV9*'13. Diet input'!$S11*100","v":0},{"$f":"AV9*'13. Diet input'!$T11*100","v":0},{"$f":"AV9*'13. Diet input'!$U11*100","v":0},{"$f":"AW9*(1-'13. Diet input'!$V11)","v":0},null,{"$f":"'13. Diet input'!K11","v":0},{"$f":"BE9*'13. Diet input'!$Q11*100","v":0},{"$f":"BE9*'13. Diet input'!$R11*100","v":0},{"$f":"BF9-BG9","v":0},{"$f":"BE9*'13. Diet input'!$S11*100","v":0},{"$f":"BE9*'13. Diet input'!$T11*100","v":0},{"$f":"BE9*'13. Diet input'!$U11*100","v":0},{"$f":"BF9*(1-'13. Diet input'!$V11)","v":0},null,{"$f":"'13. Diet input'!L11","v":0.3},{"$f":"BN9*'13. Diet input'!$Q11*100","v":26.400000000000002},{"$f":"BN9*'13. Diet input'!$R11*100","v":0.65999999999999992},{"$f":"BO9-BP9","v":25.740000000000002},{"$f":"BN9*'13. Diet input'!$S11*100","v":0.48},{"$f":"BN9*'13. Diet input'!$T11*100","v":8.3999999999999991E-2},{"$f":"BN9*'13. Diet input'!$U11*100","v":0.14099999999999999},{"$f":"BO9*(1-'13. Diet input'!$V11)","v":4.9097056981840961},null,{"$f":"'13. Diet input'!M11","v":0.7},{"$f":"BW9*'13. Diet input'!$Q11*100","v":61.6},{"$f":"BW9*'13. Diet input'!$R11*100","v":1.5399999999999998},{"$f":"BX9-BY9","v":60.06},{"$f":"BW9*'13. Diet input'!$S11*100","v":1.1199999999999999},{"$f":"BW9*'13. Diet input'!$T11*100","v":0.19600000000000001},{"$f":"BW9*'13. Diet input'!$U11*100","v":0.32899999999999996},{"$f":"BX9*(1-'13. Diet input'!$V11)","v":11.455979962429556},null,{"$f":"'13. Diet input'!N11","v":0.7},{"$f":"CF9*'13. Diet input'!$Q11*100","v":61.6},{"$f":"CF9*'13. Diet input'!$R11*100","v":1.5399999999999998},{"$f":"CG9-CH9","v":60.06},{"$f":"CF9*'13. Diet input'!$S11*100","v":1.1199999999999999},{"$f":"CF9*'13. Diet input'!$T11*100","v":0.19600000000000001},{"$f":"CF9*'13. Diet input'!$U11*100","v":0.32899999999999996},{"$f":"CG9*(1-'13. Diet input'!$V11)","v":11.455979962429556},null,{"$f":"'13. Diet input'!O11","v":0.85914999999999997},{"$f":"CO9*'13. Diet input'!$Q11*100","v":75.605199999999996},{"$f":"CO9*'13. Diet input'!$R11*100","v":1.8901299999999999},{"$f":"CP9-CQ9","v":73.715069999999997},{"$f":"CO9*'13. Diet input'!$S11*100","v":1.3746400000000001},{"$f":"CO9*'13. Diet input'!$T11*100","v":0.24056199999999997},{"$f":"CO9*'13. Diet input'!$U11*100","v":0.4038004999999999},{"$f":"CP9*(1-'13. Diet input'!$V11)","v":14.060578835316218}]
[null,{"$f":"'13. Diet input'!B12","v":"Groats"},{"$f":"'13. Diet input'!E12","v":0},{"$f":"C10*'13. Diet input'!$Q12*100","v":0},{"$f":"C10*'13. Diet input'!$R12*100","v":0},{"$f":"D10-E10","v":0},{"$f":"C10*'13. Diet input'!$S12*100","v":0},{"$f":"C10*'13. Diet input'!$T12*100","v":0},{"$f":"C10*'13. Diet input'!$U12*100","v":0},{"$f":"D10*(1-'13. Diet input'!$V12)","v":0},null,{"$f":"'13. Diet input'!F12","v":0},{"$f":"L10*'13. Diet input'!$Q12*100","v":0},{"$f":"L10*'13. Diet input'!$R12*100","v":0},0,{"$f":"L10*'13. Diet input'!$S12*100","v":0},{"$f":"L10*'13. Diet input'!$T12*100","v":0},{"$f":"L10*'13. Diet input'!$U12*100","v":0},{"$f":"M10*(1-'13. Diet input'!$V12)","v":0},null,{"$f":"'13. Diet input'!G12","v":0},{"$f":"U10*'13. Diet input'!$Q12*100","v":0},{"$f":"U10*'13. Diet input'!$R12*100","v":0},0,{"$f":"U10*'13. Diet input'!$S12*100","v":0},{"$f":"U10*'13. Diet input'!$T12*100","v":0},{"$f":"U10*'13. Diet input'!$U12*100","v":0},{"$f":"V10*(1-'13. Diet input'!$V12)","v":0},null,{"$f":"'13. Diet input'!H12","v":0},{"$f":"AD10*'13. Diet input'!$Q12*100","v":0},{"$f":"AD10*'13. Diet input'!$R12*100","v":0},0,{"$f":"AD10*'13. Diet input'!$S12*100","v":0},{"$f":"AD10*'13. Diet input'!$T12*100","v":0},{"$f":"AD10*'13. Diet input'!$U12*100","v":0},{"$f":"AE10*(1-'13. Diet input'!$V12)","v":0},null,{"$f":"'13. Diet input'!I12","v":0},{"$f":"AM10*'13. Diet input'!$Q12*100","v":0},{"$f":"AM10*'13. Diet input'!$R12*100","v":0},0,{"$f":"AM10*'13. Diet input'!$S12*100","v":0},{"$f":"AM10*'13. Diet input'!$T12*100","v":0},{"$f":"AM10*'13. Diet input'!$U12*100","v":0},{"$f":"AN10*(1-'13. Diet input'!$V12)","v":0},null,{"$f":"'13. Diet input'!J12","v":0},{"$f":"AV10*'13. Diet input'!$Q12*100","v":0},{"$f":"AV10*'13. Diet input'!$R12*100","v":0},0,{"$f":"AV10*'13. Diet input'!$S12*100","v":0},{"$f":"AV10*'13. Diet input'!$T12*100","v":0},{"$f":"AV10*'13. Diet input'!$U12*100","v":0},{"$f":"AW10*(1-'13. Diet input'!$V12)","v":0},null,{"$f":"'13. Diet input'!K12","v":0},{"$f":"BE10*'13. Diet input'!$Q12*100","v":0},{"$f":"BE10*'13. Diet input'!$R12*100","v":0},0,{"$f":"BE10*'13. Diet input'!$S12*100","v":0},{"$f":"BE10*'13. Diet input'!$T12*100","v":0},{"$f":"BE10*'13. Diet input'!$U12*100","v":0},{"$f":"BF10*(1-'13. Diet input'!$V12)","v":0},null,{"$f":"'13. Diet input'!L12","v":0},{"$f":"BN10*'13. Diet input'!$Q12*100","v":0},{"$f":"BN10*'13. Diet input'!$R12*100","v":0},0,{"$f":"BN10*'13. Diet input'!$S12*100","v":0},{"$f":"BN10*'13. Diet input'!$T12*100","v":0},{"$f":"BN10*'13. Diet input'!$U12*100","v":0},{"$f":"BO10*(1-'13. Diet input'!$V12)","v":0},null,{"$f":"'13. Diet input'!M12","v":0},{"$f":"BW10*'13. Diet input'!$Q12*100","v":0},{"$f":"BW10*'13. Diet input'!$R12*100","v":0},0,{"$f":"BW10*'13. Diet input'!$S12*100","v":0},{"$f":"BW10*'13. Diet input'!$T12*100","v":0},{"$f":"BW10*'13. Diet input'!$U12*100","v":0},{"$f":"BX10*(1-'13. Diet input'!$V12)","v":0},null,{"$f":"'13. Diet input'!N12","v":0},{"$f":"CF10*'13. Diet input'!$Q12*100","v":0},{"$f":"CF10*'13. Diet input'!$R12*100","v":0},{"$f":"CG10-CH10","v":0},{"$f":"CF10*'13. Diet input'!$S12*100","v":0},{"$f":"CF10*'13. Diet input'!$T12*100","v":0},{"$f":"CF10*'13. Diet input'!$U12*100","v":0},{"$f":"CG10*(1-'13. Diet input'!$V12)","v":0},null,{"$f":"'13. Diet input'!O12","v":0},{"$f":"CO10*'13. Diet input'!$Q12*100","v":0},{"$f":"CO10*'13. Diet input'!$R12*100","v":0},{"$f":"CP10-CQ10","v":0},{"$f":"CO10*'13. Diet input'!$S12*100","v":0},{"$f":"CO10*'13. Diet input'!$T12*100","v":0},{"$f":"CO10*'13. Diet input'!$U12*100","v":0},{"$f":"CP10*(1-'13. Diet input'!$V12)","v":0}]
[null,{"$f":"'13. Diet input'!B13","v":"Oats 9"},{"$f":"'13. Diet input'!E13","v":0},{"$f":"C11*'13. Diet input'!$Q13*100","v":0},{"$f":"C11*'13. Diet input'!$R13*100","v":0},0,{"$f":"C11*'13. Diet input'!$S13*100","v":0},{"$f":"C11*'13. Diet input'!$T13*100","v":0},{"$f":"C11*'13. Diet input'!$U13*100","v":0},{"$f":"D11*(1-'13. Diet input'!$V13)","v":0},null,{"$f":"'13. Diet input'!F13","v":0},{"$f":"L11*'13. Diet input'!$Q13*100","v":0},{"$f":"L11*'13. Diet input'!$R13*100","v":0},0,{"$f":"L11*'13. Diet input'!$S13*100","v":0},{"$f":"L11*'13. Diet input'!$T13*100","v":0},{"$f":"L11*'13. Diet input'!$U13*100","v":0},{"$f":"M11*(1-'13. Diet input'!$V13)","v":0},null,{"$f":"'13. Diet input'!G13","v":0},{"$f":"U11*'13. Diet input'!$Q13*100","v":0},{"$f":"U11*'13. Diet input'!$R13*100","v":0},0,{"$f":"U11*'13. Diet input'!$S13*100","v":0},{"$f":"U11*'13. Diet input'!$T13*100","v":0},{"$f":"U11*'13. Diet input'!$U13*100","v":0},{"$f":"V11*(1-'13. Diet input'!$V13)","v":0},null,{"$f":"'13. Diet input'!H13","v":0},{"$f":"AD11*'13. Diet input'!$Q13*100","v":0},{"$f":"AD11*'13. Diet input'!$R13*100","v":0},0,{"$f":"AD11*'13. Diet input'!$S13*100","v":0},{"$f":"AD11*'13. Diet input'!$T13*100","v":0},{"$f":"AD11*'13. Diet input'!$U13*100","v":0},{"$f":"AE11*(1-'13. Diet input'!$V13)","v":0},null,{"$f":"'13. Diet input'!I13","v":0},{"$f":"AM11*'13. Diet input'!$Q13*100","v":0},{"$f":"AM11*'13. Diet input'!$R13*100","v":0},0,{"$f":"AM11*'13. Diet input'!$S13*100","v":0},{"$f":"AM11*'13. Diet input'!$T13*100","v":0},{"$f":"AM11*'13. Diet input'!$U13*100","v":0},{"$f":"AN11*(1-'13. Diet input'!$V13)","v":0},null,{"$f":"'13. Diet input'!J13","v":0},{"$f":"AV11*'13. Diet input'!$Q13*100","v":0},{"$f":"AV11*'13. Diet input'!$R13*100","v":0},0,{"$f":"AV11*'13. Diet input'!$S13*100","v":0},{"$f":"AV11*'13. Diet input'!$T13*100","v":0},{"$f":"AV11*'13. Diet input'!$U13*100","v":0},{"$f":"AW11*(1-'13. Diet input'!$V13)","v":0},null,{"$f":"'13. Diet input'!K13","v":0},{"$f":"BE11*'13. Diet input'!$Q13*100","v":0},{"$f":"BE11*'13. Diet input'!$R13*100","v":0},0,{"$f":"BE11*'13. Diet input'!$S13*100","v":0},{"$f":"BE11*'13. Diet input'!$T13*100","v":0},{"$f":"BE11*'13. Diet input'!$U13*100","v":0},{"$f":"BF11*(1-'13. Diet input'!$V13)","v":0},null,{"$f":"'13. Diet input'!L13","v":0},{"$f":"BN11*'13. Diet input'!$Q13*100","v":0},{"$f":"BN11*'13. Diet input'!$R13*100","v":0},0,{"$f":"BN11*'13. Diet input'!$S13*100","v":0},{"$f":"BN11*'13. Diet input'!$T13*100","v":0},{"$f":"BN11*'13. Diet input'!$U13*100","v":0},{"$f":"BO11*(1-'13. Diet input'!$V13)","v":0},null,{"$f":"'13. Diet input'!M13","v":0},{"$f":"BW11*'13. Diet input'!$Q13*100","v":0},{"$f":"BW11*'13. Diet input'!$R13*100","v":0},0,{"$f":"BW11*'13. Diet input'!$S13*100","v":0},{"$f":"BW11*'13. Diet input'!$T13*100","v":0},{"$f":"BW11*'13. Diet input'!$U13*100","v":0},{"$f":"BX11*(1-'13. Diet input'!$V13)","v":0},null,{"$f":"'13. Diet input'!N13","v":0},{"$f":"CF11*'13. Diet input'!$Q13*100","v":0},{"$f":"CF11*'13. Diet input'!$R13*100","v":0},0,{"$f":"CF11*'13. Diet input'!$S13*100","v":0},{"$f":"CF11*'13. Diet input'!$T13*100","v":0},{"$f":"CF11*'13. Diet input'!$U13*100","v":0},{"$f":"CG11*(1-'13. Diet input'!$V13)","v":0},null,{"$f":"'13. Diet input'!O13","v":0},{"$f":"CO11*'13. Diet input'!$Q13*100","v":0},{"$f":"CO11*'13. Diet input'!$R13*100","v":0},0,{"$f":"CO11*'13. Diet input'!$S13*100","v":0},{"$f":"CO11*'13. Diet input'!$T13*100","v":0},{"$f":"CO11*'13. Diet input'!$U13*100","v":0},{"$f":"CP11*(1-'13. Diet input'!$V13)","v":0}]
[null,{"$f":"'13. Diet input'!B14","v":"Maize 8"},{"$f":"'13. Diet input'!E14","v":0},{"$f":"C12*'13. Diet input'!$Q14*100","v":0},{"$f":"C12*'13. Diet input'!$R14*100","v":0},0,{"$f":"C12*'13. Diet input'!$S14*100","v":0},{"$f":"C12*'13. Diet input'!$T14*100","v":0},{"$f":"C12*'13. Diet input'!$U14*100","v":0},{"$f":"D12*(1-'13. Diet input'!$V14)","v":0},null,{"$f":"'13. Diet input'!F14","v":5.2499999999999998E-2},{"$f":"L12*'13. Diet input'!$Q14*100","v":4.62},{"$f":"L12*'13. Diet input'!$R14*100","v":6.3524999999999998E-2},4.5564749999999998,{"$f":"L12*'13. Diet input'!$S14*100","v":6.7199999999999996E-2},{"$f":"L12*'13. Diet input'!$T14*100","v":1.3649999999999999E-2},{"$f":"L12*'13. Diet input'!$U14*100","v":1.7324999999999997E-2},{"$f":"M12*(1-'13. Diet input'!$V14)","v":0.46686918784872899},null,{"$f":"'13. Diet input'!G14","v":0},{"$f":"U12*'13. Diet input'!$Q14*100","v":0},{"$f":"U12*'13. Diet input'!$R14*100","v":0},0,{"$f":"U12*'13. Diet input'!$S14*100","v":0},{"$f":"U12*'13. Diet input'!$T14*100","v":0},{"$f":"U12*'13. Diet input'!$U14*100","v":0},{"$f":"V12*(1-'13. Diet input'!$V14)","v":0},null,{"$f":"'13. Diet input'!H14","v":0},{"$f":"AD12*'13. Diet input'!$Q14*100","v":0},{"$f":"AD12*'13. Diet input'!$R14*100","v":0},0,{"$f":"AD12*'13. Diet input'!$S14*100","v":0},{"$f":"AD12*'13. Diet input'!$T14*100","v":0},{"$f":"AD12*'13. Diet input'!$U14*100","v":0},{"$f":"AE12*(1-'13. Diet input'!$V14)","v":0},null,{"$f":"'13. Diet input'!I14","v":0},{"$f":"AM12*'13. Diet input'!$Q14*100","v":0},{"$f":"AM12*'13. Diet input'!$R14*100","v":0},0,{"$f":"AM12*'13. Diet input'!$S14*100","v":0},{"$f":"AM12*'13. Diet input'!$T14*100","v":0},{"$f":"AM12*'13. Diet input'!$U14*100","v":0},{"$f":"AN12*(1-'13. Diet input'!$V14)","v":0},null,{"$f":"'13. Diet input'!J14","v":0},{"$f":"AV12*'13. Diet input'!$Q14*100","v":0},{"$f":"AV12*'13. Diet input'!$R14*100","v":0},0,{"$f":"AV12*'13. Diet input'!$S14*100","v":0},{"$f":"AV12*'13. Diet input'!$T14*100","v":0},{"$f":"AV12*'13. Diet input'!$U14*100","v":0},{"$f":"AW12*(1-'13. Diet input'!$V14)","v":0},null,{"$f":"'13. Diet input'!K14","v":0},{"$f":"BE12*'13. Diet input'!$Q14*100","v":0},{"$f":"BE12*'13. Diet input'!$R14*100","v":0},0,{"$f":"BE12*'13. Diet input'!$S14*100","v":0},{"$f":"BE12*'13. Diet input'!$T14*100","v":0},{"$f":"BE12*'13. Diet input'!$U14*100","v":0},{"$f":"BF12*(1-'13. Diet input'!$V14)","v":0},null,{"$f":"'13. Diet input'!L14","v":0},{"$f":"BN12*'13. Diet input'!$Q14*100","v":0},{"$f":"BN12*'13. Diet input'!$R14*100","v":0},0,{"$f":"BN12*'13. Diet input'!$S14*100","v":0},{"$f":"BN12*'13. Diet input'!$T14*100","v":0},{"$f":"BN12*'13. Diet input'!$U14*100","v":0},{"$f":"BO12*(1-'13. Diet input'!$V14)","v":0},null,{"$f":"'13. Diet input'!M14","v":0},{"$f":"BW12*'13. Diet input'!$Q14*100","v":0},{"$f":"BW12*'13. Diet input'!$R14*100","v":0},0,{"$f":"BW12*'13. Diet input'!$S14*100","v":0},{"$f":"BW12*'13. Diet input'!$T14*100","v":0},{"$f":"BW12*'13. Diet input'!$U14*100","v":0},{"$f":"BX12*(1-'13. Diet input'!$V14)","v":0},null,{"$f":"'13. Diet input'!N14","v":0},{"$f":"CF12*'13. Diet input'!$Q14*100","v":0},{"$f":"CF12*'13. Diet input'!$R14*100","v":0},0,{"$f":"CF12*'13. Diet input'!$S14*100","v":0},{"$f":"CF12*'13. Diet input'!$T14*100","v":0},{"$f":"CF12*'13. Diet input'!$U14*100","v":0},{"$f":"CG12*(1-'13. Diet input'!$V14)","v":0},null,{"$f":"'13. Diet input'!O14","v":0},{"$f":"CO12*'13. Diet input'!$Q14*100","v":0},{"$f":"CO12*'13. Diet input'!$R14*100","v":0},0,{"$f":"CO12*'13. Diet input'!$S14*100","v":0},{"$f":"CO12*'13. Diet input'!$T14*100","v":0},{"$f":"CO12*'13. Diet input'!$U14*100","v":0},{"$f":"CP12*(1-'13. Diet input'!$V14)","v":0}]
[null,{"$f":"'13. Diet input'!B15","v":"Sorghum 11"},{"$f":"'13. Diet input'!E15","v":0},{"$f":"C13*'13. Diet input'!$Q15*100","v":0},{"$f":"C13*'13. Diet input'!$R15*100","v":0},0,{"$f":"C13*'13. Diet input'!$S15*100","v":0},{"$f":"C13*'13. Diet input'!$T15*100","v":0},{"$f":"C13*'13. Diet input'!$U15*100","v":0},{"$f":"D13*(1-'13. Diet input'!$V15)","v":0},null,{"$f":"'13. Diet input'!F15","v":0},{"$f":"L13*'13. Diet input'!$Q15*100","v":0},{"$f":"L13*'13. Diet input'!$R15*100","v":0},0,{"$f":"L13*'13. Diet input'!$S15*100","v":0},{"$f":"L13*'13. Diet input'!$T15*100","v":0},{"$f":"L13*'13. Diet input'!$U15*100","v":0},{"$f":"M13*(1-'13. Diet input'!$V15)","v":0},null,{"$f":"'13. Diet input'!G15","v":0},{"$f":"U13*'13. Diet input'!$Q15*100","v":0},{"$f":"U13*'13. Diet input'!$R15*100","v":0},0,{"$f":"U13*'13. Diet input'!$S15*100","v":0},{"$f":"U13*'13. Diet input'!$T15*100","v":0},{"$f":"U13*'13. Diet input'!$U15*100","v":0},{"$f":"V13*(1-'13. Diet input'!$V15)","v":0},null,{"$f":"'13. Diet input'!H15","v":0},{"$f":"AD13*'13. Diet input'!$Q15*100","v":0},{"$f":"AD13*'13. Diet input'!$R15*100","v":0},0,{"$f":"AD13*'13. Diet input'!$S15*100","v":0},{"$f":"AD13*'13. Diet input'!$T15*100","v":0},{"$f":"AD13*'13. Diet input'!$U15*100","v":0},{"$f":"AE13*(1-'13. Diet input'!$V15)","v":0},null,{"$f":"'13. Diet input'!I15","v":0},{"$f":"AM13*'13. Diet input'!$Q15*100","v":0},{"$f":"AM13*'13. Diet input'!$R15*100","v":0},0,{"$f":"AM13*'13. Diet input'!$S15*100","v":0},{"$f":"AM13*'13. Diet input'!$T15*100","v":0},{"$f":"AM13*'13. Diet input'!$U15*100","v":0},{"$f":"AN13*(1-'13. Diet input'!$V15)","v":0},null,{"$f":"'13. Diet input'!J15","v":0},{"$f":"AV13*'13. Diet input'!$Q15*100","v":0},{"$f":"AV13*'13. Diet input'!$R15*100","v":0},0,{"$f":"AV13*'13. Diet input'!$S15*100","v":0},{"$f":"AV13*'13. Diet input'!$T15*100","v":0},{"$f":"AV13*'13. Diet input'!$U15*100","v":0},{"$f":"AW13*(1-'13. Diet input'!$V15)","v":0},null,{"$f":"'13. Diet input'!K15","v":0},{"$f":"BE13*'13. Diet input'!$Q15*100","v":0},{"$f":"BE13*'13. Diet input'!$R15*100","v":0},0,{"$f":"BE13*'13. Diet input'!$S15*100","v":0},{"$f":"BE13*'13. Diet input'!$T15*100","v":0},{"$f":"BE13*'13. Diet input'!$U15*100","v":0},{"$f":"BF13*(1-'13. Diet input'!$V15)","v":0},null,{"$f":"'13. Diet input'!L15","v":0},{"$f":"BN13*'13. Diet input'!$Q15*100","v":0},{"$f":"BN13*'13. Diet input'!$R15*100","v":0},0,{"$f":"BN13*'13. Diet input'!$S15*100","v":0},{"$f":"BN13*'13. Diet input'!$T15*100","v":0},{"$f":"BN13*'13. Diet input'!$U15*100","v":0},{"$f":"BO13*(1-'13. Diet input'!$V15)","v":0},null,{"$f":"'13. Diet input'!M15","v":0},{"$f":"BW13*'13. Diet input'!$Q15*100","v":0},{"$f":"BW13*'13. Diet input'!$R15*100","v":0},0,{"$f":"BW13*'13. Diet input'!$S15*100","v":0},{"$f":"BW13*'13. Diet input'!$T15*100","v":0},{"$f":"BW13*'13. Diet input'!$U15*100","v":0},{"$f":"BX13*(1-'13. Diet input'!$V15)","v":0},null,{"$f":"'13. Diet input'!N15","v":0},{"$f":"CF13*'13. Diet input'!$Q15*100","v":0},{"$f":"CF13*'13. Diet input'!$R15*100","v":0},0,{"$f":"CF13*'13. Diet input'!$S15*100","v":0},{"$f":"CF13*'13. Diet input'!$T15*100","v":0},{"$f":"CF13*'13. Diet input'!$U15*100","v":0},{"$f":"CG13*(1-'13. Diet input'!$V15)","v":0},null,{"$f":"'13. Diet input'!O15","v":0},{"$f":"CO13*'13. Diet input'!$Q15*100","v":0},{"$f":"CO13*'13. Diet input'!$R15*100","v":0},0,{"$f":"CO13*'13. Diet input'!$S15*100","v":0},{"$f":"CO13*'13. Diet input'!$T15*100","v":0},{"$f":"CO13*'13. Diet input'!$U15*100","v":0},{"$f":"CP13*(1-'13. Diet input'!$V15)","v":0}]
[null,{"$f":"'13. Diet input'!B16","v":"Triticale 11"},{"$f":"'13. Diet input'!E16","v":0},{"$f":"C14*'13. Diet input'!$Q16*100","v":0},{"$f":"C14*'13. Diet input'!$R16*100","v":0},0,{"$f":"C14*'13. Diet input'!$S16*100","v":0},{"$f":"C14*'13. Diet input'!$T16*100","v":0},{"$f":"C14*'13. Diet input'!$U16*100","v":0},{"$f":"D14*(1-'13. Diet input'!$V16)","v":0},null,{"$f":"'13. Diet input'!F16","v":0},{"$f":"L14*'13. Diet input'!$Q16*100","v":0},{"$f":"L14*'13. Diet input'!$R16*100","v":0},0,{"$f":"L14*'13. Diet input'!$S16*100","v":0},{"$f":"L14*'13. Diet input'!$T16*100","v":0},{"$f":"L14*'13. Diet input'!$U16*100","v":0},{"$f":"M14*(1-'13. Diet input'!$V16)","v":0},null,{"$f":"'13. Diet input'!G16","v":0},{"$f":"U14*'13. Diet input'!$Q16*100","v":0},{"$f":"U14*'13. Diet input'!$R16*100","v":0},0,{"$f":"U14*'13. Diet input'!$S16*100","v":0},{"$f":"U14*'13. Diet input'!$T16*100","v":0},{"$f":"U14*'13. Diet input'!$U16*100","v":0},{"$f":"V14*(1-'13. Diet input'!$V16)","v":0},null,{"$f":"'13. Diet input'!H16","v":0},{"$f":"AD14*'13. Diet input'!$Q16*100","v":0},{"$f":"AD14*'13. Diet input'!$R16*100","v":0},0,{"$f":"AD14*'13. Diet input'!$S16*100","v":0},{"$f":"AD14*'13. Diet input'!$T16*100","v":0},{"$f":"AD14*'13. Diet input'!$U16*100","v":0},{"$f":"AE14*(1-'13. Diet input'!$V16)","v":0},null,{"$f":"'13. Diet input'!I16","v":0},{"$f":"AM14*'13. Diet input'!$Q16*100","v":0},{"$f":"AM14*'13. Diet input'!$R16*100","v":0},0,{"$f":"AM14*'13. Diet input'!$S16*100","v":0},{"$f":"AM14*'13. Diet input'!$T16*100","v":0},{"$f":"AM14*'13. Diet input'!$U16*100","v":0},{"$f":"AN14*(1-'13. Diet input'!$V16)","v":0},null,{"$f":"'13. Diet input'!J16","v":0},{"$f":"AV14*'13. Diet input'!$Q16*100","v":0},{"$f":"AV14*'13. Diet input'!$R16*100","v":0},0,{"$f":"AV14*'13. Diet input'!$S16*100","v":0},{"$f":"AV14*'13. Diet input'!$T16*100","v":0},{"$f":"AV14*'13. Diet input'!$U16*100","v":0},{"$f":"AW14*(1-'13. Diet input'!$V16)","v":0},null,{"$f":"'13. Diet input'!K16","v":0},{"$f":"BE14*'13. Diet input'!$Q16*100","v":0},{"$f":"BE14*'13. Diet input'!$R16*100","v":0},0,{"$f":"BE14*'13. Diet input'!$S16*100","v":0},{"$f":"BE14*'13. Diet input'!$T16*100","v":0},{"$f":"BE14*'13. Diet input'!$U16*100","v":0},{"$f":"BF14*(1-'13. Diet input'!$V16)","v":0},null,{"$f":"'13. Diet input'!L16","v":0},{"$f":"BN14*'13. Diet input'!$Q16*100","v":0},{"$f":"BN14*'13. Diet input'!$R16*100","v":0},0,{"$f":"BN14*'13. Diet input'!$S16*100","v":0},{"$f":"BN14*'13. Diet input'!$T16*100","v":0},{"$f":"BN14*'13. Diet input'!$U16*100","v":0},{"$f":"BO14*(1-'13. Diet input'!$V16)","v":0},null,{"$f":"'13. Diet input'!M16","v":0},{"$f":"BW14*'13. Diet input'!$Q16*100","v":0},{"$f":"BW14*'13. Diet input'!$R16*100","v":0},0,{"$f":"BW14*'13. Diet input'!$S16*100","v":0},{"$f":"BW14*'13. Diet input'!$T16*100","v":0},{"$f":"BW14*'13. Diet input'!$U16*100","v":0},{"$f":"BX14*(1-'13. Diet input'!$V16)","v":0},null,{"$f":"'13. Diet input'!N16","v":0},{"$f":"CF14*'13. Diet input'!$Q16*100","v":0},{"$f":"CF14*'13. Diet input'!$R16*100","v":0},0,{"$f":"CF14*'13. Diet input'!$S16*100","v":0},{"$f":"CF14*'13. Diet input'!$T16*100","v":0},{"$f":"CF14*'13. Diet input'!$U16*100","v":0},{"$f":"CG14*(1-'13. Diet input'!$V16)","v":0},null,{"$f":"'13. Diet input'!O16","v":0},{"$f":"CO14*'13. Diet input'!$Q16*100","v":0},{"$f":"CO14*'13. Diet input'!$R16*100","v":0},0,{"$f":"CO14*'13. Diet input'!$S16*100","v":0},{"$f":"CO14*'13. Diet input'!$T16*100","v":0},{"$f":"CO14*'13. Diet input'!$U16*100","v":0},{"$f":"CP14*(1-'13. Diet input'!$V16)","v":0}]
[null,{"$f":"'13. Diet input'!B17","v":"Wheat 10"},{"$f":"'13. Diet input'!E17","v":5.1862499999999999E-2},{"$f":"C15*'13. Diet input'!$Q17*100","v":4.5639000000000003},{"$f":"C15*'13. Diet input'!$R17*100","v":7.7793749999999995E-2},4.4861062500000006,{"$f":"C15*'13. Diet input'!$S17*100","v":8.2979999999999998E-2},{"$f":"C15*'13. Diet input'!$T17*100","v":1.763325E-2},{"$f":"C15*'13. Diet input'!$U17*100","v":2.1263624999999998E-2},{"$f":"D15*(1-'13. Diet input'!$V17)","v":0.53777523629489599},null,{"$f":"'13. Diet input'!F17","v":0.54032500000000006},{"$f":"L15*'13. Diet input'!$Q17*100","v":47.548600000000008},{"$f":"L15*'13. Diet input'!$R17*100","v":0.81048750000000014},46.738112500000007,{"$f":"L15*'13. Diet input'!$S17*100","v":0.86452000000000007},{"$f":"L15*'13. Diet input'!$T17*100","v":0.18371050000000003},{"$f":"L15*'13. Diet input'!$U17*100","v":0.22153325000000001},{"$f":"M15*(1-'13. Diet input'!$V17)","v":5.6027650913673597},null,{"$f":"'13. Diet input'!G17","v":0.54079999999999995},{"$f":"U15*'13. Diet input'!$Q17*100","v":47.590399999999995},{"$f":"U15*'13. Diet input'!$R17*100","v":0.81119999999999992},46.779199999999996,{"$f":"U15*'13. Diet input'!$S17*100","v":0.86527999999999983},{"$f":"U15*'13. Diet input'!$T17*100","v":0.18387199999999998},{"$f":"U15*'13. Diet input'!$U17*100","v":0.22172799999999995},{"$f":"V15*(1-'13. Diet input'!$V17)","v":5.6076904851921849},null,{"$f":"'13. Diet input'!H17","v":0.45774999999999999},{"$f":"AD15*'13. Diet input'!$Q17*100","v":40.282000000000004},{"$f":"AD15*'13. Diet input'!$R17*100","v":0.68662500000000004},39.595375000000004,{"$f":"AD15*'13. Diet input'!$S17*100","v":0.73239999999999994},{"$f":"AD15*'13. Diet input'!$T17*100","v":0.15563500000000002},{"$f":"AD15*'13. Diet input'!$U17*100","v":0.18767749999999997},{"$f":"AE15*(1-'13. Diet input'!$V17)","v":4.7465242596093251},null,{"$f":"'13. Diet input'!I17","v":0.12855},{"$f":"AM15*'13. Diet input'!$Q17*100","v":11.3124},{"$f":"AM15*'13. Diet input'!$R17*100","v":0.192825},11.119575000000001,{"$f":"AM15*'13. Diet input'!$S17*100","v":0.20568},{"$f":"AM15*'13. Diet input'!$T17*100","v":4.3707000000000003E-2},{"$f":"AM15*'13. Diet input'!$U17*100","v":5.2705499999999988E-2},{"$f":"AN15*(1-'13. Diet input'!$V17)","v":1.3329671077504723},null,{"$f":"'13. Diet input'!J17","v":0},{"$f":"AV15*'13. Diet input'!$Q17*100","v":0},{"$f":"AV15*'13. Diet input'!$R17*100","v":0},0,{"$f":"AV15*'13. Diet input'!$S17*100","v":0},{"$f":"AV15*'13. Diet input'!$T17*100","v":0},{"$f":"AV15*'13. Diet input'!$U17*100","v":0},{"$f":"AW15*(1-'13. Diet input'!$V17)","v":0},null,{"$f":"'13. Diet input'!K17","v":0},{"$f":"BE15*'13. Diet input'!$Q17*100","v":0},{"$f":"BE15*'13. Diet input'!$R17*100","v":0},0,{"$f":"BE15*'13. Diet input'!$S17*100","v":0},{"$f":"BE15*'13. Diet input'!$T17*100","v":0},{"$f":"BE15*'13. Diet input'!$U17*100","v":0},{"$f":"BF15*(1-'13. Diet input'!$V17)","v":0},null,{"$f":"'13. Diet input'!L17","v":0.50739299999999998},{"$f":"BN15*'13. Diet input'!$Q17*100","v":44.650584000000002},{"$f":"BN15*'13. Diet input'!$R17*100","v":0.76108949999999997},43.889494500000005,{"$f":"BN15*'13. Diet input'!$S17*100","v":0.81182879999999991},{"$f":"BN15*'13. Diet input'!$T17*100","v":0.17251362000000001},{"$f":"BN15*'13. Diet input'!$U17*100","v":0.20803112999999998},{"$f":"BO15*(1-'13. Diet input'!$V17)","v":5.2612849451795833},null,{"$f":"'13. Diet input'!M17","v":0.16470000000000001},{"$f":"BW15*'13. Diet input'!$Q17*100","v":14.493600000000001},{"$f":"BW15*'13. Diet input'!$R17*100","v":0.24704999999999999},14.246550000000001,{"$f":"BW15*'13. Diet input'!$S17*100","v":0.26352000000000003},{"$f":"BW15*'13. Diet input'!$T17*100","v":5.5998000000000006E-2},{"$f":"BW15*'13. Diet input'!$U17*100","v":6.752699999999999E-2},{"$f":"BX15*(1-'13. Diet input'!$V17)","v":1.7078155009451794},null,{"$f":"'13. Diet input'!N17","v":0.16899600000000001},{"$f":"CF15*'13. Diet input'!$Q17*100","v":14.871648},{"$f":"CF15*'13. Diet input'!$R17*100","v":0.253494},14.618154000000001,{"$f":"CF15*'13. Diet input'!$S17*100","v":0.27039360000000001},{"$f":"CF15*'13. Diet input'!$T17*100","v":5.7458640000000012E-2},{"$f":"CF15*'13. Diet input'!$U17*100","v":6.9288359999999993E-2},{"$f":"CG15*(1-'13. Diet input'!$V17)","v":1.7523617996219278},null,{"$f":"'13. Diet input'!O17","v":0},{"$f":"CO15*'13. Diet input'!$Q17*100","v":0},{"$f":"CO15*'13. Diet input'!$R17*100","v":0},0,{"$f":"CO15*'13. Diet input'!$S17*100","v":0},{"$f":"CO15*'13. Diet input'!$T17*100","v":0},{"$f":"CO15*'13. Diet input'!$U17*100","v":0},{"$f":"CP15*(1-'13. Diet input'!$V17)","v":0}]
[null,{"$f":"'13. Diet input'!B18","v":"Wheat 12"},{"$f":"'13. Diet input'!E18","v":0},{"$f":"C16*'13. Diet input'!$Q18*100","v":0},{"$f":"C16*'13. Diet input'!$R18*100","v":0},0,{"$f":"C16*'13. Diet input'!$S18*100","v":0},{"$f":"C16*'13. Diet input'!$T18*100","v":0},{"$f":"C16*'13. Diet input'!$U18*100","v":0},{"$f":"D16*(1-'13. Diet input'!$V18)","v":0},null,{"$f":"'13. Diet input'!F18","v":0},{"$f":"L16*'13. Diet input'!$Q18*100","v":0},{"$f":"L16*'13. Diet input'!$R18*100","v":0},0,{"$f":"L16*'13. Diet input'!$S18*100","v":0},{"$f":"L16*'13. Diet input'!$T18*100","v":0},{"$f":"L16*'13. Diet input'!$U18*100","v":0},{"$f":"M16*(1-'13. Diet input'!$V18)","v":0},null,{"$f":"'13. Diet input'!G18","v":0},{"$f":"U16*'13. Diet input'!$Q18*100","v":0},{"$f":"U16*'13. Diet input'!$R18*100","v":0},0,{"$f":"U16*'13. Diet input'!$S18*100","v":0},{"$f":"U16*'13. Diet input'!$T18*100","v":0},{"$f":"U16*'13. Diet input'!$U18*100","v":0},{"$f":"V16*(1-'13. Diet input'!$V18)","v":0},null,{"$f":"'13. Diet input'!H18","v":0},{"$f":"AD16*'13. Diet input'!$Q18*100","v":0},{"$f":"AD16*'13. Diet input'!$R18*100","v":0},0,{"$f":"AD16*'13. Diet input'!$S18*100","v":0},{"$f":"AD16*'13. Diet input'!$T18*100","v":0},{"$f":"AD16*'13. Diet input'!$U18*100","v":0},{"$f":"AE16*(1-'13. Diet input'!$V18)","v":0},null,{"$f":"'13. Diet input'!I18","v":0},{"$f":"AM16*'13. Diet input'!$Q18*100","v":0},{"$f":"AM16*'13. Diet input'!$R18*100","v":0},0,{"$f":"AM16*'13. Diet input'!$S18*100","v":0},{"$f":"AM16*'13. Diet input'!$T18*100","v":0},{"$f":"AM16*'13. Diet input'!$U18*100","v":0},{"$f":"AN16*(1-'13. Diet input'!$V18)","v":0},null,{"$f":"'13. Diet input'!J18","v":0},{"$f":"AV16*'13. Diet input'!$Q18*100","v":0},{"$f":"AV16*'13. Diet input'!$R18*100","v":0},0,{"$f":"AV16*'13. Diet input'!$S18*100","v":0},{"$f":"AV16*'13. Diet input'!$T18*100","v":0},{"$f":"AV16*'13. Diet input'!$U18*100","v":0},{"$f":"AW16*(1-'13. Diet input'!$V18)","v":0},null,{"$f":"'13. Diet input'!K18","v":0},{"$f":"BE16*'13. Diet input'!$Q18*100","v":0},{"$f":"BE16*'13. Diet input'!$R18*100","v":0},0,{"$f":"BE16*'13. Diet input'!$S18*100","v":0},{"$f":"BE16*'13. Diet input'!$T18*100","v":0},{"$f":"BE16*'13. Diet input'!$U18*100","v":0},{"$f":"BF16*(1-'13. Diet input'!$V18)","v":0},null,{"$f":"'13. Diet input'!L18","v":0},{"$f":"BN16*'13. Diet input'!$Q18*100","v":0},{"$f":"BN16*'13. Diet input'!$R18*100","v":0},0,{"$f":"BN16*'13. Diet input'!$S18*100","v":0},{"$f":"BN16*'13. Diet input'!$T18*100","v":0},{"$f":"BN16*'13. Diet input'!$U18*100","v":0},{"$f":"BO16*(1-'13. Diet input'!$V18)","v":0},null,{"$f":"'13. Diet input'!M18","v":0},{"$f":"BW16*'13. Diet input'!$Q18*100","v":0},{"$f":"BW16*'13. Diet input'!$R18*100","v":0},0,{"$f":"BW16*'13. Diet input'!$S18*100","v":0},{"$f":"BW16*'13. Diet input'!$T18*100","v":0},{"$f":"BW16*'13. Diet input'!$U18*100","v":0},{"$f":"BX16*(1-'13. Diet input'!$V18)","v":0},null,{"$f":"'13. Diet input'!N18","v":0},{"$f":"CF16*'13. Diet input'!$Q18*100","v":0},{"$f":"CF16*'13. Diet input'!$R18*100","v":0},0,{"$f":"CF16*'13. Diet input'!$S18*100","v":0},{"$f":"CF16*'13. Diet input'!$T18*100","v":0},{"$f":"CF16*'13. Diet input'!$U18*100","v":0},{"$f":"CG16*(1-'13. Diet input'!$V18)","v":0},null,{"$f":"'13. Diet input'!O18","v":0},{"$f":"CO16*'13. Diet input'!$Q18*100","v":0},{"$f":"CO16*'13. Diet input'!$R18*100","v":0},0,{"$f":"CO16*'13. Diet input'!$S18*100","v":0},{"$f":"CO16*'13. Diet input'!$T18*100","v":0},{"$f":"CO16*'13. Diet input'!$U18*100","v":0},{"$f":"CP16*(1-'13. Diet input'!$V18)","v":0}]
[null,{"$f":"'13. Diet input'!B19","v":"Wheat Extruded"},{"$f":"'13. Diet input'!E19","v":0},{"$f":"C17*'13. Diet input'!$Q19*100","v":0},{"$f":"C17*'13. Diet input'!$R19*100","v":0},0,{"$f":"C17*'13. Diet input'!$S19*100","v":0},{"$f":"C17*'13. Diet input'!$T19*100","v":0},{"$f":"C17*'13. Diet input'!$U19*100","v":0},{"$f":"D17*(1-'13. Diet input'!$V19)","v":0},null,{"$f":"'13. Diet input'!F19","v":0},{"$f":"L17*'13. Diet input'!$Q19*100","v":0},{"$f":"L17*'13. Diet input'!$R19*100","v":0},0,{"$f":"L17*'13. Diet input'!$S19*100","v":0},{"$f":"L17*'13. Diet input'!$T19*100","v":0},{"$f":"L17*'13. Diet input'!$U19*100","v":0},{"$f":"M17*(1-'13. Diet input'!$V19)","v":0},null,{"$f":"'13. Diet input'!G19","v":0},{"$f":"U17*'13. Diet input'!$Q19*100","v":0},{"$f":"U17*'13. Diet input'!$R19*100","v":0},0,{"$f":"U17*'13. Diet input'!$S19*100","v":0},{"$f":"U17*'13. Diet input'!$T19*100","v":0},{"$f":"U17*'13. Diet input'!$U19*100","v":0},{"$f":"V17*(1-'13. Diet input'!$V19)","v":0},null,{"$f":"'13. Diet input'!H19","v":0},{"$f":"AD17*'13. Diet input'!$Q19*100","v":0},{"$f":"AD17*'13. Diet input'!$R19*100","v":0},0,{"$f":"AD17*'13. Diet input'!$S19*100","v":0},{"$f":"AD17*'13. Diet input'!$T19*100","v":0},{"$f":"AD17*'13. Diet input'!$U19*100","v":0},{"$f":"AE17*(1-'13. Diet input'!$V19)","v":0},null,{"$f":"'13. Diet input'!I19","v":0},{"$f":"AM17*'13. Diet input'!$Q19*100","v":0},{"$f":"AM17*'13. Diet input'!$R19*100","v":0},0,{"$f":"AM17*'13. Diet input'!$S19*100","v":0},{"$f":"AM17*'13. Diet input'!$T19*100","v":0},{"$f":"AM17*'13. Diet input'!$U19*100","v":0},{"$f":"AN17*(1-'13. Diet input'!$V19)","v":0},null,{"$f":"'13. Diet input'!J19","v":0},{"$f":"AV17*'13. Diet input'!$Q19*100","v":0},{"$f":"AV17*'13. Diet input'!$R19*100","v":0},0,{"$f":"AV17*'13. Diet input'!$S19*100","v":0},{"$f":"AV17*'13. Diet input'!$T19*100","v":0},{"$f":"AV17*'13. Diet input'!$U19*100","v":0},{"$f":"AW17*(1-'13. Diet input'!$V19)","v":0},null,{"$f":"'13. Diet input'!K19","v":0},{"$f":"BE17*'13. Diet input'!$Q19*100","v":0},{"$f":"BE17*'13. Diet input'!$R19*100","v":0},0,{"$f":"BE17*'13. Diet input'!$S19*100","v":0},{"$f":"BE17*'13. Diet input'!$T19*100","v":0},{"$f":"BE17*'13. Diet input'!$U19*100","v":0},{"$f":"BF17*(1-'13. Diet input'!$V19)","v":0},null,{"$f":"'13. Diet input'!L19","v":0},{"$f":"BN17*'13. Diet input'!$Q19*100","v":0},{"$f":"BN17*'13. Diet input'!$R19*100","v":0},0,{"$f":"BN17*'13. Diet input'!$S19*100","v":0},{"$f":"BN17*'13. Diet input'!$T19*100","v":0},{"$f":"BN17*'13. Diet input'!$U19*100","v":0},{"$f":"BO17*(1-'13. Diet input'!$V19)","v":0},null,{"$f":"'13. Diet input'!M19","v":0},{"$f":"BW17*'13. Diet input'!$Q19*100","v":0},{"$f":"BW17*'13. Diet input'!$R19*100","v":0},0,{"$f":"BW17*'13. Diet input'!$S19*100","v":0},{"$f":"BW17*'13. Diet input'!$T19*100","v":0},{"$f":"BW17*'13. Diet input'!$U19*100","v":0},{"$f":"BX17*(1-'13. Diet input'!$V19)","v":0},null,{"$f":"'13. Diet input'!N19","v":0},{"$f":"CF17*'13. Diet input'!$Q19*100","v":0},{"$f":"CF17*'13. Diet input'!$R19*100","v":0},0,{"$f":"CF17*'13. Diet input'!$S19*100","v":0},{"$f":"CF17*'13. Diet input'!$T19*100","v":0},{"$f":"CF17*'13. Diet input'!$U19*100","v":0},{"$f":"CG17*(1-'13. Diet input'!$V19)","v":0},null,{"$f":"'13. Diet input'!O19","v":0},{"$f":"CO17*'13. Diet input'!$Q19*100","v":0},{"$f":"CO17*'13. Diet input'!$R19*100","v":0},0,{"$f":"CO17*'13. Diet input'!$S19*100","v":0},{"$f":"CO17*'13. Diet input'!$T19*100","v":0},{"$f":"CO17*'13. Diet input'!$U19*100","v":0},{"$f":"CP17*(1-'13. Diet input'!$V19)","v":0}]
[null,"Cereal by-products"]
[null,{"$f":"'13. Diet input'!B21","v":"Hominy Meal"},{"$f":"'13. Diet input'!E21","v":0},{"$f":"C19*'13. Diet input'!$Q21*100","v":0},{"$f":"C19*'13. Diet input'!$R21*100","v":0},0,{"$f":"C19*'13. Diet input'!$S21*100","v":0},{"$f":"C19*'13. Diet input'!$T21*100","v":0},{"$f":"C19*'13. Diet input'!$U21*100","v":0},{"$f":"D19*(1-'13. Diet input'!$V21)","v":0},null,{"$f":"'13. Diet input'!F21","v":0},{"$f":"L19*'13. Diet input'!$Q21*100","v":0},{"$f":"L19*'13. Diet input'!$R21*100","v":0},0,{"$f":"L19*'13. Diet input'!$S21*100","v":0},{"$f":"L19*'13. Diet input'!$T21*100","v":0},{"$f":"L19*'13. Diet input'!$U21*100","v":0},{"$f":"M19*(1-'13. Diet input'!$V21)","v":0},null,{"$f":"'13. Diet input'!G21","v":0},{"$f":"U19*'13. Diet input'!$Q21*100","v":0},{"$f":"U19*'13. Diet input'!$R21*100","v":0},0,{"$f":"U19*'13. Diet input'!$S21*100","v":0},{"$f":"U19*'13. Diet input'!$T21*100","v":0},{"$f":"U19*'13. Diet input'!$U21*100","v":0},{"$f":"V19*(1-'13. Diet input'!$V21)","v":0},null,{"$f":"'13. Diet input'!H21","v":0},{"$f":"AD19*'13. Diet input'!$Q21*100","v":0},{"$f":"AD19*'13. Diet input'!$R21*100","v":0},0,{"$f":"AD19*'13. Diet input'!$S21*100","v":0},{"$f":"AD19*'13. Diet input'!$T21*100","v":0},{"$f":"AD19*'13. Diet input'!$U21*100","v":0},{"$f":"AE19*(1-'13. Diet input'!$V21)","v":0},null,{"$f":"'13. Diet input'!I21","v":0},{"$f":"AM19*'13. Diet input'!$Q21*100","v":0},{"$f":"AM19*'13. Diet input'!$R21*100","v":0},0,{"$f":"AM19*'13. Diet input'!$S21*100","v":0},{"$f":"AM19*'13. Diet input'!$T21*100","v":0},{"$f":"AM19*'13. Diet input'!$U21*100","v":0},{"$f":"AN19*(1-'13. Diet input'!$V21)","v":0},null,{"$f":"'13. Diet input'!J21","v":0},{"$f":"AV19*'13. Diet input'!$Q21*100","v":0},{"$f":"AV19*'13. Diet input'!$R21*100","v":0},0,{"$f":"AV19*'13. Diet input'!$S21*100","v":0},{"$f":"AV19*'13. Diet input'!$T21*100","v":0},{"$f":"AV19*'13. Diet input'!$U21*100","v":0},{"$f":"AW19*(1-'13. Diet input'!$V21)","v":0},null,{"$f":"'13. Diet input'!K21","v":0},{"$f":"BE19*'13. Diet input'!$Q21*100","v":0},{"$f":"BE19*'13. Diet input'!$R21*100","v":0},0,{"$f":"BE19*'13. Diet input'!$S21*100","v":0},{"$f":"BE19*'13. Diet input'!$T21*100","v":0},{"$f":"BE19*'13. Diet input'!$U21*100","v":0},{"$f":"BF19*(1-'13. Diet input'!$V21)","v":0},null,{"$f":"'13. Diet input'!L21","v":0},{"$f":"BN19*'13. Diet input'!$Q21*100","v":0},{"$f":"BN19*'13. Diet input'!$R21*100","v":0},0,{"$f":"BN19*'13. Diet input'!$S21*100","v":0},{"$f":"BN19*'13. Diet input'!$T21*100","v":0},{"$f":"BN19*'13. Diet input'!$U21*100","v":0},{"$f":"BO19*(1-'13. Diet input'!$V21)","v":0},null,{"$f":"'13. Diet input'!M21","v":0},{"$f":"BW19*'13. Diet input'!$Q21*100","v":0},{"$f":"BW19*'13. Diet input'!$R21*100","v":0},0,{"$f":"BW19*'13. Diet input'!$S21*100","v":0},{"$f":"BW19*'13. Diet input'!$T21*100","v":0},{"$f":"BW19*'13. Diet input'!$U21*100","v":0},{"$f":"BX19*(1-'13. Diet input'!$V21)","v":0},null,{"$f":"'13. Diet input'!N21","v":0},{"$f":"CF19*'13. Diet input'!$Q21*100","v":0},{"$f":"CF19*'13. Diet input'!$R21*100","v":0},0,{"$f":"CF19*'13. Diet input'!$S21*100","v":0},{"$f":"CF19*'13. Diet input'!$T21*100","v":0},{"$f":"CF19*'13. Diet input'!$U21*100","v":0},{"$f":"CG19*(1-'13. Diet input'!$V21)","v":0},null,{"$f":"'13. Diet input'!O21","v":0},{"$f":"CO19*'13. Diet input'!$Q21*100","v":0},{"$f":"CO19*'13. Diet input'!$R21*100","v":0},0,{"$f":"CO19*'13. Diet input'!$S21*100","v":0},{"$f":"CO19*'13. Diet input'!$T21*100","v":0},{"$f":"CO19*'13. Diet input'!$U21*100","v":0},{"$f":"CP19*(1-'13. Diet input'!$V21)","v":0}]
[null,{"$f":"'13. Diet input'!B22","v":"Millrun"},{"$f":"'13. Diet input'!E22","v":0},{"$f":"C20*'13. Diet input'!$Q22*100","v":0},{"$f":"C20*'13. Diet input'!$R22*100","v":0},0,{"$f":"C20*'13. Diet input'!$S22*100","v":0},{"$f":"C20*'13. Diet input'!$T22*100","v":0},{"$f":"C20*'13. Diet input'!$U22*100","v":0},{"$f":"D20*(1-'13. Diet input'!$V22)","v":0},null,{"$f":"'13. Diet input'!F22","v":0},{"$f":"L20*'13. Diet input'!$Q22*100","v":0},{"$f":"L20*'13. Diet input'!$R22*100","v":0},0,{"$f":"L20*'13. Diet input'!$S22*100","v":0},{"$f":"L20*'13. Diet input'!$T22*100","v":0},{"$f":"L20*'13. Diet input'!$U22*100","v":0},{"$f":"M20*(1-'13. Diet input'!$V22)","v":0},null,{"$f":"'13. Diet input'!G22","v":0},{"$f":"U20*'13. Diet input'!$Q22*100","v":0},{"$f":"U20*'13. Diet input'!$R22*100","v":0},0,{"$f":"U20*'13. Diet input'!$S22*100","v":0},{"$f":"U20*'13. Diet input'!$T22*100","v":0},{"$f":"U20*'13. Diet input'!$U22*100","v":0},{"$f":"V20*(1-'13. Diet input'!$V22)","v":0},null,{"$f":"'13. Diet input'!H22","v":0},{"$f":"AD20*'13. Diet input'!$Q22*100","v":0},{"$f":"AD20*'13. Diet input'!$R22*100","v":0},0,{"$f":"AD20*'13. Diet input'!$S22*100","v":0},{"$f":"AD20*'13. Diet input'!$T22*100","v":0},{"$f":"AD20*'13. Diet input'!$U22*100","v":0},{"$f":"AE20*(1-'13. Diet input'!$V22)","v":0},null,{"$f":"'13. Diet input'!I22","v":0},{"$f":"AM20*'13. Diet input'!$Q22*100","v":0},{"$f":"AM20*'13. Diet input'!$R22*100","v":0},0,{"$f":"AM20*'13. Diet input'!$S22*100","v":0},{"$f":"AM20*'13. Diet input'!$T22*100","v":0},{"$f":"AM20*'13. Diet input'!$U22*100","v":0},{"$f":"AN20*(1-'13. Diet input'!$V22)","v":0},null,{"$f":"'13. Diet input'!J22","v":0},{"$f":"AV20*'13. Diet input'!$Q22*100","v":0},{"$f":"AV20*'13. Diet input'!$R22*100","v":0},0,{"$f":"AV20*'13. Diet input'!$S22*100","v":0},{"$f":"AV20*'13. Diet input'!$T22*100","v":0},{"$f":"AV20*'13. Diet input'!$U22*100","v":0},{"$f":"AW20*(1-'13. Diet input'!$V22)","v":0},null,{"$f":"'13. Diet input'!K22","v":0},{"$f":"BE20*'13. Diet input'!$Q22*100","v":0},{"$f":"BE20*'13. Diet input'!$R22*100","v":0},0,{"$f":"BE20*'13. Diet input'!$S22*100","v":0},{"$f":"BE20*'13. Diet input'!$T22*100","v":0},{"$f":"BE20*'13. Diet input'!$U22*100","v":0},{"$f":"BF20*(1-'13. Diet input'!$V22)","v":0},null,{"$f":"'13. Diet input'!L22","v":0},{"$f":"BN20*'13. Diet input'!$Q22*100","v":0},{"$f":"BN20*'13. Diet input'!$R22*100","v":0},0,{"$f":"BN20*'13. Diet input'!$S22*100","v":0},{"$f":"BN20*'13. Diet input'!$T22*100","v":0},{"$f":"BN20*'13. Diet input'!$U22*100","v":0},{"$f":"BO20*(1-'13. Diet input'!$V22)","v":0},null,{"$f":"'13. Diet input'!M22","v":0},{"$f":"BW20*'13. Diet input'!$Q22*100","v":0},{"$f":"BW20*'13. Diet input'!$R22*100","v":0},0,{"$f":"BW20*'13. Diet input'!$S22*100","v":0},{"$f":"BW20*'13. Diet input'!$T22*100","v":0},{"$f":"BW20*'13. Diet input'!$U22*100","v":0},{"$f":"BX20*(1-'13. Diet input'!$V22)","v":0},null,{"$f":"'13. Diet input'!N22","v":0},{"$f":"CF20*'13. Diet input'!$Q22*100","v":0},{"$f":"CF20*'13. Diet input'!$R22*100","v":0},0,{"$f":"CF20*'13. Diet input'!$S22*100","v":0},{"$f":"CF20*'13. Diet input'!$T22*100","v":0},{"$f":"CF20*'13. Diet input'!$U22*100","v":0},{"$f":"CG20*(1-'13. Diet input'!$V22)","v":0},null,{"$f":"'13. Diet input'!O22","v":0},{"$f":"CO20*'13. Diet input'!$Q22*100","v":0},{"$f":"CO20*'13. Diet input'!$R22*100","v":0},0,{"$f":"CO20*'13. Diet input'!$S22*100","v":0},{"$f":"CO20*'13. Diet input'!$T22*100","v":0},{"$f":"CO20*'13. Diet input'!$U22*100","v":0},{"$f":"CP20*(1-'13. Diet input'!$V22)","v":0}]
[null,{"$f":"'13. Diet input'!B23","v":"Rice Hulls"},{"$f":"'13. Diet input'!E23","v":0},{"$f":"C21*'13. Diet input'!$Q23*100","v":0},{"$f":"C21*'13. Diet input'!$R23*100","v":0},0,{"$f":"C21*'13. Diet input'!$S23*100","v":0},{"$f":"C21*'13. Diet input'!$T23*100","v":0},{"$f":"C21*'13. Diet input'!$U23*100","v":0},{"$f":"D21*(1-'13. Diet input'!$V23)","v":0},null,{"$f":"'13. Diet input'!F23","v":0},{"$f":"L21*'13. Diet input'!$Q23*100","v":0},{"$f":"L21*'13. Diet input'!$R23*100","v":0},0,{"$f":"L21*'13. Diet input'!$S23*100","v":0},{"$f":"L21*'13. Diet input'!$T23*100","v":0},{"$f":"L21*'13. Diet input'!$U23*100","v":0},{"$f":"M21*(1-'13. Diet input'!$V23)","v":0},null,{"$f":"'13. Diet input'!G23","v":0},{"$f":"U21*'13. Diet input'!$Q23*100","v":0},{"$f":"U21*'13. Diet input'!$R23*100","v":0},0,{"$f":"U21*'13. Diet input'!$S23*100","v":0},{"$f":"U21*'13. Diet input'!$T23*100","v":0},{"$f":"U21*'13. Diet input'!$U23*100","v":0},{"$f":"V21*(1-'13. Diet input'!$V23)","v":0},null,{"$f":"'13. Diet input'!H23","v":0},{"$f":"AD21*'13. Diet input'!$Q23*100","v":0},{"$f":"AD21*'13. Diet input'!$R23*100","v":0},0,{"$f":"AD21*'13. Diet input'!$S23*100","v":0},{"$f":"AD21*'13. Diet input'!$T23*100","v":0},{"$f":"AD21*'13. Diet input'!$U23*100","v":0},{"$f":"AE21*(1-'13. Diet input'!$V23)","v":0},null,{"$f":"'13. Diet input'!I23","v":0},{"$f":"AM21*'13. Diet input'!$Q23*100","v":0},{"$f":"AM21*'13. Diet input'!$R23*100","v":0},0,{"$f":"AM21*'13. Diet input'!$S23*100","v":0},{"$f":"AM21*'13. Diet input'!$T23*100","v":0},{"$f":"AM21*'13. Diet input'!$U23*100","v":0},{"$f":"AN21*(1-'13. Diet input'!$V23)","v":0},null,{"$f":"'13. Diet input'!J23","v":0},{"$f":"AV21*'13. Diet input'!$Q23*100","v":0},{"$f":"AV21*'13. Diet input'!$R23*100","v":0},0,{"$f":"AV21*'13. Diet input'!$S23*100","v":0},{"$f":"AV21*'13. Diet input'!$T23*100","v":0},{"$f":"AV21*'13. Diet input'!$U23*100","v":0},{"$f":"AW21*(1-'13. Diet input'!$V23)","v":0},null,{"$f":"'13. Diet input'!K23","v":0},{"$f":"BE21*'13. Diet input'!$Q23*100","v":0},{"$f":"BE21*'13. Diet input'!$R23*100","v":0},0,{"$f":"BE21*'13. Diet input'!$S23*100","v":0},{"$f":"BE21*'13. Diet input'!$T23*100","v":0},{"$f":"BE21*'13. Diet input'!$U23*100","v":0},{"$f":"BF21*(1-'13. Diet input'!$V23)","v":0},null,{"$f":"'13. Diet input'!L23","v":0},{"$f":"BN21*'13. Diet input'!$Q23*100","v":0},{"$f":"BN21*'13. Diet input'!$R23*100","v":0},0,{"$f":"BN21*'13. Diet input'!$S23*100","v":0},{"$f":"BN21*'13. Diet input'!$T23*100","v":0},{"$f":"BN21*'13. Diet input'!$U23*100","v":0},{"$f":"BO21*(1-'13. Diet input'!$V23)","v":0},null,{"$f":"'13. Diet input'!M23","v":0},{"$f":"BW21*'13. Diet input'!$Q23*100","v":0},{"$f":"BW21*'13. Diet input'!$R23*100","v":0},0,{"$f":"BW21*'13. Diet input'!$S23*100","v":0},{"$f":"BW21*'13. Diet input'!$T23*100","v":0},{"$f":"BW21*'13. Diet input'!$U23*100","v":0},{"$f":"BX21*(1-'13. Diet input'!$V23)","v":0},null,{"$f":"'13. Diet input'!N23","v":0},{"$f":"CF21*'13. Diet input'!$Q23*100","v":0},{"$f":"CF21*'13. Diet input'!$R23*100","v":0},0,{"$f":"CF21*'13. Diet input'!$S23*100","v":0},{"$f":"CF21*'13. Diet input'!$T23*100","v":0},{"$f":"CF21*'13. Diet input'!$U23*100","v":0},{"$f":"CG21*(1-'13. Diet input'!$V23)","v":0},null,{"$f":"'13. Diet input'!O23","v":0},{"$f":"CO21*'13. Diet input'!$Q23*100","v":0},{"$f":"CO21*'13. Diet input'!$R23*100","v":0},0,{"$f":"CO21*'13. Diet input'!$S23*100","v":0},{"$f":"CO21*'13. Diet input'!$T23*100","v":0},{"$f":"CO21*'13. Diet input'!$U23*100","v":0},{"$f":"CP21*(1-'13. Diet input'!$V23)","v":0}]
[null,{"$f":"'13. Diet input'!B24","v":"Rice bran"},{"$f":"'13. Diet input'!E24","v":0},{"$f":"C22*'13. Diet input'!$Q24*100","v":0},{"$f":"C22*'13. Diet input'!$R24*100","v":0},0,{"$f":"C22*'13. Diet input'!$S24*100","v":0},{"$f":"C22*'13. Diet input'!$T24*100","v":0},{"$f":"C22*'13. Diet input'!$U24*100","v":0},{"$f":"D22*(1-'13. Diet input'!$V24)","v":0},null,{"$f":"'13. Diet input'!F24","v":0},{"$f":"L22*'13. Diet input'!$Q24*100","v":0},{"$f":"L22*'13. Diet input'!$R24*100","v":0},0,{"$f":"L22*'13. Diet input'!$S24*100","v":0},{"$f":"L22*'13. Diet input'!$T24*100","v":0},{"$f":"L22*'13. Diet input'!$U24*100","v":0},{"$f":"M22*(1-'13. Diet input'!$V24)","v":0},null,{"$f":"'13. Diet input'!G24","v":0},{"$f":"U22*'13. Diet input'!$Q24*100","v":0},{"$f":"U22*'13. Diet input'!$R24*100","v":0},0,{"$f":"U22*'13. Diet input'!$S24*100","v":0},{"$f":"U22*'13. Diet input'!$T24*100","v":0},{"$f":"U22*'13. Diet input'!$U24*100","v":0},{"$f":"V22*(1-'13. Diet input'!$V24)","v":0},null,{"$f":"'13. Diet input'!H24","v":0},{"$f":"AD22*'13. Diet input'!$Q24*100","v":0},{"$f":"AD22*'13. Diet input'!$R24*100","v":0},0,{"$f":"AD22*'13. Diet input'!$S24*100","v":0},{"$f":"AD22*'13. Diet input'!$T24*100","v":0},{"$f":"AD22*'13. Diet input'!$U24*100","v":0},{"$f":"AE22*(1-'13. Diet input'!$V24)","v":0},null,{"$f":"'13. Diet input'!I24","v":0},{"$f":"AM22*'13. Diet input'!$Q24*100","v":0},{"$f":"AM22*'13. Diet input'!$R24*100","v":0},0,{"$f":"AM22*'13. Diet input'!$S24*100","v":0},{"$f":"AM22*'13. Diet input'!$T24*100","v":0},{"$f":"AM22*'13. Diet input'!$U24*100","v":0},{"$f":"AN22*(1-'13. Diet input'!$V24)","v":0},null,{"$f":"'13. Diet input'!J24","v":0},{"$f":"AV22*'13. Diet input'!$Q24*100","v":0},{"$f":"AV22*'13. Diet input'!$R24*100","v":0},0,{"$f":"AV22*'13. Diet input'!$S24*100","v":0},{"$f":"AV22*'13. Diet input'!$T24*100","v":0},{"$f":"AV22*'13. Diet input'!$U24*100","v":0},{"$f":"AW22*(1-'13. Diet input'!$V24)","v":0},null,{"$f":"'13. Diet input'!K24","v":0},{"$f":"BE22*'13. Diet input'!$Q24*100","v":0},{"$f":"BE22*'13. Diet input'!$R24*100","v":0},0,{"$f":"BE22*'13. Diet input'!$S24*100","v":0},{"$f":"BE22*'13. Diet input'!$T24*100","v":0},{"$f":"BE22*'13. Diet input'!$U24*100","v":0},{"$f":"BF22*(1-'13. Diet input'!$V24)","v":0},null,{"$f":"'13. Diet input'!L24","v":0},{"$f":"BN22*'13. Diet input'!$Q24*100","v":0},{"$f":"BN22*'13. Diet input'!$R24*100","v":0},0,{"$f":"BN22*'13. Diet input'!$S24*100","v":0},{"$f":"BN22*'13. Diet input'!$T24*100","v":0},{"$f":"BN22*'13. Diet input'!$U24*100","v":0},{"$f":"BO22*(1-'13. Diet input'!$V24)","v":0},null,{"$f":"'13. Diet input'!M24","v":0},{"$f":"BW22*'13. Diet input'!$Q24*100","v":0},{"$f":"BW22*'13. Diet input'!$R24*100","v":0},0,{"$f":"BW22*'13. Diet input'!$S24*100","v":0},{"$f":"BW22*'13. Diet input'!$T24*100","v":0},{"$f":"BW22*'13. Diet input'!$U24*100","v":0},{"$f":"BX22*(1-'13. Diet input'!$V24)","v":0},null,{"$f":"'13. Diet input'!N24","v":0},{"$f":"CF22*'13. Diet input'!$Q24*100","v":0},{"$f":"CF22*'13. Diet input'!$R24*100","v":0},0,{"$f":"CF22*'13. Diet input'!$S24*100","v":0},{"$f":"CF22*'13. Diet input'!$T24*100","v":0},{"$f":"CF22*'13. Diet input'!$U24*100","v":0},{"$f":"CG22*(1-'13. Diet input'!$V24)","v":0},null,{"$f":"'13. Diet input'!O24","v":0},{"$f":"CO22*'13. Diet input'!$Q24*100","v":0},{"$f":"CO22*'13. Diet input'!$R24*100","v":0},0,{"$f":"CO22*'13. Diet input'!$S24*100","v":0},{"$f":"CO22*'13. Diet input'!$T24*100","v":0},{"$f":"CO22*'13. Diet input'!$U24*100","v":0},{"$f":"CP22*(1-'13. Diet input'!$V24)","v":0}]
[null,{"$f":"'13. Diet input'!B25","v":"Soya hulls"},{"$f":"'13. Diet input'!E25","v":0},{"$f":"C23*'13. Diet input'!$Q25*100","v":0},{"$f":"C23*'13. Diet input'!$R25*100","v":0},0,{"$f":"C23*'13. Diet input'!$S25*100","v":0},{"$f":"C23*'13. Diet input'!$T25*100","v":0},{"$f":"C23*'13. Diet input'!$U25*100","v":0},{"$f":"D23*(1-'13. Diet input'!$V25)","v":0},null,{"$f":"'13. Diet input'!F25","v":0},{"$f":"L23*'13. Diet input'!$Q25*100","v":0},{"$f":"L23*'13. Diet input'!$R25*100","v":0},0,{"$f":"L23*'13. Diet input'!$S25*100","v":0},{"$f":"L23*'13. Diet input'!$T25*100","v":0},{"$f":"L23*'13. Diet input'!$U25*100","v":0},{"$f":"M23*(1-'13. Diet input'!$V25)","v":0},null,{"$f":"'13. Diet input'!G25","v":0},{"$f":"U23*'13. Diet input'!$Q25*100","v":0},{"$f":"U23*'13. Diet input'!$R25*100","v":0},0,{"$f":"U23*'13. Diet input'!$S25*100","v":0},{"$f":"U23*'13. Diet input'!$T25*100","v":0},{"$f":"U23*'13. Diet input'!$U25*100","v":0},{"$f":"V23*(1-'13. Diet input'!$V25)","v":0},null,{"$f":"'13. Diet input'!H25","v":0},{"$f":"AD23*'13. Diet input'!$Q25*100","v":0},{"$f":"AD23*'13. Diet input'!$R25*100","v":0},0,{"$f":"AD23*'13. Diet input'!$S25*100","v":0},{"$f":"AD23*'13. Diet input'!$T25*100","v":0},{"$f":"AD23*'13. Diet input'!$U25*100","v":0},{"$f":"AE23*(1-'13. Diet input'!$V25)","v":0},null,{"$f":"'13. Diet input'!I25","v":0},{"$f":"AM23*'13. Diet input'!$Q25*100","v":0},{"$f":"AM23*'13. Diet input'!$R25*100","v":0},0,{"$f":"AM23*'13. Diet input'!$S25*100","v":0},{"$f":"AM23*'13. Diet input'!$T25*100","v":0},{"$f":"AM23*'13. Diet input'!$U25*100","v":0},{"$f":"AN23*(1-'13. Diet input'!$V25)","v":0},null,{"$f":"'13. Diet input'!J25","v":0},{"$f":"AV23*'13. Diet input'!$Q25*100","v":0},{"$f":"AV23*'13. Diet input'!$R25*100","v":0},0,{"$f":"AV23*'13. Diet input'!$S25*100","v":0},{"$f":"AV23*'13. Diet input'!$T25*100","v":0},{"$f":"AV23*'13. Diet input'!$U25*100","v":0},{"$f":"AW23*(1-'13. Diet input'!$V25)","v":0},null,{"$f":"'13. Diet input'!K25","v":0},{"$f":"BE23*'13. Diet input'!$Q25*100","v":0},{"$f":"BE23*'13. Diet input'!$R25*100","v":0},0,{"$f":"BE23*'13. Diet input'!$S25*100","v":0},{"$f":"BE23*'13. Diet input'!$T25*100","v":0},{"$f":"BE23*'13. Diet input'!$U25*100","v":0},{"$f":"BF23*(1-'13. Diet input'!$V25)","v":0},null,{"$f":"'13. Diet input'!L25","v":0},{"$f":"BN23*'13. Diet input'!$Q25*100","v":0},{"$f":"BN23*'13. Diet input'!$R25*100","v":0},0,{"$f":"BN23*'13. Diet input'!$S25*100","v":0},{"$f":"BN23*'13. Diet input'!$T25*100","v":0},{"$f":"BN23*'13. Diet input'!$U25*100","v":0},{"$f":"BO23*(1-'13. Diet input'!$V25)","v":0},null,{"$f":"'13. Diet input'!M25","v":0},{"$f":"BW23*'13. Diet input'!$Q25*100","v":0},{"$f":"BW23*'13. Diet input'!$R25*100","v":0},0,{"$f":"BW23*'13. Diet input'!$S25*100","v":0},{"$f":"BW23*'13. Diet input'!$T25*100","v":0},{"$f":"BW23*'13. Diet input'!$U25*100","v":0},{"$f":"BX23*(1-'13. Diet input'!$V25)","v":0},null,{"$f":"'13. Diet input'!N25","v":0},{"$f":"CF23*'13. Diet input'!$Q25*100","v":0},{"$f":"CF23*'13. Diet input'!$R25*100","v":0},0,{"$f":"CF23*'13. Diet input'!$S25*100","v":0},{"$f":"CF23*'13. Diet input'!$T25*100","v":0},{"$f":"CF23*'13. Diet input'!$U25*100","v":0},{"$f":"CG23*(1-'13. Diet input'!$V25)","v":0},null,{"$f":"'13. Diet input'!O25","v":0},{"$f":"CO23*'13. Diet input'!$Q25*100","v":0},{"$f":"CO23*'13. Diet input'!$R25*100","v":0},0,{"$f":"CO23*'13. Diet input'!$S25*100","v":0},{"$f":"CO23*'13. Diet input'!$T25*100","v":0},{"$f":"CO23*'13. Diet input'!$U25*100","v":0},{"$f":"CP23*(1-'13. Diet input'!$V25)","v":0}]
[null,{"$f":"'13. Diet input'!B26","v":"Wheat Bran"},{"$f":"'13. Diet input'!E26","v":0},{"$f":"C24*'13. Diet input'!$Q26*100","v":0},{"$f":"C24*'13. Diet input'!$R26*100","v":0},0,{"$f":"C24*'13. Diet input'!$S26*100","v":0},{"$f":"C24*'13. Diet input'!$T26*100","v":0},{"$f":"C24*'13. Diet input'!$U26*100","v":0},{"$f":"D24*(1-'13. Diet input'!$V26)","v":0},null,{"$f":"'13. Diet input'!F26","v":0},{"$f":"L24*'13. Diet input'!$Q26*100","v":0},{"$f":"L24*'13. Diet input'!$R26*100","v":0},0,{"$f":"L24*'13. Diet input'!$S26*100","v":0},{"$f":"L24*'13. Diet input'!$T26*100","v":0},{"$f":"L24*'13. Diet input'!$U26*100","v":0},{"$f":"M24*(1-'13. Diet input'!$V26)","v":0},null,{"$f":"'13. Diet input'!G26","v":0},{"$f":"U24*'13. Diet input'!$Q26*100","v":0},{"$f":"U24*'13. Diet input'!$R26*100","v":0},0,{"$f":"U24*'13. Diet input'!$S26*100","v":0},{"$f":"U24*'13. Diet input'!$T26*100","v":0},{"$f":"U24*'13. Diet input'!$U26*100","v":0},{"$f":"V24*(1-'13. Diet input'!$V26)","v":0},null,{"$f":"'13. Diet input'!H26","v":0},{"$f":"AD24*'13. Diet input'!$Q26*100","v":0},{"$f":"AD24*'13. Diet input'!$R26*100","v":0},0,{"$f":"AD24*'13. Diet input'!$S26*100","v":0},{"$f":"AD24*'13. Diet input'!$T26*100","v":0},{"$f":"AD24*'13. Diet input'!$U26*100","v":0},{"$f":"AE24*(1-'13. Diet input'!$V26)","v":0},null,{"$f":"'13. Diet input'!I26","v":0},{"$f":"AM24*'13. Diet input'!$Q26*100","v":0},{"$f":"AM24*'13. Diet input'!$R26*100","v":0},0,{"$f":"AM24*'13. Diet input'!$S26*100","v":0},{"$f":"AM24*'13. Diet input'!$T26*100","v":0},{"$f":"AM24*'13. Diet input'!$U26*100","v":0},{"$f":"AN24*(1-'13. Diet input'!$V26)","v":0},null,{"$f":"'13. Diet input'!J26","v":0},{"$f":"AV24*'13. Diet input'!$Q26*100","v":0},{"$f":"AV24*'13. Diet input'!$R26*100","v":0},0,{"$f":"AV24*'13. Diet input'!$S26*100","v":0},{"$f":"AV24*'13. Diet input'!$T26*100","v":0},{"$f":"AV24*'13. Diet input'!$U26*100","v":0},{"$f":"AW24*(1-'13. Diet input'!$V26)","v":0},null,{"$f":"'13. Diet input'!K26","v":0},{"$f":"BE24*'13. Diet input'!$Q26*100","v":0},{"$f":"BE24*'13. Diet input'!$R26*100","v":0},0,{"$f":"BE24*'13. Diet input'!$S26*100","v":0},{"$f":"BE24*'13. Diet input'!$T26*100","v":0},{"$f":"BE24*'13. Diet input'!$U26*100","v":0},{"$f":"BF24*(1-'13. Diet input'!$V26)","v":0},null,{"$f":"'13. Diet input'!L26","v":0},{"$f":"BN24*'13. Diet input'!$Q26*100","v":0},{"$f":"BN24*'13. Diet input'!$R26*100","v":0},0,{"$f":"BN24*'13. Diet input'!$S26*100","v":0},{"$f":"BN24*'13. Diet input'!$T26*100","v":0},{"$f":"BN24*'13. Diet input'!$U26*100","v":0},{"$f":"BO24*(1-'13. Diet input'!$V26)","v":0},null,{"$f":"'13. Diet input'!M26","v":0},{"$f":"BW24*'13. Diet input'!$Q26*100","v":0},{"$f":"BW24*'13. Diet input'!$R26*100","v":0},0,{"$f":"BW24*'13. Diet input'!$S26*100","v":0},{"$f":"BW24*'13. Diet input'!$T26*100","v":0},{"$f":"BW24*'13. Diet input'!$U26*100","v":0},{"$f":"BX24*(1-'13. Diet input'!$V26)","v":0},null,{"$f":"'13. Diet input'!N26","v":0},{"$f":"CF24*'13. Diet input'!$Q26*100","v":0},{"$f":"CF24*'13. Diet input'!$R26*100","v":0},0,{"$f":"CF24*'13. Diet input'!$S26*100","v":0},{"$f":"CF24*'13. Diet input'!$T26*100","v":0},{"$f":"CF24*'13. Diet input'!$U26*100","v":0},{"$f":"CG24*(1-'13. Diet input'!$V26)","v":0},null,{"$f":"'13. Diet input'!O26","v":0},{"$f":"CO24*'13. Diet input'!$Q26*100","v":0},{"$f":"CO24*'13. Diet input'!$R26*100","v":0},0,{"$f":"CO24*'13. Diet input'!$S26*100","v":0},{"$f":"CO24*'13. Diet input'!$T26*100","v":0},{"$f":"CO24*'13. Diet input'!$U26*100","v":0},{"$f":"CP24*(1-'13. Diet input'!$V26)","v":0}]
[null,{"$f":"'13. Diet input'!B27","v":"Wheat Pollard"},{"$f":"'13. Diet input'!E27","v":0},{"$f":"C25*'13. Diet input'!$Q27*100","v":0},{"$f":"C25*'13. Diet input'!$R27*100","v":0},0,{"$f":"C25*'13. Diet input'!$S27*100","v":0},{"$f":"C25*'13. Diet input'!$T27*100","v":0},{"$f":"C25*'13. Diet input'!$U27*100","v":0},{"$f":"D25*(1-'13. Diet input'!$V27)","v":0},null,{"$f":"'13. Diet input'!F27","v":0},{"$f":"L25*'13. Diet input'!$Q27*100","v":0},{"$f":"L25*'13. Diet input'!$R27*100","v":0},0,{"$f":"L25*'13. Diet input'!$S27*100","v":0},{"$f":"L25*'13. Diet input'!$T27*100","v":0},{"$f":"L25*'13. Diet input'!$U27*100","v":0},{"$f":"M25*(1-'13. Diet input'!$V27)","v":0},null,{"$f":"'13. Diet input'!G27","v":0},{"$f":"U25*'13. Diet input'!$Q27*100","v":0},{"$f":"U25*'13. Diet input'!$R27*100","v":0},0,{"$f":"U25*'13. Diet input'!$S27*100","v":0},{"$f":"U25*'13. Diet input'!$T27*100","v":0},{"$f":"U25*'13. Diet input'!$U27*100","v":0},{"$f":"V25*(1-'13. Diet input'!$V27)","v":0},null,{"$f":"'13. Diet input'!H27","v":0},{"$f":"AD25*'13. Diet input'!$Q27*100","v":0},{"$f":"AD25*'13. Diet input'!$R27*100","v":0},0,{"$f":"AD25*'13. Diet input'!$S27*100","v":0},{"$f":"AD25*'13. Diet input'!$T27*100","v":0},{"$f":"AD25*'13. Diet input'!$U27*100","v":0},{"$f":"AE25*(1-'13. Diet input'!$V27)","v":0},null,{"$f":"'13. Diet input'!I27","v":0},{"$f":"AM25*'13. Diet input'!$Q27*100","v":0},{"$f":"AM25*'13. Diet input'!$R27*100","v":0},0,{"$f":"AM25*'13. Diet input'!$S27*100","v":0},{"$f":"AM25*'13. Diet input'!$T27*100","v":0},{"$f":"AM25*'13. Diet input'!$U27*100","v":0},{"$f":"AN25*(1-'13. Diet input'!$V27)","v":0},null,{"$f":"'13. Diet input'!J27","v":0},{"$f":"AV25*'13. Diet input'!$Q27*100","v":0},{"$f":"AV25*'13. Diet input'!$R27*100","v":0},0,{"$f":"AV25*'13. Diet input'!$S27*100","v":0},{"$f":"AV25*'13. Diet input'!$T27*100","v":0},{"$f":"AV25*'13. Diet input'!$U27*100","v":0},{"$f":"AW25*(1-'13. Diet input'!$V27)","v":0},null,{"$f":"'13. Diet input'!K27","v":0},{"$f":"BE25*'13. Diet input'!$Q27*100","v":0},{"$f":"BE25*'13. Diet input'!$R27*100","v":0},0,{"$f":"BE25*'13. Diet input'!$S27*100","v":0},{"$f":"BE25*'13. Diet input'!$T27*100","v":0},{"$f":"BE25*'13. Diet input'!$U27*100","v":0},{"$f":"BF25*(1-'13. Diet input'!$V27)","v":0},null,{"$f":"'13. Diet input'!L27","v":0},{"$f":"BN25*'13. Diet input'!$Q27*100","v":0},{"$f":"BN25*'13. Diet input'!$R27*100","v":0},0,{"$f":"BN25*'13. Diet input'!$S27*100","v":0},{"$f":"BN25*'13. Diet input'!$T27*100","v":0},{"$f":"BN25*'13. Diet input'!$U27*100","v":0},{"$f":"BO25*(1-'13. Diet input'!$V27)","v":0},null,{"$f":"'13. Diet input'!M27","v":0},{"$f":"BW25*'13. Diet input'!$Q27*100","v":0},{"$f":"BW25*'13. Diet input'!$R27*100","v":0},0,{"$f":"BW25*'13. Diet input'!$S27*100","v":0},{"$f":"BW25*'13. Diet input'!$T27*100","v":0},{"$f":"BW25*'13. Diet input'!$U27*100","v":0},{"$f":"BX25*(1-'13. Diet input'!$V27)","v":0},null,{"$f":"'13. Diet input'!N27","v":0},{"$f":"CF25*'13. Diet input'!$Q27*100","v":0},{"$f":"CF25*'13. Diet input'!$R27*100","v":0},0,{"$f":"CF25*'13. Diet input'!$S27*100","v":0},{"$f":"CF25*'13. Diet input'!$T27*100","v":0},{"$f":"CF25*'13. Diet input'!$U27*100","v":0},{"$f":"CG25*(1-'13. Diet input'!$V27)","v":0},null,{"$f":"'13. Diet input'!O27","v":0},{"$f":"CO25*'13. Diet input'!$Q27*100","v":0},{"$f":"CO25*'13. Diet input'!$R27*100","v":0},0,{"$f":"CO25*'13. Diet input'!$S27*100","v":0},{"$f":"CO25*'13. Diet input'!$T27*100","v":0},{"$f":"CO25*'13. Diet input'!$U27*100","v":0},{"$f":"CP25*(1-'13. Diet input'!$V27)","v":0}]
[null,"Roots & Tubers"]
[null,{"$f":"'13. Diet input'!B29","v":"Cassava"},{"$f":"'13. Diet input'!E29","v":0},{"$f":"C27*'13. Diet input'!$Q29*100","v":0},{"$f":"C27*'13. Diet input'!$R29*100","v":0},0,{"$f":"C27*'13. Diet input'!$S29*100","v":0},{"$f":"C27*'13. Diet input'!$T29*100","v":0},{"$f":"C27*'13. Diet input'!$U29*100","v":0},{"$f":"D27*(1-'13. Diet input'!$V29)","v":0},null,{"$f":"'13. Diet input'!F29","v":0},{"$f":"L27*'13. Diet input'!$Q29*100","v":0},{"$f":"L27*'13. Diet input'!$R29*100","v":0},0,{"$f":"L27*'13. Diet input'!$S29*100","v":0},{"$f":"L27*'13. Diet input'!$T29*100","v":0},{"$f":"L27*'13. Diet input'!$U29*100","v":0},{"$f":"M27*(1-'13. Diet input'!$V29)","v":0},null,{"$f":"'13. Diet input'!G29","v":0},{"$f":"U27*'13. Diet input'!$Q29*100","v":0},{"$f":"U27*'13. Diet input'!$R29*100","v":0},0,{"$f":"U27*'13. Diet input'!$S29*100","v":0},{"$f":"U27*'13. Diet input'!$T29*100","v":0},{"$f":"U27*'13. Diet input'!$U29*100","v":0},{"$f":"V27*(1-'13. Diet input'!$V29)","v":0},null,{"$f":"'13. Diet input'!H29","v":0},{"$f":"AD27*'13. Diet input'!$Q29*100","v":0},{"$f":"AD27*'13. Diet input'!$R29*100","v":0},0,{"$f":"AD27*'13. Diet input'!$S29*100","v":0},{"$f":"AD27*'13. Diet input'!$T29*100","v":0},{"$f":"AD27*'13. Diet input'!$U29*100","v":0},{"$f":"AE27*(1-'13. Diet input'!$V29)","v":0},null,{"$f":"'13. Diet input'!I29","v":0},{"$f":"AM27*'13. Diet input'!$Q29*100","v":0},{"$f":"AM27*'13. Diet input'!$R29*100","v":0},0,{"$f":"AM27*'13. Diet input'!$S29*100","v":0},{"$f":"AM27*'13. Diet input'!$T29*100","v":0},{"$f":"AM27*'13. Diet input'!$U29*100","v":0},{"$f":"AN27*(1-'13. Diet input'!$V29)","v":0},null,{"$f":"'13. Diet input'!J29","v":0},{"$f":"AV27*'13. Diet input'!$Q29*100","v":0},{"$f":"AV27*'13. Diet input'!$R29*100","v":0},0,{"$f":"AV27*'13. Diet input'!$S29*100","v":0},{"$f":"AV27*'13. Diet input'!$T29*100","v":0},{"$f":"AV27*'13. Diet input'!$U29*100","v":0},{"$f":"AW27*(1-'13. Diet input'!$V29)","v":0},null,{"$f":"'13. Diet input'!K29","v":0},{"$f":"BE27*'13. Diet input'!$Q29*100","v":0},{"$f":"BE27*'13. Diet input'!$R29*100","v":0},0,{"$f":"BE27*'13. Diet input'!$S29*100","v":0},{"$f":"BE27*'13. Diet input'!$T29*100","v":0},{"$f":"BE27*'13. Diet input'!$U29*100","v":0},{"$f":"BF27*(1-'13. Diet input'!$V29)","v":0},null,{"$f":"'13. Diet input'!L29","v":0},{"$f":"BN27*'13. Diet input'!$Q29*100","v":0},{"$f":"BN27*'13. Diet input'!$R29*100","v":0},0,{"$f":"BN27*'13. Diet input'!$S29*100","v":0},{"$f":"BN27*'13. Diet input'!$T29*100","v":0},{"$f":"BN27*'13. Diet input'!$U29*100","v":0},{"$f":"BO27*(1-'13. Diet input'!$V29)","v":0},null,{"$f":"'13. Diet input'!M29","v":0},{"$f":"BW27*'13. Diet input'!$Q29*100","v":0},{"$f":"BW27*'13. Diet input'!$R29*100","v":0},0,{"$f":"BW27*'13. Diet input'!$S29*100","v":0},{"$f":"BW27*'13. Diet input'!$T29*100","v":0},{"$f":"BW27*'13. Diet input'!$U29*100","v":0},{"$f":"BX27*(1-'13. Diet input'!$V29)","v":0},null,{"$f":"'13. Diet input'!N29","v":0},{"$f":"CF27*'13. Diet input'!$Q29*100","v":0},{"$f":"CF27*'13. Diet input'!$R29*100","v":0},0,{"$f":"CF27*'13. Diet input'!$S29*100","v":0},{"$f":"CF27*'13. Diet input'!$T29*100","v":0},{"$f":"CF27*'13. Diet input'!$U29*100","v":0},{"$f":"CG27*(1-'13. Diet input'!$V29)","v":0},null,{"$f":"'13. Diet input'!O29","v":0},{"$f":"CO27*'13. Diet input'!$Q29*100","v":0},{"$f":"CO27*'13. Diet input'!$R29*100","v":0},0,{"$f":"CO27*'13. Diet input'!$S29*100","v":0},{"$f":"CO27*'13. Diet input'!$T29*100","v":0},{"$f":"CO27*'13. Diet input'!$U29*100","v":0},{"$f":"CP27*(1-'13. Diet input'!$V29)","v":0}]
[null,"By-products"]
[null,{"$f":"'13. Diet input'!B31","v":"Biscuit Meal"},{"$f":"'13. Diet input'!E31","v":0},{"$f":"C29*'13. Diet input'!$Q31*100","v":0},{"$f":"C29*'13. Diet input'!$R31*100","v":0},0,{"$f":"C29*'13. Diet input'!$S31*100","v":0},{"$f":"C29*'13. Diet input'!$T31*100","v":0},{"$f":"C29*'13. Diet input'!$U31*100","v":0},{"$f":"D29*(1-'13. Diet input'!$V31)","v":0},null,{"$f":"'13. Diet input'!F31","v":0},{"$f":"L29*'13. Diet input'!$Q31*100","v":0},{"$f":"L29*'13. Diet input'!$R31*100","v":0},0,{"$f":"L29*'13. Diet input'!$S31*100","v":0},{"$f":"L29*'13. Diet input'!$T31*100","v":0},{"$f":"L29*'13. Diet input'!$U31*100","v":0},{"$f":"M29*(1-'13. Diet input'!$V31)","v":0},null,{"$f":"'13. Diet input'!G31","v":0},{"$f":"U29*'13. Diet input'!$Q31*100","v":0},{"$f":"U29*'13. Diet input'!$R31*100","v":0},0,{"$f":"U29*'13. Diet input'!$S31*100","v":0},{"$f":"U29*'13. Diet input'!$T31*100","v":0},{"$f":"U29*'13. Diet input'!$U31*100","v":0},{"$f":"V29*(1-'13. Diet input'!$V31)","v":0},null,{"$f":"'13. Diet input'!H31","v":0},{"$f":"AD29*'13. Diet input'!$Q31*100","v":0},{"$f":"AD29*'13. Diet input'!$R31*100","v":0},0,{"$f":"AD29*'13. Diet input'!$S31*100","v":0},{"$f":"AD29*'13. Diet input'!$T31*100","v":0},{"$f":"AD29*'13. Diet input'!$U31*100","v":0},{"$f":"AE29*(1-'13. Diet input'!$V31)","v":0},null,{"$f":"'13. Diet input'!I31","v":0},{"$f":"AM29*'13. Diet input'!$Q31*100","v":0},{"$f":"AM29*'13. Diet input'!$R31*100","v":0},0,{"$f":"AM29*'13. Diet input'!$S31*100","v":0},{"$f":"AM29*'13. Diet input'!$T31*100","v":0},{"$f":"AM29*'13. Diet input'!$U31*100","v":0},{"$f":"AN29*(1-'13. Diet input'!$V31)","v":0},null,{"$f":"'13. Diet input'!J31","v":0},{"$f":"AV29*'13. Diet input'!$Q31*100","v":0},{"$f":"AV29*'13. Diet input'!$R31*100","v":0},0,{"$f":"AV29*'13. Diet input'!$S31*100","v":0},{"$f":"AV29*'13. Diet input'!$T31*100","v":0},{"$f":"AV29*'13. Diet input'!$U31*100","v":0},{"$f":"AW29*(1-'13. Diet input'!$V31)","v":0},null,{"$f":"'13. Diet input'!K31","v":0},{"$f":"BE29*'13. Diet input'!$Q31*100","v":0},{"$f":"BE29*'13. Diet input'!$R31*100","v":0},0,{"$f":"BE29*'13. Diet input'!$S31*100","v":0},{"$f":"BE29*'13. Diet input'!$T31*100","v":0},{"$f":"BE29*'13. Diet input'!$U31*100","v":0},{"$f":"BF29*(1-'13. Diet input'!$V31)","v":0},null,{"$f":"'13. Diet input'!L31","v":0},{"$f":"BN29*'13. Diet input'!$Q31*100","v":0},{"$f":"BN29*'13. Diet input'!$R31*100","v":0},0,{"$f":"BN29*'13. Diet input'!$S31*100","v":0},{"$f":"BN29*'13. Diet input'!$T31*100","v":0},{"$f":"BN29*'13. Diet input'!$U31*100","v":0},{"$f":"BO29*(1-'13. Diet input'!$V31)","v":0},null,{"$f":"'13. Diet input'!M31","v":0},{"$f":"BW29*'13. Diet input'!$Q31*100","v":0},{"$f":"BW29*'13. Diet input'!$R31*100","v":0},0,{"$f":"BW29*'13. Diet input'!$S31*100","v":0},{"$f":"BW29*'13. Diet input'!$T31*100","v":0},{"$f":"BW29*'13. Diet input'!$U31*100","v":0},{"$f":"BX29*(1-'13. Diet input'!$V31)","v":0},null,{"$f":"'13. Diet input'!N31","v":0},{"$f":"CF29*'13. Diet input'!$Q31*100","v":0},{"$f":"CF29*'13. Diet input'!$R31*100","v":0},0,{"$f":"CF29*'13. Diet input'!$S31*100","v":0},{"$f":"CF29*'13. Diet input'!$T31*100","v":0},{"$f":"CF29*'13. Diet input'!$U31*100","v":0},{"$f":"CG29*(1-'13. Diet input'!$V31)","v":0},null,{"$f":"'13. Diet input'!O31","v":0},{"$f":"CO29*'13. Diet input'!$Q31*100","v":0},{"$f":"CO29*'13. Diet input'!$R31*100","v":0},0,{"$f":"CO29*'13. Diet input'!$S31*100","v":0},{"$f":"CO29*'13. Diet input'!$T31*100","v":0},{"$f":"CO29*'13. Diet input'!$U31*100","v":0},{"$f":"CP29*(1-'13. Diet input'!$V31)","v":0}]
[null,{"$f":"'13. Diet input'!B32","v":"Brewers Grains"},{"$f":"'13. Diet input'!E32","v":0},{"$f":"C30*'13. Diet input'!$Q32*100","v":0},{"$f":"C30*'13. Diet input'!$R32*100","v":0},0,{"$f":"C30*'13. Diet input'!$S32*100","v":0},{"$f":"C30*'13. Diet input'!$T32*100","v":0},{"$f":"C30*'13. Diet input'!$U32*100","v":0},{"$f":"D30*(1-'13. Diet input'!$V32)","v":0},null,{"$f":"'13. Diet input'!F32","v":0},{"$f":"L30*'13. Diet input'!$Q32*100","v":0},{"$f":"L30*'13. Diet input'!$R32*100","v":0},0,{"$f":"L30*'13. Diet input'!$S32*100","v":0},{"$f":"L30*'13. Diet input'!$T32*100","v":0},{"$f":"L30*'13. Diet input'!$U32*100","v":0},{"$f":"M30*(1-'13. Diet input'!$V32)","v":0},null,{"$f":"'13. Diet input'!G32","v":0},{"$f":"U30*'13. Diet input'!$Q32*100","v":0},{"$f":"U30*'13. Diet input'!$R32*100","v":0},0,{"$f":"U30*'13. Diet input'!$S32*100","v":0},{"$f":"U30*'13. Diet input'!$T32*100","v":0},{"$f":"U30*'13. Diet input'!$U32*100","v":0},{"$f":"V30*(1-'13. Diet input'!$V32)","v":0},null,{"$f":"'13. Diet input'!H32","v":0},{"$f":"AD30*'13. Diet input'!$Q32*100","v":0},{"$f":"AD30*'13. Diet input'!$R32*100","v":0},0,{"$f":"AD30*'13. Diet input'!$S32*100","v":0},{"$f":"AD30*'13. Diet input'!$T32*100","v":0},{"$f":"AD30*'13. Diet input'!$U32*100","v":0},{"$f":"AE30*(1-'13. Diet input'!$V32)","v":0},null,{"$f":"'13. Diet input'!I32","v":0},{"$f":"AM30*'13. Diet input'!$Q32*100","v":0},{"$f":"AM30*'13. Diet input'!$R32*100","v":0},0,{"$f":"AM30*'13. Diet input'!$S32*100","v":0},{"$f":"AM30*'13. Diet input'!$T32*100","v":0},{"$f":"AM30*'13. Diet input'!$U32*100","v":0},{"$f":"AN30*(1-'13. Diet input'!$V32)","v":0},null,{"$f":"'13. Diet input'!J32","v":0},{"$f":"AV30*'13. Diet input'!$Q32*100","v":0},{"$f":"AV30*'13. Diet input'!$R32*100","v":0},0,{"$f":"AV30*'13. Diet input'!$S32*100","v":0},{"$f":"AV30*'13. Diet input'!$T32*100","v":0},{"$f":"AV30*'13. Diet input'!$U32*100","v":0},{"$f":"AW30*(1-'13. Diet input'!$V32)","v":0},null,{"$f":"'13. Diet input'!K32","v":0},{"$f":"BE30*'13. Diet input'!$Q32*100","v":0},{"$f":"BE30*'13. Diet input'!$R32*100","v":0},0,{"$f":"BE30*'13. Diet input'!$S32*100","v":0},{"$f":"BE30*'13. Diet input'!$T32*100","v":0},{"$f":"BE30*'13. Diet input'!$U32*100","v":0},{"$f":"BF30*(1-'13. Diet input'!$V32)","v":0},null,{"$f":"'13. Diet input'!L32","v":0},{"$f":"BN30*'13. Diet input'!$Q32*100","v":0},{"$f":"BN30*'13. Diet input'!$R32*100","v":0},0,{"$f":"BN30*'13. Diet input'!$S32*100","v":0},{"$f":"BN30*'13. Diet input'!$T32*100","v":0},{"$f":"BN30*'13. Diet input'!$U32*100","v":0},{"$f":"BO30*(1-'13. Diet input'!$V32)","v":0},null,{"$f":"'13. Diet input'!M32","v":0},{"$f":"BW30*'13. Diet input'!$Q32*100","v":0},{"$f":"BW30*'13. Diet input'!$R32*100","v":0},0,{"$f":"BW30*'13. Diet input'!$S32*100","v":0},{"$f":"BW30*'13. Diet input'!$T32*100","v":0},{"$f":"BW30*'13. Diet input'!$U32*100","v":0},{"$f":"BX30*(1-'13. Diet input'!$V32)","v":0},null,{"$f":"'13. Diet input'!N32","v":0},{"$f":"CF30*'13. Diet input'!$Q32*100","v":0},{"$f":"CF30*'13. Diet input'!$R32*100","v":0},0,{"$f":"CF30*'13. Diet input'!$S32*100","v":0},{"$f":"CF30*'13. Diet input'!$T32*100","v":0},{"$f":"CF30*'13. Diet input'!$U32*100","v":0},{"$f":"CG30*(1-'13. Diet input'!$V32)","v":0},null,{"$f":"'13. Diet input'!O32","v":0},{"$f":"CO30*'13. Diet input'!$Q32*100","v":0},{"$f":"CO30*'13. Diet input'!$R32*100","v":0},0,{"$f":"CO30*'13. Diet input'!$S32*100","v":0},{"$f":"CO30*'13. Diet input'!$T32*100","v":0},{"$f":"CO30*'13. Diet input'!$U32*100","v":0},{"$f":"CP30*(1-'13. Diet input'!$V32)","v":0}]
[null,{"$f":"'13. Diet input'!B33","v":"Distller's Dried Grains & Solubles (DDGS)"},{"$f":"'13. Diet input'!E33","v":0},{"$f":"C31*'13. Diet input'!$Q33*100","v":0},{"$f":"C31*'13. Diet input'!$R33*100","v":0},0,{"$f":"C31*'13. Diet input'!$S33*100","v":0},{"$f":"C31*'13. Diet input'!$T33*100","v":0},{"$f":"C31*'13. Diet input'!$U33*100","v":0},{"$f":"D31*(1-'13. Diet input'!$V33)","v":0},null,{"$f":"'13. Diet input'!F33","v":0},{"$f":"L31*'13. Diet input'!$Q33*100","v":0},{"$f":"L31*'13. Diet input'!$R33*100","v":0},0,{"$f":"L31*'13. Diet input'!$S33*100","v":0},{"$f":"L31*'13. Diet input'!$T33*100","v":0},{"$f":"L31*'13. Diet input'!$U33*100","v":0},{"$f":"M31*(1-'13. Diet input'!$V33)","v":0},null,{"$f":"'13. Diet input'!G33","v":0},{"$f":"U31*'13. Diet input'!$Q33*100","v":0},{"$f":"U31*'13. Diet input'!$R33*100","v":0},0,{"$f":"U31*'13. Diet input'!$S33*100","v":0},{"$f":"U31*'13. Diet input'!$T33*100","v":0},{"$f":"U31*'13. Diet input'!$U33*100","v":0},{"$f":"V31*(1-'13. Diet input'!$V33)","v":0},null,{"$f":"'13. Diet input'!H33","v":0},{"$f":"AD31*'13. Diet input'!$Q33*100","v":0},{"$f":"AD31*'13. Diet input'!$R33*100","v":0},0,{"$f":"AD31*'13. Diet input'!$S33*100","v":0},{"$f":"AD31*'13. Diet input'!$T33*100","v":0},{"$f":"AD31*'13. Diet input'!$U33*100","v":0},{"$f":"AE31*(1-'13. Diet input'!$V33)","v":0},null,{"$f":"'13. Diet input'!I33","v":0},{"$f":"AM31*'13. Diet input'!$Q33*100","v":0},{"$f":"AM31*'13. Diet input'!$R33*100","v":0},0,{"$f":"AM31*'13. Diet input'!$S33*100","v":0},{"$f":"AM31*'13. Diet input'!$T33*100","v":0},{"$f":"AM31*'13. Diet input'!$U33*100","v":0},{"$f":"AN31*(1-'13. Diet input'!$V33)","v":0},null,{"$f":"'13. Diet input'!J33","v":0},{"$f":"AV31*'13. Diet input'!$Q33*100","v":0},{"$f":"AV31*'13. Diet input'!$R33*100","v":0},0,{"$f":"AV31*'13. Diet input'!$S33*100","v":0},{"$f":"AV31*'13. Diet input'!$T33*100","v":0},{"$f":"AV31*'13. Diet input'!$U33*100","v":0},{"$f":"AW31*(1-'13. Diet input'!$V33)","v":0},null,{"$f":"'13. Diet input'!K33","v":0},{"$f":"BE31*'13. Diet input'!$Q33*100","v":0},{"$f":"BE31*'13. Diet input'!$R33*100","v":0},0,{"$f":"BE31*'13. Diet input'!$S33*100","v":0},{"$f":"BE31*'13. Diet input'!$T33*100","v":0},{"$f":"BE31*'13. Diet input'!$U33*100","v":0},{"$f":"BF31*(1-'13. Diet input'!$V33)","v":0},null,{"$f":"'13. Diet input'!L33","v":0},{"$f":"BN31*'13. Diet input'!$Q33*100","v":0},{"$f":"BN31*'13. Diet input'!$R33*100","v":0},0,{"$f":"BN31*'13. Diet input'!$S33*100","v":0},{"$f":"BN31*'13. Diet input'!$T33*100","v":0},{"$f":"BN31*'13. Diet input'!$U33*100","v":0},{"$f":"BO31*(1-'13. Diet input'!$V33)","v":0},null,{"$f":"'13. Diet input'!M33","v":0},{"$f":"BW31*'13. Diet input'!$Q33*100","v":0},{"$f":"BW31*'13. Diet input'!$R33*100","v":0},0,{"$f":"BW31*'13. Diet input'!$S33*100","v":0},{"$f":"BW31*'13. Diet input'!$T33*100","v":0},{"$f":"BW31*'13. Diet input'!$U33*100","v":0},{"$f":"BX31*(1-'13. Diet input'!$V33)","v":0},null,{"$f":"'13. Diet input'!N33","v":0},{"$f":"CF31*'13. Diet input'!$Q33*100","v":0},{"$f":"CF31*'13. Diet input'!$R33*100","v":0},0,{"$f":"CF31*'13. Diet input'!$S33*100","v":0},{"$f":"CF31*'13. Diet input'!$T33*100","v":0},{"$f":"CF31*'13. Diet input'!$U33*100","v":0},{"$f":"CG31*(1-'13. Diet input'!$V33)","v":0},null,{"$f":"'13. Diet input'!O33","v":0},{"$f":"CO31*'13. Diet input'!$Q33*100","v":0},{"$f":"CO31*'13. Diet input'!$R33*100","v":0},0,{"$f":"CO31*'13. Diet input'!$S33*100","v":0},{"$f":"CO31*'13. Diet input'!$T33*100","v":0},{"$f":"CO31*'13. Diet input'!$U33*100","v":0},{"$f":"CP31*(1-'13. Diet input'!$V33)","v":0}]
[null,{"$f":"'13. Diet input'!B34","v":"Molasses"},{"$f":"'13. Diet input'!E34","v":0},{"$f":"C32*'13. Diet input'!$Q34*100","v":0},{"$f":"C32*'13. Diet input'!$R34*100","v":0},0,{"$f":"C32*'13. Diet input'!$S34*100","v":0},{"$f":"C32*'13. Diet input'!$T34*100","v":0},{"$f":"C32*'13. Diet input'!$U34*100","v":0},{"$f":"D32*(1-'13. Diet input'!$V34)","v":0},null,{"$f":"'13. Diet input'!F34","v":0},{"$f":"L32*'13. Diet input'!$Q34*100","v":0},{"$f":"L32*'13. Diet input'!$R34*100","v":0},0,{"$f":"L32*'13. Diet input'!$S34*100","v":0},{"$f":"L32*'13. Diet input'!$T34*100","v":0},{"$f":"L32*'13. Diet input'!$U34*100","v":0},{"$f":"M32*(1-'13. Diet input'!$V34)","v":0},null,{"$f":"'13. Diet input'!G34","v":0},{"$f":"U32*'13. Diet input'!$Q34*100","v":0},{"$f":"U32*'13. Diet input'!$R34*100","v":0},0,{"$f":"U32*'13. Diet input'!$S34*100","v":0},{"$f":"U32*'13. Diet input'!$T34*100","v":0},{"$f":"U32*'13. Diet input'!$U34*100","v":0},{"$f":"V32*(1-'13. Diet input'!$V34)","v":0},null,{"$f":"'13. Diet input'!H34","v":0},{"$f":"AD32*'13. Diet input'!$Q34*100","v":0},{"$f":"AD32*'13. Diet input'!$R34*100","v":0},0,{"$f":"AD32*'13. Diet input'!$S34*100","v":0},{"$f":"AD32*'13. Diet input'!$T34*100","v":0},{"$f":"AD32*'13. Diet input'!$U34*100","v":0},{"$f":"AE32*(1-'13. Diet input'!$V34)","v":0},null,{"$f":"'13. Diet input'!I34","v":0},{"$f":"AM32*'13. Diet input'!$Q34*100","v":0},{"$f":"AM32*'13. Diet input'!$R34*100","v":0},0,{"$f":"AM32*'13. Diet input'!$S34*100","v":0},{"$f":"AM32*'13. Diet input'!$T34*100","v":0},{"$f":"AM32*'13. Diet input'!$U34*100","v":0},{"$f":"AN32*(1-'13. Diet input'!$V34)","v":0},null,{"$f":"'13. Diet input'!J34","v":0},{"$f":"AV32*'13. Diet input'!$Q34*100","v":0},{"$f":"AV32*'13. Diet input'!$R34*100","v":0},0,{"$f":"AV32*'13. Diet input'!$S34*100","v":0},{"$f":"AV32*'13. Diet input'!$T34*100","v":0},{"$f":"AV32*'13. Diet input'!$U34*100","v":0},{"$f":"AW32*(1-'13. Diet input'!$V34)","v":0},null,{"$f":"'13. Diet input'!K34","v":0},{"$f":"BE32*'13. Diet input'!$Q34*100","v":0},{"$f":"BE32*'13. Diet input'!$R34*100","v":0},0,{"$f":"BE32*'13. Diet input'!$S34*100","v":0},{"$f":"BE32*'13. Diet input'!$T34*100","v":0},{"$f":"BE32*'13. Diet input'!$U34*100","v":0},{"$f":"BF32*(1-'13. Diet input'!$V34)","v":0},null,{"$f":"'13. Diet input'!L34","v":0},{"$f":"BN32*'13. Diet input'!$Q34*100","v":0},{"$f":"BN32*'13. Diet input'!$R34*100","v":0},0,{"$f":"BN32*'13. Diet input'!$S34*100","v":0},{"$f":"BN32*'13. Diet input'!$T34*100","v":0},{"$f":"BN32*'13. Diet input'!$U34*100","v":0},{"$f":"BO32*(1-'13. Diet input'!$V34)","v":0},null,{"$f":"'13. Diet input'!M34","v":0},{"$f":"BW32*'13. Diet input'!$Q34*100","v":0},{"$f":"BW32*'13. Diet input'!$R34*100","v":0},0,{"$f":"BW32*'13. Diet input'!$S34*100","v":0},{"$f":"BW32*'13. Diet input'!$T34*100","v":0},{"$f":"BW32*'13. Diet input'!$U34*100","v":0},{"$f":"BX32*(1-'13. Diet input'!$V34)","v":0},null,{"$f":"'13. Diet input'!N34","v":0},{"$f":"CF32*'13. Diet input'!$Q34*100","v":0},{"$f":"CF32*'13. Diet input'!$R34*100","v":0},0,{"$f":"CF32*'13. Diet input'!$S34*100","v":0},{"$f":"CF32*'13. Diet input'!$T34*100","v":0},{"$f":"CF32*'13. Diet input'!$U34*100","v":0},{"$f":"CG32*(1-'13. Diet input'!$V34)","v":0},null,{"$f":"'13. Diet input'!O34","v":0},{"$f":"CO32*'13. Diet input'!$Q34*100","v":0},{"$f":"CO32*'13. Diet input'!$R34*100","v":0},0,{"$f":"CO32*'13. Diet input'!$S34*100","v":0},{"$f":"CO32*'13. Diet input'!$T34*100","v":0},{"$f":"CO32*'13. Diet input'!$U34*100","v":0},{"$f":"CP32*(1-'13. Diet input'!$V34)","v":0}]
[null,{"$f":"'13. Diet input'!B35","v":"Peanut shell"},{"$f":"'13. Diet input'!E35","v":0},{"$f":"C33*'13. Diet input'!$Q35*100","v":0},{"$f":"C33*'13. Diet input'!$R35*100","v":0},0,{"$f":"C33*'13. Diet input'!$S35*100","v":0},{"$f":"C33*'13. Diet input'!$T35*100","v":0},{"$f":"C33*'13. Diet input'!$U35*100","v":0},{"$f":"D33*(1-'13. Diet input'!$V35)","v":0},null,{"$f":"'13. Diet input'!F35","v":0},{"$f":"L33*'13. Diet input'!$Q35*100","v":0},{"$f":"L33*'13. Diet input'!$R35*100","v":0},0,{"$f":"L33*'13. Diet input'!$S35*100","v":0},{"$f":"L33*'13. Diet input'!$T35*100","v":0},{"$f":"L33*'13. Diet input'!$U35*100","v":0},{"$f":"M33*(1-'13. Diet input'!$V35)","v":0},null,{"$f":"'13. Diet input'!G35","v":0},{"$f":"U33*'13. Diet input'!$Q35*100","v":0},{"$f":"U33*'13. Diet input'!$R35*100","v":0},0,{"$f":"U33*'13. Diet input'!$S35*100","v":0},{"$f":"U33*'13. Diet input'!$T35*100","v":0},{"$f":"U33*'13. Diet input'!$U35*100","v":0},{"$f":"V33*(1-'13. Diet input'!$V35)","v":0},null,{"$f":"'13. Diet input'!H35","v":0},{"$f":"AD33*'13. Diet input'!$Q35*100","v":0},{"$f":"AD33*'13. Diet input'!$R35*100","v":0},0,{"$f":"AD33*'13. Diet input'!$S35*100","v":0},{"$f":"AD33*'13. Diet input'!$T35*100","v":0},{"$f":"AD33*'13. Diet input'!$U35*100","v":0},{"$f":"AE33*(1-'13. Diet input'!$V35)","v":0},null,{"$f":"'13. Diet input'!I35","v":0},{"$f":"AM33*'13. Diet input'!$Q35*100","v":0},{"$f":"AM33*'13. Diet input'!$R35*100","v":0},0,{"$f":"AM33*'13. Diet input'!$S35*100","v":0},{"$f":"AM33*'13. Diet input'!$T35*100","v":0},{"$f":"AM33*'13. Diet input'!$U35*100","v":0},{"$f":"AN33*(1-'13. Diet input'!$V35)","v":0},null,{"$f":"'13. Diet input'!J35","v":0},{"$f":"AV33*'13. Diet input'!$Q35*100","v":0},{"$f":"AV33*'13. Diet input'!$R35*100","v":0},0,{"$f":"AV33*'13. Diet input'!$S35*100","v":0},{"$f":"AV33*'13. Diet input'!$T35*100","v":0},{"$f":"AV33*'13. Diet input'!$U35*100","v":0},{"$f":"AW33*(1-'13. Diet input'!$V35)","v":0},null,{"$f":"'13. Diet input'!K35","v":0},{"$f":"BE33*'13. Diet input'!$Q35*100","v":0},{"$f":"BE33*'13. Diet input'!$R35*100","v":0},0,{"$f":"BE33*'13. Diet input'!$S35*100","v":0},{"$f":"BE33*'13. Diet input'!$T35*100","v":0},{"$f":"BE33*'13. Diet input'!$U35*100","v":0},{"$f":"BF33*(1-'13. Diet input'!$V35)","v":0},null,{"$f":"'13. Diet input'!L35","v":0},{"$f":"BN33*'13. Diet input'!$Q35*100","v":0},{"$f":"BN33*'13. Diet input'!$R35*100","v":0},0,{"$f":"BN33*'13. Diet input'!$S35*100","v":0},{"$f":"BN33*'13. Diet input'!$T35*100","v":0},{"$f":"BN33*'13. Diet input'!$U35*100","v":0},{"$f":"BO33*(1-'13. Diet input'!$V35)","v":0},null,{"$f":"'13. Diet input'!M35","v":0},{"$f":"BW33*'13. Diet input'!$Q35*100","v":0},{"$f":"BW33*'13. Diet input'!$R35*100","v":0},0,{"$f":"BW33*'13. Diet input'!$S35*100","v":0},{"$f":"BW33*'13. Diet input'!$T35*100","v":0},{"$f":"BW33*'13. Diet input'!$U35*100","v":0},{"$f":"BX33*(1-'13. Diet input'!$V35)","v":0},null,{"$f":"'13. Diet input'!N35","v":0},{"$f":"CF33*'13. Diet input'!$Q35*100","v":0},{"$f":"CF33*'13. Diet input'!$R35*100","v":0},0,{"$f":"CF33*'13. Diet input'!$S35*100","v":0},{"$f":"CF33*'13. Diet input'!$T35*100","v":0},{"$f":"CF33*'13. Diet input'!$U35*100","v":0},{"$f":"CG33*(1-'13. Diet input'!$V35)","v":0},null,{"$f":"'13. Diet input'!O35","v":0},{"$f":"CO33*'13. Diet input'!$Q35*100","v":0},{"$f":"CO33*'13. Diet input'!$R35*100","v":0},0,{"$f":"CO33*'13. Diet input'!$S35*100","v":0},{"$f":"CO33*'13. Diet input'!$T35*100","v":0},{"$f":"CO33*'13. Diet input'!$U35*100","v":0},{"$f":"CP33*(1-'13. Diet input'!$V35)","v":0}]
[null,{"$f":"'13. Diet input'!B36","v":"Sugar"},{"$f":"'13. Diet input'!E36","v":0},{"$f":"C34*'13. Diet input'!$Q36*100","v":0},{"$f":"C34*'13. Diet input'!$R36*100","v":0},0,{"$f":"C34*'13. Diet input'!$S36*100","v":0},{"$f":"C34*'13. Diet input'!$T36*100","v":0},{"$f":"C34*'13. Diet input'!$U36*100","v":0},{"$f":"D34*(1-'13. Diet input'!$V36)","v":0},null,{"$f":"'13. Diet input'!F36","v":0},{"$f":"L34*'13. Diet input'!$Q36*100","v":0},{"$f":"L34*'13. Diet input'!$R36*100","v":0},0,{"$f":"L34*'13. Diet input'!$S36*100","v":0},{"$f":"L34*'13. Diet input'!$T36*100","v":0},{"$f":"L34*'13. Diet input'!$U36*100","v":0},{"$f":"M34*(1-'13. Diet input'!$V36)","v":0},null,{"$f":"'13. Diet input'!G36","v":0},{"$f":"U34*'13. Diet input'!$Q36*100","v":0},{"$f":"U34*'13. Diet input'!$R36*100","v":0},0,{"$f":"U34*'13. Diet input'!$S36*100","v":0},{"$f":"U34*'13. Diet input'!$T36*100","v":0},{"$f":"U34*'13. Diet input'!$U36*100","v":0},{"$f":"V34*(1-'13. Diet input'!$V36)","v":0},null,{"$f":"'13. Diet input'!H36","v":0},{"$f":"AD34*'13. Diet input'!$Q36*100","v":0},{"$f":"AD34*'13. Diet input'!$R36*100","v":0},0,{"$f":"AD34*'13. Diet input'!$S36*100","v":0},{"$f":"AD34*'13. Diet input'!$T36*100","v":0},{"$f":"AD34*'13. Diet input'!$U36*100","v":0},{"$f":"AE34*(1-'13. Diet input'!$V36)","v":0},null,{"$f":"'13. Diet input'!I36","v":0},{"$f":"AM34*'13. Diet input'!$Q36*100","v":0},{"$f":"AM34*'13. Diet input'!$R36*100","v":0},0,{"$f":"AM34*'13. Diet input'!$S36*100","v":0},{"$f":"AM34*'13. Diet input'!$T36*100","v":0},{"$f":"AM34*'13. Diet input'!$U36*100","v":0},{"$f":"AN34*(1-'13. Diet input'!$V36)","v":0},null,{"$f":"'13. Diet input'!J36","v":0},{"$f":"AV34*'13. Diet input'!$Q36*100","v":0},{"$f":"AV34*'13. Diet input'!$R36*100","v":0},0,{"$f":"AV34*'13. Diet input'!$S36*100","v":0},{"$f":"AV34*'13. Diet input'!$T36*100","v":0},{"$f":"AV34*'13. Diet input'!$U36*100","v":0},{"$f":"AW34*(1-'13. Diet input'!$V36)","v":0},null,{"$f":"'13. Diet input'!K36","v":0},{"$f":"BE34*'13. Diet input'!$Q36*100","v":0},{"$f":"BE34*'13. Diet input'!$R36*100","v":0},0,{"$f":"BE34*'13. Diet input'!$S36*100","v":0},{"$f":"BE34*'13. Diet input'!$T36*100","v":0},{"$f":"BE34*'13. Diet input'!$U36*100","v":0},{"$f":"BF34*(1-'13. Diet input'!$V36)","v":0},null,{"$f":"'13. Diet input'!L36","v":0},{"$f":"BN34*'13. Diet input'!$Q36*100","v":0},{"$f":"BN34*'13. Diet input'!$R36*100","v":0},0,{"$f":"BN34*'13. Diet input'!$S36*100","v":0},{"$f":"BN34*'13. Diet input'!$T36*100","v":0},{"$f":"BN34*'13. Diet input'!$U36*100","v":0},{"$f":"BO34*(1-'13. Diet input'!$V36)","v":0},null,{"$f":"'13. Diet input'!M36","v":0},{"$f":"BW34*'13. Diet input'!$Q36*100","v":0},{"$f":"BW34*'13. Diet input'!$R36*100","v":0},0,{"$f":"BW34*'13. Diet input'!$S36*100","v":0},{"$f":"BW34*'13. Diet input'!$T36*100","v":0},{"$f":"BW34*'13. Diet input'!$U36*100","v":0},{"$f":"BX34*(1-'13. Diet input'!$V36)","v":0},null,{"$f":"'13. Diet input'!N36","v":0},{"$f":"CF34*'13. Diet input'!$Q36*100","v":0},{"$f":"CF34*'13. Diet input'!$R36*100","v":0},0,{"$f":"CF34*'13. Diet input'!$S36*100","v":0},{"$f":"CF34*'13. Diet input'!$T36*100","v":0},{"$f":"CF34*'13. Diet input'!$U36*100","v":0},{"$f":"CG34*(1-'13. Diet input'!$V36)","v":0},null,{"$f":"'13. Diet input'!O36","v":0},{"$f":"CO34*'13. Diet input'!$Q36*100","v":0},{"$f":"CO34*'13. Diet input'!$R36*100","v":0},0,{"$f":"CO34*'13. Diet input'!$S36*100","v":0},{"$f":"CO34*'13. Diet input'!$T36*100","v":0},{"$f":"CO34*'13. Diet input'!$U36*100","v":0},{"$f":"CP34*(1-'13. Diet input'!$V36)","v":0}]
[null,"Pulses"]
[null,{"$f":"'13. Diet input'!B38","v":"Faba beans"},{"$f":"'13. Diet input'!E38","v":0},{"$f":"C36*'13. Diet input'!$Q38*100","v":0},{"$f":"C36*'13. Diet input'!$R38*100","v":0},0,{"$f":"C36*'13. Diet input'!$S38*100","v":0},{"$f":"C36*'13. Diet input'!$T38*100","v":0},{"$f":"C36*'13. Diet input'!$U38*100","v":0},{"$f":"D36*(1-'13. Diet input'!$V38)","v":0},null,{"$f":"'13. Diet input'!F38","v":0},{"$f":"L36*'13. Diet input'!$Q38*100","v":0},{"$f":"L36*'13. Diet input'!$R38*100","v":0},0,{"$f":"L36*'13. Diet input'!$S38*100","v":0},{"$f":"L36*'13. Diet input'!$T38*100","v":0},{"$f":"L36*'13. Diet input'!$U38*100","v":0},{"$f":"M36*(1-'13. Diet input'!$V38)","v":0},null,{"$f":"'13. Diet input'!G38","v":0},{"$f":"U36*'13. Diet input'!$Q38*100","v":0},{"$f":"U36*'13. Diet input'!$R38*100","v":0},0,{"$f":"U36*'13. Diet input'!$S38*100","v":0},{"$f":"U36*'13. Diet input'!$T38*100","v":0},{"$f":"U36*'13. Diet input'!$U38*100","v":0},{"$f":"V36*(1-'13. Diet input'!$V38)","v":0},null,{"$f":"'13. Diet input'!H38","v":0},{"$f":"AD36*'13. Diet input'!$Q38*100","v":0},{"$f":"AD36*'13. Diet input'!$R38*100","v":0},0,{"$f":"AD36*'13. Diet input'!$S38*100","v":0},{"$f":"AD36*'13. Diet input'!$T38*100","v":0},{"$f":"AD36*'13. Diet input'!$U38*100","v":0},{"$f":"AE36*(1-'13. Diet input'!$V38)","v":0},null,{"$f":"'13. Diet input'!I38","v":0},{"$f":"AM36*'13. Diet input'!$Q38*100","v":0},{"$f":"AM36*'13. Diet input'!$R38*100","v":0},0,{"$f":"AM36*'13. Diet input'!$S38*100","v":0},{"$f":"AM36*'13. Diet input'!$T38*100","v":0},{"$f":"AM36*'13. Diet input'!$U38*100","v":0},{"$f":"AN36*(1-'13. Diet input'!$V38)","v":0},null,{"$f":"'13. Diet input'!J38","v":0},{"$f":"AV36*'13. Diet input'!$Q38*100","v":0},{"$f":"AV36*'13. Diet input'!$R38*100","v":0},0,{"$f":"AV36*'13. Diet input'!$S38*100","v":0},{"$f":"AV36*'13. Diet input'!$T38*100","v":0},{"$f":"AV36*'13. Diet input'!$U38*100","v":0},{"$f":"AW36*(1-'13. Diet input'!$V38)","v":0},null,{"$f":"'13. Diet input'!K38","v":0},{"$f":"BE36*'13. Diet input'!$Q38*100","v":0},{"$f":"BE36*'13. Diet input'!$R38*100","v":0},0,{"$f":"BE36*'13. Diet input'!$S38*100","v":0},{"$f":"BE36*'13. Diet input'!$T38*100","v":0},{"$f":"BE36*'13. Diet input'!$U38*100","v":0},{"$f":"BF36*(1-'13. Diet input'!$V38)","v":0},null,{"$f":"'13. Diet input'!L38","v":0},{"$f":"BN36*'13. Diet input'!$Q38*100","v":0},{"$f":"BN36*'13. Diet input'!$R38*100","v":0},0,{"$f":"BN36*'13. Diet input'!$S38*100","v":0},{"$f":"BN36*'13. Diet input'!$T38*100","v":0},{"$f":"BN36*'13. Diet input'!$U38*100","v":0},{"$f":"BO36*(1-'13. Diet input'!$V38)","v":0},null,{"$f":"'13. Diet input'!M38","v":0},{"$f":"BW36*'13. Diet input'!$Q38*100","v":0},{"$f":"BW36*'13. Diet input'!$R38*100","v":0},0,{"$f":"BW36*'13. Diet input'!$S38*100","v":0},{"$f":"BW36*'13. Diet input'!$T38*100","v":0},{"$f":"BW36*'13. Diet input'!$U38*100","v":0},{"$f":"BX36*(1-'13. Diet input'!$V38)","v":0},null,{"$f":"'13. Diet input'!N38","v":0},{"$f":"CF36*'13. Diet input'!$Q38*100","v":0},{"$f":"CF36*'13. Diet input'!$R38*100","v":0},0,{"$f":"CF36*'13. Diet input'!$S38*100","v":0},{"$f":"CF36*'13. Diet input'!$T38*100","v":0},{"$f":"CF36*'13. Diet input'!$U38*100","v":0},{"$f":"CG36*(1-'13. Diet input'!$V38)","v":0},null,{"$f":"'13. Diet input'!O38","v":0},{"$f":"CO36*'13. Diet input'!$Q38*100","v":0},{"$f":"CO36*'13. Diet input'!$R38*100","v":0},0,{"$f":"CO36*'13. Diet input'!$S38*100","v":0},{"$f":"CO36*'13. Diet input'!$T38*100","v":0},{"$f":"CO36*'13. Diet input'!$U38*100","v":0},{"$f":"CP36*(1-'13. Diet input'!$V38)","v":0}]
[null,{"$f":"'13. Diet input'!B39","v":"Lupins, albus"},{"$f":"'13. Diet input'!E39","v":0},{"$f":"C37*'13. Diet input'!$Q39*100","v":0},{"$f":"C37*'13. Diet input'!$R39*100","v":0},0,{"$f":"C37*'13. Diet input'!$S39*100","v":0},{"$f":"C37*'13. Diet input'!$T39*100","v":0},{"$f":"C37*'13. Diet input'!$U39*100","v":0},{"$f":"D37*(1-'13. Diet input'!$V39)","v":0},null,{"$f":"'13. Diet input'!F39","v":0},{"$f":"L37*'13. Diet input'!$Q39*100","v":0},{"$f":"L37*'13. Diet input'!$R39*100","v":0},0,{"$f":"L37*'13. Diet input'!$S39*100","v":0},{"$f":"L37*'13. Diet input'!$T39*100","v":0},{"$f":"L37*'13. Diet input'!$U39*100","v":0},{"$f":"M37*(1-'13. Diet input'!$V39)","v":0},null,{"$f":"'13. Diet input'!G39","v":0},{"$f":"U37*'13. Diet input'!$Q39*100","v":0},{"$f":"U37*'13. Diet input'!$R39*100","v":0},0,{"$f":"U37*'13. Diet input'!$S39*100","v":0},{"$f":"U37*'13. Diet input'!$T39*100","v":0},{"$f":"U37*'13. Diet input'!$U39*100","v":0},{"$f":"V37*(1-'13. Diet input'!$V39)","v":0},null,{"$f":"'13. Diet input'!H39","v":0},{"$f":"AD37*'13. Diet input'!$Q39*100","v":0},{"$f":"AD37*'13. Diet input'!$R39*100","v":0},0,{"$f":"AD37*'13. Diet input'!$S39*100","v":0},{"$f":"AD37*'13. Diet input'!$T39*100","v":0},{"$f":"AD37*'13. Diet input'!$U39*100","v":0},{"$f":"AE37*(1-'13. Diet input'!$V39)","v":0},null,{"$f":"'13. Diet input'!I39","v":0},{"$f":"AM37*'13. Diet input'!$Q39*100","v":0},{"$f":"AM37*'13. Diet input'!$R39*100","v":0},0,{"$f":"AM37*'13. Diet input'!$S39*100","v":0},{"$f":"AM37*'13. Diet input'!$T39*100","v":0},{"$f":"AM37*'13. Diet input'!$U39*100","v":0},{"$f":"AN37*(1-'13. Diet input'!$V39)","v":0},null,{"$f":"'13. Diet input'!J39","v":0},{"$f":"AV37*'13. Diet input'!$Q39*100","v":0},{"$f":"AV37*'13. Diet input'!$R39*100","v":0},0,{"$f":"AV37*'13. Diet input'!$S39*100","v":0},{"$f":"AV37*'13. Diet input'!$T39*100","v":0},{"$f":"AV37*'13. Diet input'!$U39*100","v":0},{"$f":"AW37*(1-'13. Diet input'!$V39)","v":0},null,{"$f":"'13. Diet input'!K39","v":0},{"$f":"BE37*'13. Diet input'!$Q39*100","v":0},{"$f":"BE37*'13. Diet input'!$R39*100","v":0},0,{"$f":"BE37*'13. Diet input'!$S39*100","v":0},{"$f":"BE37*'13. Diet input'!$T39*100","v":0},{"$f":"BE37*'13. Diet input'!$U39*100","v":0},{"$f":"BF37*(1-'13. Diet input'!$V39)","v":0},null,{"$f":"'13. Diet input'!L39","v":0},{"$f":"BN37*'13. Diet input'!$Q39*100","v":0},{"$f":"BN37*'13. Diet input'!$R39*100","v":0},0,{"$f":"BN37*'13. Diet input'!$S39*100","v":0},{"$f":"BN37*'13. Diet input'!$T39*100","v":0},{"$f":"BN37*'13. Diet input'!$U39*100","v":0},{"$f":"BO37*(1-'13. Diet input'!$V39)","v":0},null,{"$f":"'13. Diet input'!M39","v":0},{"$f":"BW37*'13. Diet input'!$Q39*100","v":0},{"$f":"BW37*'13. Diet input'!$R39*100","v":0},0,{"$f":"BW37*'13. Diet input'!$S39*100","v":0},{"$f":"BW37*'13. Diet input'!$T39*100","v":0},{"$f":"BW37*'13. Diet input'!$U39*100","v":0},{"$f":"BX37*(1-'13. Diet input'!$V39)","v":0},null,{"$f":"'13. Diet input'!N39","v":0},{"$f":"CF37*'13. Diet input'!$Q39*100","v":0},{"$f":"CF37*'13. Diet input'!$R39*100","v":0},0,{"$f":"CF37*'13. Diet input'!$S39*100","v":0},{"$f":"CF37*'13. Diet input'!$T39*100","v":0},{"$f":"CF37*'13. Diet input'!$U39*100","v":0},{"$f":"CG37*(1-'13. Diet input'!$V39)","v":0},null,{"$f":"'13. Diet input'!O39","v":0},{"$f":"CO37*'13. Diet input'!$Q39*100","v":0},{"$f":"CO37*'13. Diet input'!$R39*100","v":0},0,{"$f":"CO37*'13. Diet input'!$S39*100","v":0},{"$f":"CO37*'13. Diet input'!$T39*100","v":0},{"$f":"CO37*'13. Diet input'!$U39*100","v":0},{"$f":"CP37*(1-'13. Diet input'!$V39)","v":0}]
[null,{"$f":"'13. Diet input'!B40","v":"Lupins, augustifolius"},{"$f":"'13. Diet input'!E40","v":0},{"$f":"C38*'13. Diet input'!$Q40*100","v":0},{"$f":"C38*'13. Diet input'!$R40*100","v":0},0,{"$f":"C38*'13. Diet input'!$S40*100","v":0},{"$f":"C38*'13. Diet input'!$T40*100","v":0},{"$f":"C38*'13. Diet input'!$U40*100","v":0},{"$f":"D38*(1-'13. Diet input'!$V40)","v":0},null,{"$f":"'13. Diet input'!F40","v":0},{"$f":"L38*'13. Diet input'!$Q40*100","v":0},{"$f":"L38*'13. Diet input'!$R40*100","v":0},0,{"$f":"L38*'13. Diet input'!$S40*100","v":0},{"$f":"L38*'13. Diet input'!$T40*100","v":0},{"$f":"L38*'13. Diet input'!$U40*100","v":0},{"$f":"M38*(1-'13. Diet input'!$V40)","v":0},null,{"$f":"'13. Diet input'!G40","v":0},{"$f":"U38*'13. Diet input'!$Q40*100","v":0},{"$f":"U38*'13. Diet input'!$R40*100","v":0},0,{"$f":"U38*'13. Diet input'!$S40*100","v":0},{"$f":"U38*'13. Diet input'!$T40*100","v":0},{"$f":"U38*'13. Diet input'!$U40*100","v":0},{"$f":"V38*(1-'13. Diet input'!$V40)","v":0},null,{"$f":"'13. Diet input'!H40","v":0},{"$f":"AD38*'13. Diet input'!$Q40*100","v":0},{"$f":"AD38*'13. Diet input'!$R40*100","v":0},0,{"$f":"AD38*'13. Diet input'!$S40*100","v":0},{"$f":"AD38*'13. Diet input'!$T40*100","v":0},{"$f":"AD38*'13. Diet input'!$U40*100","v":0},{"$f":"AE38*(1-'13. Diet input'!$V40)","v":0},null,{"$f":"'13. Diet input'!I40","v":7.0000000000000007E-2},{"$f":"AM38*'13. Diet input'!$Q40*100","v":6.160000000000001},{"$f":"AM38*'13. Diet input'!$R40*100","v":0.19600000000000001},5.9640000000000013,{"$f":"AM38*'13. Diet input'!$S40*100","v":0.34160000000000001},{"$f":"AM38*'13. Diet input'!$T40*100","v":2.1000000000000005E-2},{"$f":"AM38*'13. Diet input'!$U40*100","v":5.9500000000000018E-2},{"$f":"AN38*(1-'13. Diet input'!$V40)","v":1.1911602209944756},null,{"$f":"'13. Diet input'!J40","v":0},{"$f":"AV38*'13. Diet input'!$Q40*100","v":0},{"$f":"AV38*'13. Diet input'!$R40*100","v":0},0,{"$f":"AV38*'13. Diet input'!$S40*100","v":0},{"$f":"AV38*'13. Diet input'!$T40*100","v":0},{"$f":"AV38*'13. Diet input'!$U40*100","v":0},{"$f":"AW38*(1-'13. Diet input'!$V40)","v":0},null,{"$f":"'13. Diet input'!K40","v":0},{"$f":"BE38*'13. Diet input'!$Q40*100","v":0},{"$f":"BE38*'13. Diet input'!$R40*100","v":0},0,{"$f":"BE38*'13. Diet input'!$S40*100","v":0},{"$f":"BE38*'13. Diet input'!$T40*100","v":0},{"$f":"BE38*'13. Diet input'!$U40*100","v":0},{"$f":"BF38*(1-'13. Diet input'!$V40)","v":0},null,{"$f":"'13. Diet input'!L40","v":0.05},{"$f":"BN38*'13. Diet input'!$Q40*100","v":4.4000000000000004},{"$f":"BN38*'13. Diet input'!$R40*100","v":0.13999999999999999},4.2600000000000007,{"$f":"BN38*'13. Diet input'!$S40*100","v":0.24399999999999999},{"$f":"BN38*'13. Diet input'!$T40*100","v":1.5000000000000001E-2},{"$f":"BN38*'13. Diet input'!$U40*100","v":4.2500000000000003E-2},{"$f":"BO38*(1-'13. Diet input'!$V40)","v":0.85082872928176834},null,{"$f":"'13. Diet input'!M40","v":0.04},{"$f":"BW38*'13. Diet input'!$Q40*100","v":3.52},{"$f":"BW38*'13. Diet input'!$R40*100","v":0.11199999999999999},3.4079999999999999,{"$f":"BW38*'13. Diet input'!$S40*100","v":0.19519999999999998},{"$f":"BW38*'13. Diet input'!$T40*100","v":1.2E-2},{"$f":"BW38*'13. Diet input'!$U40*100","v":3.4000000000000002E-2},{"$f":"BX38*(1-'13. Diet input'!$V40)","v":0.68066298342541454},null,{"$f":"'13. Diet input'!N40","v":0.04},{"$f":"CF38*'13. Diet input'!$Q40*100","v":3.52},{"$f":"CF38*'13. Diet input'!$R40*100","v":0.11199999999999999},3.4079999999999999,{"$f":"CF38*'13. Diet input'!$S40*100","v":0.19519999999999998},{"$f":"CF38*'13. Diet input'!$T40*100","v":1.2E-2},{"$f":"CF38*'13. Diet input'!$U40*100","v":3.4000000000000002E-2},{"$f":"CG38*(1-'13. Diet input'!$V40)","v":0.68066298342541454},null,{"$f":"'13. Diet input'!O40","v":0.05},{"$f":"CO38*'13. Diet input'!$Q40*100","v":4.4000000000000004},{"$f":"CO38*'13. Diet input'!$R40*100","v":0.13999999999999999},4.2600000000000007,{"$f":"CO38*'13. Diet input'!$S40*100","v":0.24399999999999999},{"$f":"CO38*'13. Diet input'!$T40*100","v":1.5000000000000001E-2},{"$f":"CO38*'13. Diet input'!$U40*100","v":4.2500000000000003E-2},{"$f":"CP38*(1-'13. Diet input'!$V40)","v":0.85082872928176834}]
[null,{"$f":"'13. Diet input'!B41","v":"Chick Peas"},{"$f":"'13. Diet input'!E41","v":0},{"$f":"C39*'13. Diet input'!$Q41*100","v":0},{"$f":"C39*'13. Diet input'!$R41*100","v":0},0,{"$f":"C39*'13. Diet input'!$S41*100","v":0},{"$f":"C39*'13. Diet input'!$T41*100","v":0},{"$f":"C39*'13. Diet input'!$U41*100","v":0},{"$f":"D39*(1-'13. Diet input'!$V41)","v":0},null,{"$f":"'13. Diet input'!F41","v":0},{"$f":"L39*'13. Diet input'!$Q41*100","v":0},{"$f":"L39*'13. Diet input'!$R41*100","v":0},0,{"$f":"L39*'13. Diet input'!$S41*100","v":0},{"$f":"L39*'13. Diet input'!$T41*100","v":0},{"$f":"L39*'13. Diet input'!$U41*100","v":0},{"$f":"M39*(1-'13. Diet input'!$V41)","v":0},null,{"$f":"'13. Diet input'!G41","v":0},{"$f":"U39*'13. Diet input'!$Q41*100","v":0},{"$f":"U39*'13. Diet input'!$R41*100","v":0},0,{"$f":"U39*'13. Diet input'!$S41*100","v":0},{"$f":"U39*'13. Diet input'!$T41*100","v":0},{"$f":"U39*'13. Diet input'!$U41*100","v":0},{"$f":"V39*(1-'13. Diet input'!$V41)","v":0},null,{"$f":"'13. Diet input'!H41","v":0},{"$f":"AD39*'13. Diet input'!$Q41*100","v":0},{"$f":"AD39*'13. Diet input'!$R41*100","v":0},0,{"$f":"AD39*'13. Diet input'!$S41*100","v":0},{"$f":"AD39*'13. Diet input'!$T41*100","v":0},{"$f":"AD39*'13. Diet input'!$U41*100","v":0},{"$f":"AE39*(1-'13. Diet input'!$V41)","v":0},null,{"$f":"'13. Diet input'!I41","v":0},{"$f":"AM39*'13. Diet input'!$Q41*100","v":0},{"$f":"AM39*'13. Diet input'!$R41*100","v":0},0,{"$f":"AM39*'13. Diet input'!$S41*100","v":0},{"$f":"AM39*'13. Diet input'!$T41*100","v":0},{"$f":"AM39*'13. Diet input'!$U41*100","v":0},{"$f":"AN39*(1-'13. Diet input'!$V41)","v":0},null,{"$f":"'13. Diet input'!J41","v":0},{"$f":"AV39*'13. Diet input'!$Q41*100","v":0},{"$f":"AV39*'13. Diet input'!$R41*100","v":0},0,{"$f":"AV39*'13. Diet input'!$S41*100","v":0},{"$f":"AV39*'13. Diet input'!$T41*100","v":0},{"$f":"AV39*'13. Diet input'!$U41*100","v":0},{"$f":"AW39*(1-'13. Diet input'!$V41)","v":0},null,{"$f":"'13. Diet input'!K41","v":0},{"$f":"BE39*'13. Diet input'!$Q41*100","v":0},{"$f":"BE39*'13. Diet input'!$R41*100","v":0},0,{"$f":"BE39*'13. Diet input'!$S41*100","v":0},{"$f":"BE39*'13. Diet input'!$T41*100","v":0},{"$f":"BE39*'13. Diet input'!$U41*100","v":0},{"$f":"BF39*(1-'13. Diet input'!$V41)","v":0},null,{"$f":"'13. Diet input'!L41","v":0},{"$f":"BN39*'13. Diet input'!$Q41*100","v":0},{"$f":"BN39*'13. Diet input'!$R41*100","v":0},0,{"$f":"BN39*'13. Diet input'!$S41*100","v":0},{"$f":"BN39*'13. Diet input'!$T41*100","v":0},{"$f":"BN39*'13. Diet input'!$U41*100","v":0},{"$f":"BO39*(1-'13. Diet input'!$V41)","v":0},null,{"$f":"'13. Diet input'!M41","v":0},{"$f":"BW39*'13. Diet input'!$Q41*100","v":0},{"$f":"BW39*'13. Diet input'!$R41*100","v":0},0,{"$f":"BW39*'13. Diet input'!$S41*100","v":0},{"$f":"BW39*'13. Diet input'!$T41*100","v":0},{"$f":"BW39*'13. Diet input'!$U41*100","v":0},{"$f":"BX39*(1-'13. Diet input'!$V41)","v":0},null,{"$f":"'13. Diet input'!N41","v":0},{"$f":"CF39*'13. Diet input'!$Q41*100","v":0},{"$f":"CF39*'13. Diet input'!$R41*100","v":0},0,{"$f":"CF39*'13. Diet input'!$S41*100","v":0},{"$f":"CF39*'13. Diet input'!$T41*100","v":0},{"$f":"CF39*'13. Diet input'!$U41*100","v":0},{"$f":"CG39*(1-'13. Diet input'!$V41)","v":0},null,{"$f":"'13. Diet input'!O41","v":0},{"$f":"CO39*'13. Diet input'!$Q41*100","v":0},{"$f":"CO39*'13. Diet input'!$R41*100","v":0},0,{"$f":"CO39*'13. Diet input'!$S41*100","v":0},{"$f":"CO39*'13. Diet input'!$T41*100","v":0},{"$f":"CO39*'13. Diet input'!$U41*100","v":0},{"$f":"CP39*(1-'13. Diet input'!$V41)","v":0}]
[null,{"$f":"'13. Diet input'!B42","v":"Field Peas"},{"$f":"'13. Diet input'!E42","v":0},{"$f":"C40*'13. Diet input'!$Q42*100","v":0},{"$f":"C40*'13. Diet input'!$R42*100","v":0},0,{"$f":"C40*'13. Diet input'!$S42*100","v":0},{"$f":"C40*'13. Diet input'!$T42*100","v":0},{"$f":"C40*'13. Diet input'!$U42*100","v":0},{"$f":"D40*(1-'13. Diet input'!$V42)","v":0},null,{"$f":"'13. Diet input'!F42","v":0},{"$f":"L40*'13. Diet input'!$Q42*100","v":0},{"$f":"L40*'13. Diet input'!$R42*100","v":0},0,{"$f":"L40*'13. Diet input'!$S42*100","v":0},{"$f":"L40*'13. Diet input'!$T42*100","v":0},{"$f":"L40*'13. Diet input'!$U42*100","v":0},{"$f":"M40*(1-'13. Diet input'!$V42)","v":0},null,{"$f":"'13. Diet input'!G42","v":0},{"$f":"U40*'13. Diet input'!$Q42*100","v":0},{"$f":"U40*'13. Diet input'!$R42*100","v":0},0,{"$f":"U40*'13. Diet input'!$S42*100","v":0},{"$f":"U40*'13. Diet input'!$T42*100","v":0},{"$f":"U40*'13. Diet input'!$U42*100","v":0},{"$f":"V40*(1-'13. Diet input'!$V42)","v":0},null,{"$f":"'13. Diet input'!H42","v":0},{"$f":"AD40*'13. Diet input'!$Q42*100","v":0},{"$f":"AD40*'13. Diet input'!$R42*100","v":0},0,{"$f":"AD40*'13. Diet input'!$S42*100","v":0},{"$f":"AD40*'13. Diet input'!$T42*100","v":0},{"$f":"AD40*'13. Diet input'!$U42*100","v":0},{"$f":"AE40*(1-'13. Diet input'!$V42)","v":0},null,{"$f":"'13. Diet input'!I42","v":0},{"$f":"AM40*'13. Diet input'!$Q42*100","v":0},{"$f":"AM40*'13. Diet input'!$R42*100","v":0},0,{"$f":"AM40*'13. Diet input'!$S42*100","v":0},{"$f":"AM40*'13. Diet input'!$T42*100","v":0},{"$f":"AM40*'13. Diet input'!$U42*100","v":0},{"$f":"AN40*(1-'13. Diet input'!$V42)","v":0},null,{"$f":"'13. Diet input'!J42","v":0},{"$f":"AV40*'13. Diet input'!$Q42*100","v":0},{"$f":"AV40*'13. Diet input'!$R42*100","v":0},0,{"$f":"AV40*'13. Diet input'!$S42*100","v":0},{"$f":"AV40*'13. Diet input'!$T42*100","v":0},{"$f":"AV40*'13. Diet input'!$U42*100","v":0},{"$f":"AW40*(1-'13. Diet input'!$V42)","v":0},null,{"$f":"'13. Diet input'!K42","v":0},{"$f":"BE40*'13. Diet input'!$Q42*100","v":0},{"$f":"BE40*'13. Diet input'!$R42*100","v":0},0,{"$f":"BE40*'13. Diet input'!$S42*100","v":0},{"$f":"BE40*'13. Diet input'!$T42*100","v":0},{"$f":"BE40*'13. Diet input'!$U42*100","v":0},{"$f":"BF40*(1-'13. Diet input'!$V42)","v":0},null,{"$f":"'13. Diet input'!L42","v":0},{"$f":"BN40*'13. Diet input'!$Q42*100","v":0},{"$f":"BN40*'13. Diet input'!$R42*100","v":0},0,{"$f":"BN40*'13. Diet input'!$S42*100","v":0},{"$f":"BN40*'13. Diet input'!$T42*100","v":0},{"$f":"BN40*'13. Diet input'!$U42*100","v":0},{"$f":"BO40*(1-'13. Diet input'!$V42)","v":0},null,{"$f":"'13. Diet input'!M42","v":0},{"$f":"BW40*'13. Diet input'!$Q42*100","v":0},{"$f":"BW40*'13. Diet input'!$R42*100","v":0},0,{"$f":"BW40*'13. Diet input'!$S42*100","v":0},{"$f":"BW40*'13. Diet input'!$T42*100","v":0},{"$f":"BW40*'13. Diet input'!$U42*100","v":0},{"$f":"BX40*(1-'13. Diet input'!$V42)","v":0},null,{"$f":"'13. Diet input'!N42","v":0},{"$f":"CF40*'13. Diet input'!$Q42*100","v":0},{"$f":"CF40*'13. Diet input'!$R42*100","v":0},0,{"$f":"CF40*'13. Diet input'!$S42*100","v":0},{"$f":"CF40*'13. Diet input'!$T42*100","v":0},{"$f":"CF40*'13. Diet input'!$U42*100","v":0},{"$f":"CG40*(1-'13. Diet input'!$V42)","v":0},null,{"$f":"'13. Diet input'!O42","v":0},{"$f":"CO40*'13. Diet input'!$Q42*100","v":0},{"$f":"CO40*'13. Diet input'!$R42*100","v":0},0,{"$f":"CO40*'13. Diet input'!$S42*100","v":0},{"$f":"CO40*'13. Diet input'!$T42*100","v":0},{"$f":"CO40*'13. Diet input'!$U42*100","v":0},{"$f":"CP40*(1-'13. Diet input'!$V42)","v":0}]
[null,{"$f":"'13. Diet input'!B43","v":"Mung Beans"},{"$f":"'13. Diet input'!E43","v":0},{"$f":"C41*'13. Diet input'!$Q43*100","v":0},{"$f":"C41*'13. Diet input'!$R43*100","v":0},0,{"$f":"C41*'13. Diet input'!$S43*100","v":0},{"$f":"C41*'13. Diet input'!$T43*100","v":0},{"$f":"C41*'13. Diet input'!$U43*100","v":0},{"$f":"D41*(1-'13. Diet input'!$V43)","v":0},null,{"$f":"'13. Diet input'!F43","v":0},{"$f":"L41*'13. Diet input'!$Q43*100","v":0},{"$f":"L41*'13. Diet input'!$R43*100","v":0},0,{"$f":"L41*'13. Diet input'!$S43*100","v":0},{"$f":"L41*'13. Diet input'!$T43*100","v":0},{"$f":"L41*'13. Diet input'!$U43*100","v":0},{"$f":"M41*(1-'13. Diet input'!$V43)","v":0},null,{"$f":"'13. Diet input'!G43","v":0},{"$f":"U41*'13. Diet input'!$Q43*100","v":0},{"$f":"U41*'13. Diet input'!$R43*100","v":0},0,{"$f":"U41*'13. Diet input'!$S43*100","v":0},{"$f":"U41*'13. Diet input'!$T43*100","v":0},{"$f":"U41*'13. Diet input'!$U43*100","v":0},{"$f":"V41*(1-'13. Diet input'!$V43)","v":0},null,{"$f":"'13. Diet input'!H43","v":0},{"$f":"AD41*'13. Diet input'!$Q43*100","v":0},{"$f":"AD41*'13. Diet input'!$R43*100","v":0},0,{"$f":"AD41*'13. Diet input'!$S43*100","v":0},{"$f":"AD41*'13. Diet input'!$T43*100","v":0},{"$f":"AD41*'13. Diet input'!$U43*100","v":0},{"$f":"AE41*(1-'13. Diet input'!$V43)","v":0},null,{"$f":"'13. Diet input'!I43","v":0},{"$f":"AM41*'13. Diet input'!$Q43*100","v":0},{"$f":"AM41*'13. Diet input'!$R43*100","v":0},0,{"$f":"AM41*'13. Diet input'!$S43*100","v":0},{"$f":"AM41*'13. Diet input'!$T43*100","v":0},{"$f":"AM41*'13. Diet input'!$U43*100","v":0},{"$f":"AN41*(1-'13. Diet input'!$V43)","v":0},null,{"$f":"'13. Diet input'!J43","v":0},{"$f":"AV41*'13. Diet input'!$Q43*100","v":0},{"$f":"AV41*'13. Diet input'!$R43*100","v":0},0,{"$f":"AV41*'13. Diet input'!$S43*100","v":0},{"$f":"AV41*'13. Diet input'!$T43*100","v":0},{"$f":"AV41*'13. Diet input'!$U43*100","v":0},{"$f":"AW41*(1-'13. Diet input'!$V43)","v":0},null,{"$f":"'13. Diet input'!K43","v":0},{"$f":"BE41*'13. Diet input'!$Q43*100","v":0},{"$f":"BE41*'13. Diet input'!$R43*100","v":0},0,{"$f":"BE41*'13. Diet input'!$S43*100","v":0},{"$f":"BE41*'13. Diet input'!$T43*100","v":0},{"$f":"BE41*'13. Diet input'!$U43*100","v":0},{"$f":"BF41*(1-'13. Diet input'!$V43)","v":0},null,{"$f":"'13. Diet input'!L43","v":0},{"$f":"BN41*'13. Diet input'!$Q43*100","v":0},{"$f":"BN41*'13. Diet input'!$R43*100","v":0},0,{"$f":"BN41*'13. Diet input'!$S43*100","v":0},{"$f":"BN41*'13. Diet input'!$T43*100","v":0},{"$f":"BN41*'13. Diet input'!$U43*100","v":0},{"$f":"BO41*(1-'13. Diet input'!$V43)","v":0},null,{"$f":"'13. Diet input'!M43","v":0},{"$f":"BW41*'13. Diet input'!$Q43*100","v":0},{"$f":"BW41*'13. Diet input'!$R43*100","v":0},0,{"$f":"BW41*'13. Diet input'!$S43*100","v":0},{"$f":"BW41*'13. Diet input'!$T43*100","v":0},{"$f":"BW41*'13. Diet input'!$U43*100","v":0},{"$f":"BX41*(1-'13. Diet input'!$V43)","v":0},null,{"$f":"'13. Diet input'!N43","v":0},{"$f":"CF41*'13. Diet input'!$Q43*100","v":0},{"$f":"CF41*'13. Diet input'!$R43*100","v":0},0,{"$f":"CF41*'13. Diet input'!$S43*100","v":0},{"$f":"CF41*'13. Diet input'!$T43*100","v":0},{"$f":"CF41*'13. Diet input'!$U43*100","v":0},{"$f":"CG41*(1-'13. Diet input'!$V43)","v":0},null,{"$f":"'13. Diet input'!O43","v":0},{"$f":"CO41*'13. Diet input'!$Q43*100","v":0},{"$f":"CO41*'13. Diet input'!$R43*100","v":0},0,{"$f":"CO41*'13. Diet input'!$S43*100","v":0},{"$f":"CO41*'13. Diet input'!$T43*100","v":0},{"$f":"CO41*'13. Diet input'!$U43*100","v":0},{"$f":"CP41*(1-'13. Diet input'!$V43)","v":0}]
[null,{"$f":"'13. Diet input'!B44","v":"Navy Beans"},{"$f":"'13. Diet input'!E44","v":0},{"$f":"C42*'13. Diet input'!$Q44*100","v":0},{"$f":"C42*'13. Diet input'!$R44*100","v":0},0,{"$f":"C42*'13. Diet input'!$S44*100","v":0},{"$f":"C42*'13. Diet input'!$T44*100","v":0},{"$f":"C42*'13. Diet input'!$U44*100","v":0},{"$f":"D42*(1-'13. Diet input'!$V44)","v":0},null,{"$f":"'13. Diet input'!F44","v":0},{"$f":"L42*'13. Diet input'!$Q44*100","v":0},{"$f":"L42*'13. Diet input'!$R44*100","v":0},0,{"$f":"L42*'13. Diet input'!$S44*100","v":0},{"$f":"L42*'13. Diet input'!$T44*100","v":0},{"$f":"L42*'13. Diet input'!$U44*100","v":0},{"$f":"M42*(1-'13. Diet input'!$V44)","v":0},null,{"$f":"'13. Diet input'!G44","v":0},{"$f":"U42*'13. Diet input'!$Q44*100","v":0},{"$f":"U42*'13. Diet input'!$R44*100","v":0},0,{"$f":"U42*'13. Diet input'!$S44*100","v":0},{"$f":"U42*'13. Diet input'!$T44*100","v":0},{"$f":"U42*'13. Diet input'!$U44*100","v":0},{"$f":"V42*(1-'13. Diet input'!$V44)","v":0},null,{"$f":"'13. Diet input'!H44","v":0},{"$f":"AD42*'13. Diet input'!$Q44*100","v":0},{"$f":"AD42*'13. Diet input'!$R44*100","v":0},0,{"$f":"AD42*'13. Diet input'!$S44*100","v":0},{"$f":"AD42*'13. Diet input'!$T44*100","v":0},{"$f":"AD42*'13. Diet input'!$U44*100","v":0},{"$f":"AE42*(1-'13. Diet input'!$V44)","v":0},null,{"$f":"'13. Diet input'!I44","v":0},{"$f":"AM42*'13. Diet input'!$Q44*100","v":0},{"$f":"AM42*'13. Diet input'!$R44*100","v":0},0,{"$f":"AM42*'13. Diet input'!$S44*100","v":0},{"$f":"AM42*'13. Diet input'!$T44*100","v":0},{"$f":"AM42*'13. Diet input'!$U44*100","v":0},{"$f":"AN42*(1-'13. Diet input'!$V44)","v":0},null,{"$f":"'13. Diet input'!J44","v":0},{"$f":"AV42*'13. Diet input'!$Q44*100","v":0},{"$f":"AV42*'13. Diet input'!$R44*100","v":0},0,{"$f":"AV42*'13. Diet input'!$S44*100","v":0},{"$f":"AV42*'13. Diet input'!$T44*100","v":0},{"$f":"AV42*'13. Diet input'!$U44*100","v":0},{"$f":"AW42*(1-'13. Diet input'!$V44)","v":0},null,{"$f":"'13. Diet input'!K44","v":0},{"$f":"BE42*'13. Diet input'!$Q44*100","v":0},{"$f":"BE42*'13. Diet input'!$R44*100","v":0},0,{"$f":"BE42*'13. Diet input'!$S44*100","v":0},{"$f":"BE42*'13. Diet input'!$T44*100","v":0},{"$f":"BE42*'13. Diet input'!$U44*100","v":0},{"$f":"BF42*(1-'13. Diet input'!$V44)","v":0},null,{"$f":"'13. Diet input'!L44","v":0},{"$f":"BN42*'13. Diet input'!$Q44*100","v":0},{"$f":"BN42*'13. Diet input'!$R44*100","v":0},0,{"$f":"BN42*'13. Diet input'!$S44*100","v":0},{"$f":"BN42*'13. Diet input'!$T44*100","v":0},{"$f":"BN42*'13. Diet input'!$U44*100","v":0},{"$f":"BO42*(1-'13. Diet input'!$V44)","v":0},null,{"$f":"'13. Diet input'!M44","v":0},{"$f":"BW42*'13. Diet input'!$Q44*100","v":0},{"$f":"BW42*'13. Diet input'!$R44*100","v":0},0,{"$f":"BW42*'13. Diet input'!$S44*100","v":0},{"$f":"BW42*'13. Diet input'!$T44*100","v":0},{"$f":"BW42*'13. Diet input'!$U44*100","v":0},{"$f":"BX42*(1-'13. Diet input'!$V44)","v":0},null,{"$f":"'13. Diet input'!N44","v":0},{"$f":"CF42*'13. Diet input'!$Q44*100","v":0},{"$f":"CF42*'13. Diet input'!$R44*100","v":0},0,{"$f":"CF42*'13. Diet input'!$S44*100","v":0},{"$f":"CF42*'13. Diet input'!$T44*100","v":0},{"$f":"CF42*'13. Diet input'!$U44*100","v":0},{"$f":"CG42*(1-'13. Diet input'!$V44)","v":0},null,{"$f":"'13. Diet input'!O44","v":0},{"$f":"CO42*'13. Diet input'!$Q44*100","v":0},{"$f":"CO42*'13. Diet input'!$R44*100","v":0},0,{"$f":"CO42*'13. Diet input'!$S44*100","v":0},{"$f":"CO42*'13. Diet input'!$T44*100","v":0},{"$f":"CO42*'13. Diet input'!$U44*100","v":0},{"$f":"CP42*(1-'13. Diet input'!$V44)","v":0}]
[null,"Oilseed Meals"]
[null,{"$f":"'13. Diet input'!B46","v":"Canola Meal 37 Solvent"},{"$f":"'13. Diet input'!E46","v":0},{"$f":"C44*'13. Diet input'!$Q46*100","v":0},{"$f":"C44*'13. Diet input'!$R46*100","v":0},0,{"$f":"C44*'13. Diet input'!$S46*100","v":0},{"$f":"C44*'13. Diet input'!$T46*100","v":0},{"$f":"C44*'13. Diet input'!$U46*100","v":0},{"$f":"D44*(1-'13. Diet input'!$V46)","v":0},null,{"$f":"'13. Diet input'!F46","v":0},{"$f":"L44*'13. Diet input'!$Q46*100","v":0},{"$f":"L44*'13. Diet input'!$R46*100","v":0},0,{"$f":"L44*'13. Diet input'!$S46*100","v":0},{"$f":"L44*'13. Diet input'!$T46*100","v":0},{"$f":"L44*'13. Diet input'!$U46*100","v":0},{"$f":"M44*(1-'13. Diet input'!$V46)","v":0},null,{"$f":"'13. Diet input'!G46","v":0},{"$f":"U44*'13. Diet input'!$Q46*100","v":0},{"$f":"U44*'13. Diet input'!$R46*100","v":0},0,{"$f":"U44*'13. Diet input'!$S46*100","v":0},{"$f":"U44*'13. Diet input'!$T46*100","v":0},{"$f":"U44*'13. Diet input'!$U46*100","v":0},{"$f":"V44*(1-'13. Diet input'!$V46)","v":0},null,{"$f":"'13. Diet input'!H46","v":0},{"$f":"AD44*'13. Diet input'!$Q46*100","v":0},{"$f":"AD44*'13. Diet input'!$R46*100","v":0},0,{"$f":"AD44*'13. Diet input'!$S46*100","v":0},{"$f":"AD44*'13. Diet input'!$T46*100","v":0},{"$f":"AD44*'13. Diet input'!$U46*100","v":0},{"$f":"AE44*(1-'13. Diet input'!$V46)","v":0},null,{"$f":"'13. Diet input'!I46","v":0},{"$f":"AM44*'13. Diet input'!$Q46*100","v":0},{"$f":"AM44*'13. Diet input'!$R46*100","v":0},0,{"$f":"AM44*'13. Diet input'!$S46*100","v":0},{"$f":"AM44*'13. Diet input'!$T46*100","v":0},{"$f":"AM44*'13. Diet input'!$U46*100","v":0},{"$f":"AN44*(1-'13. Diet input'!$V46)","v":0},null,{"$f":"'13. Diet input'!J46","v":0},{"$f":"AV44*'13. Diet input'!$Q46*100","v":0},{"$f":"AV44*'13. Diet input'!$R46*100","v":0},0,{"$f":"AV44*'13. Diet input'!$S46*100","v":0},{"$f":"AV44*'13. Diet input'!$T46*100","v":0},{"$f":"AV44*'13. Diet input'!$U46*100","v":0},{"$f":"AW44*(1-'13. Diet input'!$V46)","v":0},null,{"$f":"'13. Diet input'!K46","v":0},{"$f":"BE44*'13. Diet input'!$Q46*100","v":0},{"$f":"BE44*'13. Diet input'!$R46*100","v":0},0,{"$f":"BE44*'13. Diet input'!$S46*100","v":0},{"$f":"BE44*'13. Diet input'!$T46*100","v":0},{"$f":"BE44*'13. Diet input'!$U46*100","v":0},{"$f":"BF44*(1-'13. Diet input'!$V46)","v":0},null,{"$f":"'13. Diet input'!L46","v":0},{"$f":"BN44*'13. Diet input'!$Q46*100","v":0},{"$f":"BN44*'13. Diet input'!$R46*100","v":0},0,{"$f":"BN44*'13. Diet input'!$S46*100","v":0},{"$f":"BN44*'13. Diet input'!$T46*100","v":0},{"$f":"BN44*'13. Diet input'!$U46*100","v":0},{"$f":"BO44*(1-'13. Diet input'!$V46)","v":0},null,{"$f":"'13. Diet input'!M46","v":0},{"$f":"BW44*'13. Diet input'!$Q46*100","v":0},{"$f":"BW44*'13. Diet input'!$R46*100","v":0},0,{"$f":"BW44*'13. Diet input'!$S46*100","v":0},{"$f":"BW44*'13. Diet input'!$T46*100","v":0},{"$f":"BW44*'13. Diet input'!$U46*100","v":0},{"$f":"BX44*(1-'13. Diet input'!$V46)","v":0},null,{"$f":"'13. Diet input'!N46","v":0},{"$f":"CF44*'13. Diet input'!$Q46*100","v":0},{"$f":"CF44*'13. Diet input'!$R46*100","v":0},0,{"$f":"CF44*'13. Diet input'!$S46*100","v":0},{"$f":"CF44*'13. Diet input'!$T46*100","v":0},{"$f":"CF44*'13. Diet input'!$U46*100","v":0},{"$f":"CG44*(1-'13. Diet input'!$V46)","v":0},null,{"$f":"'13. Diet input'!O46","v":0},{"$f":"CO44*'13. Diet input'!$Q46*100","v":0},{"$f":"CO44*'13. Diet input'!$R46*100","v":0},0,{"$f":"CO44*'13. Diet input'!$S46*100","v":0},{"$f":"CO44*'13. Diet input'!$T46*100","v":0},{"$f":"CO44*'13. Diet input'!$U46*100","v":0},{"$f":"CP44*(1-'13. Diet input'!$V46)","v":0}]
[null,{"$f":"'13. Diet input'!B47","v":"Canola meal 32 Expeller"},{"$f":"'13. Diet input'!E47","v":0},{"$f":"C45*'13. Diet input'!$Q47*100","v":0},{"$f":"C45*'13. Diet input'!$R47*100","v":0},{"$f":"D45-E45","v":0},{"$f":"C45*'13. Diet input'!$S47*100","v":0},{"$f":"C45*'13. Diet input'!$T47*100","v":0},{"$f":"C45*'13. Diet input'!$U47*100","v":0},{"$f":"D45*(1-'13. Diet input'!$V47)","v":0},null,{"$f":"'13. Diet input'!F47","v":0},{"$f":"L45*'13. Diet input'!$Q47*100","v":0},{"$f":"L45*'13. Diet input'!$R47*100","v":0},{"$f":"M45-N45","v":0},{"$f":"L45*'13. Diet input'!$S47*100","v":0},{"$f":"L45*'13. Diet input'!$T47*100","v":0},{"$f":"L45*'13. Diet input'!$U47*100","v":0},{"$f":"M45*(1-'13. Diet input'!$V47)","v":0},null,{"$f":"'13. Diet input'!G47","v":0},{"$f":"U45*'13. Diet input'!$Q47*100","v":0},{"$f":"U45*'13. Diet input'!$R47*100","v":0},{"$f":"V45-W45","v":0},{"$f":"U45*'13. Diet input'!$S47*100","v":0},{"$f":"U45*'13. Diet input'!$T47*100","v":0},{"$f":"U45*'13. Diet input'!$U47*100","v":0},{"$f":"V45*(1-'13. Diet input'!$V47)","v":0},null,{"$f":"'13. Diet input'!H47","v":0},{"$f":"AD45*'13. Diet input'!$Q47*100","v":0},{"$f":"AD45*'13. Diet input'!$R47*100","v":0},{"$f":"AE45-AF45","v":0},{"$f":"AD45*'13. Diet input'!$S47*100","v":0},{"$f":"AD45*'13. Diet input'!$T47*100","v":0},{"$f":"AD45*'13. Diet input'!$U47*100","v":0},{"$f":"AE45*(1-'13. Diet input'!$V47)","v":0},null,{"$f":"'13. Diet input'!I47","v":0},{"$f":"AM45*'13. Diet input'!$Q47*100","v":0},{"$f":"AM45*'13. Diet input'!$R47*100","v":0},{"$f":"AN45-AO45","v":0},{"$f":"AM45*'13. Diet input'!$S47*100","v":0},{"$f":"AM45*'13. Diet input'!$T47*100","v":0},{"$f":"AM45*'13. Diet input'!$U47*100","v":0},{"$f":"AN45*(1-'13. Diet input'!$V47)","v":0},null,{"$f":"'13. Diet input'!J47","v":0},{"$f":"AV45*'13. Diet input'!$Q47*100","v":0},{"$f":"AV45*'13. Diet input'!$R47*100","v":0},{"$f":"AW45-AX45","v":0},{"$f":"AV45*'13. Diet input'!$S47*100","v":0},{"$f":"AV45*'13. Diet input'!$T47*100","v":0},{"$f":"AV45*'13. Diet input'!$U47*100","v":0},{"$f":"AW45*(1-'13. Diet input'!$V47)","v":0},null,{"$f":"'13. Diet input'!K47","v":0},{"$f":"BE45*'13. Diet input'!$Q47*100","v":0},{"$f":"BE45*'13. Diet input'!$R47*100","v":0},{"$f":"BF45-BG45","v":0},{"$f":"BE45*'13. Diet input'!$S47*100","v":0},{"$f":"BE45*'13. Diet input'!$T47*100","v":0},{"$f":"BE45*'13. Diet input'!$U47*100","v":0},{"$f":"BF45*(1-'13. Diet input'!$V47)","v":0},null,{"$f":"'13. Diet input'!L47","v":0},{"$f":"BN45*'13. Diet input'!$Q47*100","v":0},{"$f":"BN45*'13. Diet input'!$R47*100","v":0},{"$f":"BO45-BP45","v":0},{"$f":"BN45*'13. Diet input'!$S47*100","v":0},{"$f":"BN45*'13. Diet input'!$T47*100","v":0},{"$f":"BN45*'13. Diet input'!$U47*100","v":0},{"$f":"BO45*(1-'13. Diet input'!$V47)","v":0},null,{"$f":"'13. Diet input'!M47","v":0},{"$f":"BW45*'13. Diet input'!$Q47*100","v":0},{"$f":"BW45*'13. Diet input'!$R47*100","v":0},{"$f":"BX45-BY45","v":0},{"$f":"BW45*'13. Diet input'!$S47*100","v":0},{"$f":"BW45*'13. Diet input'!$T47*100","v":0},{"$f":"BW45*'13. Diet input'!$U47*100","v":0},{"$f":"BX45*(1-'13. Diet input'!$V47)","v":0},null,{"$f":"'13. Diet input'!N47","v":0},{"$f":"CF45*'13. Diet input'!$Q47*100","v":0},{"$f":"CF45*'13. Diet input'!$R47*100","v":0},{"$f":"CG45-CH45","v":0},{"$f":"CF45*'13. Diet input'!$S47*100","v":0},{"$f":"CF45*'13. Diet input'!$T47*100","v":0},{"$f":"CF45*'13. Diet input'!$U47*100","v":0},{"$f":"CG45*(1-'13. Diet input'!$V47)","v":0},null,{"$f":"'13. Diet input'!O47","v":0},{"$f":"CO45*'13. Diet input'!$Q47*100","v":0},{"$f":"CO45*'13. Diet input'!$R47*100","v":0},{"$f":"CP45-CQ45","v":0},{"$f":"CO45*'13. Diet input'!$S47*100","v":0},{"$f":"CO45*'13. Diet input'!$T47*100","v":0},{"$f":"CO45*'13. Diet input'!$U47*100","v":0},{"$f":"CP45*(1-'13. Diet input'!$V47)","v":0}]
[null,{"$f":"'13. Diet input'!B48","v":"Canola meal Cold Pressed 34"},{"$f":"'13. Diet input'!E48","v":0},{"$f":"C46*'13. Diet input'!$Q48*100","v":0},{"$f":"C46*'13. Diet input'!$R48*100","v":0},0,{"$f":"C46*'13. Diet input'!$S48*100","v":0},{"$f":"C46*'13. Diet input'!$T48*100","v":0},{"$f":"C46*'13. Diet input'!$U48*100","v":0},{"$f":"D46*(1-'13. Diet input'!$V48)","v":0},null,{"$f":"'13. Diet input'!F48","v":2.5000000000000001E-2},{"$f":"L46*'13. Diet input'!$Q48*100","v":2.2500000000000004},{"$f":"L46*'13. Diet input'!$R48*100","v":0.15500000000000003},2.0950000000000006,{"$f":"L46*'13. Diet input'!$S48*100","v":0.13600000000000001},{"$f":"L46*'13. Diet input'!$T48*100","v":2.3999999999999997E-2},{"$f":"L46*'13. Diet input'!$U48*100","v":3.0750000000000006E-2},{"$f":"M46*(1-'13. Diet input'!$V48)","v":0.59210526315789491},null,{"$f":"'13. Diet input'!G48","v":6.8000000000000005E-2},{"$f":"U46*'13. Diet input'!$Q48*100","v":6.12},{"$f":"U46*'13. Diet input'!$R48*100","v":0.42160000000000003},5.6984000000000004,{"$f":"U46*'13. Diet input'!$S48*100","v":0.36992000000000008},{"$f":"U46*'13. Diet input'!$T48*100","v":6.5280000000000005E-2},{"$f":"U46*'13. Diet input'!$U48*100","v":8.3640000000000006E-2},{"$f":"V46*(1-'13. Diet input'!$V48)","v":1.610526315789474},null,{"$f":"'13. Diet input'!H48","v":0.04},{"$f":"AD46*'13. Diet input'!$Q48*100","v":3.6000000000000005},{"$f":"AD46*'13. Diet input'!$R48*100","v":0.248},3.3520000000000003,{"$f":"AD46*'13. Diet input'!$S48*100","v":0.21760000000000004},{"$f":"AD46*'13. Diet input'!$T48*100","v":3.8399999999999997E-2},{"$f":"AD46*'13. Diet input'!$U48*100","v":4.9200000000000001E-2},{"$f":"AE46*(1-'13. Diet input'!$V48)","v":0.94736842105263186},null,{"$f":"'13. Diet input'!I48","v":0.05},{"$f":"AM46*'13. Diet input'!$Q48*100","v":4.5000000000000009},{"$f":"AM46*'13. Diet input'!$R48*100","v":0.31000000000000005},4.1900000000000013,{"$f":"AM46*'13. Diet input'!$S48*100","v":0.27200000000000002},{"$f":"AM46*'13. Diet input'!$T48*100","v":4.7999999999999994E-2},{"$f":"AM46*'13. Diet input'!$U48*100","v":6.1500000000000013E-2},{"$f":"AN46*(1-'13. Diet input'!$V48)","v":1.1842105263157898},null,{"$f":"'13. Diet input'!J48","v":0},{"$f":"AV46*'13. Diet input'!$Q48*100","v":0},{"$f":"AV46*'13. Diet input'!$R48*100","v":0},0,{"$f":"AV46*'13. Diet input'!$S48*100","v":0},{"$f":"AV46*'13. Diet input'!$T48*100","v":0},{"$f":"AV46*'13. Diet input'!$U48*100","v":0},{"$f":"AW46*(1-'13. Diet input'!$V48)","v":0},null,{"$f":"'13. Diet input'!K48","v":0},{"$f":"BE46*'13. Diet input'!$Q48*100","v":0},{"$f":"BE46*'13. Diet input'!$R48*100","v":0},0,{"$f":"BE46*'13. Diet input'!$S48*100","v":0},{"$f":"BE46*'13. Diet input'!$T48*100","v":0},{"$f":"BE46*'13. Diet input'!$U48*100","v":0},{"$f":"BF46*(1-'13. Diet input'!$V48)","v":0},null,{"$f":"'13. Diet input'!L48","v":0.05},{"$f":"BN46*'13. Diet input'!$Q48*100","v":4.5000000000000009},{"$f":"BN46*'13. Diet input'!$R48*100","v":0.31000000000000005},4.1900000000000013,{"$f":"BN46*'13. Diet input'!$S48*100","v":0.27200000000000002},{"$f":"BN46*'13. Diet input'!$T48*100","v":4.7999999999999994E-2},{"$f":"BN46*'13. Diet input'!$U48*100","v":6.1500000000000013E-2},{"$f":"BO46*(1-'13. Diet input'!$V48)","v":1.1842105263157898},null,{"$f":"'13. Diet input'!M48","v":2.2599999999999999E-2},{"$f":"BW46*'13. Diet input'!$Q48*100","v":2.0340000000000003},{"$f":"BW46*'13. Diet input'!$R48*100","v":0.14011999999999997},1.8938800000000002,{"$f":"BW46*'13. Diet input'!$S48*100","v":0.122944},{"$f":"BW46*'13. Diet input'!$T48*100","v":2.1695999999999997E-2},{"$f":"BW46*'13. Diet input'!$U48*100","v":2.7798E-2},{"$f":"BX46*(1-'13. Diet input'!$V48)","v":0.535263157894737},null,{"$f":"'13. Diet input'!N48","v":0.02},{"$f":"CF46*'13. Diet input'!$Q48*100","v":1.8000000000000003},{"$f":"CF46*'13. Diet input'!$R48*100","v":0.124},1.6760000000000002,{"$f":"CF46*'13. Diet input'!$S48*100","v":0.10880000000000002},{"$f":"CF46*'13. Diet input'!$T48*100","v":1.9199999999999998E-2},{"$f":"CF46*'13. Diet input'!$U48*100","v":2.46E-2},{"$f":"CG46*(1-'13. Diet input'!$V48)","v":0.47368421052631593},null,{"$f":"'13. Diet input'!O48","v":0.02},{"$f":"CO46*'13. Diet input'!$Q48*100","v":1.8000000000000003},{"$f":"CO46*'13. Diet input'!$R48*100","v":0.124},1.6760000000000002,{"$f":"CO46*'13. Diet input'!$S48*100","v":0.10880000000000002},{"$f":"CO46*'13. Diet input'!$T48*100","v":1.9199999999999998E-2},{"$f":"CO46*'13. Diet input'!$U48*100","v":2.46E-2},{"$f":"CP46*(1-'13. Diet input'!$V48)","v":0.47368421052631593}]
[null,{"$f":"'13. Diet input'!B49","v":"Copra meal"},{"$f":"'13. Diet input'!E49","v":0},{"$f":"C47*'13. Diet input'!$Q49*100","v":0},{"$f":"C47*'13. Diet input'!$R49*100","v":0},0,{"$f":"C47*'13. Diet input'!$S49*100","v":0},{"$f":"C47*'13. Diet input'!$T49*100","v":0},{"$f":"C47*'13. Diet input'!$U49*100","v":0},{"$f":"D47*(1-'13. Diet input'!$V49)","v":0},null,{"$f":"'13. Diet input'!F49","v":0},{"$f":"L47*'13. Diet input'!$Q49*100","v":0},{"$f":"L47*'13. Diet input'!$R49*100","v":0},0,{"$f":"L47*'13. Diet input'!$S49*100","v":0},{"$f":"L47*'13. Diet input'!$T49*100","v":0},{"$f":"L47*'13. Diet input'!$U49*100","v":0},{"$f":"M47*(1-'13. Diet input'!$V49)","v":0},null,{"$f":"'13. Diet input'!G49","v":0},{"$f":"U47*'13. Diet input'!$Q49*100","v":0},{"$f":"U47*'13. Diet input'!$R49*100","v":0},0,{"$f":"U47*'13. Diet input'!$S49*100","v":0},{"$f":"U47*'13. Diet input'!$T49*100","v":0},{"$f":"U47*'13. Diet input'!$U49*100","v":0},{"$f":"V47*(1-'13. Diet input'!$V49)","v":0},null,{"$f":"'13. Diet input'!H49","v":0},{"$f":"AD47*'13. Diet input'!$Q49*100","v":0},{"$f":"AD47*'13. Diet input'!$R49*100","v":0},0,{"$f":"AD47*'13. Diet input'!$S49*100","v":0},{"$f":"AD47*'13. Diet input'!$T49*100","v":0},{"$f":"AD47*'13. Diet input'!$U49*100","v":0},{"$f":"AE47*(1-'13. Diet input'!$V49)","v":0},null,{"$f":"'13. Diet input'!I49","v":0},{"$f":"AM47*'13. Diet input'!$Q49*100","v":0},{"$f":"AM47*'13. Diet input'!$R49*100","v":0},0,{"$f":"AM47*'13. Diet input'!$S49*100","v":0},{"$f":"AM47*'13. Diet input'!$T49*100","v":0},{"$f":"AM47*'13. Diet input'!$U49*100","v":0},{"$f":"AN47*(1-'13. Diet input'!$V49)","v":0},null,{"$f":"'13. Diet input'!J49","v":0},{"$f":"AV47*'13. Diet input'!$Q49*100","v":0},{"$f":"AV47*'13. Diet input'!$R49*100","v":0},0,{"$f":"AV47*'13. Diet input'!$S49*100","v":0},{"$f":"AV47*'13. Diet input'!$T49*100","v":0},{"$f":"AV47*'13. Diet input'!$U49*100","v":0},{"$f":"AW47*(1-'13. Diet input'!$V49)","v":0},null,{"$f":"'13. Diet input'!K49","v":0},{"$f":"BE47*'13. Diet input'!$Q49*100","v":0},{"$f":"BE47*'13. Diet input'!$R49*100","v":0},0,{"$f":"BE47*'13. Diet input'!$S49*100","v":0},{"$f":"BE47*'13. Diet input'!$T49*100","v":0},{"$f":"BE47*'13. Diet input'!$U49*100","v":0},{"$f":"BF47*(1-'13. Diet input'!$V49)","v":0},null,{"$f":"'13. Diet input'!L49","v":0},{"$f":"BN47*'13. Diet input'!$Q49*100","v":0},{"$f":"BN47*'13. Diet input'!$R49*100","v":0},0,{"$f":"BN47*'13. Diet input'!$S49*100","v":0},{"$f":"BN47*'13. Diet input'!$T49*100","v":0},{"$f":"BN47*'13. Diet input'!$U49*100","v":0},{"$f":"BO47*(1-'13. Diet input'!$V49)","v":0},null,{"$f":"'13. Diet input'!M49","v":0},{"$f":"BW47*'13. Diet input'!$Q49*100","v":0},{"$f":"BW47*'13. Diet input'!$R49*100","v":0},0,{"$f":"BW47*'13. Diet input'!$S49*100","v":0},{"$f":"BW47*'13. Diet input'!$T49*100","v":0},{"$f":"BW47*'13. Diet input'!$U49*100","v":0},{"$f":"BX47*(1-'13. Diet input'!$V49)","v":0},null,{"$f":"'13. Diet input'!N49","v":0},{"$f":"CF47*'13. Diet input'!$Q49*100","v":0},{"$f":"CF47*'13. Diet input'!$R49*100","v":0},0,{"$f":"CF47*'13. Diet input'!$S49*100","v":0},{"$f":"CF47*'13. Diet input'!$T49*100","v":0},{"$f":"CF47*'13. Diet input'!$U49*100","v":0},{"$f":"CG47*(1-'13. Diet input'!$V49)","v":0},null,{"$f":"'13. Diet input'!O49","v":0},{"$f":"CO47*'13. Diet input'!$Q49*100","v":0},{"$f":"CO47*'13. Diet input'!$R49*100","v":0},0,{"$f":"CO47*'13. Diet input'!$S49*100","v":0},{"$f":"CO47*'13. Diet input'!$T49*100","v":0},{"$f":"CO47*'13. Diet input'!$U49*100","v":0},{"$f":"CP47*(1-'13. Diet input'!$V49)","v":0}]
[null,{"$f":"'13. Diet input'!B50","v":"Cotton seed meal 43"},{"$f":"'13. Diet input'!E50","v":0},{"$f":"C48*'13. Diet input'!$Q50*100","v":0},{"$f":"C48*'13. Diet input'!$R50*100","v":0},0,{"$f":"C48*'13. Diet input'!$S50*100","v":0},{"$f":"C48*'13. Diet input'!$T50*100","v":0},{"$f":"C48*'13. Diet input'!$U50*100","v":0},{"$f":"D48*(1-'13. Diet input'!$V50)","v":0},null,{"$f":"'13. Diet input'!F50","v":0},{"$f":"L48*'13. Diet input'!$Q50*100","v":0},{"$f":"L48*'13. Diet input'!$R50*100","v":0},0,{"$f":"L48*'13. Diet input'!$S50*100","v":0},{"$f":"L48*'13. Diet input'!$T50*100","v":0},{"$f":"L48*'13. Diet input'!$U50*100","v":0},{"$f":"M48*(1-'13. Diet input'!$V50)","v":0},null,{"$f":"'13. Diet input'!G50","v":0},{"$f":"U48*'13. Diet input'!$Q50*100","v":0},{"$f":"U48*'13. Diet input'!$R50*100","v":0},0,{"$f":"U48*'13. Diet input'!$S50*100","v":0},{"$f":"U48*'13. Diet input'!$T50*100","v":0},{"$f":"U48*'13. Diet input'!$U50*100","v":0},{"$f":"V48*(1-'13. Diet input'!$V50)","v":0},null,{"$f":"'13. Diet input'!H50","v":0},{"$f":"AD48*'13. Diet input'!$Q50*100","v":0},{"$f":"AD48*'13. Diet input'!$R50*100","v":0},0,{"$f":"AD48*'13. Diet input'!$S50*100","v":0},{"$f":"AD48*'13. Diet input'!$T50*100","v":0},{"$f":"AD48*'13. Diet input'!$U50*100","v":0},{"$f":"AE48*(1-'13. Diet input'!$V50)","v":0},null,{"$f":"'13. Diet input'!I50","v":0},{"$f":"AM48*'13. Diet input'!$Q50*100","v":0},{"$f":"AM48*'13. Diet input'!$R50*100","v":0},0,{"$f":"AM48*'13. Diet input'!$S50*100","v":0},{"$f":"AM48*'13. Diet input'!$T50*100","v":0},{"$f":"AM48*'13. Diet input'!$U50*100","v":0},{"$f":"AN48*(1-'13. Diet input'!$V50)","v":0},null,{"$f":"'13. Diet input'!J50","v":0},{"$f":"AV48*'13. Diet input'!$Q50*100","v":0},{"$f":"AV48*'13. Diet input'!$R50*100","v":0},0,{"$f":"AV48*'13. Diet input'!$S50*100","v":0},{"$f":"AV48*'13. Diet input'!$T50*100","v":0},{"$f":"AV48*'13. Diet input'!$U50*100","v":0},{"$f":"AW48*(1-'13. Diet input'!$V50)","v":0},null,{"$f":"'13. Diet input'!K50","v":0},{"$f":"BE48*'13. Diet input'!$Q50*100","v":0},{"$f":"BE48*'13. Diet input'!$R50*100","v":0},0,{"$f":"BE48*'13. Diet input'!$S50*100","v":0},{"$f":"BE48*'13. Diet input'!$T50*100","v":0},{"$f":"BE48*'13. Diet input'!$U50*100","v":0},{"$f":"BF48*(1-'13. Diet input'!$V50)","v":0},null,{"$f":"'13. Diet input'!L50","v":0},{"$f":"BN48*'13. Diet input'!$Q50*100","v":0},{"$f":"BN48*'13. Diet input'!$R50*100","v":0},0,{"$f":"BN48*'13. Diet input'!$S50*100","v":0},{"$f":"BN48*'13. Diet input'!$T50*100","v":0},{"$f":"BN48*'13. Diet input'!$U50*100","v":0},{"$f":"BO48*(1-'13. Diet input'!$V50)","v":0},null,{"$f":"'13. Diet input'!M50","v":0},{"$f":"BW48*'13. Diet input'!$Q50*100","v":0},{"$f":"BW48*'13. Diet input'!$R50*100","v":0},0,{"$f":"BW48*'13. Diet input'!$S50*100","v":0},{"$f":"BW48*'13. Diet input'!$T50*100","v":0},{"$f":"BW48*'13. Diet input'!$U50*100","v":0},{"$f":"BX48*(1-'13. Diet input'!$V50)","v":0},null,{"$f":"'13. Diet input'!N50","v":0},{"$f":"CF48*'13. Diet input'!$Q50*100","v":0},{"$f":"CF48*'13. Diet input'!$R50*100","v":0},0,{"$f":"CF48*'13. Diet input'!$S50*100","v":0},{"$f":"CF48*'13. Diet input'!$T50*100","v":0},{"$f":"CF48*'13. Diet input'!$U50*100","v":0},{"$f":"CG48*(1-'13. Diet input'!$V50)","v":0},null,{"$f":"'13. Diet input'!O50","v":0},{"$f":"CO48*'13. Diet input'!$Q50*100","v":0},{"$f":"CO48*'13. Diet input'!$R50*100","v":0},0,{"$f":"CO48*'13. Diet input'!$S50*100","v":0},{"$f":"CO48*'13. Diet input'!$T50*100","v":0},{"$f":"CO48*'13. Diet input'!$U50*100","v":0},{"$f":"CP48*(1-'13. Diet input'!$V50)","v":0}]
[null,{"$f":"'13. Diet input'!B51","v":"Palm Kernel meal"},{"$f":"'13. Diet input'!E51","v":0},{"$f":"C49*'13. Diet input'!$Q51*100","v":0},{"$f":"C49*'13. Diet input'!$R51*100","v":0},0,{"$f":"C49*'13. Diet input'!$S51*100","v":0},{"$f":"C49*'13. Diet input'!$T51*100","v":0},{"$f":"C49*'13. Diet input'!$U51*100","v":0},{"$f":"D49*(1-'13. Diet input'!$V51)","v":0},null,{"$f":"'13. Diet input'!F51","v":0},{"$f":"L49*'13. Diet input'!$Q51*100","v":0},{"$f":"L49*'13. Diet input'!$R51*100","v":0},0,{"$f":"L49*'13. Diet input'!$S51*100","v":0},{"$f":"L49*'13. Diet input'!$T51*100","v":0},{"$f":"L49*'13. Diet input'!$U51*100","v":0},{"$f":"M49*(1-'13. Diet input'!$V51)","v":0},null,{"$f":"'13. Diet input'!G51","v":0},{"$f":"U49*'13. Diet input'!$Q51*100","v":0},{"$f":"U49*'13. Diet input'!$R51*100","v":0},0,{"$f":"U49*'13. Diet input'!$S51*100","v":0},{"$f":"U49*'13. Diet input'!$T51*100","v":0},{"$f":"U49*'13. Diet input'!$U51*100","v":0},{"$f":"V49*(1-'13. Diet input'!$V51)","v":0},null,{"$f":"'13. Diet input'!H51","v":0},{"$f":"AD49*'13. Diet input'!$Q51*100","v":0},{"$f":"AD49*'13. Diet input'!$R51*100","v":0},0,{"$f":"AD49*'13. Diet input'!$S51*100","v":0},{"$f":"AD49*'13. Diet input'!$T51*100","v":0},{"$f":"AD49*'13. Diet input'!$U51*100","v":0},{"$f":"AE49*(1-'13. Diet input'!$V51)","v":0},null,{"$f":"'13. Diet input'!I51","v":0},{"$f":"AM49*'13. Diet input'!$Q51*100","v":0},{"$f":"AM49*'13. Diet input'!$R51*100","v":0},0,{"$f":"AM49*'13. Diet input'!$S51*100","v":0},{"$f":"AM49*'13. Diet input'!$T51*100","v":0},{"$f":"AM49*'13. Diet input'!$U51*100","v":0},{"$f":"AN49*(1-'13. Diet input'!$V51)","v":0},null,{"$f":"'13. Diet input'!J51","v":0},{"$f":"AV49*'13. Diet input'!$Q51*100","v":0},{"$f":"AV49*'13. Diet input'!$R51*100","v":0},0,{"$f":"AV49*'13. Diet input'!$S51*100","v":0},{"$f":"AV49*'13. Diet input'!$T51*100","v":0},{"$f":"AV49*'13. Diet input'!$U51*100","v":0},{"$f":"AW49*(1-'13. Diet input'!$V51)","v":0},null,{"$f":"'13. Diet input'!K51","v":0},{"$f":"BE49*'13. Diet input'!$Q51*100","v":0},{"$f":"BE49*'13. Diet input'!$R51*100","v":0},0,{"$f":"BE49*'13. Diet input'!$S51*100","v":0},{"$f":"BE49*'13. Diet input'!$T51*100","v":0},{"$f":"BE49*'13. Diet input'!$U51*100","v":0},{"$f":"BF49*(1-'13. Diet input'!$V51)","v":0},null,{"$f":"'13. Diet input'!L51","v":0},{"$f":"BN49*'13. Diet input'!$Q51*100","v":0},{"$f":"BN49*'13. Diet input'!$R51*100","v":0},0,{"$f":"BN49*'13. Diet input'!$S51*100","v":0},{"$f":"BN49*'13. Diet input'!$T51*100","v":0},{"$f":"BN49*'13. Diet input'!$U51*100","v":0},{"$f":"BO49*(1-'13. Diet input'!$V51)","v":0},null,{"$f":"'13. Diet input'!M51","v":0},{"$f":"BW49*'13. Diet input'!$Q51*100","v":0},{"$f":"BW49*'13. Diet input'!$R51*100","v":0},0,{"$f":"BW49*'13. Diet input'!$S51*100","v":0},{"$f":"BW49*'13. Diet input'!$T51*100","v":0},{"$f":"BW49*'13. Diet input'!$U51*100","v":0},{"$f":"BX49*(1-'13. Diet input'!$V51)","v":0},null,{"$f":"'13. Diet input'!N51","v":0},{"$f":"CF49*'13. Diet input'!$Q51*100","v":0},{"$f":"CF49*'13. Diet input'!$R51*100","v":0},0,{"$f":"CF49*'13. Diet input'!$S51*100","v":0},{"$f":"CF49*'13. Diet input'!$T51*100","v":0},{"$f":"CF49*'13. Diet input'!$U51*100","v":0},{"$f":"CG49*(1-'13. Diet input'!$V51)","v":0},null,{"$f":"'13. Diet input'!O51","v":0},{"$f":"CO49*'13. Diet input'!$Q51*100","v":0},{"$f":"CO49*'13. Diet input'!$R51*100","v":0},0,{"$f":"CO49*'13. Diet input'!$S51*100","v":0},{"$f":"CO49*'13. Diet input'!$T51*100","v":0},{"$f":"CO49*'13. Diet input'!$U51*100","v":0},{"$f":"CP49*(1-'13. Diet input'!$V51)","v":0}]
[null,{"$f":"'13. Diet input'!B52","v":"Peanut Meal 48"},{"$f":"'13. Diet input'!E52","v":0},{"$f":"C50*'13. Diet input'!$Q52*100","v":0},{"$f":"C50*'13. Diet input'!$R52*100","v":0},0,{"$f":"C50*'13. Diet input'!$S52*100","v":0},{"$f":"C50*'13. Diet input'!$T52*100","v":0},{"$f":"C50*'13. Diet input'!$U52*100","v":0},{"$f":"D50*(1-'13. Diet input'!$V52)","v":0},null,{"$f":"'13. Diet input'!F52","v":0},{"$f":"L50*'13. Diet input'!$Q52*100","v":0},{"$f":"L50*'13. Diet input'!$R52*100","v":0},0,{"$f":"L50*'13. Diet input'!$S52*100","v":0},{"$f":"L50*'13. Diet input'!$T52*100","v":0},{"$f":"L50*'13. Diet input'!$U52*100","v":0},{"$f":"M50*(1-'13. Diet input'!$V52)","v":0},null,{"$f":"'13. Diet input'!G52","v":0},{"$f":"U50*'13. Diet input'!$Q52*100","v":0},{"$f":"U50*'13. Diet input'!$R52*100","v":0},0,{"$f":"U50*'13. Diet input'!$S52*100","v":0},{"$f":"U50*'13. Diet input'!$T52*100","v":0},{"$f":"U50*'13. Diet input'!$U52*100","v":0},{"$f":"V50*(1-'13. Diet input'!$V52)","v":0},null,{"$f":"'13. Diet input'!H52","v":0},{"$f":"AD50*'13. Diet input'!$Q52*100","v":0},{"$f":"AD50*'13. Diet input'!$R52*100","v":0},0,{"$f":"AD50*'13. Diet input'!$S52*100","v":0},{"$f":"AD50*'13. Diet input'!$T52*100","v":0},{"$f":"AD50*'13. Diet input'!$U52*100","v":0},{"$f":"AE50*(1-'13. Diet input'!$V52)","v":0},null,{"$f":"'13. Diet input'!I52","v":0},{"$f":"AM50*'13. Diet input'!$Q52*100","v":0},{"$f":"AM50*'13. Diet input'!$R52*100","v":0},0,{"$f":"AM50*'13. Diet input'!$S52*100","v":0},{"$f":"AM50*'13. Diet input'!$T52*100","v":0},{"$f":"AM50*'13. Diet input'!$U52*100","v":0},{"$f":"AN50*(1-'13. Diet input'!$V52)","v":0},null,{"$f":"'13. Diet input'!J52","v":0},{"$f":"AV50*'13. Diet input'!$Q52*100","v":0},{"$f":"AV50*'13. Diet input'!$R52*100","v":0},0,{"$f":"AV50*'13. Diet input'!$S52*100","v":0},{"$f":"AV50*'13. Diet input'!$T52*100","v":0},{"$f":"AV50*'13. Diet input'!$U52*100","v":0},{"$f":"AW50*(1-'13. Diet input'!$V52)","v":0},null,{"$f":"'13. Diet input'!K52","v":0},{"$f":"BE50*'13. Diet input'!$Q52*100","v":0},{"$f":"BE50*'13. Diet input'!$R52*100","v":0},0,{"$f":"BE50*'13. Diet input'!$S52*100","v":0},{"$f":"BE50*'13. Diet input'!$T52*100","v":0},{"$f":"BE50*'13. Diet input'!$U52*100","v":0},{"$f":"BF50*(1-'13. Diet input'!$V52)","v":0},null,{"$f":"'13. Diet input'!L52","v":0},{"$f":"BN50*'13. Diet input'!$Q52*100","v":0},{"$f":"BN50*'13. Diet input'!$R52*100","v":0},0,{"$f":"BN50*'13. Diet input'!$S52*100","v":0},{"$f":"BN50*'13. Diet input'!$T52*100","v":0},{"$f":"BN50*'13. Diet input'!$U52*100","v":0},{"$f":"BO50*(1-'13. Diet input'!$V52)","v":0},null,{"$f":"'13. Diet input'!M52","v":0},{"$f":"BW50*'13. Diet input'!$Q52*100","v":0},{"$f":"BW50*'13. Diet input'!$R52*100","v":0},0,{"$f":"BW50*'13. Diet input'!$S52*100","v":0},{"$f":"BW50*'13. Diet input'!$T52*100","v":0},{"$f":"BW50*'13. Diet input'!$U52*100","v":0},{"$f":"BX50*(1-'13. Diet input'!$V52)","v":0},null,{"$f":"'13. Diet input'!N52","v":0},{"$f":"CF50*'13. Diet input'!$Q52*100","v":0},{"$f":"CF50*'13. Diet input'!$R52*100","v":0},0,{"$f":"CF50*'13. Diet input'!$S52*100","v":0},{"$f":"CF50*'13. Diet input'!$T52*100","v":0},{"$f":"CF50*'13. Diet input'!$U52*100","v":0},{"$f":"CG50*(1-'13. Diet input'!$V52)","v":0},null,{"$f":"'13. Diet input'!O52","v":0},{"$f":"CO50*'13. Diet input'!$Q52*100","v":0},{"$f":"CO50*'13. Diet input'!$R52*100","v":0},0,{"$f":"CO50*'13. Diet input'!$S52*100","v":0},{"$f":"CO50*'13. Diet input'!$T52*100","v":0},{"$f":"CO50*'13. Diet input'!$U52*100","v":0},{"$f":"CP50*(1-'13. Diet input'!$V52)","v":0}]
[null,{"$f":"'13. Diet input'!B53","v":"Soybean Meal 46 Solvent"},{"$f":"'13. Diet input'!E53","v":0},{"$f":"C51*'13. Diet input'!$Q53*100","v":0},{"$f":"C51*'13. Diet input'!$R53*100","v":0},0,{"$f":"C51*'13. Diet input'!$S53*100","v":0},{"$f":"C51*'13. Diet input'!$T53*100","v":0},{"$f":"C51*'13. Diet input'!$U53*100","v":0},{"$f":"D51*(1-'13. Diet input'!$V53)","v":0},null,{"$f":"'13. Diet input'!F53","v":0.1},{"$f":"L51*'13. Diet input'!$Q53*100","v":8.8000000000000007},{"$f":"L51*'13. Diet input'!$R53*100","v":0.64800000000000013},8.152000000000001,{"$f":"L51*'13. Diet input'!$S53*100","v":0.73599999999999999},{"$f":"L51*'13. Diet input'!$T53*100","v":6.2E-2},{"$f":"L51*'13. Diet input'!$U53*100","v":0.19},{"$f":"M51*(1-'13. Diet input'!$V53)","v":1.1231850117096012},null,{"$f":"'13. Diet input'!G53","v":0.125},{"$f":"U51*'13. Diet input'!$Q53*100","v":11},{"$f":"U51*'13. Diet input'!$R53*100","v":0.81000000000000016},10.19,{"$f":"U51*'13. Diet input'!$S53*100","v":0.91999999999999993},{"$f":"U51*'13. Diet input'!$T53*100","v":7.7499999999999999E-2},{"$f":"U51*'13. Diet input'!$U53*100","v":0.23749999999999999},{"$f":"V51*(1-'13. Diet input'!$V53)","v":1.4039812646370016},null,{"$f":"'13. Diet input'!H53","v":4.2500000000000003E-2},{"$f":"AD51*'13. Diet input'!$Q53*100","v":3.74},{"$f":"AD51*'13. Diet input'!$R53*100","v":0.27540000000000009},3.4645999999999999,{"$f":"AD51*'13. Diet input'!$S53*100","v":0.31280000000000002},{"$f":"AD51*'13. Diet input'!$T53*100","v":2.6350000000000002E-2},{"$f":"AD51*'13. Diet input'!$U53*100","v":8.0750000000000002E-2},{"$f":"AE51*(1-'13. Diet input'!$V53)","v":0.47735362997658054},null,{"$f":"'13. Diet input'!I53","v":0},{"$f":"AM51*'13. Diet input'!$Q53*100","v":0},{"$f":"AM51*'13. Diet input'!$R53*100","v":0},0,{"$f":"AM51*'13. Diet input'!$S53*100","v":0},{"$f":"AM51*'13. Diet input'!$T53*100","v":0},{"$f":"AM51*'13. Diet input'!$U53*100","v":0},{"$f":"AN51*(1-'13. Diet input'!$V53)","v":0},null,{"$f":"'13. Diet input'!J53","v":0},{"$f":"AV51*'13. Diet input'!$Q53*100","v":0},{"$f":"AV51*'13. Diet input'!$R53*100","v":0},0,{"$f":"AV51*'13. Diet input'!$S53*100","v":0},{"$f":"AV51*'13. Diet input'!$T53*100","v":0},{"$f":"AV51*'13. Diet input'!$U53*100","v":0},{"$f":"AW51*(1-'13. Diet input'!$V53)","v":0},null,{"$f":"'13. Diet input'!K53","v":0},{"$f":"BE51*'13. Diet input'!$Q53*100","v":0},{"$f":"BE51*'13. Diet input'!$R53*100","v":0},0,{"$f":"BE51*'13. Diet input'!$S53*100","v":0},{"$f":"BE51*'13. Diet input'!$T53*100","v":0},{"$f":"BE51*'13. Diet input'!$U53*100","v":0},{"$f":"BF51*(1-'13. Diet input'!$V53)","v":0},null,{"$f":"'13. Diet input'!L53","v":0},{"$f":"BN51*'13. Diet input'!$Q53*100","v":0},{"$f":"BN51*'13. Diet input'!$R53*100","v":0},0,{"$f":"BN51*'13. Diet input'!$S53*100","v":0},{"$f":"BN51*'13. Diet input'!$T53*100","v":0},{"$f":"BN51*'13. Diet input'!$U53*100","v":0},{"$f":"BO51*(1-'13. Diet input'!$V53)","v":0},null,{"$f":"'13. Diet input'!M53","v":0},{"$f":"BW51*'13. Diet input'!$Q53*100","v":0},{"$f":"BW51*'13. Diet input'!$R53*100","v":0},0,{"$f":"BW51*'13. Diet input'!$S53*100","v":0},{"$f":"BW51*'13. Diet input'!$T53*100","v":0},{"$f":"BW51*'13. Diet input'!$U53*100","v":0},{"$f":"BX51*(1-'13. Diet input'!$V53)","v":0},null,{"$f":"'13. Diet input'!N53","v":0},{"$f":"CF51*'13. Diet input'!$Q53*100","v":0},{"$f":"CF51*'13. Diet input'!$R53*100","v":0},0,{"$f":"CF51*'13. Diet input'!$S53*100","v":0},{"$f":"CF51*'13. Diet input'!$T53*100","v":0},{"$f":"CF51*'13. Diet input'!$U53*100","v":0},{"$f":"CG51*(1-'13. Diet input'!$V53)","v":0},null,{"$f":"'13. Diet input'!O53","v":0},{"$f":"CO51*'13. Diet input'!$Q53*100","v":0},{"$f":"CO51*'13. Diet input'!$R53*100","v":0},0,{"$f":"CO51*'13. Diet input'!$S53*100","v":0},{"$f":"CO51*'13. Diet input'!$T53*100","v":0},{"$f":"CO51*'13. Diet input'!$U53*100","v":0},{"$f":"CP51*(1-'13. Diet input'!$V53)","v":0}]
[null,{"$f":"'13. Diet input'!B54","v":"Soybean Meal 48 Solvent"},{"$f":"'13. Diet input'!E54","v":0},{"$f":"C52*'13. Diet input'!$Q54*100","v":0},{"$f":"C52*'13. Diet input'!$R54*100","v":0},0,{"$f":"C52*'13. Diet input'!$S54*100","v":0},{"$f":"C52*'13. Diet input'!$T54*100","v":0},{"$f":"C52*'13. Diet input'!$U54*100","v":0},{"$f":"D52*(1-'13. Diet input'!$V54)","v":0},null,{"$f":"'13. Diet input'!F54","v":0},{"$f":"L52*'13. Diet input'!$Q54*100","v":0},{"$f":"L52*'13. Diet input'!$R54*100","v":0},0,{"$f":"L52*'13. Diet input'!$S54*100","v":0},{"$f":"L52*'13. Diet input'!$T54*100","v":0},{"$f":"L52*'13. Diet input'!$U54*100","v":0},{"$f":"M52*(1-'13. Diet input'!$V54)","v":0},null,{"$f":"'13. Diet input'!G54","v":0},{"$f":"U52*'13. Diet input'!$Q54*100","v":0},{"$f":"U52*'13. Diet input'!$R54*100","v":0},0,{"$f":"U52*'13. Diet input'!$S54*100","v":0},{"$f":"U52*'13. Diet input'!$T54*100","v":0},{"$f":"U52*'13. Diet input'!$U54*100","v":0},{"$f":"V52*(1-'13. Diet input'!$V54)","v":0},null,{"$f":"'13. Diet input'!H54","v":0},{"$f":"AD52*'13. Diet input'!$Q54*100","v":0},{"$f":"AD52*'13. Diet input'!$R54*100","v":0},0,{"$f":"AD52*'13. Diet input'!$S54*100","v":0},{"$f":"AD52*'13. Diet input'!$T54*100","v":0},{"$f":"AD52*'13. Diet input'!$U54*100","v":0},{"$f":"AE52*(1-'13. Diet input'!$V54)","v":0},null,{"$f":"'13. Diet input'!I54","v":0},{"$f":"AM52*'13. Diet input'!$Q54*100","v":0},{"$f":"AM52*'13. Diet input'!$R54*100","v":0},0,{"$f":"AM52*'13. Diet input'!$S54*100","v":0},{"$f":"AM52*'13. Diet input'!$T54*100","v":0},{"$f":"AM52*'13. Diet input'!$U54*100","v":0},{"$f":"AN52*(1-'13. Diet input'!$V54)","v":0},null,{"$f":"'13. Diet input'!J54","v":0},{"$f":"AV52*'13. Diet input'!$Q54*100","v":0},{"$f":"AV52*'13. Diet input'!$R54*100","v":0},0,{"$f":"AV52*'13. Diet input'!$S54*100","v":0},{"$f":"AV52*'13. Diet input'!$T54*100","v":0},{"$f":"AV52*'13. Diet input'!$U54*100","v":0},{"$f":"AW52*(1-'13. Diet input'!$V54)","v":0},null,{"$f":"'13. Diet input'!K54","v":0},{"$f":"BE52*'13. Diet input'!$Q54*100","v":0},{"$f":"BE52*'13. Diet input'!$R54*100","v":0},0,{"$f":"BE52*'13. Diet input'!$S54*100","v":0},{"$f":"BE52*'13. Diet input'!$T54*100","v":0},{"$f":"BE52*'13. Diet input'!$U54*100","v":0},{"$f":"BF52*(1-'13. Diet input'!$V54)","v":0},null,{"$f":"'13. Diet input'!L54","v":0},{"$f":"BN52*'13. Diet input'!$Q54*100","v":0},{"$f":"BN52*'13. Diet input'!$R54*100","v":0},0,{"$f":"BN52*'13. Diet input'!$S54*100","v":0},{"$f":"BN52*'13. Diet input'!$T54*100","v":0},{"$f":"BN52*'13. Diet input'!$U54*100","v":0},{"$f":"BO52*(1-'13. Diet input'!$V54)","v":0},null,{"$f":"'13. Diet input'!M54","v":0},{"$f":"BW52*'13. Diet input'!$Q54*100","v":0},{"$f":"BW52*'13. Diet input'!$R54*100","v":0},0,{"$f":"BW52*'13. Diet input'!$S54*100","v":0},{"$f":"BW52*'13. Diet input'!$T54*100","v":0},{"$f":"BW52*'13. Diet input'!$U54*100","v":0},{"$f":"BX52*(1-'13. Diet input'!$V54)","v":0},null,{"$f":"'13. Diet input'!N54","v":0},{"$f":"CF52*'13. Diet input'!$Q54*100","v":0},{"$f":"CF52*'13. Diet input'!$R54*100","v":0},0,{"$f":"CF52*'13. Diet input'!$S54*100","v":0},{"$f":"CF52*'13. Diet input'!$T54*100","v":0},{"$f":"CF52*'13. Diet input'!$U54*100","v":0},{"$f":"CG52*(1-'13. Diet input'!$V54)","v":0},null,{"$f":"'13. Diet input'!O54","v":0},{"$f":"CO52*'13. Diet input'!$Q54*100","v":0},{"$f":"CO52*'13. Diet input'!$R54*100","v":0},0,{"$f":"CO52*'13. Diet input'!$S54*100","v":0},{"$f":"CO52*'13. Diet input'!$T54*100","v":0},{"$f":"CO52*'13. Diet input'!$U54*100","v":0},{"$f":"CP52*(1-'13. Diet input'!$V54)","v":0}]
[null,{"$f":"'13. Diet input'!B55","v":"Soybean, Full fat"},{"$f":"'13. Diet input'!E55","v":0},{"$f":"C53*'13. Diet input'!$Q55*100","v":0},{"$f":"C53*'13. Diet input'!$R55*100","v":0},0,{"$f":"C53*'13. Diet input'!$S55*100","v":0},{"$f":"C53*'13. Diet input'!$T55*100","v":0},{"$f":"C53*'13. Diet input'!$U55*100","v":0},{"$f":"D53*(1-'13. Diet input'!$V55)","v":0},null,{"$f":"'13. Diet input'!F55","v":0},{"$f":"L53*'13. Diet input'!$Q55*100","v":0},{"$f":"L53*'13. Diet input'!$R55*100","v":0},0,{"$f":"L53*'13. Diet input'!$S55*100","v":0},{"$f":"L53*'13. Diet input'!$T55*100","v":0},{"$f":"L53*'13. Diet input'!$U55*100","v":0},{"$f":"M53*(1-'13. Diet input'!$V55)","v":0},null,{"$f":"'13. Diet input'!G55","v":0},{"$f":"U53*'13. Diet input'!$Q55*100","v":0},{"$f":"U53*'13. Diet input'!$R55*100","v":0},0,{"$f":"U53*'13. Diet input'!$S55*100","v":0},{"$f":"U53*'13. Diet input'!$T55*100","v":0},{"$f":"U53*'13. Diet input'!$U55*100","v":0},{"$f":"V53*(1-'13. Diet input'!$V55)","v":0},null,{"$f":"'13. Diet input'!H55","v":0},{"$f":"AD53*'13. Diet input'!$Q55*100","v":0},{"$f":"AD53*'13. Diet input'!$R55*100","v":0},0,{"$f":"AD53*'13. Diet input'!$S55*100","v":0},{"$f":"AD53*'13. Diet input'!$T55*100","v":0},{"$f":"AD53*'13. Diet input'!$U55*100","v":0},{"$f":"AE53*(1-'13. Diet input'!$V55)","v":0},null,{"$f":"'13. Diet input'!I55","v":0},{"$f":"AM53*'13. Diet input'!$Q55*100","v":0},{"$f":"AM53*'13. Diet input'!$R55*100","v":0},0,{"$f":"AM53*'13. Diet input'!$S55*100","v":0},{"$f":"AM53*'13. Diet input'!$T55*100","v":0},{"$f":"AM53*'13. Diet input'!$U55*100","v":0},{"$f":"AN53*(1-'13. Diet input'!$V55)","v":0},null,{"$f":"'13. Diet input'!J55","v":0},{"$f":"AV53*'13. Diet input'!$Q55*100","v":0},{"$f":"AV53*'13. Diet input'!$R55*100","v":0},0,{"$f":"AV53*'13. Diet input'!$S55*100","v":0},{"$f":"AV53*'13. Diet input'!$T55*100","v":0},{"$f":"AV53*'13. Diet input'!$U55*100","v":0},{"$f":"AW53*(1-'13. Diet input'!$V55)","v":0},null,{"$f":"'13. Diet input'!K55","v":0},{"$f":"BE53*'13. Diet input'!$Q55*100","v":0},{"$f":"BE53*'13. Diet input'!$R55*100","v":0},0,{"$f":"BE53*'13. Diet input'!$S55*100","v":0},{"$f":"BE53*'13. Diet input'!$T55*100","v":0},{"$f":"BE53*'13. Diet input'!$U55*100","v":0},{"$f":"BF53*(1-'13. Diet input'!$V55)","v":0},null,{"$f":"'13. Diet input'!L55","v":0},{"$f":"BN53*'13. Diet input'!$Q55*100","v":0},{"$f":"BN53*'13. Diet input'!$R55*100","v":0},0,{"$f":"BN53*'13. Diet input'!$S55*100","v":0},{"$f":"BN53*'13. Diet input'!$T55*100","v":0},{"$f":"BN53*'13. Diet input'!$U55*100","v":0},{"$f":"BO53*(1-'13. Diet input'!$V55)","v":0},null,{"$f":"'13. Diet input'!M55","v":0},{"$f":"BW53*'13. Diet input'!$Q55*100","v":0},{"$f":"BW53*'13. Diet input'!$R55*100","v":0},0,{"$f":"BW53*'13. Diet input'!$S55*100","v":0},{"$f":"BW53*'13. Diet input'!$T55*100","v":0},{"$f":"BW53*'13. Diet input'!$U55*100","v":0},{"$f":"BX53*(1-'13. Diet input'!$V55)","v":0},null,{"$f":"'13. Diet input'!N55","v":0},{"$f":"CF53*'13. Diet input'!$Q55*100","v":0},{"$f":"CF53*'13. Diet input'!$R55*100","v":0},0,{"$f":"CF53*'13. Diet input'!$S55*100","v":0},{"$f":"CF53*'13. Diet input'!$T55*100","v":0},{"$f":"CF53*'13. Diet input'!$U55*100","v":0},{"$f":"CG53*(1-'13. Diet input'!$V55)","v":0},null,{"$f":"'13. Diet input'!O55","v":0},{"$f":"CO53*'13. Diet input'!$Q55*100","v":0},{"$f":"CO53*'13. Diet input'!$R55*100","v":0},0,{"$f":"CO53*'13. Diet input'!$S55*100","v":0},{"$f":"CO53*'13. Diet input'!$T55*100","v":0},{"$f":"CO53*'13. Diet input'!$U55*100","v":0},{"$f":"CP53*(1-'13. Diet input'!$V55)","v":0}]
[null,{"$f":"'13. Diet input'!B56","v":"Selecta Soy/X-Soy 600"},{"$f":"'13. Diet input'!E56","v":5.0000000000000001E-3},{"$f":"C54*'13. Diet input'!$Q56*100","v":0.45999999999999996},{"$f":"C54*'13. Diet input'!$R56*100","v":3.4000000000000002E-2},0.42599999999999993,{"$f":"C54*'13. Diet input'!$S56*100","v":4.8000000000000001E-2},{"$f":"C54*'13. Diet input'!$T56*100","v":4.0000000000000001E-3},{"$f":"C54*'13. Diet input'!$U56*100","v":1.15E-2},{"$f":"D54*(1-'13. Diet input'!$V56)","v":4.0265251989389982E-2},null,{"$f":"'13. Diet input'!F56","v":0},{"$f":"L54*'13. Diet input'!$Q56*100","v":0},{"$f":"L54*'13. Diet input'!$R56*100","v":0},0,{"$f":"L54*'13. Diet input'!$S56*100","v":0},{"$f":"L54*'13. Diet input'!$T56*100","v":0},{"$f":"L54*'13. Diet input'!$U56*100","v":0},{"$f":"M54*(1-'13. Diet input'!$V56)","v":0},null,{"$f":"'13. Diet input'!G56","v":0},{"$f":"U54*'13. Diet input'!$Q56*100","v":0},{"$f":"U54*'13. Diet input'!$R56*100","v":0},0,{"$f":"U54*'13. Diet input'!$S56*100","v":0},{"$f":"U54*'13. Diet input'!$T56*100","v":0},{"$f":"U54*'13. Diet input'!$U56*100","v":0},{"$f":"V54*(1-'13. Diet input'!$V56)","v":0},null,{"$f":"'13. Diet input'!H56","v":0},{"$f":"AD54*'13. Diet input'!$Q56*100","v":0},{"$f":"AD54*'13. Diet input'!$R56*100","v":0},0,{"$f":"AD54*'13. Diet input'!$S56*100","v":0},{"$f":"AD54*'13. Diet input'!$T56*100","v":0},{"$f":"AD54*'13. Diet input'!$U56*100","v":0},{"$f":"AE54*(1-'13. Diet input'!$V56)","v":0},null,{"$f":"'13. Diet input'!I56","v":0},{"$f":"AM54*'13. Diet input'!$Q56*100","v":0},{"$f":"AM54*'13. Diet input'!$R56*100","v":0},0,{"$f":"AM54*'13. Diet input'!$S56*100","v":0},{"$f":"AM54*'13. Diet input'!$T56*100","v":0},{"$f":"AM54*'13. Diet input'!$U56*100","v":0},{"$f":"AN54*(1-'13. Diet input'!$V56)","v":0},null,{"$f":"'13. Diet input'!J56","v":0},{"$f":"AV54*'13. Diet input'!$Q56*100","v":0},{"$f":"AV54*'13. Diet input'!$R56*100","v":0},0,{"$f":"AV54*'13. Diet input'!$S56*100","v":0},{"$f":"AV54*'13. Diet input'!$T56*100","v":0},{"$f":"AV54*'13. Diet input'!$U56*100","v":0},{"$f":"AW54*(1-'13. Diet input'!$V56)","v":0},null,{"$f":"'13. Diet input'!K56","v":0},{"$f":"BE54*'13. Diet input'!$Q56*100","v":0},{"$f":"BE54*'13. Diet input'!$R56*100","v":0},0,{"$f":"BE54*'13. Diet input'!$S56*100","v":0},{"$f":"BE54*'13. Diet input'!$T56*100","v":0},{"$f":"BE54*'13. Diet input'!$U56*100","v":0},{"$f":"BF54*(1-'13. Diet input'!$V56)","v":0},null,{"$f":"'13. Diet input'!L56","v":0},{"$f":"BN54*'13. Diet input'!$Q56*100","v":0},{"$f":"BN54*'13. Diet input'!$R56*100","v":0},0,{"$f":"BN54*'13. Diet input'!$S56*100","v":0},{"$f":"BN54*'13. Diet input'!$T56*100","v":0},{"$f":"BN54*'13. Diet input'!$U56*100","v":0},{"$f":"BO54*(1-'13. Diet input'!$V56)","v":0},null,{"$f":"'13. Diet input'!M56","v":0},{"$f":"BW54*'13. Diet input'!$Q56*100","v":0},{"$f":"BW54*'13. Diet input'!$R56*100","v":0},0,{"$f":"BW54*'13. Diet input'!$S56*100","v":0},{"$f":"BW54*'13. Diet input'!$T56*100","v":0},{"$f":"BW54*'13. Diet input'!$U56*100","v":0},{"$f":"BX54*(1-'13. Diet input'!$V56)","v":0},null,{"$f":"'13. Diet input'!N56","v":0},{"$f":"CF54*'13. Diet input'!$Q56*100","v":0},{"$f":"CF54*'13. Diet input'!$R56*100","v":0},0,{"$f":"CF54*'13. Diet input'!$S56*100","v":0},{"$f":"CF54*'13. Diet input'!$T56*100","v":0},{"$f":"CF54*'13. Diet input'!$U56*100","v":0},{"$f":"CG54*(1-'13. Diet input'!$V56)","v":0},null,{"$f":"'13. Diet input'!O56","v":0},{"$f":"CO54*'13. Diet input'!$Q56*100","v":0},{"$f":"CO54*'13. Diet input'!$R56*100","v":0},0,{"$f":"CO54*'13. Diet input'!$S56*100","v":0},{"$f":"CO54*'13. Diet input'!$T56*100","v":0},{"$f":"CO54*'13. Diet input'!$U56*100","v":0},{"$f":"CP54*(1-'13. Diet input'!$V56)","v":0}]
[null,{"$f":"'13. Diet input'!B57","v":"Soycomil 65"},{"$f":"'13. Diet input'!E57","v":0},{"$f":"C55*'13. Diet input'!$Q57*100","v":0},{"$f":"C55*'13. Diet input'!$R57*100","v":0},0,{"$f":"C55*'13. Diet input'!$S57*100","v":0},{"$f":"C55*'13. Diet input'!$T57*100","v":0},{"$f":"C55*'13. Diet input'!$U57*100","v":0},{"$f":"D55*(1-'13. Diet input'!$V57)","v":0},null,{"$f":"'13. Diet input'!F57","v":0},{"$f":"L55*'13. Diet input'!$Q57*100","v":0},{"$f":"L55*'13. Diet input'!$R57*100","v":0},0,{"$f":"L55*'13. Diet input'!$S57*100","v":0},{"$f":"L55*'13. Diet input'!$T57*100","v":0},{"$f":"L55*'13. Diet input'!$U57*100","v":0},{"$f":"M55*(1-'13. Diet input'!$V57)","v":0},null,{"$f":"'13. Diet input'!G57","v":0},{"$f":"U55*'13. Diet input'!$Q57*100","v":0},{"$f":"U55*'13. Diet input'!$R57*100","v":0},0,{"$f":"U55*'13. Diet input'!$S57*100","v":0},{"$f":"U55*'13. Diet input'!$T57*100","v":0},{"$f":"U55*'13. Diet input'!$U57*100","v":0},{"$f":"V55*(1-'13. Diet input'!$V57)","v":0},null,{"$f":"'13. Diet input'!H57","v":0},{"$f":"AD55*'13. Diet input'!$Q57*100","v":0},{"$f":"AD55*'13. Diet input'!$R57*100","v":0},0,{"$f":"AD55*'13. Diet input'!$S57*100","v":0},{"$f":"AD55*'13. Diet input'!$T57*100","v":0},{"$f":"AD55*'13. Diet input'!$U57*100","v":0},{"$f":"AE55*(1-'13. Diet input'!$V57)","v":0},null,{"$f":"'13. Diet input'!I57","v":0},{"$f":"AM55*'13. Diet input'!$Q57*100","v":0},{"$f":"AM55*'13. Diet input'!$R57*100","v":0},0,{"$f":"AM55*'13. Diet input'!$S57*100","v":0},{"$f":"AM55*'13. Diet input'!$T57*100","v":0},{"$f":"AM55*'13. Diet input'!$U57*100","v":0},{"$f":"AN55*(1-'13. Diet input'!$V57)","v":0},null,{"$f":"'13. Diet input'!J57","v":0},{"$f":"AV55*'13. Diet input'!$Q57*100","v":0},{"$f":"AV55*'13. Diet input'!$R57*100","v":0},0,{"$f":"AV55*'13. Diet input'!$S57*100","v":0},{"$f":"AV55*'13. Diet input'!$T57*100","v":0},{"$f":"AV55*'13. Diet input'!$U57*100","v":0},{"$f":"AW55*(1-'13. Diet input'!$V57)","v":0},null,{"$f":"'13. Diet input'!K57","v":0},{"$f":"BE55*'13. Diet input'!$Q57*100","v":0},{"$f":"BE55*'13. Diet input'!$R57*100","v":0},0,{"$f":"BE55*'13. Diet input'!$S57*100","v":0},{"$f":"BE55*'13. Diet input'!$T57*100","v":0},{"$f":"BE55*'13. Diet input'!$U57*100","v":0},{"$f":"BF55*(1-'13. Diet input'!$V57)","v":0},null,{"$f":"'13. Diet input'!L57","v":0},{"$f":"BN55*'13. Diet input'!$Q57*100","v":0},{"$f":"BN55*'13. Diet input'!$R57*100","v":0},0,{"$f":"BN55*'13. Diet input'!$S57*100","v":0},{"$f":"BN55*'13. Diet input'!$T57*100","v":0},{"$f":"BN55*'13. Diet input'!$U57*100","v":0},{"$f":"BO55*(1-'13. Diet input'!$V57)","v":0},null,{"$f":"'13. Diet input'!M57","v":0},{"$f":"BW55*'13. Diet input'!$Q57*100","v":0},{"$f":"BW55*'13. Diet input'!$R57*100","v":0},0,{"$f":"BW55*'13. Diet input'!$S57*100","v":0},{"$f":"BW55*'13. Diet input'!$T57*100","v":0},{"$f":"BW55*'13. Diet input'!$U57*100","v":0},{"$f":"BX55*(1-'13. Diet input'!$V57)","v":0},null,{"$f":"'13. Diet input'!N57","v":0},{"$f":"CF55*'13. Diet input'!$Q57*100","v":0},{"$f":"CF55*'13. Diet input'!$R57*100","v":0},0,{"$f":"CF55*'13. Diet input'!$S57*100","v":0},{"$f":"CF55*'13. Diet input'!$T57*100","v":0},{"$f":"CF55*'13. Diet input'!$U57*100","v":0},{"$f":"CG55*(1-'13. Diet input'!$V57)","v":0},null,{"$f":"'13. Diet input'!O57","v":0},{"$f":"CO55*'13. Diet input'!$Q57*100","v":0},{"$f":"CO55*'13. Diet input'!$R57*100","v":0},0,{"$f":"CO55*'13. Diet input'!$S57*100","v":0},{"$f":"CO55*'13. Diet input'!$T57*100","v":0},{"$f":"CO55*'13. Diet input'!$U57*100","v":0},{"$f":"CP55*(1-'13. Diet input'!$V57)","v":0}]
[null,{"$f":"'13. Diet input'!B58","v":"Sunflower 30"},{"$f":"'13. Diet input'!E58","v":0},{"$f":"C56*'13. Diet input'!$Q58*100","v":0},{"$f":"C56*'13. Diet input'!$R58*100","v":0},0,{"$f":"C56*'13. Diet input'!$S58*100","v":0},{"$f":"C56*'13. Diet input'!$T58*100","v":0},{"$f":"C56*'13. Diet input'!$U58*100","v":0},{"$f":"D56*(1-'13. Diet input'!$V58)","v":0},null,{"$f":"'13. Diet input'!F58","v":0},{"$f":"L56*'13. Diet input'!$Q58*100","v":0},{"$f":"L56*'13. Diet input'!$R58*100","v":0},0,{"$f":"L56*'13. Diet input'!$S58*100","v":0},{"$f":"L56*'13. Diet input'!$T58*100","v":0},{"$f":"L56*'13. Diet input'!$U58*100","v":0},{"$f":"M56*(1-'13. Diet input'!$V58)","v":0},null,{"$f":"'13. Diet input'!G58","v":0},{"$f":"U56*'13. Diet input'!$Q58*100","v":0},{"$f":"U56*'13. Diet input'!$R58*100","v":0},0,{"$f":"U56*'13. Diet input'!$S58*100","v":0},{"$f":"U56*'13. Diet input'!$T58*100","v":0},{"$f":"U56*'13. Diet input'!$U58*100","v":0},{"$f":"V56*(1-'13. Diet input'!$V58)","v":0},null,{"$f":"'13. Diet input'!H58","v":0},{"$f":"AD56*'13. Diet input'!$Q58*100","v":0},{"$f":"AD56*'13. Diet input'!$R58*100","v":0},0,{"$f":"AD56*'13. Diet input'!$S58*100","v":0},{"$f":"AD56*'13. Diet input'!$T58*100","v":0},{"$f":"AD56*'13. Diet input'!$U58*100","v":0},{"$f":"AE56*(1-'13. Diet input'!$V58)","v":0},null,{"$f":"'13. Diet input'!I58","v":0},{"$f":"AM56*'13. Diet input'!$Q58*100","v":0},{"$f":"AM56*'13. Diet input'!$R58*100","v":0},0,{"$f":"AM56*'13. Diet input'!$S58*100","v":0},{"$f":"AM56*'13. Diet input'!$T58*100","v":0},{"$f":"AM56*'13. Diet input'!$U58*100","v":0},{"$f":"AN56*(1-'13. Diet input'!$V58)","v":0},null,{"$f":"'13. Diet input'!J58","v":0},{"$f":"AV56*'13. Diet input'!$Q58*100","v":0},{"$f":"AV56*'13. Diet input'!$R58*100","v":0},0,{"$f":"AV56*'13. Diet input'!$S58*100","v":0},{"$f":"AV56*'13. Diet input'!$T58*100","v":0},{"$f":"AV56*'13. Diet input'!$U58*100","v":0},{"$f":"AW56*(1-'13. Diet input'!$V58)","v":0},null,{"$f":"'13. Diet input'!K58","v":0},{"$f":"BE56*'13. Diet input'!$Q58*100","v":0},{"$f":"BE56*'13. Diet input'!$R58*100","v":0},0,{"$f":"BE56*'13. Diet input'!$S58*100","v":0},{"$f":"BE56*'13. Diet input'!$T58*100","v":0},{"$f":"BE56*'13. Diet input'!$U58*100","v":0},{"$f":"BF56*(1-'13. Diet input'!$V58)","v":0},null,{"$f":"'13. Diet input'!L58","v":0},{"$f":"BN56*'13. Diet input'!$Q58*100","v":0},{"$f":"BN56*'13. Diet input'!$R58*100","v":0},0,{"$f":"BN56*'13. Diet input'!$S58*100","v":0},{"$f":"BN56*'13. Diet input'!$T58*100","v":0},{"$f":"BN56*'13. Diet input'!$U58*100","v":0},{"$f":"BO56*(1-'13. Diet input'!$V58)","v":0},null,{"$f":"'13. Diet input'!M58","v":0},{"$f":"BW56*'13. Diet input'!$Q58*100","v":0},{"$f":"BW56*'13. Diet input'!$R58*100","v":0},0,{"$f":"BW56*'13. Diet input'!$S58*100","v":0},{"$f":"BW56*'13. Diet input'!$T58*100","v":0},{"$f":"BW56*'13. Diet input'!$U58*100","v":0},{"$f":"BX56*(1-'13. Diet input'!$V58)","v":0},null,{"$f":"'13. Diet input'!N58","v":0},{"$f":"CF56*'13. Diet input'!$Q58*100","v":0},{"$f":"CF56*'13. Diet input'!$R58*100","v":0},0,{"$f":"CF56*'13. Diet input'!$S58*100","v":0},{"$f":"CF56*'13. Diet input'!$T58*100","v":0},{"$f":"CF56*'13. Diet input'!$U58*100","v":0},{"$f":"CG56*(1-'13. Diet input'!$V58)","v":0},null,{"$f":"'13. Diet input'!O58","v":0},{"$f":"CO56*'13. Diet input'!$Q58*100","v":0},{"$f":"CO56*'13. Diet input'!$R58*100","v":0},0,{"$f":"CO56*'13. Diet input'!$S58*100","v":0},{"$f":"CO56*'13. Diet input'!$T58*100","v":0},{"$f":"CO56*'13. Diet input'!$U58*100","v":0},{"$f":"CP56*(1-'13. Diet input'!$V58)","v":0}]
[null,{"$f":"'13. Diet input'!B59","v":"Sunflower 36"},{"$f":"'13. Diet input'!E59","v":0},{"$f":"C57*'13. Diet input'!$Q59*100","v":0},{"$f":"C57*'13. Diet input'!$R59*100","v":0},0,{"$f":"C57*'13. Diet input'!$S59*100","v":0},{"$f":"C57*'13. Diet input'!$T59*100","v":0},{"$f":"C57*'13. Diet input'!$U59*100","v":0},{"$f":"D57*(1-'13. Diet input'!$V59)","v":0},null,{"$f":"'13. Diet input'!F59","v":0},{"$f":"L57*'13. Diet input'!$Q59*100","v":0},{"$f":"L57*'13. Diet input'!$R59*100","v":0},0,{"$f":"L57*'13. Diet input'!$S59*100","v":0},{"$f":"L57*'13. Diet input'!$T59*100","v":0},{"$f":"L57*'13. Diet input'!$U59*100","v":0},{"$f":"M57*(1-'13. Diet input'!$V59)","v":0},null,{"$f":"'13. Diet input'!G59","v":0},{"$f":"U57*'13. Diet input'!$Q59*100","v":0},{"$f":"U57*'13. Diet input'!$R59*100","v":0},0,{"$f":"U57*'13. Diet input'!$S59*100","v":0},{"$f":"U57*'13. Diet input'!$T59*100","v":0},{"$f":"U57*'13. Diet input'!$U59*100","v":0},{"$f":"V57*(1-'13. Diet input'!$V59)","v":0},null,{"$f":"'13. Diet input'!H59","v":0},{"$f":"AD57*'13. Diet input'!$Q59*100","v":0},{"$f":"AD57*'13. Diet input'!$R59*100","v":0},0,{"$f":"AD57*'13. Diet input'!$S59*100","v":0},{"$f":"AD57*'13. Diet input'!$T59*100","v":0},{"$f":"AD57*'13. Diet input'!$U59*100","v":0},{"$f":"AE57*(1-'13. Diet input'!$V59)","v":0},null,{"$f":"'13. Diet input'!I59","v":0},{"$f":"AM57*'13. Diet input'!$Q59*100","v":0},{"$f":"AM57*'13. Diet input'!$R59*100","v":0},0,{"$f":"AM57*'13. Diet input'!$S59*100","v":0},{"$f":"AM57*'13. Diet input'!$T59*100","v":0},{"$f":"AM57*'13. Diet input'!$U59*100","v":0},{"$f":"AN57*(1-'13. Diet input'!$V59)","v":0},null,{"$f":"'13. Diet input'!J59","v":0},{"$f":"AV57*'13. Diet input'!$Q59*100","v":0},{"$f":"AV57*'13. Diet input'!$R59*100","v":0},0,{"$f":"AV57*'13. Diet input'!$S59*100","v":0},{"$f":"AV57*'13. Diet input'!$T59*100","v":0},{"$f":"AV57*'13. Diet input'!$U59*100","v":0},{"$f":"AW57*(1-'13. Diet input'!$V59)","v":0},null,{"$f":"'13. Diet input'!K59","v":0},{"$f":"BE57*'13. Diet input'!$Q59*100","v":0},{"$f":"BE57*'13. Diet input'!$R59*100","v":0},0,{"$f":"BE57*'13. Diet input'!$S59*100","v":0},{"$f":"BE57*'13. Diet input'!$T59*100","v":0},{"$f":"BE57*'13. Diet input'!$U59*100","v":0},{"$f":"BF57*(1-'13. Diet input'!$V59)","v":0},null,{"$f":"'13. Diet input'!L59","v":0},{"$f":"BN57*'13. Diet input'!$Q59*100","v":0},{"$f":"BN57*'13. Diet input'!$R59*100","v":0},0,{"$f":"BN57*'13. Diet input'!$S59*100","v":0},{"$f":"BN57*'13. Diet input'!$T59*100","v":0},{"$f":"BN57*'13. Diet input'!$U59*100","v":0},{"$f":"BO57*(1-'13. Diet input'!$V59)","v":0},null,{"$f":"'13. Diet input'!M59","v":0},{"$f":"BW57*'13. Diet input'!$Q59*100","v":0},{"$f":"BW57*'13. Diet input'!$R59*100","v":0},0,{"$f":"BW57*'13. Diet input'!$S59*100","v":0},{"$f":"BW57*'13. Diet input'!$T59*100","v":0},{"$f":"BW57*'13. Diet input'!$U59*100","v":0},{"$f":"BX57*(1-'13. Diet input'!$V59)","v":0},null,{"$f":"'13. Diet input'!N59","v":0},{"$f":"CF57*'13. Diet input'!$Q59*100","v":0},{"$f":"CF57*'13. Diet input'!$R59*100","v":0},0,{"$f":"CF57*'13. Diet input'!$S59*100","v":0},{"$f":"CF57*'13. Diet input'!$T59*100","v":0},{"$f":"CF57*'13. Diet input'!$U59*100","v":0},{"$f":"CG57*(1-'13. Diet input'!$V59)","v":0},null,{"$f":"'13. Diet input'!O59","v":0},{"$f":"CO57*'13. Diet input'!$Q59*100","v":0},{"$f":"CO57*'13. Diet input'!$R59*100","v":0},0,{"$f":"CO57*'13. Diet input'!$S59*100","v":0},{"$f":"CO57*'13. Diet input'!$T59*100","v":0},{"$f":"CO57*'13. Diet input'!$U59*100","v":0},{"$f":"CP57*(1-'13. Diet input'!$V59)","v":0}]
[null,"Yeast Products"]
[null,{"$f":"'13. Diet input'!B61","v":"Brewers Yeast"},{"$f":"'13. Diet input'!E61","v":0},{"$f":"C59*'13. Diet input'!$Q61*100","v":0},{"$f":"C59*'13. Diet input'!$R61*100","v":0},0,{"$f":"C59*'13. Diet input'!$S61*100","v":0},{"$f":"C59*'13. Diet input'!$T61*100","v":0},{"$f":"C59*'13. Diet input'!$U61*100","v":0},{"$f":"D59*(1-'13. Diet input'!$V61)","v":0},null,{"$f":"'13. Diet input'!F61","v":0},{"$f":"L59*'13. Diet input'!$Q61*100","v":0},{"$f":"L59*'13. Diet input'!$R61*100","v":0},0,{"$f":"L59*'13. Diet input'!$S61*100","v":0},{"$f":"L59*'13. Diet input'!$T61*100","v":0},{"$f":"L59*'13. Diet input'!$U61*100","v":0},{"$f":"M59*(1-'13. Diet input'!$V61)","v":0},null,{"$f":"'13. Diet input'!G61","v":0},{"$f":"U59*'13. Diet input'!$Q61*100","v":0},{"$f":"U59*'13. Diet input'!$R61*100","v":0},0,{"$f":"U59*'13. Diet input'!$S61*100","v":0},{"$f":"U59*'13. Diet input'!$T61*100","v":0},{"$f":"U59*'13. Diet input'!$U61*100","v":0},{"$f":"V59*(1-'13. Diet input'!$V61)","v":0},null,{"$f":"'13. Diet input'!H61","v":0},{"$f":"AD59*'13. Diet input'!$Q61*100","v":0},{"$f":"AD59*'13. Diet input'!$R61*100","v":0},0,{"$f":"AD59*'13. Diet input'!$S61*100","v":0},{"$f":"AD59*'13. Diet input'!$T61*100","v":0},{"$f":"AD59*'13. Diet input'!$U61*100","v":0},{"$f":"AE59*(1-'13. Diet input'!$V61)","v":0},null,{"$f":"'13. Diet input'!I61","v":0},{"$f":"AM59*'13. Diet input'!$Q61*100","v":0},{"$f":"AM59*'13. Diet input'!$R61*100","v":0},0,{"$f":"AM59*'13. Diet input'!$S61*100","v":0},{"$f":"AM59*'13. Diet input'!$T61*100","v":0},{"$f":"AM59*'13. Diet input'!$U61*100","v":0},{"$f":"AN59*(1-'13. Diet input'!$V61)","v":0},null,{"$f":"'13. Diet input'!J61","v":0},{"$f":"AV59*'13. Diet input'!$Q61*100","v":0},{"$f":"AV59*'13. Diet input'!$R61*100","v":0},0,{"$f":"AV59*'13. Diet input'!$S61*100","v":0},{"$f":"AV59*'13. Diet input'!$T61*100","v":0},{"$f":"AV59*'13. Diet input'!$U61*100","v":0},{"$f":"AW59*(1-'13. Diet input'!$V61)","v":0},null,{"$f":"'13. Diet input'!K61","v":0},{"$f":"BE59*'13. Diet input'!$Q61*100","v":0},{"$f":"BE59*'13. Diet input'!$R61*100","v":0},0,{"$f":"BE59*'13. Diet input'!$S61*100","v":0},{"$f":"BE59*'13. Diet input'!$T61*100","v":0},{"$f":"BE59*'13. Diet input'!$U61*100","v":0},{"$f":"BF59*(1-'13. Diet input'!$V61)","v":0},null,{"$f":"'13. Diet input'!L61","v":0},{"$f":"BN59*'13. Diet input'!$Q61*100","v":0},{"$f":"BN59*'13. Diet input'!$R61*100","v":0},0,{"$f":"BN59*'13. Diet input'!$S61*100","v":0},{"$f":"BN59*'13. Diet input'!$T61*100","v":0},{"$f":"BN59*'13. Diet input'!$U61*100","v":0},{"$f":"BO59*(1-'13. Diet input'!$V61)","v":0},null,{"$f":"'13. Diet input'!M61","v":0},{"$f":"BW59*'13. Diet input'!$Q61*100","v":0},{"$f":"BW59*'13. Diet input'!$R61*100","v":0},0,{"$f":"BW59*'13. Diet input'!$S61*100","v":0},{"$f":"BW59*'13. Diet input'!$T61*100","v":0},{"$f":"BW59*'13. Diet input'!$U61*100","v":0},{"$f":"BX59*(1-'13. Diet input'!$V61)","v":0},null,{"$f":"'13. Diet input'!N61","v":0},{"$f":"CF59*'13. Diet input'!$Q61*100","v":0},{"$f":"CF59*'13. Diet input'!$R61*100","v":0},0,{"$f":"CF59*'13. Diet input'!$S61*100","v":0},{"$f":"CF59*'13. Diet input'!$T61*100","v":0},{"$f":"CF59*'13. Diet input'!$U61*100","v":0},{"$f":"CG59*(1-'13. Diet input'!$V61)","v":0},null,{"$f":"'13. Diet input'!O61","v":0},{"$f":"CO59*'13. Diet input'!$Q61*100","v":0},{"$f":"CO59*'13. Diet input'!$R61*100","v":0},0,{"$f":"CO59*'13. Diet input'!$S61*100","v":0},{"$f":"CO59*'13. Diet input'!$T61*100","v":0},{"$f":"CO59*'13. Diet input'!$U61*100","v":0},{"$f":"CP59*(1-'13. Diet input'!$V61)","v":0}]
[null,{"$f":"'13. Diet input'!B62","v":"Hilyses"},{"$f":"'13. Diet input'!E62","v":0},{"$f":"C60*'13. Diet input'!$Q62*100","v":0},{"$f":"C60*'13. Diet input'!$R62*100","v":0},{"$f":"D60-E60","v":0},{"$f":"C60*'13. Diet input'!$S62*100","v":0},{"$f":"C60*'13. Diet input'!$T62*100","v":0},{"$f":"C60*'13. Diet input'!$U62*100","v":0},{"$f":"D60*(1-'13. Diet input'!$V62)","v":0},null,{"$f":"'13. Diet input'!F62","v":0},{"$f":"L60*'13. Diet input'!$Q62*100","v":0},{"$f":"L60*'13. Diet input'!$R62*100","v":0},{"$f":"M60-N60","v":0},{"$f":"L60*'13. Diet input'!$S62*100","v":0},{"$f":"L60*'13. Diet input'!$T62*100","v":0},{"$f":"L60*'13. Diet input'!$U62*100","v":0},{"$f":"M60*(1-'13. Diet input'!$V62)","v":0},null,{"$f":"'13. Diet input'!G62","v":0},{"$f":"U60*'13. Diet input'!$Q62*100","v":0},{"$f":"U60*'13. Diet input'!$R62*100","v":0},{"$f":"V60-W60","v":0},{"$f":"U60*'13. Diet input'!$S62*100","v":0},{"$f":"U60*'13. Diet input'!$T62*100","v":0},{"$f":"U60*'13. Diet input'!$U62*100","v":0},{"$f":"V60*(1-'13. Diet input'!$V62)","v":0},null,{"$f":"'13. Diet input'!H62","v":0},{"$f":"AD60*'13. Diet input'!$Q62*100","v":0},{"$f":"AD60*'13. Diet input'!$R62*100","v":0},{"$f":"AE60-AF60","v":0},{"$f":"AD60*'13. Diet input'!$S62*100","v":0},{"$f":"AD60*'13. Diet input'!$T62*100","v":0},{"$f":"AD60*'13. Diet input'!$U62*100","v":0},{"$f":"AE60*(1-'13. Diet input'!$V62)","v":0},null,{"$f":"'13. Diet input'!I62","v":0},{"$f":"AM60*'13. Diet input'!$Q62*100","v":0},{"$f":"AM60*'13. Diet input'!$R62*100","v":0},{"$f":"AN60-AO60","v":0},{"$f":"AM60*'13. Diet input'!$S62*100","v":0},{"$f":"AM60*'13. Diet input'!$T62*100","v":0},{"$f":"AM60*'13. Diet input'!$U62*100","v":0},{"$f":"AN60*(1-'13. Diet input'!$V62)","v":0},null,{"$f":"'13. Diet input'!J62","v":0},{"$f":"AV60*'13. Diet input'!$Q62*100","v":0},{"$f":"AV60*'13. Diet input'!$R62*100","v":0},{"$f":"AW60-AX60","v":0},{"$f":"AV60*'13. Diet input'!$S62*100","v":0},{"$f":"AV60*'13. Diet input'!$T62*100","v":0},{"$f":"AV60*'13. Diet input'!$U62*100","v":0},{"$f":"AW60*(1-'13. Diet input'!$V62)","v":0},null,{"$f":"'13. Diet input'!K62","v":0},{"$f":"BE60*'13. Diet input'!$Q62*100","v":0},{"$f":"BE60*'13. Diet input'!$R62*100","v":0},{"$f":"BF60-BG60","v":0},{"$f":"BE60*'13. Diet input'!$S62*100","v":0},{"$f":"BE60*'13. Diet input'!$T62*100","v":0},{"$f":"BE60*'13. Diet input'!$U62*100","v":0},{"$f":"BF60*(1-'13. Diet input'!$V62)","v":0},null,{"$f":"'13. Diet input'!L62","v":0},{"$f":"BN60*'13. Diet input'!$Q62*100","v":0},{"$f":"BN60*'13. Diet input'!$R62*100","v":0},{"$f":"BO60-BP60","v":0},{"$f":"BN60*'13. Diet input'!$S62*100","v":0},{"$f":"BN60*'13. Diet input'!$T62*100","v":0},{"$f":"BN60*'13. Diet input'!$U62*100","v":0},{"$f":"BO60*(1-'13. Diet input'!$V62)","v":0},null,{"$f":"'13. Diet input'!M62","v":0},{"$f":"BW60*'13. Diet input'!$Q62*100","v":0},{"$f":"BW60*'13. Diet input'!$R62*100","v":0},{"$f":"BX60-BY60","v":0},{"$f":"BW60*'13. Diet input'!$S62*100","v":0},{"$f":"BW60*'13. Diet input'!$T62*100","v":0},{"$f":"BW60*'13. Diet input'!$U62*100","v":0},{"$f":"BX60*(1-'13. Diet input'!$V62)","v":0},null,{"$f":"'13. Diet input'!N62","v":0},{"$f":"CF60*'13. Diet input'!$Q62*100","v":0},{"$f":"CF60*'13. Diet input'!$R62*100","v":0},{"$f":"CG60-CH60","v":0},{"$f":"CF60*'13. Diet input'!$S62*100","v":0},{"$f":"CF60*'13. Diet input'!$T62*100","v":0},{"$f":"CF60*'13. Diet input'!$U62*100","v":0},{"$f":"CG60*(1-'13. Diet input'!$V62)","v":0},null,{"$f":"'13. Diet input'!O62","v":0},{"$f":"CO60*'13. Diet input'!$Q62*100","v":0},{"$f":"CO60*'13. Diet input'!$R62*100","v":0},{"$f":"CP60-CQ60","v":0},{"$f":"CO60*'13. Diet input'!$S62*100","v":0},{"$f":"CO60*'13. Diet input'!$T62*100","v":0},{"$f":"CO60*'13. Diet input'!$U62*100","v":0},{"$f":"CP60*(1-'13. Diet input'!$V62)","v":0}]
[null,{"$f":"'13. Diet input'!B63","v":"Nupro"},{"$f":"'13. Diet input'!E63","v":0},{"$f":"C61*'13. Diet input'!$Q63*100","v":0},{"$f":"C61*'13. Diet input'!$R63*100","v":0},0,{"$f":"C61*'13. Diet input'!$S63*100","v":0},{"$f":"C61*'13. Diet input'!$T63*100","v":0},{"$f":"C61*'13. Diet input'!$U63*100","v":0},{"$f":"D61*(1-'13. Diet input'!$V63)","v":0},null,{"$f":"'13. Diet input'!F63","v":0},{"$f":"L61*'13. Diet input'!$Q63*100","v":0},{"$f":"L61*'13. Diet input'!$R63*100","v":0},0,{"$f":"L61*'13. Diet input'!$S63*100","v":0},{"$f":"L61*'13. Diet input'!$T63*100","v":0},{"$f":"L61*'13. Diet input'!$U63*100","v":0},{"$f":"M61*(1-'13. Diet input'!$V63)","v":0},null,{"$f":"'13. Diet input'!G63","v":0},{"$f":"U61*'13. Diet input'!$Q63*100","v":0},{"$f":"U61*'13. Diet input'!$R63*100","v":0},0,{"$f":"U61*'13. Diet input'!$S63*100","v":0},{"$f":"U61*'13. Diet input'!$T63*100","v":0},{"$f":"U61*'13. Diet input'!$U63*100","v":0},{"$f":"V61*(1-'13. Diet input'!$V63)","v":0},null,{"$f":"'13. Diet input'!H63","v":0},{"$f":"AD61*'13. Diet input'!$Q63*100","v":0},{"$f":"AD61*'13. Diet input'!$R63*100","v":0},0,{"$f":"AD61*'13. Diet input'!$S63*100","v":0},{"$f":"AD61*'13. Diet input'!$T63*100","v":0},{"$f":"AD61*'13. Diet input'!$U63*100","v":0},{"$f":"AE61*(1-'13. Diet input'!$V63)","v":0},null,{"$f":"'13. Diet input'!I63","v":0},{"$f":"AM61*'13. Diet input'!$Q63*100","v":0},{"$f":"AM61*'13. Diet input'!$R63*100","v":0},0,{"$f":"AM61*'13. Diet input'!$S63*100","v":0},{"$f":"AM61*'13. Diet input'!$T63*100","v":0},{"$f":"AM61*'13. Diet input'!$U63*100","v":0},{"$f":"AN61*(1-'13. Diet input'!$V63)","v":0},null,{"$f":"'13. Diet input'!J63","v":0},{"$f":"AV61*'13. Diet input'!$Q63*100","v":0},{"$f":"AV61*'13. Diet input'!$R63*100","v":0},0,{"$f":"AV61*'13. Diet input'!$S63*100","v":0},{"$f":"AV61*'13. Diet input'!$T63*100","v":0},{"$f":"AV61*'13. Diet input'!$U63*100","v":0},{"$f":"AW61*(1-'13. Diet input'!$V63)","v":0},null,{"$f":"'13. Diet input'!K63","v":0},{"$f":"BE61*'13. Diet input'!$Q63*100","v":0},{"$f":"BE61*'13. Diet input'!$R63*100","v":0},0,{"$f":"BE61*'13. Diet input'!$S63*100","v":0},{"$f":"BE61*'13. Diet input'!$T63*100","v":0},{"$f":"BE61*'13. Diet input'!$U63*100","v":0},{"$f":"BF61*(1-'13. Diet input'!$V63)","v":0},null,{"$f":"'13. Diet input'!L63","v":0},{"$f":"BN61*'13. Diet input'!$Q63*100","v":0},{"$f":"BN61*'13. Diet input'!$R63*100","v":0},0,{"$f":"BN61*'13. Diet input'!$S63*100","v":0},{"$f":"BN61*'13. Diet input'!$T63*100","v":0},{"$f":"BN61*'13. Diet input'!$U63*100","v":0},{"$f":"BO61*(1-'13. Diet input'!$V63)","v":0},null,{"$f":"'13. Diet input'!M63","v":0},{"$f":"BW61*'13. Diet input'!$Q63*100","v":0},{"$f":"BW61*'13. Diet input'!$R63*100","v":0},0,{"$f":"BW61*'13. Diet input'!$S63*100","v":0},{"$f":"BW61*'13. Diet input'!$T63*100","v":0},{"$f":"BW61*'13. Diet input'!$U63*100","v":0},{"$f":"BX61*(1-'13. Diet input'!$V63)","v":0},null,{"$f":"'13. Diet input'!N63","v":0},{"$f":"CF61*'13. Diet input'!$Q63*100","v":0},{"$f":"CF61*'13. Diet input'!$R63*100","v":0},0,{"$f":"CF61*'13. Diet input'!$S63*100","v":0},{"$f":"CF61*'13. Diet input'!$T63*100","v":0},{"$f":"CF61*'13. Diet input'!$U63*100","v":0},{"$f":"CG61*(1-'13. Diet input'!$V63)","v":0},null,{"$f":"'13. Diet input'!O63","v":0},{"$f":"CO61*'13. Diet input'!$Q63*100","v":0},{"$f":"CO61*'13. Diet input'!$R63*100","v":0},0,{"$f":"CO61*'13. Diet input'!$S63*100","v":0},{"$f":"CO61*'13. Diet input'!$T63*100","v":0},{"$f":"CO61*'13. Diet input'!$U63*100","v":0},{"$f":"CP61*(1-'13. Diet input'!$V63)","v":0}]
[null,"Animal & Fish products"]
[null,{"$f":"'13. Diet input'!B65","v":"Blood meal 85"},{"$f":"'13. Diet input'!E65","v":0},{"$f":"C63*'13. Diet input'!$Q65*100","v":0},{"$f":"C63*'13. Diet input'!$R65*100","v":0},0,{"$f":"C63*'13. Diet input'!$S65*100","v":0},{"$f":"C63*'13. Diet input'!$T65*100","v":0},{"$f":"C63*'13. Diet input'!$U65*100","v":0},{"$f":"D63*(1-'13. Diet input'!$V65)","v":0},null,{"$f":"'13. Diet input'!F65","v":0},{"$f":"L63*'13. Diet input'!$Q65*100","v":0},{"$f":"L63*'13. Diet input'!$R65*100","v":0},0,{"$f":"L63*'13. Diet input'!$S65*100","v":0},{"$f":"L63*'13. Diet input'!$T65*100","v":0},{"$f":"L63*'13. Diet input'!$U65*100","v":0},{"$f":"M63*(1-'13. Diet input'!$V65)","v":0},null,{"$f":"'13. Diet input'!G65","v":0},{"$f":"U63*'13. Diet input'!$Q65*100","v":0},{"$f":"U63*'13. Diet input'!$R65*100","v":0},0,{"$f":"U63*'13. Diet input'!$S65*100","v":0},{"$f":"U63*'13. Diet input'!$T65*100","v":0},{"$f":"U63*'13. Diet input'!$U65*100","v":0},{"$f":"V63*(1-'13. Diet input'!$V65)","v":0},null,{"$f":"'13. Diet input'!H65","v":0},{"$f":"AD63*'13. Diet input'!$Q65*100","v":0},{"$f":"AD63*'13. Diet input'!$R65*100","v":0},0,{"$f":"AD63*'13. Diet input'!$S65*100","v":0},{"$f":"AD63*'13. Diet input'!$T65*100","v":0},{"$f":"AD63*'13. Diet input'!$U65*100","v":0},{"$f":"AE63*(1-'13. Diet input'!$V65)","v":0},null,{"$f":"'13. Diet input'!I65","v":0},{"$f":"AM63*'13. Diet input'!$Q65*100","v":0},{"$f":"AM63*'13. Diet input'!$R65*100","v":0},0,{"$f":"AM63*'13. Diet input'!$S65*100","v":0},{"$f":"AM63*'13. Diet input'!$T65*100","v":0},{"$f":"AM63*'13. Diet input'!$U65*100","v":0},{"$f":"AN63*(1-'13. Diet input'!$V65)","v":0},null,{"$f":"'13. Diet input'!J65","v":0},{"$f":"AV63*'13. Diet input'!$Q65*100","v":0},{"$f":"AV63*'13. Diet input'!$R65*100","v":0},0,{"$f":"AV63*'13. Diet input'!$S65*100","v":0},{"$f":"AV63*'13. Diet input'!$T65*100","v":0},{"$f":"AV63*'13. Diet input'!$U65*100","v":0},{"$f":"AW63*(1-'13. Diet input'!$V65)","v":0},null,{"$f":"'13. Diet input'!K65","v":0},{"$f":"BE63*'13. Diet input'!$Q65*100","v":0},{"$f":"BE63*'13. Diet input'!$R65*100","v":0},0,{"$f":"BE63*'13. Diet input'!$S65*100","v":0},{"$f":"BE63*'13. Diet input'!$T65*100","v":0},{"$f":"BE63*'13. Diet input'!$U65*100","v":0},{"$f":"BF63*(1-'13. Diet input'!$V65)","v":0},null,{"$f":"'13. Diet input'!L65","v":0},{"$f":"BN63*'13. Diet input'!$Q65*100","v":0},{"$f":"BN63*'13. Diet input'!$R65*100","v":0},0,{"$f":"BN63*'13. Diet input'!$S65*100","v":0},{"$f":"BN63*'13. Diet input'!$T65*100","v":0},{"$f":"BN63*'13. Diet input'!$U65*100","v":0},{"$f":"BO63*(1-'13. Diet input'!$V65)","v":0},null,{"$f":"'13. Diet input'!M65","v":0},{"$f":"BW63*'13. Diet input'!$Q65*100","v":0},{"$f":"BW63*'13. Diet input'!$R65*100","v":0},0,{"$f":"BW63*'13. Diet input'!$S65*100","v":0},{"$f":"BW63*'13. Diet input'!$T65*100","v":0},{"$f":"BW63*'13. Diet input'!$U65*100","v":0},{"$f":"BX63*(1-'13. Diet input'!$V65)","v":0},null,{"$f":"'13. Diet input'!N65","v":0},{"$f":"CF63*'13. Diet input'!$Q65*100","v":0},{"$f":"CF63*'13. Diet input'!$R65*100","v":0},0,{"$f":"CF63*'13. Diet input'!$S65*100","v":0},{"$f":"CF63*'13. Diet input'!$T65*100","v":0},{"$f":"CF63*'13. Diet input'!$U65*100","v":0},{"$f":"CG63*(1-'13. Diet input'!$V65)","v":0},null,{"$f":"'13. Diet input'!O65","v":0},{"$f":"CO63*'13. Diet input'!$Q65*100","v":0},{"$f":"CO63*'13. Diet input'!$R65*100","v":0},0,{"$f":"CO63*'13. Diet input'!$S65*100","v":0},{"$f":"CO63*'13. Diet input'!$T65*100","v":0},{"$f":"CO63*'13. Diet input'!$U65*100","v":0},{"$f":"CP63*(1-'13. Diet input'!$V65)","v":0}]
[null,{"$f":"'13. Diet input'!B66","v":"Blood meal 90"},{"$f":"'13. Diet input'!E66","v":1.5E-3},{"$f":"C64*'13. Diet input'!$Q66*100","v":0.13650000000000001},{"$f":"C64*'13. Diet input'!$R66*100","v":4.2450000000000005E-3},{"$f":"D64-E64","v":0.13225500000000001},{"$f":"C64*'13. Diet input'!$S66*100","v":2.1600000000000001E-2},{"$f":"C64*'13. Diet input'!$T66*100","v":3.1500000000000001E-4},{"$f":"C64*'13. Diet input'!$U66*100","v":3.8999999999999999E-4},{"$f":"D64*(1-'13. Diet input'!$V66)","v":9.6896141019533009E-3},null,{"$f":"'13. Diet input'!F66","v":2.5000000000000001E-2},{"$f":"L64*'13. Diet input'!$Q66*100","v":2.2750000000000004},{"$f":"L64*'13. Diet input'!$R66*100","v":7.0750000000000007E-2},{"$f":"M64-N64","v":2.2042500000000005},{"$f":"L64*'13. Diet input'!$S66*100","v":0.3600000000000001},{"$f":"L64*'13. Diet input'!$T66*100","v":5.2500000000000003E-3},{"$f":"L64*'13. Diet input'!$U66*100","v":6.4999999999999997E-3},{"$f":"M64*(1-'13. Diet input'!$V66)","v":0.16149356836588835},null,{"$f":"'13. Diet input'!G66","v":5.0000000000000001E-3},{"$f":"U64*'13. Diet input'!$Q66*100","v":0.45500000000000002},{"$f":"U64*'13. Diet input'!$R66*100","v":1.4150000000000003E-2},{"$f":"V64-W64","v":0.44085000000000002},{"$f":"U64*'13. Diet input'!$S66*100","v":7.2000000000000008E-2},{"$f":"U64*'13. Diet input'!$T66*100","v":1.0499999999999999E-3},{"$f":"U64*'13. Diet input'!$U66*100","v":1.2999999999999999E-3},{"$f":"V64*(1-'13. Diet input'!$V66)","v":3.2298713673177666E-2},null,{"$f":"'13. Diet input'!H66","v":0},{"$f":"AD64*'13. Diet input'!$Q66*100","v":0},{"$f":"AD64*'13. Diet input'!$R66*100","v":0},{"$f":"AE64-AF64","v":0},{"$f":"AD64*'13. Diet input'!$S66*100","v":0},{"$f":"AD64*'13. Diet input'!$T66*100","v":0},{"$f":"AD64*'13. Diet input'!$U66*100","v":0},{"$f":"AE64*(1-'13. Diet input'!$V66)","v":0},null,{"$f":"'13. Diet input'!I66","v":0},{"$f":"AM64*'13. Diet input'!$Q66*100","v":0},{"$f":"AM64*'13. Diet input'!$R66*100","v":0},{"$f":"AN64-AO64","v":0},{"$f":"AM64*'13. Diet input'!$S66*100","v":0},{"$f":"AM64*'13. Diet input'!$T66*100","v":0},{"$f":"AM64*'13. Diet input'!$U66*100","v":0},{"$f":"AN64*(1-'13. Diet input'!$V66)","v":0},null,{"$f":"'13. Diet input'!J66","v":0},{"$f":"AV64*'13. Diet input'!$Q66*100","v":0},{"$f":"AV64*'13. Diet input'!$R66*100","v":0},{"$f":"AW64-AX64","v":0},{"$f":"AV64*'13. Diet input'!$S66*100","v":0},{"$f":"AV64*'13. Diet input'!$T66*100","v":0},{"$f":"AV64*'13. Diet input'!$U66*100","v":0},{"$f":"AW64*(1-'13. Diet input'!$V66)","v":0},null,{"$f":"'13. Diet input'!K66","v":0},{"$f":"BE64*'13. Diet input'!$Q66*100","v":0},{"$f":"BE64*'13. Diet input'!$R66*100","v":0},{"$f":"BF64-BG64","v":0},{"$f":"BE64*'13. Diet input'!$S66*100","v":0},{"$f":"BE64*'13. Diet input'!$T66*100","v":0},{"$f":"BE64*'13. Diet input'!$U66*100","v":0},{"$f":"BF64*(1-'13. Diet input'!$V66)","v":0},null,{"$f":"'13. Diet input'!L66","v":1.2E-2},{"$f":"BN64*'13. Diet input'!$Q66*100","v":1.0920000000000001},{"$f":"BN64*'13. Diet input'!$R66*100","v":3.3960000000000004E-2},{"$f":"BO64-BP64","v":1.0580400000000001},{"$f":"BN64*'13. Diet input'!$S66*100","v":0.17280000000000001},{"$f":"BN64*'13. Diet input'!$T66*100","v":2.5200000000000001E-3},{"$f":"BN64*'13. Diet input'!$U66*100","v":3.1199999999999999E-3},{"$f":"BO64*(1-'13. Diet input'!$V66)","v":7.7516912815626407E-2},null,{"$f":"'13. Diet input'!M66","v":0},{"$f":"BW64*'13. Diet input'!$Q66*100","v":0},{"$f":"BW64*'13. Diet input'!$R66*100","v":0},{"$f":"BX64-BY64","v":0},{"$f":"BW64*'13. Diet input'!$S66*100","v":0},{"$f":"BW64*'13. Diet input'!$T66*100","v":0},{"$f":"BW64*'13. Diet input'!$U66*100","v":0},{"$f":"BX64*(1-'13. Diet input'!$V66)","v":0},null,{"$f":"'13. Diet input'!N66","v":0},{"$f":"CF64*'13. Diet input'!$Q66*100","v":0},{"$f":"CF64*'13. Diet input'!$R66*100","v":0},{"$f":"CG64-CH64","v":0},{"$f":"CF64*'13. Diet input'!$S66*100","v":0},{"$f":"CF64*'13. Diet input'!$T66*100","v":0},{"$f":"CF64*'13. Diet input'!$U66*100","v":0},{"$f":"CG64*(1-'13. Diet input'!$V66)","v":0},null,{"$f":"'13. Diet input'!O66","v":0},{"$f":"CO64*'13. Diet input'!$Q66*100","v":0},{"$f":"CO64*'13. Diet input'!$R66*100","v":0},{"$f":"CP64-CQ64","v":0},{"$f":"CO64*'13. Diet input'!$S66*100","v":0},{"$f":"CO64*'13. Diet input'!$T66*100","v":0},{"$f":"CO64*'13. Diet input'!$U66*100","v":0},{"$f":"CP64*(1-'13. Diet input'!$V66)","v":0}]
[null,{"$f":"'13. Diet input'!B67","v":"Blood Plasma"},{"$f":"'13. Diet input'!E67","v":3.0000000000000001E-3},{"$f":"C65*'13. Diet input'!$Q67*100","v":0.27600000000000002},{"$f":"C65*'13. Diet input'!$R67*100","v":3.0000000000000002E-2},{"$f":"D65-E65","v":0.24600000000000002},{"$f":"C65*'13. Diet input'!$S67*100","v":3.7440000000000008E-2},{"$f":"C65*'13. Diet input'!$T67*100","v":3.9000000000000007E-3},{"$f":"C65*'13. Diet input'!$U67*100","v":8.9999999999999998E-4},{"$f":"D65*(1-'13. Diet input'!$V67)","v":1.714105263157896E-2},null,{"$f":"'13. Diet input'!F67","v":0},{"$f":"L65*'13. Diet input'!$Q67*100","v":0},{"$f":"L65*'13. Diet input'!$R67*100","v":0},{"$f":"M65-N65","v":0},{"$f":"L65*'13. Diet input'!$S67*100","v":0},{"$f":"L65*'13. Diet input'!$T67*100","v":0},{"$f":"L65*'13. Diet input'!$U67*100","v":0},{"$f":"M65*(1-'13. Diet input'!$V67)","v":0},null,{"$f":"'13. Diet input'!G67","v":0},{"$f":"U65*'13. Diet input'!$Q67*100","v":0},{"$f":"U65*'13. Diet input'!$R67*100","v":0},{"$f":"V65-W65","v":0},{"$f":"U65*'13. Diet input'!$S67*100","v":0},{"$f":"U65*'13. Diet input'!$T67*100","v":0},{"$f":"U65*'13. Diet input'!$U67*100","v":0},{"$f":"V65*(1-'13. Diet input'!$V67)","v":0},null,{"$f":"'13. Diet input'!H67","v":0},{"$f":"AD65*'13. Diet input'!$Q67*100","v":0},{"$f":"AD65*'13. Diet input'!$R67*100","v":0},{"$f":"AE65-AF65","v":0},{"$f":"AD65*'13. Diet input'!$S67*100","v":0},{"$f":"AD65*'13. Diet input'!$T67*100","v":0},{"$f":"AD65*'13. Diet input'!$U67*100","v":0},{"$f":"AE65*(1-'13. Diet input'!$V67)","v":0},null,{"$f":"'13. Diet input'!I67","v":0},{"$f":"AM65*'13. Diet input'!$Q67*100","v":0},{"$f":"AM65*'13. Diet input'!$R67*100","v":0},{"$f":"AN65-AO65","v":0},{"$f":"AM65*'13. Diet input'!$S67*100","v":0},{"$f":"AM65*'13. Diet input'!$T67*100","v":0},{"$f":"AM65*'13. Diet input'!$U67*100","v":0},{"$f":"AN65*(1-'13. Diet input'!$V67)","v":0},null,{"$f":"'13. Diet input'!J67","v":0},{"$f":"AV65*'13. Diet input'!$Q67*100","v":0},{"$f":"AV65*'13. Diet input'!$R67*100","v":0},{"$f":"AW65-AX65","v":0},{"$f":"AV65*'13. Diet input'!$S67*100","v":0},{"$f":"AV65*'13. Diet input'!$T67*100","v":0},{"$f":"AV65*'13. Diet input'!$U67*100","v":0},{"$f":"AW65*(1-'13. Diet input'!$V67)","v":0},null,{"$f":"'13. Diet input'!K67","v":0},{"$f":"BE65*'13. Diet input'!$Q67*100","v":0},{"$f":"BE65*'13. Diet input'!$R67*100","v":0},{"$f":"BF65-BG65","v":0},{"$f":"BE65*'13. Diet input'!$S67*100","v":0},{"$f":"BE65*'13. Diet input'!$T67*100","v":0},{"$f":"BE65*'13. Diet input'!$U67*100","v":0},{"$f":"BF65*(1-'13. Diet input'!$V67)","v":0},null,{"$f":"'13. Diet input'!L67","v":0},{"$f":"BN65*'13. Diet input'!$Q67*100","v":0},{"$f":"BN65*'13. Diet input'!$R67*100","v":0},{"$f":"BO65-BP65","v":0},{"$f":"BN65*'13. Diet input'!$S67*100","v":0},{"$f":"BN65*'13. Diet input'!$T67*100","v":0},{"$f":"BN65*'13. Diet input'!$U67*100","v":0},{"$f":"BO65*(1-'13. Diet input'!$V67)","v":0},null,{"$f":"'13. Diet input'!M67","v":0},{"$f":"BW65*'13. Diet input'!$Q67*100","v":0},{"$f":"BW65*'13. Diet input'!$R67*100","v":0},{"$f":"BX65-BY65","v":0},{"$f":"BW65*'13. Diet input'!$S67*100","v":0},{"$f":"BW65*'13. Diet input'!$T67*100","v":0},{"$f":"BW65*'13. Diet input'!$U67*100","v":0},{"$f":"BX65*(1-'13. Diet input'!$V67)","v":0},null,{"$f":"'13. Diet input'!N67","v":0},{"$f":"CF65*'13. Diet input'!$Q67*100","v":0},{"$f":"CF65*'13. Diet input'!$R67*100","v":0},{"$f":"CG65-CH65","v":0},{"$f":"CF65*'13. Diet input'!$S67*100","v":0},{"$f":"CF65*'13. Diet input'!$T67*100","v":0},{"$f":"CF65*'13. Diet input'!$U67*100","v":0},{"$f":"CG65*(1-'13. Diet input'!$V67)","v":0},null,{"$f":"'13. Diet input'!O67","v":0},{"$f":"CO65*'13. Diet input'!$Q67*100","v":0},{"$f":"CO65*'13. Diet input'!$R67*100","v":0},{"$f":"CP65-CQ65","v":0},{"$f":"CO65*'13. Diet input'!$S67*100","v":0},{"$f":"CO65*'13. Diet input'!$T67*100","v":0},{"$f":"CO65*'13. Diet input'!$U67*100","v":0},{"$f":"CP65*(1-'13. Diet input'!$V67)","v":0}]
[null,{"$f":"'13. Diet input'!B68","v":"Fishmeal 60"},{"$f":"'13. Diet input'!E68","v":0},{"$f":"C66*'13. Diet input'!$Q68*100","v":0},{"$f":"C66*'13. Diet input'!$R68*100","v":0},0,{"$f":"C66*'13. Diet input'!$S68*100","v":0},{"$f":"C66*'13. Diet input'!$T68*100","v":0},{"$f":"C66*'13. Diet input'!$U68*100","v":0},{"$f":"D66*(1-'13. Diet input'!$V68)","v":0},null,{"$f":"'13. Diet input'!F68","v":0},{"$f":"L66*'13. Diet input'!$Q68*100","v":0},{"$f":"L66*'13. Diet input'!$R68*100","v":0},0,{"$f":"L66*'13. Diet input'!$S68*100","v":0},{"$f":"L66*'13. Diet input'!$T68*100","v":0},{"$f":"L66*'13. Diet input'!$U68*100","v":0},{"$f":"M66*(1-'13. Diet input'!$V68)","v":0},null,{"$f":"'13. Diet input'!G68","v":0},{"$f":"U66*'13. Diet input'!$Q68*100","v":0},{"$f":"U66*'13. Diet input'!$R68*100","v":0},0,{"$f":"U66*'13. Diet input'!$S68*100","v":0},{"$f":"U66*'13. Diet input'!$T68*100","v":0},{"$f":"U66*'13. Diet input'!$U68*100","v":0},{"$f":"V66*(1-'13. Diet input'!$V68)","v":0},null,{"$f":"'13. Diet input'!H68","v":0},{"$f":"AD66*'13. Diet input'!$Q68*100","v":0},{"$f":"AD66*'13. Diet input'!$R68*100","v":0},0,{"$f":"AD66*'13. Diet input'!$S68*100","v":0},{"$f":"AD66*'13. Diet input'!$T68*100","v":0},{"$f":"AD66*'13. Diet input'!$U68*100","v":0},{"$f":"AE66*(1-'13. Diet input'!$V68)","v":0},null,{"$f":"'13. Diet input'!I68","v":0},{"$f":"AM66*'13. Diet input'!$Q68*100","v":0},{"$f":"AM66*'13. Diet input'!$R68*100","v":0},0,{"$f":"AM66*'13. Diet input'!$S68*100","v":0},{"$f":"AM66*'13. Diet input'!$T68*100","v":0},{"$f":"AM66*'13. Diet input'!$U68*100","v":0},{"$f":"AN66*(1-'13. Diet input'!$V68)","v":0},null,{"$f":"'13. Diet input'!J68","v":0},{"$f":"AV66*'13. Diet input'!$Q68*100","v":0},{"$f":"AV66*'13. Diet input'!$R68*100","v":0},0,{"$f":"AV66*'13. Diet input'!$S68*100","v":0},{"$f":"AV66*'13. Diet input'!$T68*100","v":0},{"$f":"AV66*'13. Diet input'!$U68*100","v":0},{"$f":"AW66*(1-'13. Diet input'!$V68)","v":0},null,{"$f":"'13. Diet input'!K68","v":0},{"$f":"BE66*'13. Diet input'!$Q68*100","v":0},{"$f":"BE66*'13. Diet input'!$R68*100","v":0},0,{"$f":"BE66*'13. Diet input'!$S68*100","v":0},{"$f":"BE66*'13. Diet input'!$T68*100","v":0},{"$f":"BE66*'13. Diet input'!$U68*100","v":0},{"$f":"BF66*(1-'13. Diet input'!$V68)","v":0},null,{"$f":"'13. Diet input'!L68","v":0.02},{"$f":"BN66*'13. Diet input'!$Q68*100","v":1.8399999999999999},{"$f":"BN66*'13. Diet input'!$R68*100","v":0.41499999999999998},1.4249999999999998,{"$f":"BN66*'13. Diet input'!$S68*100","v":0.192},{"$f":"BN66*'13. Diet input'!$T68*100","v":5.7000000000000009E-2},{"$f":"BN66*'13. Diet input'!$U68*100","v":1.8799999999999997E-2},{"$f":"BO66*(1-'13. Diet input'!$V68)","v":0.35353711790393011},null,{"$f":"'13. Diet input'!M68","v":0},{"$f":"BW66*'13. Diet input'!$Q68*100","v":0},{"$f":"BW66*'13. Diet input'!$R68*100","v":0},0,{"$f":"BW66*'13. Diet input'!$S68*100","v":0},{"$f":"BW66*'13. Diet input'!$T68*100","v":0},{"$f":"BW66*'13. Diet input'!$U68*100","v":0},{"$f":"BX66*(1-'13. Diet input'!$V68)","v":0},null,{"$f":"'13. Diet input'!N68","v":0},{"$f":"CF66*'13. Diet input'!$Q68*100","v":0},{"$f":"CF66*'13. Diet input'!$R68*100","v":0},0,{"$f":"CF66*'13. Diet input'!$S68*100","v":0},{"$f":"CF66*'13. Diet input'!$T68*100","v":0},{"$f":"CF66*'13. Diet input'!$U68*100","v":0},{"$f":"CG66*(1-'13. Diet input'!$V68)","v":0},null,{"$f":"'13. Diet input'!O68","v":0},{"$f":"CO66*'13. Diet input'!$Q68*100","v":0},{"$f":"CO66*'13. Diet input'!$R68*100","v":0},0,{"$f":"CO66*'13. Diet input'!$S68*100","v":0},{"$f":"CO66*'13. Diet input'!$T68*100","v":0},{"$f":"CO66*'13. Diet input'!$U68*100","v":0},{"$f":"CP66*(1-'13. Diet input'!$V68)","v":0}]
[null,{"$f":"'13. Diet input'!B69","v":"Fishmeal 65"},{"$f":"'13. Diet input'!E69","v":2.5000000000000001E-3},{"$f":"C67*'13. Diet input'!$Q69*100","v":0.22999999999999998},{"$f":"C67*'13. Diet input'!$R69*100","v":4.0350000000000004E-2},0.18964999999999999,{"$f":"C67*'13. Diet input'!$S69*100","v":2.6000000000000002E-2},{"$f":"C67*'13. Diet input'!$T69*100","v":6.5000000000000006E-3},{"$f":"C67*'13. Diet input'!$U69*100","v":3.2500000000000003E-3},{"$f":"D67*(1-'13. Diet input'!$V69)","v":3.9747102212855663E-2},null,{"$f":"'13. Diet input'!F69","v":2.5000000000000001E-2},{"$f":"L67*'13. Diet input'!$Q69*100","v":2.3000000000000003},{"$f":"L67*'13. Diet input'!$R69*100","v":0.40350000000000003},1.8965000000000003,{"$f":"L67*'13. Diet input'!$S69*100","v":0.26},{"$f":"L67*'13. Diet input'!$T69*100","v":6.5000000000000002E-2},{"$f":"L67*'13. Diet input'!$U69*100","v":3.2500000000000001E-2},{"$f":"M67*(1-'13. Diet input'!$V69)","v":0.39747102212855667},null,{"$f":"'13. Diet input'!G69","v":0},{"$f":"U67*'13. Diet input'!$Q69*100","v":0},{"$f":"U67*'13. Diet input'!$R69*100","v":0},0,{"$f":"U67*'13. Diet input'!$S69*100","v":0},{"$f":"U67*'13. Diet input'!$T69*100","v":0},{"$f":"U67*'13. Diet input'!$U69*100","v":0},{"$f":"V67*(1-'13. Diet input'!$V69)","v":0},null,{"$f":"'13. Diet input'!H69","v":0},{"$f":"AD67*'13. Diet input'!$Q69*100","v":0},{"$f":"AD67*'13. Diet input'!$R69*100","v":0},0,{"$f":"AD67*'13. Diet input'!$S69*100","v":0},{"$f":"AD67*'13. Diet input'!$T69*100","v":0},{"$f":"AD67*'13. Diet input'!$U69*100","v":0},{"$f":"AE67*(1-'13. Diet input'!$V69)","v":0},null,{"$f":"'13. Diet input'!I69","v":0},{"$f":"AM67*'13. Diet input'!$Q69*100","v":0},{"$f":"AM67*'13. Diet input'!$R69*100","v":0},0,{"$f":"AM67*'13. Diet input'!$S69*100","v":0},{"$f":"AM67*'13. Diet input'!$T69*100","v":0},{"$f":"AM67*'13. Diet input'!$U69*100","v":0},{"$f":"AN67*(1-'13. Diet input'!$V69)","v":0},null,{"$f":"'13. Diet input'!J69","v":0},{"$f":"AV67*'13. Diet input'!$Q69*100","v":0},{"$f":"AV67*'13. Diet input'!$R69*100","v":0},0,{"$f":"AV67*'13. Diet input'!$S69*100","v":0},{"$f":"AV67*'13. Diet input'!$T69*100","v":0},{"$f":"AV67*'13. Diet input'!$U69*100","v":0},{"$f":"AW67*(1-'13. Diet input'!$V69)","v":0},null,{"$f":"'13. Diet input'!K69","v":0},{"$f":"BE67*'13. Diet input'!$Q69*100","v":0},{"$f":"BE67*'13. Diet input'!$R69*100","v":0},0,{"$f":"BE67*'13. Diet input'!$S69*100","v":0},{"$f":"BE67*'13. Diet input'!$T69*100","v":0},{"$f":"BE67*'13. Diet input'!$U69*100","v":0},{"$f":"BF67*(1-'13. Diet input'!$V69)","v":0},null,{"$f":"'13. Diet input'!L69","v":0},{"$f":"BN67*'13. Diet input'!$Q69*100","v":0},{"$f":"BN67*'13. Diet input'!$R69*100","v":0},0,{"$f":"BN67*'13. Diet input'!$S69*100","v":0},{"$f":"BN67*'13. Diet input'!$T69*100","v":0},{"$f":"BN67*'13. Diet input'!$U69*100","v":0},{"$f":"BO67*(1-'13. Diet input'!$V69)","v":0},null,{"$f":"'13. Diet input'!M69","v":0},{"$f":"BW67*'13. Diet input'!$Q69*100","v":0},{"$f":"BW67*'13. Diet input'!$R69*100","v":0},0,{"$f":"BW67*'13. Diet input'!$S69*100","v":0},{"$f":"BW67*'13. Diet input'!$T69*100","v":0},{"$f":"BW67*'13. Diet input'!$U69*100","v":0},{"$f":"BX67*(1-'13. Diet input'!$V69)","v":0},null,{"$f":"'13. Diet input'!N69","v":0},{"$f":"CF67*'13. Diet input'!$Q69*100","v":0},{"$f":"CF67*'13. Diet input'!$R69*100","v":0},0,{"$f":"CF67*'13. Diet input'!$S69*100","v":0},{"$f":"CF67*'13. Diet input'!$T69*100","v":0},{"$f":"CF67*'13. Diet input'!$U69*100","v":0},{"$f":"CG67*(1-'13. Diet input'!$V69)","v":0},null,{"$f":"'13. Diet input'!O69","v":0},{"$f":"CO67*'13. Diet input'!$Q69*100","v":0},{"$f":"CO67*'13. Diet input'!$R69*100","v":0},0,{"$f":"CO67*'13. Diet input'!$S69*100","v":0},{"$f":"CO67*'13. Diet input'!$T69*100","v":0},{"$f":"CO67*'13. Diet input'!$U69*100","v":0},{"$f":"CP67*(1-'13. Diet input'!$V69)","v":0}]
[null,{"$f":"'13. Diet input'!B70","v":"Fishmeal 70"},{"$f":"'13. Diet input'!E70","v":0},{"$f":"C68*'13. Diet input'!$Q70*100","v":0},{"$f":"C68*'13. Diet input'!$R70*100","v":0},0,{"$f":"C68*'13. Diet input'!$S70*100","v":0},{"$f":"C68*'13. Diet input'!$T70*100","v":0},{"$f":"C68*'13. Diet input'!$U70*100","v":0},{"$f":"D68*(1-'13. Diet input'!$V70)","v":0},null,{"$f":"'13. Diet input'!F70","v":0},{"$f":"L68*'13. Diet input'!$Q70*100","v":0},{"$f":"L68*'13. Diet input'!$R70*100","v":0},0,{"$f":"L68*'13. Diet input'!$S70*100","v":0},{"$f":"L68*'13. Diet input'!$T70*100","v":0},{"$f":"L68*'13. Diet input'!$U70*100","v":0},{"$f":"M68*(1-'13. Diet input'!$V70)","v":0},null,{"$f":"'13. Diet input'!G70","v":0},{"$f":"U68*'13. Diet input'!$Q70*100","v":0},{"$f":"U68*'13. Diet input'!$R70*100","v":0},0,{"$f":"U68*'13. Diet input'!$S70*100","v":0},{"$f":"U68*'13. Diet input'!$T70*100","v":0},{"$f":"U68*'13. Diet input'!$U70*100","v":0},{"$f":"V68*(1-'13. Diet input'!$V70)","v":0},null,{"$f":"'13. Diet input'!H70","v":0},{"$f":"AD68*'13. Diet input'!$Q70*100","v":0},{"$f":"AD68*'13. Diet input'!$R70*100","v":0},0,{"$f":"AD68*'13. Diet input'!$S70*100","v":0},{"$f":"AD68*'13. Diet input'!$T70*100","v":0},{"$f":"AD68*'13. Diet input'!$U70*100","v":0},{"$f":"AE68*(1-'13. Diet input'!$V70)","v":0},null,{"$f":"'13. Diet input'!I70","v":0},{"$f":"AM68*'13. Diet input'!$Q70*100","v":0},{"$f":"AM68*'13. Diet input'!$R70*100","v":0},0,{"$f":"AM68*'13. Diet input'!$S70*100","v":0},{"$f":"AM68*'13. Diet input'!$T70*100","v":0},{"$f":"AM68*'13. Diet input'!$U70*100","v":0},{"$f":"AN68*(1-'13. Diet input'!$V70)","v":0},null,{"$f":"'13. Diet input'!J70","v":0},{"$f":"AV68*'13. Diet input'!$Q70*100","v":0},{"$f":"AV68*'13. Diet input'!$R70*100","v":0},0,{"$f":"AV68*'13. Diet input'!$S70*100","v":0},{"$f":"AV68*'13. Diet input'!$T70*100","v":0},{"$f":"AV68*'13. Diet input'!$U70*100","v":0},{"$f":"AW68*(1-'13. Diet input'!$V70)","v":0},null,{"$f":"'13. Diet input'!K70","v":0},{"$f":"BE68*'13. Diet input'!$Q70*100","v":0},{"$f":"BE68*'13. Diet input'!$R70*100","v":0},0,{"$f":"BE68*'13. Diet input'!$S70*100","v":0},{"$f":"BE68*'13. Diet input'!$T70*100","v":0},{"$f":"BE68*'13. Diet input'!$U70*100","v":0},{"$f":"BF68*(1-'13. Diet input'!$V70)","v":0},null,{"$f":"'13. Diet input'!L70","v":0},{"$f":"BN68*'13. Diet input'!$Q70*100","v":0},{"$f":"BN68*'13. Diet input'!$R70*100","v":0},0,{"$f":"BN68*'13. Diet input'!$S70*100","v":0},{"$f":"BN68*'13. Diet input'!$T70*100","v":0},{"$f":"BN68*'13. Diet input'!$U70*100","v":0},{"$f":"BO68*(1-'13. Diet input'!$V70)","v":0},null,{"$f":"'13. Diet input'!M70","v":0},{"$f":"BW68*'13. Diet input'!$Q70*100","v":0},{"$f":"BW68*'13. Diet input'!$R70*100","v":0},0,{"$f":"BW68*'13. Diet input'!$S70*100","v":0},{"$f":"BW68*'13. Diet input'!$T70*100","v":0},{"$f":"BW68*'13. Diet input'!$U70*100","v":0},{"$f":"BX68*(1-'13. Diet input'!$V70)","v":0},null,{"$f":"'13. Diet input'!N70","v":0},{"$f":"CF68*'13. Diet input'!$Q70*100","v":0},{"$f":"CF68*'13. Diet input'!$R70*100","v":0},0,{"$f":"CF68*'13. Diet input'!$S70*100","v":0},{"$f":"CF68*'13. Diet input'!$T70*100","v":0},{"$f":"CF68*'13. Diet input'!$U70*100","v":0},{"$f":"CG68*(1-'13. Diet input'!$V70)","v":0},null,{"$f":"'13. Diet input'!O70","v":0},{"$f":"CO68*'13. Diet input'!$Q70*100","v":0},{"$f":"CO68*'13. Diet input'!$R70*100","v":0},0,{"$f":"CO68*'13. Diet input'!$S70*100","v":0},{"$f":"CO68*'13. Diet input'!$T70*100","v":0},{"$f":"CO68*'13. Diet input'!$U70*100","v":0},{"$f":"CP68*(1-'13. Diet input'!$V70)","v":0}]
[null,{"$f":"'13. Diet input'!B71","v":"Meat & bone meal 45 "},{"$f":"'13. Diet input'!E71","v":0},{"$f":"C69*'13. Diet input'!$Q71*100","v":0},{"$f":"C69*'13. Diet input'!$R71*100","v":0},0,{"$f":"C69*'13. Diet input'!$S71*100","v":0},{"$f":"C69*'13. Diet input'!$T71*100","v":0},{"$f":"C69*'13. Diet input'!$U71*100","v":0},{"$f":"D69*(1-'13. Diet input'!$V71)","v":0},null,{"$f":"'13. Diet input'!F71","v":0},{"$f":"L69*'13. Diet input'!$Q71*100","v":0},{"$f":"L69*'13. Diet input'!$R71*100","v":0},0,{"$f":"L69*'13. Diet input'!$S71*100","v":0},{"$f":"L69*'13. Diet input'!$T71*100","v":0},{"$f":"L69*'13. Diet input'!$U71*100","v":0},{"$f":"M69*(1-'13. Diet input'!$V71)","v":0},null,{"$f":"'13. Diet input'!G71","v":0},{"$f":"U69*'13. Diet input'!$Q71*100","v":0},{"$f":"U69*'13. Diet input'!$R71*100","v":0},0,{"$f":"U69*'13. Diet input'!$S71*100","v":0},{"$f":"U69*'13. Diet input'!$T71*100","v":0},{"$f":"U69*'13. Diet input'!$U71*100","v":0},{"$f":"V69*(1-'13. Diet input'!$V71)","v":0},null,{"$f":"'13. Diet input'!H71","v":0},{"$f":"AD69*'13. Diet input'!$Q71*100","v":0},{"$f":"AD69*'13. Diet input'!$R71*100","v":0},0,{"$f":"AD69*'13. Diet input'!$S71*100","v":0},{"$f":"AD69*'13. Diet input'!$T71*100","v":0},{"$f":"AD69*'13. Diet input'!$U71*100","v":0},{"$f":"AE69*(1-'13. Diet input'!$V71)","v":0},null,{"$f":"'13. Diet input'!I71","v":0},{"$f":"AM69*'13. Diet input'!$Q71*100","v":0},{"$f":"AM69*'13. Diet input'!$R71*100","v":0},0,{"$f":"AM69*'13. Diet input'!$S71*100","v":0},{"$f":"AM69*'13. Diet input'!$T71*100","v":0},{"$f":"AM69*'13. Diet input'!$U71*100","v":0},{"$f":"AN69*(1-'13. Diet input'!$V71)","v":0},null,{"$f":"'13. Diet input'!J71","v":0},{"$f":"AV69*'13. Diet input'!$Q71*100","v":0},{"$f":"AV69*'13. Diet input'!$R71*100","v":0},0,{"$f":"AV69*'13. Diet input'!$S71*100","v":0},{"$f":"AV69*'13. Diet input'!$T71*100","v":0},{"$f":"AV69*'13. Diet input'!$U71*100","v":0},{"$f":"AW69*(1-'13. Diet input'!$V71)","v":0},null,{"$f":"'13. Diet input'!K71","v":0},{"$f":"BE69*'13. Diet input'!$Q71*100","v":0},{"$f":"BE69*'13. Diet input'!$R71*100","v":0},0,{"$f":"BE69*'13. Diet input'!$S71*100","v":0},{"$f":"BE69*'13. Diet input'!$T71*100","v":0},{"$f":"BE69*'13. Diet input'!$U71*100","v":0},{"$f":"BF69*(1-'13. Diet input'!$V71)","v":0},null,{"$f":"'13. Diet input'!L71","v":0},{"$f":"BN69*'13. Diet input'!$Q71*100","v":0},{"$f":"BN69*'13. Diet input'!$R71*100","v":0},0,{"$f":"BN69*'13. Diet input'!$S71*100","v":0},{"$f":"BN69*'13. Diet input'!$T71*100","v":0},{"$f":"BN69*'13. Diet input'!$U71*100","v":0},{"$f":"BO69*(1-'13. Diet input'!$V71)","v":0},null,{"$f":"'13. Diet input'!M71","v":0},{"$f":"BW69*'13. Diet input'!$Q71*100","v":0},{"$f":"BW69*'13. Diet input'!$R71*100","v":0},0,{"$f":"BW69*'13. Diet input'!$S71*100","v":0},{"$f":"BW69*'13. Diet input'!$T71*100","v":0},{"$f":"BW69*'13. Diet input'!$U71*100","v":0},{"$f":"BX69*(1-'13. Diet input'!$V71)","v":0},null,{"$f":"'13. Diet input'!N71","v":0},{"$f":"CF69*'13. Diet input'!$Q71*100","v":0},{"$f":"CF69*'13. Diet input'!$R71*100","v":0},0,{"$f":"CF69*'13. Diet input'!$S71*100","v":0},{"$f":"CF69*'13. Diet input'!$T71*100","v":0},{"$f":"CF69*'13. Diet input'!$U71*100","v":0},{"$f":"CG69*(1-'13. Diet input'!$V71)","v":0},null,{"$f":"'13. Diet input'!O71","v":0},{"$f":"CO69*'13. Diet input'!$Q71*100","v":0},{"$f":"CO69*'13. Diet input'!$R71*100","v":0},0,{"$f":"CO69*'13. Diet input'!$S71*100","v":0},{"$f":"CO69*'13. Diet input'!$T71*100","v":0},{"$f":"CO69*'13. Diet input'!$U71*100","v":0},{"$f":"CP69*(1-'13. Diet input'!$V71)","v":0}]
[null,{"$f":"'13. Diet input'!B72","v":"Meat & bone meal 50"},{"$f":"'13. Diet input'!E72","v":4.4999999999999997E-3},{"$f":"C70*'13. Diet input'!$Q72*100","v":0.42749999999999994},{"$f":"C70*'13. Diet input'!$R72*100","v":0.13499999999999998},0.29249999999999998,{"$f":"C70*'13. Diet input'!$S72*100","v":3.5999999999999997E-2},{"$f":"C70*'13. Diet input'!$T72*100","v":2.205E-2},{"$f":"C70*'13. Diet input'!$U72*100","v":2.2499999999999998E-3},{"$f":"D70*(1-'13. Diet input'!$V72)","v":0.10687499999999998},null,{"$f":"'13. Diet input'!F72","v":0.04},{"$f":"L70*'13. Diet input'!$Q72*100","v":3.8},{"$f":"L70*'13. Diet input'!$R72*100","v":1.2},2.5999999999999996,{"$f":"L70*'13. Diet input'!$S72*100","v":0.32},{"$f":"L70*'13. Diet input'!$T72*100","v":0.19600000000000001},{"$f":"L70*'13. Diet input'!$U72*100","v":0.02},{"$f":"M70*(1-'13. Diet input'!$V72)","v":0.95},null,{"$f":"'13. Diet input'!G72","v":3.7499999999999999E-2},{"$f":"U70*'13. Diet input'!$Q72*100","v":3.5624999999999996},{"$f":"U70*'13. Diet input'!$R72*100","v":1.125},2.4374999999999996,{"$f":"U70*'13. Diet input'!$S72*100","v":0.3},{"$f":"U70*'13. Diet input'!$T72*100","v":0.18375},{"$f":"U70*'13. Diet input'!$U72*100","v":1.8749999999999999E-2},{"$f":"V70*(1-'13. Diet input'!$V72)","v":0.89062499999999989},null,{"$f":"'13. Diet input'!H72","v":3.5000000000000003E-2},{"$f":"AD70*'13. Diet input'!$Q72*100","v":3.3250000000000002},{"$f":"AD70*'13. Diet input'!$R72*100","v":1.05},2.2750000000000004,{"$f":"AD70*'13. Diet input'!$S72*100","v":0.28000000000000003},{"$f":"AD70*'13. Diet input'!$T72*100","v":0.17150000000000001},{"$f":"AD70*'13. Diet input'!$U72*100","v":1.7500000000000002E-2},{"$f":"AE70*(1-'13. Diet input'!$V72)","v":0.83125000000000004},null,{"$f":"'13. Diet input'!I72","v":3.5000000000000003E-2},{"$f":"AM70*'13. Diet input'!$Q72*100","v":3.3250000000000002},{"$f":"AM70*'13. Diet input'!$R72*100","v":1.05},2.2750000000000004,{"$f":"AM70*'13. Diet input'!$S72*100","v":0.28000000000000003},{"$f":"AM70*'13. Diet input'!$T72*100","v":0.17150000000000001},{"$f":"AM70*'13. Diet input'!$U72*100","v":1.7500000000000002E-2},{"$f":"AN70*(1-'13. Diet input'!$V72)","v":0.83125000000000004},null,{"$f":"'13. Diet input'!J72","v":0},{"$f":"AV70*'13. Diet input'!$Q72*100","v":0},{"$f":"AV70*'13. Diet input'!$R72*100","v":0},0,{"$f":"AV70*'13. Diet input'!$S72*100","v":0},{"$f":"AV70*'13. Diet input'!$T72*100","v":0},{"$f":"AV70*'13. Diet input'!$U72*100","v":0},{"$f":"AW70*(1-'13. Diet input'!$V72)","v":0},null,{"$f":"'13. Diet input'!K72","v":0},{"$f":"BE70*'13. Diet input'!$Q72*100","v":0},{"$f":"BE70*'13. Diet input'!$R72*100","v":0},0,{"$f":"BE70*'13. Diet input'!$S72*100","v":0},{"$f":"BE70*'13. Diet input'!$T72*100","v":0},{"$f":"BE70*'13. Diet input'!$U72*100","v":0},{"$f":"BF70*(1-'13. Diet input'!$V72)","v":0},null,{"$f":"'13. Diet input'!L72","v":3.1E-2},{"$f":"BN70*'13. Diet input'!$Q72*100","v":2.9449999999999998},{"$f":"BN70*'13. Diet input'!$R72*100","v":0.92999999999999994},2.0149999999999997,{"$f":"BN70*'13. Diet input'!$S72*100","v":0.248},{"$f":"BN70*'13. Diet input'!$T72*100","v":0.15190000000000001},{"$f":"BN70*'13. Diet input'!$U72*100","v":1.55E-2},{"$f":"BO70*(1-'13. Diet input'!$V72)","v":0.73624999999999996},null,{"$f":"'13. Diet input'!M72","v":0.06},{"$f":"BW70*'13. Diet input'!$Q72*100","v":5.6999999999999993},{"$f":"BW70*'13. Diet input'!$R72*100","v":1.7999999999999998},3.8999999999999995,{"$f":"BW70*'13. Diet input'!$S72*100","v":0.48},{"$f":"BW70*'13. Diet input'!$T72*100","v":0.29399999999999998},{"$f":"BW70*'13. Diet input'!$U72*100","v":0.03},{"$f":"BX70*(1-'13. Diet input'!$V72)","v":1.4249999999999998},null,{"$f":"'13. Diet input'!N72","v":5.2499999999999998E-2},{"$f":"CF70*'13. Diet input'!$Q72*100","v":4.9874999999999998},{"$f":"CF70*'13. Diet input'!$R72*100","v":1.575},3.4124999999999996,{"$f":"CF70*'13. Diet input'!$S72*100","v":0.42},{"$f":"CF70*'13. Diet input'!$T72*100","v":0.25725000000000003},{"$f":"CF70*'13. Diet input'!$U72*100","v":2.6249999999999999E-2},{"$f":"CG70*(1-'13. Diet input'!$V72)","v":1.246875},null,{"$f":"'13. Diet input'!O72","v":0.06},{"$f":"CO70*'13. Diet input'!$Q72*100","v":5.6999999999999993},{"$f":"CO70*'13. Diet input'!$R72*100","v":1.7999999999999998},3.8999999999999995,{"$f":"CO70*'13. Diet input'!$S72*100","v":0.48},{"$f":"CO70*'13. Diet input'!$T72*100","v":0.29399999999999998},{"$f":"CO70*'13. Diet input'!$U72*100","v":0.03},{"$f":"CP70*(1-'13. Diet input'!$V72)","v":1.4249999999999998}]
[null,{"$f":"'13. Diet input'!B73","v":"Meat & bone meal 60"},{"$f":"'13. Diet input'!E73","v":0},{"$f":"C71*'13. Diet input'!$Q73*100","v":0},{"$f":"C71*'13. Diet input'!$R73*100","v":0},0,{"$f":"C71*'13. Diet input'!$S73*100","v":0},{"$f":"C71*'13. Diet input'!$T73*100","v":0},{"$f":"C71*'13. Diet input'!$U73*100","v":0},{"$f":"D71*(1-'13. Diet input'!$V73)","v":0},null,{"$f":"'13. Diet input'!F73","v":0},{"$f":"L71*'13. Diet input'!$Q73*100","v":0},{"$f":"L71*'13. Diet input'!$R73*100","v":0},0,{"$f":"L71*'13. Diet input'!$S73*100","v":0},{"$f":"L71*'13. Diet input'!$T73*100","v":0},{"$f":"L71*'13. Diet input'!$U73*100","v":0},{"$f":"M71*(1-'13. Diet input'!$V73)","v":0},null,{"$f":"'13. Diet input'!G73","v":0},{"$f":"U71*'13. Diet input'!$Q73*100","v":0},{"$f":"U71*'13. Diet input'!$R73*100","v":0},0,{"$f":"U71*'13. Diet input'!$S73*100","v":0},{"$f":"U71*'13. Diet input'!$T73*100","v":0},{"$f":"U71*'13. Diet input'!$U73*100","v":0},{"$f":"V71*(1-'13. Diet input'!$V73)","v":0},null,{"$f":"'13. Diet input'!H73","v":0},{"$f":"AD71*'13. Diet input'!$Q73*100","v":0},{"$f":"AD71*'13. Diet input'!$R73*100","v":0},0,{"$f":"AD71*'13. Diet input'!$S73*100","v":0},{"$f":"AD71*'13. Diet input'!$T73*100","v":0},{"$f":"AD71*'13. Diet input'!$U73*100","v":0},{"$f":"AE71*(1-'13. Diet input'!$V73)","v":0},null,{"$f":"'13. Diet input'!I73","v":0},{"$f":"AM71*'13. Diet input'!$Q73*100","v":0},{"$f":"AM71*'13. Diet input'!$R73*100","v":0},0,{"$f":"AM71*'13. Diet input'!$S73*100","v":0},{"$f":"AM71*'13. Diet input'!$T73*100","v":0},{"$f":"AM71*'13. Diet input'!$U73*100","v":0},{"$f":"AN71*(1-'13. Diet input'!$V73)","v":0},null,{"$f":"'13. Diet input'!J73","v":0},{"$f":"AV71*'13. Diet input'!$Q73*100","v":0},{"$f":"AV71*'13. Diet input'!$R73*100","v":0},0,{"$f":"AV71*'13. Diet input'!$S73*100","v":0},{"$f":"AV71*'13. Diet input'!$T73*100","v":0},{"$f":"AV71*'13. Diet input'!$U73*100","v":0},{"$f":"AW71*(1-'13. Diet input'!$V73)","v":0},null,{"$f":"'13. Diet input'!K73","v":0},{"$f":"BE71*'13. Diet input'!$Q73*100","v":0},{"$f":"BE71*'13. Diet input'!$R73*100","v":0},0,{"$f":"BE71*'13. Diet input'!$S73*100","v":0},{"$f":"BE71*'13. Diet input'!$T73*100","v":0},{"$f":"BE71*'13. Diet input'!$U73*100","v":0},{"$f":"BF71*(1-'13. Diet input'!$V73)","v":0},null,{"$f":"'13. Diet input'!L73","v":0},{"$f":"BN71*'13. Diet input'!$Q73*100","v":0},{"$f":"BN71*'13. Diet input'!$R73*100","v":0},0,{"$f":"BN71*'13. Diet input'!$S73*100","v":0},{"$f":"BN71*'13. Diet input'!$T73*100","v":0},{"$f":"BN71*'13. Diet input'!$U73*100","v":0},{"$f":"BO71*(1-'13. Diet input'!$V73)","v":0},null,{"$f":"'13. Diet input'!M73","v":0},{"$f":"BW71*'13. Diet input'!$Q73*100","v":0},{"$f":"BW71*'13. Diet input'!$R73*100","v":0},0,{"$f":"BW71*'13. Diet input'!$S73*100","v":0},{"$f":"BW71*'13. Diet input'!$T73*100","v":0},{"$f":"BW71*'13. Diet input'!$U73*100","v":0},{"$f":"BX71*(1-'13. Diet input'!$V73)","v":0},null,{"$f":"'13. Diet input'!N73","v":0},{"$f":"CF71*'13. Diet input'!$Q73*100","v":0},{"$f":"CF71*'13. Diet input'!$R73*100","v":0},0,{"$f":"CF71*'13. Diet input'!$S73*100","v":0},{"$f":"CF71*'13. Diet input'!$T73*100","v":0},{"$f":"CF71*'13. Diet input'!$U73*100","v":0},{"$f":"CG71*(1-'13. Diet input'!$V73)","v":0},null,{"$f":"'13. Diet input'!O73","v":0},{"$f":"CO71*'13. Diet input'!$Q73*100","v":0},{"$f":"CO71*'13. Diet input'!$R73*100","v":0},0,{"$f":"CO71*'13. Diet input'!$S73*100","v":0},{"$f":"CO71*'13. Diet input'!$T73*100","v":0},{"$f":"CO71*'13. Diet input'!$U73*100","v":0},{"$f":"CP71*(1-'13. Diet input'!$V73)","v":0}]
[null,{"$f":"'13. Diet input'!B74","v":"Milk, chocolate milk powder"},{"$f":"'13. Diet input'!E74","v":0},{"$f":"C72*'13. Diet input'!$Q74*100","v":0},{"$f":"C72*'13. Diet input'!$R74*100","v":0},0,{"$f":"C72*'13. Diet input'!$S74*100","v":0},{"$f":"C72*'13. Diet input'!$T74*100","v":0},{"$f":"C72*'13. Diet input'!$U74*100","v":0},{"$f":"D72*(1-'13. Diet input'!$V74)","v":0},null,{"$f":"'13. Diet input'!F74","v":0},{"$f":"L72*'13. Diet input'!$Q74*100","v":0},{"$f":"L72*'13. Diet input'!$R74*100","v":0},0,{"$f":"L72*'13. Diet input'!$S74*100","v":0},{"$f":"L72*'13. Diet input'!$T74*100","v":0},{"$f":"L72*'13. Diet input'!$U74*100","v":0},{"$f":"M72*(1-'13. Diet input'!$V74)","v":0},null,{"$f":"'13. Diet input'!G74","v":0},{"$f":"U72*'13. Diet input'!$Q74*100","v":0},{"$f":"U72*'13. Diet input'!$R74*100","v":0},0,{"$f":"U72*'13. Diet input'!$S74*100","v":0},{"$f":"U72*'13. Diet input'!$T74*100","v":0},{"$f":"U72*'13. Diet input'!$U74*100","v":0},{"$f":"V72*(1-'13. Diet input'!$V74)","v":0},null,{"$f":"'13. Diet input'!H74","v":0},{"$f":"AD72*'13. Diet input'!$Q74*100","v":0},{"$f":"AD72*'13. Diet input'!$R74*100","v":0},0,{"$f":"AD72*'13. Diet input'!$S74*100","v":0},{"$f":"AD72*'13. Diet input'!$T74*100","v":0},{"$f":"AD72*'13. Diet input'!$U74*100","v":0},{"$f":"AE72*(1-'13. Diet input'!$V74)","v":0},null,{"$f":"'13. Diet input'!I74","v":0},{"$f":"AM72*'13. Diet input'!$Q74*100","v":0},{"$f":"AM72*'13. Diet input'!$R74*100","v":0},0,{"$f":"AM72*'13. Diet input'!$S74*100","v":0},{"$f":"AM72*'13. Diet input'!$T74*100","v":0},{"$f":"AM72*'13. Diet input'!$U74*100","v":0},{"$f":"AN72*(1-'13. Diet input'!$V74)","v":0},null,{"$f":"'13. Diet input'!J74","v":0},{"$f":"AV72*'13. Diet input'!$Q74*100","v":0},{"$f":"AV72*'13. Diet input'!$R74*100","v":0},0,{"$f":"AV72*'13. Diet input'!$S74*100","v":0},{"$f":"AV72*'13. Diet input'!$T74*100","v":0},{"$f":"AV72*'13. Diet input'!$U74*100","v":0},{"$f":"AW72*(1-'13. Diet input'!$V74)","v":0},null,{"$f":"'13. Diet input'!K74","v":0},{"$f":"BE72*'13. Diet input'!$Q74*100","v":0},{"$f":"BE72*'13. Diet input'!$R74*100","v":0},0,{"$f":"BE72*'13. Diet input'!$S74*100","v":0},{"$f":"BE72*'13. Diet input'!$T74*100","v":0},{"$f":"BE72*'13. Diet input'!$U74*100","v":0},{"$f":"BF72*(1-'13. Diet input'!$V74)","v":0},null,{"$f":"'13. Diet input'!L74","v":0},{"$f":"BN72*'13. Diet input'!$Q74*100","v":0},{"$f":"BN72*'13. Diet input'!$R74*100","v":0},0,{"$f":"BN72*'13. Diet input'!$S74*100","v":0},{"$f":"BN72*'13. Diet input'!$T74*100","v":0},{"$f":"BN72*'13. Diet input'!$U74*100","v":0},{"$f":"BO72*(1-'13. Diet input'!$V74)","v":0},null,{"$f":"'13. Diet input'!M74","v":0},{"$f":"BW72*'13. Diet input'!$Q74*100","v":0},{"$f":"BW72*'13. Diet input'!$R74*100","v":0},0,{"$f":"BW72*'13. Diet input'!$S74*100","v":0},{"$f":"BW72*'13. Diet input'!$T74*100","v":0},{"$f":"BW72*'13. Diet input'!$U74*100","v":0},{"$f":"BX72*(1-'13. Diet input'!$V74)","v":0},null,{"$f":"'13. Diet input'!N74","v":0},{"$f":"CF72*'13. Diet input'!$Q74*100","v":0},{"$f":"CF72*'13. Diet input'!$R74*100","v":0},0,{"$f":"CF72*'13. Diet input'!$S74*100","v":0},{"$f":"CF72*'13. Diet input'!$T74*100","v":0},{"$f":"CF72*'13. Diet input'!$U74*100","v":0},{"$f":"CG72*(1-'13. Diet input'!$V74)","v":0},null,{"$f":"'13. Diet input'!O74","v":0},{"$f":"CO72*'13. Diet input'!$Q74*100","v":0},{"$f":"CO72*'13. Diet input'!$R74*100","v":0},0,{"$f":"CO72*'13. Diet input'!$S74*100","v":0},{"$f":"CO72*'13. Diet input'!$T74*100","v":0},{"$f":"CO72*'13. Diet input'!$U74*100","v":0},{"$f":"CP72*(1-'13. Diet input'!$V74)","v":0}]
[null,{"$f":"'13. Diet input'!B75","v":"Milk, skim milk powder"},{"$f":"'13. Diet input'!E75","v":0},{"$f":"C73*'13. Diet input'!$Q75*100","v":0},{"$f":"C73*'13. Diet input'!$R75*100","v":0},0,{"$f":"C73*'13. Diet input'!$S75*100","v":0},{"$f":"C73*'13. Diet input'!$T75*100","v":0},{"$f":"C73*'13. Diet input'!$U75*100","v":0},{"$f":"D73*(1-'13. Diet input'!$V75)","v":0},null,{"$f":"'13. Diet input'!F75","v":0},{"$f":"L73*'13. Diet input'!$Q75*100","v":0},{"$f":"L73*'13. Diet input'!$R75*100","v":0},0,{"$f":"L73*'13. Diet input'!$S75*100","v":0},{"$f":"L73*'13. Diet input'!$T75*100","v":0},{"$f":"L73*'13. Diet input'!$U75*100","v":0},{"$f":"M73*(1-'13. Diet input'!$V75)","v":0},null,{"$f":"'13. Diet input'!G75","v":0},{"$f":"U73*'13. Diet input'!$Q75*100","v":0},{"$f":"U73*'13. Diet input'!$R75*100","v":0},0,{"$f":"U73*'13. Diet input'!$S75*100","v":0},{"$f":"U73*'13. Diet input'!$T75*100","v":0},{"$f":"U73*'13. Diet input'!$U75*100","v":0},{"$f":"V73*(1-'13. Diet input'!$V75)","v":0},null,{"$f":"'13. Diet input'!H75","v":0},{"$f":"AD73*'13. Diet input'!$Q75*100","v":0},{"$f":"AD73*'13. Diet input'!$R75*100","v":0},0,{"$f":"AD73*'13. Diet input'!$S75*100","v":0},{"$f":"AD73*'13. Diet input'!$T75*100","v":0},{"$f":"AD73*'13. Diet input'!$U75*100","v":0},{"$f":"AE73*(1-'13. Diet input'!$V75)","v":0},null,{"$f":"'13. Diet input'!I75","v":0},{"$f":"AM73*'13. Diet input'!$Q75*100","v":0},{"$f":"AM73*'13. Diet input'!$R75*100","v":0},0,{"$f":"AM73*'13. Diet input'!$S75*100","v":0},{"$f":"AM73*'13. Diet input'!$T75*100","v":0},{"$f":"AM73*'13. Diet input'!$U75*100","v":0},{"$f":"AN73*(1-'13. Diet input'!$V75)","v":0},null,{"$f":"'13. Diet input'!J75","v":0},{"$f":"AV73*'13. Diet input'!$Q75*100","v":0},{"$f":"AV73*'13. Diet input'!$R75*100","v":0},0,{"$f":"AV73*'13. Diet input'!$S75*100","v":0},{"$f":"AV73*'13. Diet input'!$T75*100","v":0},{"$f":"AV73*'13. Diet input'!$U75*100","v":0},{"$f":"AW73*(1-'13. Diet input'!$V75)","v":0},null,{"$f":"'13. Diet input'!K75","v":0},{"$f":"BE73*'13. Diet input'!$Q75*100","v":0},{"$f":"BE73*'13. Diet input'!$R75*100","v":0},0,{"$f":"BE73*'13. Diet input'!$S75*100","v":0},{"$f":"BE73*'13. Diet input'!$T75*100","v":0},{"$f":"BE73*'13. Diet input'!$U75*100","v":0},{"$f":"BF73*(1-'13. Diet input'!$V75)","v":0},null,{"$f":"'13. Diet input'!L75","v":0},{"$f":"BN73*'13. Diet input'!$Q75*100","v":0},{"$f":"BN73*'13. Diet input'!$R75*100","v":0},0,{"$f":"BN73*'13. Diet input'!$S75*100","v":0},{"$f":"BN73*'13. Diet input'!$T75*100","v":0},{"$f":"BN73*'13. Diet input'!$U75*100","v":0},{"$f":"BO73*(1-'13. Diet input'!$V75)","v":0},null,{"$f":"'13. Diet input'!M75","v":0},{"$f":"BW73*'13. Diet input'!$Q75*100","v":0},{"$f":"BW73*'13. Diet input'!$R75*100","v":0},0,{"$f":"BW73*'13. Diet input'!$S75*100","v":0},{"$f":"BW73*'13. Diet input'!$T75*100","v":0},{"$f":"BW73*'13. Diet input'!$U75*100","v":0},{"$f":"BX73*(1-'13. Diet input'!$V75)","v":0},null,{"$f":"'13. Diet input'!N75","v":0},{"$f":"CF73*'13. Diet input'!$Q75*100","v":0},{"$f":"CF73*'13. Diet input'!$R75*100","v":0},0,{"$f":"CF73*'13. Diet input'!$S75*100","v":0},{"$f":"CF73*'13. Diet input'!$T75*100","v":0},{"$f":"CF73*'13. Diet input'!$U75*100","v":0},{"$f":"CG73*(1-'13. Diet input'!$V75)","v":0},null,{"$f":"'13. Diet input'!O75","v":0},{"$f":"CO73*'13. Diet input'!$Q75*100","v":0},{"$f":"CO73*'13. Diet input'!$R75*100","v":0},0,{"$f":"CO73*'13. Diet input'!$S75*100","v":0},{"$f":"CO73*'13. Diet input'!$T75*100","v":0},{"$f":"CO73*'13. Diet input'!$U75*100","v":0},{"$f":"CP73*(1-'13. Diet input'!$V75)","v":0}]
[null,{"$f":"'13. Diet input'!B76","v":"Milk, full cream  powder"},{"$f":"'13. Diet input'!E76","v":0},{"$f":"C74*'13. Diet input'!$Q76*100","v":0},{"$f":"C74*'13. Diet input'!$R76*100","v":0},0,{"$f":"C74*'13. Diet input'!$S76*100","v":0},{"$f":"C74*'13. Diet input'!$T76*100","v":0},{"$f":"C74*'13. Diet input'!$U76*100","v":0},{"$f":"D74*(1-'13. Diet input'!$V76)","v":0},null,{"$f":"'13. Diet input'!F76","v":0},{"$f":"L74*'13. Diet input'!$Q76*100","v":0},{"$f":"L74*'13. Diet input'!$R76*100","v":0},0,{"$f":"L74*'13. Diet input'!$S76*100","v":0},{"$f":"L74*'13. Diet input'!$T76*100","v":0},{"$f":"L74*'13. Diet input'!$U76*100","v":0},{"$f":"M74*(1-'13. Diet input'!$V76)","v":0},null,{"$f":"'13. Diet input'!G76","v":0},{"$f":"U74*'13. Diet input'!$Q76*100","v":0},{"$f":"U74*'13. Diet input'!$R76*100","v":0},0,{"$f":"U74*'13. Diet input'!$S76*100","v":0},{"$f":"U74*'13. Diet input'!$T76*100","v":0},{"$f":"U74*'13. Diet input'!$U76*100","v":0},{"$f":"V74*(1-'13. Diet input'!$V76)","v":0},null,{"$f":"'13. Diet input'!H76","v":0},{"$f":"AD74*'13. Diet input'!$Q76*100","v":0},{"$f":"AD74*'13. Diet input'!$R76*100","v":0},0,{"$f":"AD74*'13. Diet input'!$S76*100","v":0},{"$f":"AD74*'13. Diet input'!$T76*100","v":0},{"$f":"AD74*'13. Diet input'!$U76*100","v":0},{"$f":"AE74*(1-'13. Diet input'!$V76)","v":0},null,{"$f":"'13. Diet input'!I76","v":0},{"$f":"AM74*'13. Diet input'!$Q76*100","v":0},{"$f":"AM74*'13. Diet input'!$R76*100","v":0},0,{"$f":"AM74*'13. Diet input'!$S76*100","v":0},{"$f":"AM74*'13. Diet input'!$T76*100","v":0},{"$f":"AM74*'13. Diet input'!$U76*100","v":0},{"$f":"AN74*(1-'13. Diet input'!$V76)","v":0},null,{"$f":"'13. Diet input'!J76","v":0},{"$f":"AV74*'13. Diet input'!$Q76*100","v":0},{"$f":"AV74*'13. Diet input'!$R76*100","v":0},0,{"$f":"AV74*'13. Diet input'!$S76*100","v":0},{"$f":"AV74*'13. Diet input'!$T76*100","v":0},{"$f":"AV74*'13. Diet input'!$U76*100","v":0},{"$f":"AW74*(1-'13. Diet input'!$V76)","v":0},null,{"$f":"'13. Diet input'!K76","v":0},{"$f":"BE74*'13. Diet input'!$Q76*100","v":0},{"$f":"BE74*'13. Diet input'!$R76*100","v":0},0,{"$f":"BE74*'13. Diet input'!$S76*100","v":0},{"$f":"BE74*'13. Diet input'!$T76*100","v":0},{"$f":"BE74*'13. Diet input'!$U76*100","v":0},{"$f":"BF74*(1-'13. Diet input'!$V76)","v":0},null,{"$f":"'13. Diet input'!L76","v":0},{"$f":"BN74*'13. Diet input'!$Q76*100","v":0},{"$f":"BN74*'13. Diet input'!$R76*100","v":0},0,{"$f":"BN74*'13. Diet input'!$S76*100","v":0},{"$f":"BN74*'13. Diet input'!$T76*100","v":0},{"$f":"BN74*'13. Diet input'!$U76*100","v":0},{"$f":"BO74*(1-'13. Diet input'!$V76)","v":0},null,{"$f":"'13. Diet input'!M76","v":0},{"$f":"BW74*'13. Diet input'!$Q76*100","v":0},{"$f":"BW74*'13. Diet input'!$R76*100","v":0},0,{"$f":"BW74*'13. Diet input'!$S76*100","v":0},{"$f":"BW74*'13. Diet input'!$T76*100","v":0},{"$f":"BW74*'13. Diet input'!$U76*100","v":0},{"$f":"BX74*(1-'13. Diet input'!$V76)","v":0},null,{"$f":"'13. Diet input'!N76","v":0},{"$f":"CF74*'13. Diet input'!$Q76*100","v":0},{"$f":"CF74*'13. Diet input'!$R76*100","v":0},0,{"$f":"CF74*'13. Diet input'!$S76*100","v":0},{"$f":"CF74*'13. Diet input'!$T76*100","v":0},{"$f":"CF74*'13. Diet input'!$U76*100","v":0},{"$f":"CG74*(1-'13. Diet input'!$V76)","v":0},null,{"$f":"'13. Diet input'!O76","v":0},{"$f":"CO74*'13. Diet input'!$Q76*100","v":0},{"$f":"CO74*'13. Diet input'!$R76*100","v":0},0,{"$f":"CO74*'13. Diet input'!$S76*100","v":0},{"$f":"CO74*'13. Diet input'!$T76*100","v":0},{"$f":"CO74*'13. Diet input'!$U76*100","v":0},{"$f":"CP74*(1-'13. Diet input'!$V76)","v":0}]
[null,{"$f":"'13. Diet input'!B77","v":"Milk, whey powder"},{"$f":"'13. Diet input'!E77","v":0.01},{"$f":"C75*'13. Diet input'!$Q77*100","v":0.95},{"$f":"C75*'13. Diet input'!$R77*100","v":8.6999999999999994E-2},0.86299999999999999,{"$f":"C75*'13. Diet input'!$S77*100","v":0.02},{"$f":"C75*'13. Diet input'!$T77*100","v":9.0000000000000011E-3},{"$f":"C75*'13. Diet input'!$U77*100","v":0.05},{"$f":"D75*(1-'13. Diet input'!$V77)","v":0.11874999999999999},null,{"$f":"'13. Diet input'!F77","v":0},{"$f":"L75*'13. Diet input'!$Q77*100","v":0},{"$f":"L75*'13. Diet input'!$R77*100","v":0},0,{"$f":"L75*'13. Diet input'!$S77*100","v":0},{"$f":"L75*'13. Diet input'!$T77*100","v":0},{"$f":"L75*'13. Diet input'!$U77*100","v":0},{"$f":"M75*(1-'13. Diet input'!$V77)","v":0},null,{"$f":"'13. Diet input'!G77","v":0},{"$f":"U75*'13. Diet input'!$Q77*100","v":0},{"$f":"U75*'13. Diet input'!$R77*100","v":0},0,{"$f":"U75*'13. Diet input'!$S77*100","v":0},{"$f":"U75*'13. Diet input'!$T77*100","v":0},{"$f":"U75*'13. Diet input'!$U77*100","v":0},{"$f":"V75*(1-'13. Diet input'!$V77)","v":0},null,{"$f":"'13. Diet input'!H77","v":0},{"$f":"AD75*'13. Diet input'!$Q77*100","v":0},{"$f":"AD75*'13. Diet input'!$R77*100","v":0},0,{"$f":"AD75*'13. Diet input'!$S77*100","v":0},{"$f":"AD75*'13. Diet input'!$T77*100","v":0},{"$f":"AD75*'13. Diet input'!$U77*100","v":0},{"$f":"AE75*(1-'13. Diet input'!$V77)","v":0},null,{"$f":"'13. Diet input'!I77","v":0},{"$f":"AM75*'13. Diet input'!$Q77*100","v":0},{"$f":"AM75*'13. Diet input'!$R77*100","v":0},0,{"$f":"AM75*'13. Diet input'!$S77*100","v":0},{"$f":"AM75*'13. Diet input'!$T77*100","v":0},{"$f":"AM75*'13. Diet input'!$U77*100","v":0},{"$f":"AN75*(1-'13. Diet input'!$V77)","v":0},null,{"$f":"'13. Diet input'!J77","v":0},{"$f":"AV75*'13. Diet input'!$Q77*100","v":0},{"$f":"AV75*'13. Diet input'!$R77*100","v":0},0,{"$f":"AV75*'13. Diet input'!$S77*100","v":0},{"$f":"AV75*'13. Diet input'!$T77*100","v":0},{"$f":"AV75*'13. Diet input'!$U77*100","v":0},{"$f":"AW75*(1-'13. Diet input'!$V77)","v":0},null,{"$f":"'13. Diet input'!K77","v":0},{"$f":"BE75*'13. Diet input'!$Q77*100","v":0},{"$f":"BE75*'13. Diet input'!$R77*100","v":0},0,{"$f":"BE75*'13. Diet input'!$S77*100","v":0},{"$f":"BE75*'13. Diet input'!$T77*100","v":0},{"$f":"BE75*'13. Diet input'!$U77*100","v":0},{"$f":"BF75*(1-'13. Diet input'!$V77)","v":0},null,{"$f":"'13. Diet input'!L77","v":0},{"$f":"BN75*'13. Diet input'!$Q77*100","v":0},{"$f":"BN75*'13. Diet input'!$R77*100","v":0},0,{"$f":"BN75*'13. Diet input'!$S77*100","v":0},{"$f":"BN75*'13. Diet input'!$T77*100","v":0},{"$f":"BN75*'13. Diet input'!$U77*100","v":0},{"$f":"BO75*(1-'13. Diet input'!$V77)","v":0},null,{"$f":"'13. Diet input'!M77","v":0},{"$f":"BW75*'13. Diet input'!$Q77*100","v":0},{"$f":"BW75*'13. Diet input'!$R77*100","v":0},0,{"$f":"BW75*'13. Diet input'!$S77*100","v":0},{"$f":"BW75*'13. Diet input'!$T77*100","v":0},{"$f":"BW75*'13. Diet input'!$U77*100","v":0},{"$f":"BX75*(1-'13. Diet input'!$V77)","v":0},null,{"$f":"'13. Diet input'!N77","v":0},{"$f":"CF75*'13. Diet input'!$Q77*100","v":0},{"$f":"CF75*'13. Diet input'!$R77*100","v":0},0,{"$f":"CF75*'13. Diet input'!$S77*100","v":0},{"$f":"CF75*'13. Diet input'!$T77*100","v":0},{"$f":"CF75*'13. Diet input'!$U77*100","v":0},{"$f":"CG75*(1-'13. Diet input'!$V77)","v":0},null,{"$f":"'13. Diet input'!O77","v":0},{"$f":"CO75*'13. Diet input'!$Q77*100","v":0},{"$f":"CO75*'13. Diet input'!$R77*100","v":0},0,{"$f":"CO75*'13. Diet input'!$S77*100","v":0},{"$f":"CO75*'13. Diet input'!$T77*100","v":0},{"$f":"CO75*'13. Diet input'!$U77*100","v":0},{"$f":"CP75*(1-'13. Diet input'!$V77)","v":0}]
[null,"Hay & Straw"]
[null,{"$f":"'13. Diet input'!B79","v":"Barley straw"},{"$f":"'13. Diet input'!E79","v":0},{"$f":"C77*'13. Diet input'!$Q79*100","v":0},{"$f":"C77*'13. Diet input'!$R79*100","v":0},{"$f":"D77-E77","v":0},{"$f":"C77*'13. Diet input'!$S79*100","v":0},{"$f":"C77*'13. Diet input'!$T79*100","v":0},{"$f":"C77*'13. Diet input'!$U79*100","v":0},{"$f":"D77*(1-'13. Diet input'!$V79)","v":0},null,{"$f":"'13. Diet input'!F79","v":0},{"$f":"L77*'13. Diet input'!$Q79*100","v":0},{"$f":"L77*'13. Diet input'!$R79*100","v":0},{"$f":"M77-N77","v":0},{"$f":"L77*'13. Diet input'!$S79*100","v":0},{"$f":"L77*'13. Diet input'!$T79*100","v":0},{"$f":"L77*'13. Diet input'!$U79*100","v":0},{"$f":"M77*(1-'13. Diet input'!$V79)","v":0},null,{"$f":"'13. Diet input'!G79","v":0},{"$f":"U77*'13. Diet input'!$Q79*100","v":0},{"$f":"U77*'13. Diet input'!$R79*100","v":0},{"$f":"V77-W77","v":0},{"$f":"U77*'13. Diet input'!$S79*100","v":0},{"$f":"U77*'13. Diet input'!$T79*100","v":0},{"$f":"U77*'13. Diet input'!$U79*100","v":0},{"$f":"V77*(1-'13. Diet input'!$V79)","v":0},null,{"$f":"'13. Diet input'!H79","v":0},{"$f":"AD77*'13. Diet input'!$Q79*100","v":0},{"$f":"AD77*'13. Diet input'!$R79*100","v":0},{"$f":"AE77-AF77","v":0},{"$f":"AD77*'13. Diet input'!$S79*100","v":0},{"$f":"AD77*'13. Diet input'!$T79*100","v":0},{"$f":"AD77*'13. Diet input'!$U79*100","v":0},{"$f":"AE77*(1-'13. Diet input'!$V79)","v":0},null,{"$f":"'13. Diet input'!I79","v":0},{"$f":"AM77*'13. Diet input'!$Q79*100","v":0},{"$f":"AM77*'13. Diet input'!$R79*100","v":0},{"$f":"AN77-AO77","v":0},{"$f":"AM77*'13. Diet input'!$S79*100","v":0},{"$f":"AM77*'13. Diet input'!$T79*100","v":0},{"$f":"AM77*'13. Diet input'!$U79*100","v":0},{"$f":"AN77*(1-'13. Diet input'!$V79)","v":0},null,{"$f":"'13. Diet input'!J79","v":0},{"$f":"AV77*'13. Diet input'!$Q79*100","v":0},{"$f":"AV77*'13. Diet input'!$R79*100","v":0},{"$f":"AW77-AX77","v":0},{"$f":"AV77*'13. Diet input'!$S79*100","v":0},{"$f":"AV77*'13. Diet input'!$T79*100","v":0},{"$f":"AV77*'13. Diet input'!$U79*100","v":0},{"$f":"AW77*(1-'13. Diet input'!$V79)","v":0},null,{"$f":"'13. Diet input'!K79","v":0},{"$f":"BE77*'13. Diet input'!$Q79*100","v":0},{"$f":"BE77*'13. Diet input'!$R79*100","v":0},{"$f":"BF77-BG77","v":0},{"$f":"BE77*'13. Diet input'!$S79*100","v":0},{"$f":"BE77*'13. Diet input'!$T79*100","v":0},{"$f":"BE77*'13. Diet input'!$U79*100","v":0},{"$f":"BF77*(1-'13. Diet input'!$V79)","v":0},null,{"$f":"'13. Diet input'!L79","v":0},{"$f":"BN77*'13. Diet input'!$Q79*100","v":0},{"$f":"BN77*'13. Diet input'!$R79*100","v":0},{"$f":"BO77-BP77","v":0},{"$f":"BN77*'13. Diet input'!$S79*100","v":0},{"$f":"BN77*'13. Diet input'!$T79*100","v":0},{"$f":"BN77*'13. Diet input'!$U79*100","v":0},{"$f":"BO77*(1-'13. Diet input'!$V79)","v":0},null,{"$f":"'13. Diet input'!M79","v":0},{"$f":"BW77*'13. Diet input'!$Q79*100","v":0},{"$f":"BW77*'13. Diet input'!$R79*100","v":0},{"$f":"BX77-BY77","v":0},{"$f":"BW77*'13. Diet input'!$S79*100","v":0},{"$f":"BW77*'13. Diet input'!$T79*100","v":0},{"$f":"BW77*'13. Diet input'!$U79*100","v":0},{"$f":"BX77*(1-'13. Diet input'!$V79)","v":0},null,{"$f":"'13. Diet input'!N79","v":0},{"$f":"CF77*'13. Diet input'!$Q79*100","v":0},{"$f":"CF77*'13. Diet input'!$R79*100","v":0},{"$f":"CG77-CH77","v":0},{"$f":"CF77*'13. Diet input'!$S79*100","v":0},{"$f":"CF77*'13. Diet input'!$T79*100","v":0},{"$f":"CF77*'13. Diet input'!$U79*100","v":0},{"$f":"CG77*(1-'13. Diet input'!$V79)","v":0},null,{"$f":"'13. Diet input'!O79","v":0},{"$f":"CO77*'13. Diet input'!$Q79*100","v":0},{"$f":"CO77*'13. Diet input'!$R79*100","v":0},{"$f":"CP77-CQ77","v":0},{"$f":"CO77*'13. Diet input'!$S79*100","v":0},{"$f":"CO77*'13. Diet input'!$T79*100","v":0},{"$f":"CO77*'13. Diet input'!$U79*100","v":0},{"$f":"CP77*(1-'13. Diet input'!$V79)","v":0}]
[null,{"$f":"'13. Diet input'!B80","v":"Cereal straw pellets"},{"$f":"'13. Diet input'!E80","v":0},{"$f":"C78*'13. Diet input'!$Q80*100","v":0},{"$f":"C78*'13. Diet input'!$R80*100","v":0},0,{"$f":"C78*'13. Diet input'!$S80*100","v":0},{"$f":"C78*'13. Diet input'!$T80*100","v":0},{"$f":"C78*'13. Diet input'!$U80*100","v":0},{"$f":"D78*(1-'13. Diet input'!$V80)","v":0},null,{"$f":"'13. Diet input'!F80","v":0},{"$f":"L78*'13. Diet input'!$Q80*100","v":0},{"$f":"L78*'13. Diet input'!$R80*100","v":0},0,{"$f":"L78*'13. Diet input'!$S80*100","v":0},{"$f":"L78*'13. Diet input'!$T80*100","v":0},{"$f":"L78*'13. Diet input'!$U80*100","v":0},{"$f":"M78*(1-'13. Diet input'!$V80)","v":0},null,{"$f":"'13. Diet input'!G80","v":0},{"$f":"U78*'13. Diet input'!$Q80*100","v":0},{"$f":"U78*'13. Diet input'!$R80*100","v":0},0,{"$f":"U78*'13. Diet input'!$S80*100","v":0},{"$f":"U78*'13. Diet input'!$T80*100","v":0},{"$f":"U78*'13. Diet input'!$U80*100","v":0},{"$f":"V78*(1-'13. Diet input'!$V80)","v":0},null,{"$f":"'13. Diet input'!H80","v":0},{"$f":"AD78*'13. Diet input'!$Q80*100","v":0},{"$f":"AD78*'13. Diet input'!$R80*100","v":0},0,{"$f":"AD78*'13. Diet input'!$S80*100","v":0},{"$f":"AD78*'13. Diet input'!$T80*100","v":0},{"$f":"AD78*'13. Diet input'!$U80*100","v":0},{"$f":"AE78*(1-'13. Diet input'!$V80)","v":0},null,{"$f":"'13. Diet input'!I80","v":0},{"$f":"AM78*'13. Diet input'!$Q80*100","v":0},{"$f":"AM78*'13. Diet input'!$R80*100","v":0},0,{"$f":"AM78*'13. Diet input'!$S80*100","v":0},{"$f":"AM78*'13. Diet input'!$T80*100","v":0},{"$f":"AM78*'13. Diet input'!$U80*100","v":0},{"$f":"AN78*(1-'13. Diet input'!$V80)","v":0},null,{"$f":"'13. Diet input'!J80","v":0},{"$f":"AV78*'13. Diet input'!$Q80*100","v":0},{"$f":"AV78*'13. Diet input'!$R80*100","v":0},0,{"$f":"AV78*'13. Diet input'!$S80*100","v":0},{"$f":"AV78*'13. Diet input'!$T80*100","v":0},{"$f":"AV78*'13. Diet input'!$U80*100","v":0},{"$f":"AW78*(1-'13. Diet input'!$V80)","v":0},null,{"$f":"'13. Diet input'!K80","v":0},{"$f":"BE78*'13. Diet input'!$Q80*100","v":0},{"$f":"BE78*'13. Diet input'!$R80*100","v":0},0,{"$f":"BE78*'13. Diet input'!$S80*100","v":0},{"$f":"BE78*'13. Diet input'!$T80*100","v":0},{"$f":"BE78*'13. Diet input'!$U80*100","v":0},{"$f":"BF78*(1-'13. Diet input'!$V80)","v":0},null,{"$f":"'13. Diet input'!L80","v":0},{"$f":"BN78*'13. Diet input'!$Q80*100","v":0},{"$f":"BN78*'13. Diet input'!$R80*100","v":0},0,{"$f":"BN78*'13. Diet input'!$S80*100","v":0},{"$f":"BN78*'13. Diet input'!$T80*100","v":0},{"$f":"BN78*'13. Diet input'!$U80*100","v":0},{"$f":"BO78*(1-'13. Diet input'!$V80)","v":0},null,{"$f":"'13. Diet input'!M80","v":0},{"$f":"BW78*'13. Diet input'!$Q80*100","v":0},{"$f":"BW78*'13. Diet input'!$R80*100","v":0},0,{"$f":"BW78*'13. Diet input'!$S80*100","v":0},{"$f":"BW78*'13. Diet input'!$T80*100","v":0},{"$f":"BW78*'13. Diet input'!$U80*100","v":0},{"$f":"BX78*(1-'13. Diet input'!$V80)","v":0},null,{"$f":"'13. Diet input'!N80","v":0},{"$f":"CF78*'13. Diet input'!$Q80*100","v":0},{"$f":"CF78*'13. Diet input'!$R80*100","v":0},0,{"$f":"CF78*'13. Diet input'!$S80*100","v":0},{"$f":"CF78*'13. Diet input'!$T80*100","v":0},{"$f":"CF78*'13. Diet input'!$U80*100","v":0},{"$f":"CG78*(1-'13. Diet input'!$V80)","v":0},null,{"$f":"'13. Diet input'!O80","v":0},{"$f":"CO78*'13. Diet input'!$Q80*100","v":0},{"$f":"CO78*'13. Diet input'!$R80*100","v":0},0,{"$f":"CO78*'13. Diet input'!$S80*100","v":0},{"$f":"CO78*'13. Diet input'!$T80*100","v":0},{"$f":"CO78*'13. Diet input'!$U80*100","v":0},{"$f":"CP78*(1-'13. Diet input'!$V80)","v":0}]
[null,{"$f":"'13. Diet input'!B81","v":"Lucerne meal/crumbles"},{"$f":"'13. Diet input'!E81","v":0},{"$f":"C79*'13. Diet input'!$Q81*100","v":0},{"$f":"C79*'13. Diet input'!$R81*100","v":0},0,{"$f":"C79*'13. Diet input'!$S81*100","v":0},{"$f":"C79*'13. Diet input'!$T81*100","v":0},{"$f":"C79*'13. Diet input'!$U81*100","v":0},{"$f":"D79*(1-'13. Diet input'!$V81)","v":0},null,{"$f":"'13. Diet input'!F81","v":0},{"$f":"L79*'13. Diet input'!$Q81*100","v":0},{"$f":"L79*'13. Diet input'!$R81*100","v":0},0,{"$f":"L79*'13. Diet input'!$S81*100","v":0},{"$f":"L79*'13. Diet input'!$T81*100","v":0},{"$f":"L79*'13. Diet input'!$U81*100","v":0},{"$f":"M79*(1-'13. Diet input'!$V81)","v":0},null,{"$f":"'13. Diet input'!G81","v":0},{"$f":"U79*'13. Diet input'!$Q81*100","v":0},{"$f":"U79*'13. Diet input'!$R81*100","v":0},0,{"$f":"U79*'13. Diet input'!$S81*100","v":0},{"$f":"U79*'13. Diet input'!$T81*100","v":0},{"$f":"U79*'13. Diet input'!$U81*100","v":0},{"$f":"V79*(1-'13. Diet input'!$V81)","v":0},null,{"$f":"'13. Diet input'!H81","v":0},{"$f":"AD79*'13. Diet input'!$Q81*100","v":0},{"$f":"AD79*'13. Diet input'!$R81*100","v":0},0,{"$f":"AD79*'13. Diet input'!$S81*100","v":0},{"$f":"AD79*'13. Diet input'!$T81*100","v":0},{"$f":"AD79*'13. Diet input'!$U81*100","v":0},{"$f":"AE79*(1-'13. Diet input'!$V81)","v":0},null,{"$f":"'13. Diet input'!I81","v":0},{"$f":"AM79*'13. Diet input'!$Q81*100","v":0},{"$f":"AM79*'13. Diet input'!$R81*100","v":0},0,{"$f":"AM79*'13. Diet input'!$S81*100","v":0},{"$f":"AM79*'13. Diet input'!$T81*100","v":0},{"$f":"AM79*'13. Diet input'!$U81*100","v":0},{"$f":"AN79*(1-'13. Diet input'!$V81)","v":0},null,{"$f":"'13. Diet input'!J81","v":0},{"$f":"AV79*'13. Diet input'!$Q81*100","v":0},{"$f":"AV79*'13. Diet input'!$R81*100","v":0},0,{"$f":"AV79*'13. Diet input'!$S81*100","v":0},{"$f":"AV79*'13. Diet input'!$T81*100","v":0},{"$f":"AV79*'13. Diet input'!$U81*100","v":0},{"$f":"AW79*(1-'13. Diet input'!$V81)","v":0},null,{"$f":"'13. Diet input'!K81","v":0},{"$f":"BE79*'13. Diet input'!$Q81*100","v":0},{"$f":"BE79*'13. Diet input'!$R81*100","v":0},0,{"$f":"BE79*'13. Diet input'!$S81*100","v":0},{"$f":"BE79*'13. Diet input'!$T81*100","v":0},{"$f":"BE79*'13. Diet input'!$U81*100","v":0},{"$f":"BF79*(1-'13. Diet input'!$V81)","v":0},null,{"$f":"'13. Diet input'!L81","v":0},{"$f":"BN79*'13. Diet input'!$Q81*100","v":0},{"$f":"BN79*'13. Diet input'!$R81*100","v":0},0,{"$f":"BN79*'13. Diet input'!$S81*100","v":0},{"$f":"BN79*'13. Diet input'!$T81*100","v":0},{"$f":"BN79*'13. Diet input'!$U81*100","v":0},{"$f":"BO79*(1-'13. Diet input'!$V81)","v":0},null,{"$f":"'13. Diet input'!M81","v":0},{"$f":"BW79*'13. Diet input'!$Q81*100","v":0},{"$f":"BW79*'13. Diet input'!$R81*100","v":0},0,{"$f":"BW79*'13. Diet input'!$S81*100","v":0},{"$f":"BW79*'13. Diet input'!$T81*100","v":0},{"$f":"BW79*'13. Diet input'!$U81*100","v":0},{"$f":"BX79*(1-'13. Diet input'!$V81)","v":0},null,{"$f":"'13. Diet input'!N81","v":0},{"$f":"CF79*'13. Diet input'!$Q81*100","v":0},{"$f":"CF79*'13. Diet input'!$R81*100","v":0},0,{"$f":"CF79*'13. Diet input'!$S81*100","v":0},{"$f":"CF79*'13. Diet input'!$T81*100","v":0},{"$f":"CF79*'13. Diet input'!$U81*100","v":0},{"$f":"CG79*(1-'13. Diet input'!$V81)","v":0},null,{"$f":"'13. Diet input'!O81","v":0},{"$f":"CO79*'13. Diet input'!$Q81*100","v":0},{"$f":"CO79*'13. Diet input'!$R81*100","v":0},0,{"$f":"CO79*'13. Diet input'!$S81*100","v":0},{"$f":"CO79*'13. Diet input'!$T81*100","v":0},{"$f":"CO79*'13. Diet input'!$U81*100","v":0},{"$f":"CP79*(1-'13. Diet input'!$V81)","v":0}]
[null,{"$f":"'13. Diet input'!B82","v":"Oat straw"},{"$f":"'13. Diet input'!E82","v":0},{"$f":"C80*'13. Diet input'!$Q82*100","v":0},{"$f":"C80*'13. Diet input'!$R82*100","v":0},0,{"$f":"C80*'13. Diet input'!$S82*100","v":0},{"$f":"C80*'13. Diet input'!$T82*100","v":0},{"$f":"C80*'13. Diet input'!$U82*100","v":0},{"$f":"D80*(1-'13. Diet input'!$V82)","v":0},null,{"$f":"'13. Diet input'!F82","v":0},{"$f":"L80*'13. Diet input'!$Q82*100","v":0},{"$f":"L80*'13. Diet input'!$R82*100","v":0},0,{"$f":"L80*'13. Diet input'!$S82*100","v":0},{"$f":"L80*'13. Diet input'!$T82*100","v":0},{"$f":"L80*'13. Diet input'!$U82*100","v":0},{"$f":"M80*(1-'13. Diet input'!$V82)","v":0},null,{"$f":"'13. Diet input'!G82","v":0},{"$f":"U80*'13. Diet input'!$Q82*100","v":0},{"$f":"U80*'13. Diet input'!$R82*100","v":0},0,{"$f":"U80*'13. Diet input'!$S82*100","v":0},{"$f":"U80*'13. Diet input'!$T82*100","v":0},{"$f":"U80*'13. Diet input'!$U82*100","v":0},{"$f":"V80*(1-'13. Diet input'!$V82)","v":0},null,{"$f":"'13. Diet input'!H82","v":0},{"$f":"AD80*'13. Diet input'!$Q82*100","v":0},{"$f":"AD80*'13. Diet input'!$R82*100","v":0},0,{"$f":"AD80*'13. Diet input'!$S82*100","v":0},{"$f":"AD80*'13. Diet input'!$T82*100","v":0},{"$f":"AD80*'13. Diet input'!$U82*100","v":0},{"$f":"AE80*(1-'13. Diet input'!$V82)","v":0},null,{"$f":"'13. Diet input'!I82","v":0},{"$f":"AM80*'13. Diet input'!$Q82*100","v":0},{"$f":"AM80*'13. Diet input'!$R82*100","v":0},0,{"$f":"AM80*'13. Diet input'!$S82*100","v":0},{"$f":"AM80*'13. Diet input'!$T82*100","v":0},{"$f":"AM80*'13. Diet input'!$U82*100","v":0},{"$f":"AN80*(1-'13. Diet input'!$V82)","v":0},null,{"$f":"'13. Diet input'!J82","v":0},{"$f":"AV80*'13. Diet input'!$Q82*100","v":0},{"$f":"AV80*'13. Diet input'!$R82*100","v":0},0,{"$f":"AV80*'13. Diet input'!$S82*100","v":0},{"$f":"AV80*'13. Diet input'!$T82*100","v":0},{"$f":"AV80*'13. Diet input'!$U82*100","v":0},{"$f":"AW80*(1-'13. Diet input'!$V82)","v":0},null,{"$f":"'13. Diet input'!K82","v":0},{"$f":"BE80*'13. Diet input'!$Q82*100","v":0},{"$f":"BE80*'13. Diet input'!$R82*100","v":0},0,{"$f":"BE80*'13. Diet input'!$S82*100","v":0},{"$f":"BE80*'13. Diet input'!$T82*100","v":0},{"$f":"BE80*'13. Diet input'!$U82*100","v":0},{"$f":"BF80*(1-'13. Diet input'!$V82)","v":0},null,{"$f":"'13. Diet input'!L82","v":0},{"$f":"BN80*'13. Diet input'!$Q82*100","v":0},{"$f":"BN80*'13. Diet input'!$R82*100","v":0},0,{"$f":"BN80*'13. Diet input'!$S82*100","v":0},{"$f":"BN80*'13. Diet input'!$T82*100","v":0},{"$f":"BN80*'13. Diet input'!$U82*100","v":0},{"$f":"BO80*(1-'13. Diet input'!$V82)","v":0},null,{"$f":"'13. Diet input'!M82","v":0},{"$f":"BW80*'13. Diet input'!$Q82*100","v":0},{"$f":"BW80*'13. Diet input'!$R82*100","v":0},0,{"$f":"BW80*'13. Diet input'!$S82*100","v":0},{"$f":"BW80*'13. Diet input'!$T82*100","v":0},{"$f":"BW80*'13. Diet input'!$U82*100","v":0},{"$f":"BX80*(1-'13. Diet input'!$V82)","v":0},null,{"$f":"'13. Diet input'!N82","v":0},{"$f":"CF80*'13. Diet input'!$Q82*100","v":0},{"$f":"CF80*'13. Diet input'!$R82*100","v":0},0,{"$f":"CF80*'13. Diet input'!$S82*100","v":0},{"$f":"CF80*'13. Diet input'!$T82*100","v":0},{"$f":"CF80*'13. Diet input'!$U82*100","v":0},{"$f":"CG80*(1-'13. Diet input'!$V82)","v":0},null,{"$f":"'13. Diet input'!O82","v":0},{"$f":"CO80*'13. Diet input'!$Q82*100","v":0},{"$f":"CO80*'13. Diet input'!$R82*100","v":0},0,{"$f":"CO80*'13. Diet input'!$S82*100","v":0},{"$f":"CO80*'13. Diet input'!$T82*100","v":0},{"$f":"CO80*'13. Diet input'!$U82*100","v":0},{"$f":"CP80*(1-'13. Diet input'!$V82)","v":0}]
[null,{"$f":"'13. Diet input'!B83","v":"Wheat straw"},{"$f":"'13. Diet input'!E83","v":0},{"$f":"C81*'13. Diet input'!$Q83*100","v":0},{"$f":"C81*'13. Diet input'!$R83*100","v":0},0,{"$f":"C81*'13. Diet input'!$S83*100","v":0},{"$f":"C81*'13. Diet input'!$T83*100","v":0},{"$f":"C81*'13. Diet input'!$U83*100","v":0},{"$f":"D81*(1-'13. Diet input'!$V83)","v":0},null,{"$f":"'13. Diet input'!F83","v":0},{"$f":"L81*'13. Diet input'!$Q83*100","v":0},{"$f":"L81*'13. Diet input'!$R83*100","v":0},0,{"$f":"L81*'13. Diet input'!$S83*100","v":0},{"$f":"L81*'13. Diet input'!$T83*100","v":0},{"$f":"L81*'13. Diet input'!$U83*100","v":0},{"$f":"M81*(1-'13. Diet input'!$V83)","v":0},null,{"$f":"'13. Diet input'!G83","v":0},{"$f":"U81*'13. Diet input'!$Q83*100","v":0},{"$f":"U81*'13. Diet input'!$R83*100","v":0},0,{"$f":"U81*'13. Diet input'!$S83*100","v":0},{"$f":"U81*'13. Diet input'!$T83*100","v":0},{"$f":"U81*'13. Diet input'!$U83*100","v":0},{"$f":"V81*(1-'13. Diet input'!$V83)","v":0},null,{"$f":"'13. Diet input'!H83","v":0},{"$f":"AD81*'13. Diet input'!$Q83*100","v":0},{"$f":"AD81*'13. Diet input'!$R83*100","v":0},0,{"$f":"AD81*'13. Diet input'!$S83*100","v":0},{"$f":"AD81*'13. Diet input'!$T83*100","v":0},{"$f":"AD81*'13. Diet input'!$U83*100","v":0},{"$f":"AE81*(1-'13. Diet input'!$V83)","v":0},null,{"$f":"'13. Diet input'!I83","v":0},{"$f":"AM81*'13. Diet input'!$Q83*100","v":0},{"$f":"AM81*'13. Diet input'!$R83*100","v":0},0,{"$f":"AM81*'13. Diet input'!$S83*100","v":0},{"$f":"AM81*'13. Diet input'!$T83*100","v":0},{"$f":"AM81*'13. Diet input'!$U83*100","v":0},{"$f":"AN81*(1-'13. Diet input'!$V83)","v":0},null,{"$f":"'13. Diet input'!J83","v":0},{"$f":"AV81*'13. Diet input'!$Q83*100","v":0},{"$f":"AV81*'13. Diet input'!$R83*100","v":0},0,{"$f":"AV81*'13. Diet input'!$S83*100","v":0},{"$f":"AV81*'13. Diet input'!$T83*100","v":0},{"$f":"AV81*'13. Diet input'!$U83*100","v":0},{"$f":"AW81*(1-'13. Diet input'!$V83)","v":0},null,{"$f":"'13. Diet input'!K83","v":0},{"$f":"BE81*'13. Diet input'!$Q83*100","v":0},{"$f":"BE81*'13. Diet input'!$R83*100","v":0},0,{"$f":"BE81*'13. Diet input'!$S83*100","v":0},{"$f":"BE81*'13. Diet input'!$T83*100","v":0},{"$f":"BE81*'13. Diet input'!$U83*100","v":0},{"$f":"BF81*(1-'13. Diet input'!$V83)","v":0},null,{"$f":"'13. Diet input'!L83","v":0},{"$f":"BN81*'13. Diet input'!$Q83*100","v":0},{"$f":"BN81*'13. Diet input'!$R83*100","v":0},0,{"$f":"BN81*'13. Diet input'!$S83*100","v":0},{"$f":"BN81*'13. Diet input'!$T83*100","v":0},{"$f":"BN81*'13. Diet input'!$U83*100","v":0},{"$f":"BO81*(1-'13. Diet input'!$V83)","v":0},null,{"$f":"'13. Diet input'!M83","v":0},{"$f":"BW81*'13. Diet input'!$Q83*100","v":0},{"$f":"BW81*'13. Diet input'!$R83*100","v":0},0,{"$f":"BW81*'13. Diet input'!$S83*100","v":0},{"$f":"BW81*'13. Diet input'!$T83*100","v":0},{"$f":"BW81*'13. Diet input'!$U83*100","v":0},{"$f":"BX81*(1-'13. Diet input'!$V83)","v":0},null,{"$f":"'13. Diet input'!N83","v":0},{"$f":"CF81*'13. Diet input'!$Q83*100","v":0},{"$f":"CF81*'13. Diet input'!$R83*100","v":0},0,{"$f":"CF81*'13. Diet input'!$S83*100","v":0},{"$f":"CF81*'13. Diet input'!$T83*100","v":0},{"$f":"CF81*'13. Diet input'!$U83*100","v":0},{"$f":"CG81*(1-'13. Diet input'!$V83)","v":0},null,{"$f":"'13. Diet input'!O83","v":0},{"$f":"CO81*'13. Diet input'!$Q83*100","v":0},{"$f":"CO81*'13. Diet input'!$R83*100","v":0},0,{"$f":"CO81*'13. Diet input'!$S83*100","v":0},{"$f":"CO81*'13. Diet input'!$T83*100","v":0},{"$f":"CO81*'13. Diet input'!$U83*100","v":0},{"$f":"CP81*(1-'13. Diet input'!$V83)","v":0}]
[null,"Fats"]
[null,{"$f":"'13. Diet input'!B85","v":"Tallow"},{"$f":"'13. Diet input'!E85","v":0},{"$f":"C83*'13. Diet input'!$Q85*100","v":0},{"$f":"C83*'13. Diet input'!$R85*100","v":0},0,{"$f":"C83*'13. Diet input'!$S85*100","v":0},{"$f":"C83*'13. Diet input'!$T85*100","v":0},{"$f":"C83*'13. Diet input'!$U85*100","v":0},{"$f":"D83*(1-'13. Diet input'!$V85)","v":0},null,{"$f":"'13. Diet input'!F85","v":0},{"$f":"L83*'13. Diet input'!$Q85*100","v":0},{"$f":"L83*'13. Diet input'!$R85*100","v":0},0,{"$f":"L83*'13. Diet input'!$S85*100","v":0},{"$f":"L83*'13. Diet input'!$T85*100","v":0},{"$f":"L83*'13. Diet input'!$U85*100","v":0},{"$f":"M83*(1-'13. Diet input'!$V85)","v":0},null,{"$f":"'13. Diet input'!G85","v":0},{"$f":"U83*'13. Diet input'!$Q85*100","v":0},{"$f":"U83*'13. Diet input'!$R85*100","v":0},0,{"$f":"U83*'13. Diet input'!$S85*100","v":0},{"$f":"U83*'13. Diet input'!$T85*100","v":0},{"$f":"U83*'13. Diet input'!$U85*100","v":0},{"$f":"V83*(1-'13. Diet input'!$V85)","v":0},null,{"$f":"'13. Diet input'!H85","v":0},{"$f":"AD83*'13. Diet input'!$Q85*100","v":0},{"$f":"AD83*'13. Diet input'!$R85*100","v":0},0,{"$f":"AD83*'13. Diet input'!$S85*100","v":0},{"$f":"AD83*'13. Diet input'!$T85*100","v":0},{"$f":"AD83*'13. Diet input'!$U85*100","v":0},{"$f":"AE83*(1-'13. Diet input'!$V85)","v":0},null,{"$f":"'13. Diet input'!I85","v":0},{"$f":"AM83*'13. Diet input'!$Q85*100","v":0},{"$f":"AM83*'13. Diet input'!$R85*100","v":0},0,{"$f":"AM83*'13. Diet input'!$S85*100","v":0},{"$f":"AM83*'13. Diet input'!$T85*100","v":0},{"$f":"AM83*'13. Diet input'!$U85*100","v":0},{"$f":"AN83*(1-'13. Diet input'!$V85)","v":0},null,{"$f":"'13. Diet input'!J85","v":0},{"$f":"AV83*'13. Diet input'!$Q85*100","v":0},{"$f":"AV83*'13. Diet input'!$R85*100","v":0},0,{"$f":"AV83*'13. Diet input'!$S85*100","v":0},{"$f":"AV83*'13. Diet input'!$T85*100","v":0},{"$f":"AV83*'13. Diet input'!$U85*100","v":0},{"$f":"AW83*(1-'13. Diet input'!$V85)","v":0},null,{"$f":"'13. Diet input'!K85","v":0},{"$f":"BE83*'13. Diet input'!$Q85*100","v":0},{"$f":"BE83*'13. Diet input'!$R85*100","v":0},0,{"$f":"BE83*'13. Diet input'!$S85*100","v":0},{"$f":"BE83*'13. Diet input'!$T85*100","v":0},{"$f":"BE83*'13. Diet input'!$U85*100","v":0},{"$f":"BF83*(1-'13. Diet input'!$V85)","v":0},null,{"$f":"'13. Diet input'!L85","v":0},{"$f":"BN83*'13. Diet input'!$Q85*100","v":0},{"$f":"BN83*'13. Diet input'!$R85*100","v":0},0,{"$f":"BN83*'13. Diet input'!$S85*100","v":0},{"$f":"BN83*'13. Diet input'!$T85*100","v":0},{"$f":"BN83*'13. Diet input'!$U85*100","v":0},{"$f":"BO83*(1-'13. Diet input'!$V85)","v":0},null,{"$f":"'13. Diet input'!M85","v":0},{"$f":"BW83*'13. Diet input'!$Q85*100","v":0},{"$f":"BW83*'13. Diet input'!$R85*100","v":0},0,{"$f":"BW83*'13. Diet input'!$S85*100","v":0},{"$f":"BW83*'13. Diet input'!$T85*100","v":0},{"$f":"BW83*'13. Diet input'!$U85*100","v":0},{"$f":"BX83*(1-'13. Diet input'!$V85)","v":0},null,{"$f":"'13. Diet input'!N85","v":0},{"$f":"CF83*'13. Diet input'!$Q85*100","v":0},{"$f":"CF83*'13. Diet input'!$R85*100","v":0},0,{"$f":"CF83*'13. Diet input'!$S85*100","v":0},{"$f":"CF83*'13. Diet input'!$T85*100","v":0},{"$f":"CF83*'13. Diet input'!$U85*100","v":0},{"$f":"CG83*(1-'13. Diet input'!$V85)","v":0},null,{"$f":"'13. Diet input'!O85","v":0},{"$f":"CO83*'13. Diet input'!$Q85*100","v":0},{"$f":"CO83*'13. Diet input'!$R85*100","v":0},0,{"$f":"CO83*'13. Diet input'!$S85*100","v":0},{"$f":"CO83*'13. Diet input'!$T85*100","v":0},{"$f":"CO83*'13. Diet input'!$U85*100","v":0},{"$f":"CP83*(1-'13. Diet input'!$V85)","v":0}]
[null,{"$f":"'13. Diet input'!B86","v":"Vegetable oil"},{"$f":"'13. Diet input'!E86","v":1.3500000000000001E-3},{"$f":"C84*'13. Diet input'!$Q86*100","v":0.134325},{"$f":"C84*'13. Diet input'!$R86*100","v":0},0.134325,{"$f":"C84*'13. Diet input'!$S86*100","v":0},{"$f":"C84*'13. Diet input'!$T86*100","v":0},{"$f":"C84*'13. Diet input'!$U86*100","v":0},{"$f":"D84*(1-'13. Diet input'!$V86)","v":1.7462250000000002E-2},null,{"$f":"'13. Diet input'!F86","v":2.1000000000000001E-2},{"$f":"L84*'13. Diet input'!$Q86*100","v":2.0895000000000001},{"$f":"L84*'13. Diet input'!$R86*100","v":0},2.0895000000000001,{"$f":"L84*'13. Diet input'!$S86*100","v":0},{"$f":"L84*'13. Diet input'!$T86*100","v":0},{"$f":"L84*'13. Diet input'!$U86*100","v":0},{"$f":"M84*(1-'13. Diet input'!$V86)","v":0.27163500000000002},null,{"$f":"'13. Diet input'!G86","v":5.0000000000000001E-3},{"$f":"U84*'13. Diet input'!$Q86*100","v":0.49750000000000005},{"$f":"U84*'13. Diet input'!$R86*100","v":0},0.49750000000000005,{"$f":"U84*'13. Diet input'!$S86*100","v":0},{"$f":"U84*'13. Diet input'!$T86*100","v":0},{"$f":"U84*'13. Diet input'!$U86*100","v":0},{"$f":"V84*(1-'13. Diet input'!$V86)","v":6.467500000000001E-2},null,{"$f":"'13. Diet input'!H86","v":5.0000000000000001E-3},{"$f":"AD84*'13. Diet input'!$Q86*100","v":0.49750000000000005},{"$f":"AD84*'13. Diet input'!$R86*100","v":0},0.49750000000000005,{"$f":"AD84*'13. Diet input'!$S86*100","v":0},{"$f":"AD84*'13. Diet input'!$T86*100","v":0},{"$f":"AD84*'13. Diet input'!$U86*100","v":0},{"$f":"AE84*(1-'13. Diet input'!$V86)","v":6.467500000000001E-2},null,{"$f":"'13. Diet input'!I86","v":0},{"$f":"AM84*'13. Diet input'!$Q86*100","v":0},{"$f":"AM84*'13. Diet input'!$R86*100","v":0},0,{"$f":"AM84*'13. Diet input'!$S86*100","v":0},{"$f":"AM84*'13. Diet input'!$T86*100","v":0},{"$f":"AM84*'13. Diet input'!$U86*100","v":0},{"$f":"AN84*(1-'13. Diet input'!$V86)","v":0},null,{"$f":"'13. Diet input'!J86","v":0},{"$f":"AV84*'13. Diet input'!$Q86*100","v":0},{"$f":"AV84*'13. Diet input'!$R86*100","v":0},0,{"$f":"AV84*'13. Diet input'!$S86*100","v":0},{"$f":"AV84*'13. Diet input'!$T86*100","v":0},{"$f":"AV84*'13. Diet input'!$U86*100","v":0},{"$f":"AW84*(1-'13. Diet input'!$V86)","v":0},null,{"$f":"'13. Diet input'!K86","v":0},{"$f":"BE84*'13. Diet input'!$Q86*100","v":0},{"$f":"BE84*'13. Diet input'!$R86*100","v":0},0,{"$f":"BE84*'13. Diet input'!$S86*100","v":0},{"$f":"BE84*'13. Diet input'!$T86*100","v":0},{"$f":"BE84*'13. Diet input'!$U86*100","v":0},{"$f":"BF84*(1-'13. Diet input'!$V86)","v":0},null,{"$f":"'13. Diet input'!L86","v":5.0000000000000001E-3},{"$f":"BN84*'13. Diet input'!$Q86*100","v":0.49750000000000005},{"$f":"BN84*'13. Diet input'!$R86*100","v":0},0.49750000000000005,{"$f":"BN84*'13. Diet input'!$S86*100","v":0},{"$f":"BN84*'13. Diet input'!$T86*100","v":0},{"$f":"BN84*'13. Diet input'!$U86*100","v":0},{"$f":"BO84*(1-'13. Diet input'!$V86)","v":6.467500000000001E-2},null,{"$f":"'13. Diet input'!M86","v":0},{"$f":"BW84*'13. Diet input'!$Q86*100","v":0},{"$f":"BW84*'13. Diet input'!$R86*100","v":0},0,{"$f":"BW84*'13. Diet input'!$S86*100","v":0},{"$f":"BW84*'13. Diet input'!$T86*100","v":0},{"$f":"BW84*'13. Diet input'!$U86*100","v":0},{"$f":"BX84*(1-'13. Diet input'!$V86)","v":0},null,{"$f":"'13. Diet input'!N86","v":0},{"$f":"CF84*'13. Diet input'!$Q86*100","v":0},{"$f":"CF84*'13. Diet input'!$R86*100","v":0},0,{"$f":"CF84*'13. Diet input'!$S86*100","v":0},{"$f":"CF84*'13. Diet input'!$T86*100","v":0},{"$f":"CF84*'13. Diet input'!$U86*100","v":0},{"$f":"CG84*(1-'13. Diet input'!$V86)","v":0},null,{"$f":"'13. Diet input'!O86","v":0},{"$f":"CO84*'13. Diet input'!$Q86*100","v":0},{"$f":"CO84*'13. Diet input'!$R86*100","v":0},0,{"$f":"CO84*'13. Diet input'!$S86*100","v":0},{"$f":"CO84*'13. Diet input'!$T86*100","v":0},{"$f":"CO84*'13. Diet input'!$U86*100","v":0},{"$f":"CP84*(1-'13. Diet input'!$V86)","v":0}]
[null,"Minerals"]
[null,{"$f":"'13. Diet input'!B88","v":"Bentonite"},{"$f":"'13. Diet input'!E88","v":0},{"$f":"C86*'13. Diet input'!$Q88*100","v":0},{"$f":"C86*'13. Diet input'!$R88*100","v":0},0,{"$f":"C86*'13. Diet input'!$S88*100","v":0},{"$f":"C86*'13. Diet input'!$T88*100","v":0},{"$f":"C86*'13. Diet input'!$U88*100","v":0},{"$f":"D86*(1-'13. Diet input'!$V88)","v":0},null,{"$f":"'13. Diet input'!F88","v":0},{"$f":"L86*'13. Diet input'!$Q88*100","v":0},{"$f":"L86*'13. Diet input'!$R88*100","v":0},0,{"$f":"L86*'13. Diet input'!$S88*100","v":0},{"$f":"L86*'13. Diet input'!$T88*100","v":0},{"$f":"L86*'13. Diet input'!$U88*100","v":0},{"$f":"M86*(1-'13. Diet input'!$V88)","v":0},null,{"$f":"'13. Diet input'!G88","v":0},{"$f":"U86*'13. Diet input'!$Q88*100","v":0},{"$f":"U86*'13. Diet input'!$R88*100","v":0},0,{"$f":"U86*'13. Diet input'!$S88*100","v":0},{"$f":"U86*'13. Diet input'!$T88*100","v":0},{"$f":"U86*'13. Diet input'!$U88*100","v":0},{"$f":"V86*(1-'13. Diet input'!$V88)","v":0},null,{"$f":"'13. Diet input'!H88","v":0},{"$f":"AD86*'13. Diet input'!$Q88*100","v":0},{"$f":"AD86*'13. Diet input'!$R88*100","v":0},0,{"$f":"AD86*'13. Diet input'!$S88*100","v":0},{"$f":"AD86*'13. Diet input'!$T88*100","v":0},{"$f":"AD86*'13. Diet input'!$U88*100","v":0},{"$f":"AE86*(1-'13. Diet input'!$V88)","v":0},null,{"$f":"'13. Diet input'!I88","v":0},{"$f":"AM86*'13. Diet input'!$Q88*100","v":0},{"$f":"AM86*'13. Diet input'!$R88*100","v":0},0,{"$f":"AM86*'13. Diet input'!$S88*100","v":0},{"$f":"AM86*'13. Diet input'!$T88*100","v":0},{"$f":"AM86*'13. Diet input'!$U88*100","v":0},{"$f":"AN86*(1-'13. Diet input'!$V88)","v":0},null,{"$f":"'13. Diet input'!J88","v":0},{"$f":"AV86*'13. Diet input'!$Q88*100","v":0},{"$f":"AV86*'13. Diet input'!$R88*100","v":0},0,{"$f":"AV86*'13. Diet input'!$S88*100","v":0},{"$f":"AV86*'13. Diet input'!$T88*100","v":0},{"$f":"AV86*'13. Diet input'!$U88*100","v":0},{"$f":"AW86*(1-'13. Diet input'!$V88)","v":0},null,{"$f":"'13. Diet input'!K88","v":0},{"$f":"BE86*'13. Diet input'!$Q88*100","v":0},{"$f":"BE86*'13. Diet input'!$R88*100","v":0},0,{"$f":"BE86*'13. Diet input'!$S88*100","v":0},{"$f":"BE86*'13. Diet input'!$T88*100","v":0},{"$f":"BE86*'13. Diet input'!$U88*100","v":0},{"$f":"BF86*(1-'13. Diet input'!$V88)","v":0},null,{"$f":"'13. Diet input'!L88","v":0},{"$f":"BN86*'13. Diet input'!$Q88*100","v":0},{"$f":"BN86*'13. Diet input'!$R88*100","v":0},0,{"$f":"BN86*'13. Diet input'!$S88*100","v":0},{"$f":"BN86*'13. Diet input'!$T88*100","v":0},{"$f":"BN86*'13. Diet input'!$U88*100","v":0},{"$f":"BO86*(1-'13. Diet input'!$V88)","v":0},null,{"$f":"'13. Diet input'!M88","v":0},{"$f":"BW86*'13. Diet input'!$Q88*100","v":0},{"$f":"BW86*'13. Diet input'!$R88*100","v":0},0,{"$f":"BW86*'13. Diet input'!$S88*100","v":0},{"$f":"BW86*'13. Diet input'!$T88*100","v":0},{"$f":"BW86*'13. Diet input'!$U88*100","v":0},{"$f":"BX86*(1-'13. Diet input'!$V88)","v":0},null,{"$f":"'13. Diet input'!N88","v":0},{"$f":"CF86*'13. Diet input'!$Q88*100","v":0},{"$f":"CF86*'13. Diet input'!$R88*100","v":0},0,{"$f":"CF86*'13. Diet input'!$S88*100","v":0},{"$f":"CF86*'13. Diet input'!$T88*100","v":0},{"$f":"CF86*'13. Diet input'!$U88*100","v":0},{"$f":"CG86*(1-'13. Diet input'!$V88)","v":0},null,{"$f":"'13. Diet input'!O88","v":0},{"$f":"CO86*'13. Diet input'!$Q88*100","v":0},{"$f":"CO86*'13. Diet input'!$R88*100","v":0},0,{"$f":"CO86*'13. Diet input'!$S88*100","v":0},{"$f":"CO86*'13. Diet input'!$T88*100","v":0},{"$f":"CO86*'13. Diet input'!$U88*100","v":0},{"$f":"CP86*(1-'13. Diet input'!$V88)","v":0}]
[null,{"$f":"'13. Diet input'!B89","v":"Choline Chloride"},{"$f":"'13. Diet input'!E89","v":0},{"$f":"C87*'13. Diet input'!$Q89*100","v":0},{"$f":"C87*'13. Diet input'!$R89*100","v":0},{"$f":"D87-E87","v":0},{"$f":"C87*'13. Diet input'!$S89*100","v":0},{"$f":"C87*'13. Diet input'!$T89*100","v":0},{"$f":"C87*'13. Diet input'!$U89*100","v":0},{"$f":"D87*(1-'13. Diet input'!$V89)","v":0},null,{"$f":"'13. Diet input'!F89","v":0},{"$f":"L87*'13. Diet input'!$Q89*100","v":0},{"$f":"L87*'13. Diet input'!$R89*100","v":0},{"$f":"M87-N87","v":0},{"$f":"L87*'13. Diet input'!$S89*100","v":0},{"$f":"L87*'13. Diet input'!$T89*100","v":0},{"$f":"L87*'13. Diet input'!$U89*100","v":0},{"$f":"M87*(1-'13. Diet input'!$V89)","v":0},null,{"$f":"'13. Diet input'!G89","v":0},{"$f":"U87*'13. Diet input'!$Q89*100","v":0},{"$f":"U87*'13. Diet input'!$R89*100","v":0},{"$f":"V87-W87","v":0},{"$f":"U87*'13. Diet input'!$S89*100","v":0},{"$f":"U87*'13. Diet input'!$T89*100","v":0},{"$f":"U87*'13. Diet input'!$U89*100","v":0},{"$f":"V87*(1-'13. Diet input'!$V89)","v":0},null,{"$f":"'13. Diet input'!H89","v":5.7499999999999999E-4},{"$f":"AD87*'13. Diet input'!$Q89*100","v":5.4625E-2},{"$f":"AD87*'13. Diet input'!$R89*100","v":2.875E-3},{"$f":"AE87-AF87","v":5.1749999999999997E-2},{"$f":"AD87*'13. Diet input'!$S89*100","v":0},{"$f":"AD87*'13. Diet input'!$T89*100","v":0},{"$f":"AD87*'13. Diet input'!$U89*100","v":0},{"$f":"AE87*(1-'13. Diet input'!$V89)","v":5.4625E-2},null,{"$f":"'13. Diet input'!I89","v":6.9999999999999999E-4},{"$f":"AM87*'13. Diet input'!$Q89*100","v":6.6500000000000004E-2},{"$f":"AM87*'13. Diet input'!$R89*100","v":3.5000000000000005E-3},{"$f":"AN87-AO87","v":6.3E-2},{"$f":"AM87*'13. Diet input'!$S89*100","v":0},{"$f":"AM87*'13. Diet input'!$T89*100","v":0},{"$f":"AM87*'13. Diet input'!$U89*100","v":0},{"$f":"AN87*(1-'13. Diet input'!$V89)","v":6.6500000000000004E-2},null,{"$f":"'13. Diet input'!J89","v":0},{"$f":"AV87*'13. Diet input'!$Q89*100","v":0},{"$f":"AV87*'13. Diet input'!$R89*100","v":0},{"$f":"AW87-AX87","v":0},{"$f":"AV87*'13. Diet input'!$S89*100","v":0},{"$f":"AV87*'13. Diet input'!$T89*100","v":0},{"$f":"AV87*'13. Diet input'!$U89*100","v":0},{"$f":"AW87*(1-'13. Diet input'!$V89)","v":0},null,{"$f":"'13. Diet input'!K89","v":0},{"$f":"BE87*'13. Diet input'!$Q89*100","v":0},{"$f":"BE87*'13. Diet input'!$R89*100","v":0},{"$f":"BF87-BG87","v":0},{"$f":"BE87*'13. Diet input'!$S89*100","v":0},{"$f":"BE87*'13. Diet input'!$T89*100","v":0},{"$f":"BE87*'13. Diet input'!$U89*100","v":0},{"$f":"BF87*(1-'13. Diet input'!$V89)","v":0},null,{"$f":"'13. Diet input'!L89","v":0},{"$f":"BN87*'13. Diet input'!$Q89*100","v":0},{"$f":"BN87*'13. Diet input'!$R89*100","v":0},{"$f":"BO87-BP87","v":0},{"$f":"BN87*'13. Diet input'!$S89*100","v":0},{"$f":"BN87*'13. Diet input'!$T89*100","v":0},{"$f":"BN87*'13. Diet input'!$U89*100","v":0},{"$f":"BO87*(1-'13. Diet input'!$V89)","v":0},null,{"$f":"'13. Diet input'!M89","v":0},{"$f":"BW87*'13. Diet input'!$Q89*100","v":0},{"$f":"BW87*'13. Diet input'!$R89*100","v":0},{"$f":"BX87-BY87","v":0},{"$f":"BW87*'13. Diet input'!$S89*100","v":0},{"$f":"BW87*'13. Diet input'!$T89*100","v":0},{"$f":"BW87*'13. Diet input'!$U89*100","v":0},{"$f":"BX87*(1-'13. Diet input'!$V89)","v":0},null,{"$f":"'13. Diet input'!N89","v":0},{"$f":"CF87*'13. Diet input'!$Q89*100","v":0},{"$f":"CF87*'13. Diet input'!$R89*100","v":0},{"$f":"CG87-CH87","v":0},{"$f":"CF87*'13. Diet input'!$S89*100","v":0},{"$f":"CF87*'13. Diet input'!$T89*100","v":0},{"$f":"CF87*'13. Diet input'!$U89*100","v":0},{"$f":"CG87*(1-'13. Diet input'!$V89)","v":0},null,{"$f":"'13. Diet input'!O89","v":0},{"$f":"CO87*'13. Diet input'!$Q89*100","v":0},{"$f":"CO87*'13. Diet input'!$R89*100","v":0},{"$f":"CP87-CQ87","v":0},{"$f":"CO87*'13. Diet input'!$S89*100","v":0},{"$f":"CO87*'13. Diet input'!$T89*100","v":0},{"$f":"CO87*'13. Diet input'!$U89*100","v":0},{"$f":"CP87*(1-'13. Diet input'!$V89)","v":0}]
[null,{"$f":"'13. Diet input'!B90","v":"Copper Sulphate"},{"$f":"'13. Diet input'!E90","v":0},{"$f":"C88*'13. Diet input'!$Q90*100","v":0},{"$f":"C88*'13. Diet input'!$R90*100","v":0},{"$f":"D88-E88","v":0},{"$f":"C88*'13. Diet input'!$S90*100","v":0},{"$f":"C88*'13. Diet input'!$T90*100","v":0},{"$f":"C88*'13. Diet input'!$U90*100","v":0},{"$f":"D88*(1-'13. Diet input'!$V90)","v":0},null,{"$f":"'13. Diet input'!F90","v":0},{"$f":"L88*'13. Diet input'!$Q90*100","v":0},{"$f":"L88*'13. Diet input'!$R90*100","v":0},{"$f":"M88-N88","v":0},{"$f":"L88*'13. Diet input'!$S90*100","v":0},{"$f":"L88*'13. Diet input'!$T90*100","v":0},{"$f":"L88*'13. Diet input'!$U90*100","v":0},{"$f":"M88*(1-'13. Diet input'!$V90)","v":0},null,{"$f":"'13. Diet input'!G90","v":0},{"$f":"U88*'13. Diet input'!$Q90*100","v":0},{"$f":"U88*'13. Diet input'!$R90*100","v":0},{"$f":"V88-W88","v":0},{"$f":"U88*'13. Diet input'!$S90*100","v":0},{"$f":"U88*'13. Diet input'!$T90*100","v":0},{"$f":"U88*'13. Diet input'!$U90*100","v":0},{"$f":"V88*(1-'13. Diet input'!$V90)","v":0},null,{"$f":"'13. Diet input'!H90","v":0},{"$f":"AD88*'13. Diet input'!$Q90*100","v":0},{"$f":"AD88*'13. Diet input'!$R90*100","v":0},{"$f":"AE88-AF88","v":0},{"$f":"AD88*'13. Diet input'!$S90*100","v":0},{"$f":"AD88*'13. Diet input'!$T90*100","v":0},{"$f":"AD88*'13. Diet input'!$U90*100","v":0},{"$f":"AE88*(1-'13. Diet input'!$V90)","v":0},null,{"$f":"'13. Diet input'!I90","v":0},{"$f":"AM88*'13. Diet input'!$Q90*100","v":0},{"$f":"AM88*'13. Diet input'!$R90*100","v":0},{"$f":"AN88-AO88","v":0},{"$f":"AM88*'13. Diet input'!$S90*100","v":0},{"$f":"AM88*'13. Diet input'!$T90*100","v":0},{"$f":"AM88*'13. Diet input'!$U90*100","v":0},{"$f":"AN88*(1-'13. Diet input'!$V90)","v":0},null,{"$f":"'13. Diet input'!J90","v":0},{"$f":"AV88*'13. Diet input'!$Q90*100","v":0},{"$f":"AV88*'13. Diet input'!$R90*100","v":0},{"$f":"AW88-AX88","v":0},{"$f":"AV88*'13. Diet input'!$S90*100","v":0},{"$f":"AV88*'13. Diet input'!$T90*100","v":0},{"$f":"AV88*'13. Diet input'!$U90*100","v":0},{"$f":"AW88*(1-'13. Diet input'!$V90)","v":0},null,{"$f":"'13. Diet input'!K90","v":0},{"$f":"BE88*'13. Diet input'!$Q90*100","v":0},{"$f":"BE88*'13. Diet input'!$R90*100","v":0},{"$f":"BF88-BG88","v":0},{"$f":"BE88*'13. Diet input'!$S90*100","v":0},{"$f":"BE88*'13. Diet input'!$T90*100","v":0},{"$f":"BE88*'13. Diet input'!$U90*100","v":0},{"$f":"BF88*(1-'13. Diet input'!$V90)","v":0},null,{"$f":"'13. Diet input'!L90","v":0},{"$f":"BN88*'13. Diet input'!$Q90*100","v":0},{"$f":"BN88*'13. Diet input'!$R90*100","v":0},{"$f":"BO88-BP88","v":0},{"$f":"BN88*'13. Diet input'!$S90*100","v":0},{"$f":"BN88*'13. Diet input'!$T90*100","v":0},{"$f":"BN88*'13. Diet input'!$U90*100","v":0},{"$f":"BO88*(1-'13. Diet input'!$V90)","v":0},null,{"$f":"'13. Diet input'!M90","v":0},{"$f":"BW88*'13. Diet input'!$Q90*100","v":0},{"$f":"BW88*'13. Diet input'!$R90*100","v":0},{"$f":"BX88-BY88","v":0},{"$f":"BW88*'13. Diet input'!$S90*100","v":0},{"$f":"BW88*'13. Diet input'!$T90*100","v":0},{"$f":"BW88*'13. Diet input'!$U90*100","v":0},{"$f":"BX88*(1-'13. Diet input'!$V90)","v":0},null,{"$f":"'13. Diet input'!N90","v":0},{"$f":"CF88*'13. Diet input'!$Q90*100","v":0},{"$f":"CF88*'13. Diet input'!$R90*100","v":0},{"$f":"CG88-CH88","v":0},{"$f":"CF88*'13. Diet input'!$S90*100","v":0},{"$f":"CF88*'13. Diet input'!$T90*100","v":0},{"$f":"CF88*'13. Diet input'!$U90*100","v":0},{"$f":"CG88*(1-'13. Diet input'!$V90)","v":0},null,{"$f":"'13. Diet input'!O90","v":0},{"$f":"CO88*'13. Diet input'!$Q90*100","v":0},{"$f":"CO88*'13. Diet input'!$R90*100","v":0},{"$f":"CP88-CQ88","v":0},{"$f":"CO88*'13. Diet input'!$S90*100","v":0},{"$f":"CO88*'13. Diet input'!$T90*100","v":0},{"$f":"CO88*'13. Diet input'!$U90*100","v":0},{"$f":"CP88*(1-'13. Diet input'!$V90)","v":0}]
[null,{"$f":"'13. Diet input'!B91","v":"Dicalcium phosphate (DCP)"},{"$f":"'13. Diet input'!E91","v":0},{"$f":"C89*'13. Diet input'!$Q91*100","v":0},{"$f":"C89*'13. Diet input'!$R91*100","v":0},{"$f":"D89-E89","v":0},{"$f":"C89*'13. Diet input'!$S91*100","v":0},{"$f":"C89*'13. Diet input'!$T91*100","v":0},{"$f":"C89*'13. Diet input'!$U91*100","v":0},{"$f":"D89*(1-'13. Diet input'!$V91)","v":0},null,{"$f":"'13. Diet input'!F91","v":0},{"$f":"L89*'13. Diet input'!$Q91*100","v":0},{"$f":"L89*'13. Diet input'!$R91*100","v":0},{"$f":"M89-N89","v":0},{"$f":"L89*'13. Diet input'!$S91*100","v":0},{"$f":"L89*'13. Diet input'!$T91*100","v":0},{"$f":"L89*'13. Diet input'!$U91*100","v":0},{"$f":"M89*(1-'13. Diet input'!$V91)","v":0},null,{"$f":"'13. Diet input'!G91","v":0},{"$f":"U89*'13. Diet input'!$Q91*100","v":0},{"$f":"U89*'13. Diet input'!$R91*100","v":0},{"$f":"V89-W89","v":0},{"$f":"U89*'13. Diet input'!$S91*100","v":0},{"$f":"U89*'13. Diet input'!$T91*100","v":0},{"$f":"U89*'13. Diet input'!$U91*100","v":0},{"$f":"V89*(1-'13. Diet input'!$V91)","v":0},null,{"$f":"'13. Diet input'!H91","v":0},{"$f":"AD89*'13. Diet input'!$Q91*100","v":0},{"$f":"AD89*'13. Diet input'!$R91*100","v":0},{"$f":"AE89-AF89","v":0},{"$f":"AD89*'13. Diet input'!$S91*100","v":0},{"$f":"AD89*'13. Diet input'!$T91*100","v":0},{"$f":"AD89*'13. Diet input'!$U91*100","v":0},{"$f":"AE89*(1-'13. Diet input'!$V91)","v":0},null,{"$f":"'13. Diet input'!I91","v":0},{"$f":"AM89*'13. Diet input'!$Q91*100","v":0},{"$f":"AM89*'13. Diet input'!$R91*100","v":0},{"$f":"AN89-AO89","v":0},{"$f":"AM89*'13. Diet input'!$S91*100","v":0},{"$f":"AM89*'13. Diet input'!$T91*100","v":0},{"$f":"AM89*'13. Diet input'!$U91*100","v":0},{"$f":"AN89*(1-'13. Diet input'!$V91)","v":0},null,{"$f":"'13. Diet input'!J91","v":0},{"$f":"AV89*'13. Diet input'!$Q91*100","v":0},{"$f":"AV89*'13. Diet input'!$R91*100","v":0},{"$f":"AW89-AX89","v":0},{"$f":"AV89*'13. Diet input'!$S91*100","v":0},{"$f":"AV89*'13. Diet input'!$T91*100","v":0},{"$f":"AV89*'13. Diet input'!$U91*100","v":0},{"$f":"AW89*(1-'13. Diet input'!$V91)","v":0},null,{"$f":"'13. Diet input'!K91","v":0},{"$f":"BE89*'13. Diet input'!$Q91*100","v":0},{"$f":"BE89*'13. Diet input'!$R91*100","v":0},{"$f":"BF89-BG89","v":0},{"$f":"BE89*'13. Diet input'!$S91*100","v":0},{"$f":"BE89*'13. Diet input'!$T91*100","v":0},{"$f":"BE89*'13. Diet input'!$U91*100","v":0},{"$f":"BF89*(1-'13. Diet input'!$V91)","v":0},null,{"$f":"'13. Diet input'!L91","v":0},{"$f":"BN89*'13. Diet input'!$Q91*100","v":0},{"$f":"BN89*'13. Diet input'!$R91*100","v":0},{"$f":"BO89-BP89","v":0},{"$f":"BN89*'13. Diet input'!$S91*100","v":0},{"$f":"BN89*'13. Diet input'!$T91*100","v":0},{"$f":"BN89*'13. Diet input'!$U91*100","v":0},{"$f":"BO89*(1-'13. Diet input'!$V91)","v":0},null,{"$f":"'13. Diet input'!M91","v":0},{"$f":"BW89*'13. Diet input'!$Q91*100","v":0},{"$f":"BW89*'13. Diet input'!$R91*100","v":0},{"$f":"BX89-BY89","v":0},{"$f":"BW89*'13. Diet input'!$S91*100","v":0},{"$f":"BW89*'13. Diet input'!$T91*100","v":0},{"$f":"BW89*'13. Diet input'!$U91*100","v":0},{"$f":"BX89*(1-'13. Diet input'!$V91)","v":0},null,{"$f":"'13. Diet input'!N91","v":0},{"$f":"CF89*'13. Diet input'!$Q91*100","v":0},{"$f":"CF89*'13. Diet input'!$R91*100","v":0},{"$f":"CG89-CH89","v":0},{"$f":"CF89*'13. Diet input'!$S91*100","v":0},{"$f":"CF89*'13. Diet input'!$T91*100","v":0},{"$f":"CF89*'13. Diet input'!$U91*100","v":0},{"$f":"CG89*(1-'13. Diet input'!$V91)","v":0},null,{"$f":"'13. Diet input'!O91","v":0},{"$f":"CO89*'13. Diet input'!$Q91*100","v":0},{"$f":"CO89*'13. Diet input'!$R91*100","v":0},{"$f":"CP89-CQ89","v":0},{"$f":"CO89*'13. Diet input'!$S91*100","v":0},{"$f":"CO89*'13. Diet input'!$T91*100","v":0},{"$f":"CO89*'13. Diet input'!$U91*100","v":0},{"$f":"CP89*(1-'13. Diet input'!$V91)","v":0}]
[null,{"$f":"'13. Diet input'!B92","v":"Ferrous Sulphate"},{"$f":"'13. Diet input'!E92","v":0},{"$f":"C90*'13. Diet input'!$Q92*100","v":0},{"$f":"C90*'13. Diet input'!$R92*100","v":0},{"$f":"D90-E90","v":0},{"$f":"C90*'13. Diet input'!$S92*100","v":0},{"$f":"C90*'13. Diet input'!$T92*100","v":0},{"$f":"C90*'13. Diet input'!$U92*100","v":0},{"$f":"D90*(1-'13. Diet input'!$V92)","v":0},null,{"$f":"'13. Diet input'!F92","v":0},{"$f":"L90*'13. Diet input'!$Q92*100","v":0},{"$f":"L90*'13. Diet input'!$R92*100","v":0},{"$f":"M90-N90","v":0},{"$f":"L90*'13. Diet input'!$S92*100","v":0},{"$f":"L90*'13. Diet input'!$T92*100","v":0},{"$f":"L90*'13. Diet input'!$U92*100","v":0},{"$f":"M90*(1-'13. Diet input'!$V92)","v":0},null,{"$f":"'13. Diet input'!G92","v":0},{"$f":"U90*'13. Diet input'!$Q92*100","v":0},{"$f":"U90*'13. Diet input'!$R92*100","v":0},{"$f":"V90-W90","v":0},{"$f":"U90*'13. Diet input'!$S92*100","v":0},{"$f":"U90*'13. Diet input'!$T92*100","v":0},{"$f":"U90*'13. Diet input'!$U92*100","v":0},{"$f":"V90*(1-'13. Diet input'!$V92)","v":0},null,{"$f":"'13. Diet input'!H92","v":0},{"$f":"AD90*'13. Diet input'!$Q92*100","v":0},{"$f":"AD90*'13. Diet input'!$R92*100","v":0},{"$f":"AE90-AF90","v":0},{"$f":"AD90*'13. Diet input'!$S92*100","v":0},{"$f":"AD90*'13. Diet input'!$T92*100","v":0},{"$f":"AD90*'13. Diet input'!$U92*100","v":0},{"$f":"AE90*(1-'13. Diet input'!$V92)","v":0},null,{"$f":"'13. Diet input'!I92","v":0},{"$f":"AM90*'13. Diet input'!$Q92*100","v":0},{"$f":"AM90*'13. Diet input'!$R92*100","v":0},{"$f":"AN90-AO90","v":0},{"$f":"AM90*'13. Diet input'!$S92*100","v":0},{"$f":"AM90*'13. Diet input'!$T92*100","v":0},{"$f":"AM90*'13. Diet input'!$U92*100","v":0},{"$f":"AN90*(1-'13. Diet input'!$V92)","v":0},null,{"$f":"'13. Diet input'!J92","v":0},{"$f":"AV90*'13. Diet input'!$Q92*100","v":0},{"$f":"AV90*'13. Diet input'!$R92*100","v":0},{"$f":"AW90-AX90","v":0},{"$f":"AV90*'13. Diet input'!$S92*100","v":0},{"$f":"AV90*'13. Diet input'!$T92*100","v":0},{"$f":"AV90*'13. Diet input'!$U92*100","v":0},{"$f":"AW90*(1-'13. Diet input'!$V92)","v":0},null,{"$f":"'13. Diet input'!K92","v":0},{"$f":"BE90*'13. Diet input'!$Q92*100","v":0},{"$f":"BE90*'13. Diet input'!$R92*100","v":0},{"$f":"BF90-BG90","v":0},{"$f":"BE90*'13. Diet input'!$S92*100","v":0},{"$f":"BE90*'13. Diet input'!$T92*100","v":0},{"$f":"BE90*'13. Diet input'!$U92*100","v":0},{"$f":"BF90*(1-'13. Diet input'!$V92)","v":0},null,{"$f":"'13. Diet input'!L92","v":0},{"$f":"BN90*'13. Diet input'!$Q92*100","v":0},{"$f":"BN90*'13. Diet input'!$R92*100","v":0},{"$f":"BO90-BP90","v":0},{"$f":"BN90*'13. Diet input'!$S92*100","v":0},{"$f":"BN90*'13. Diet input'!$T92*100","v":0},{"$f":"BN90*'13. Diet input'!$U92*100","v":0},{"$f":"BO90*(1-'13. Diet input'!$V92)","v":0},null,{"$f":"'13. Diet input'!M92","v":0},{"$f":"BW90*'13. Diet input'!$Q92*100","v":0},{"$f":"BW90*'13. Diet input'!$R92*100","v":0},{"$f":"BX90-BY90","v":0},{"$f":"BW90*'13. Diet input'!$S92*100","v":0},{"$f":"BW90*'13. Diet input'!$T92*100","v":0},{"$f":"BW90*'13. Diet input'!$U92*100","v":0},{"$f":"BX90*(1-'13. Diet input'!$V92)","v":0},null,{"$f":"'13. Diet input'!N92","v":0},{"$f":"CF90*'13. Diet input'!$Q92*100","v":0},{"$f":"CF90*'13. Diet input'!$R92*100","v":0},{"$f":"CG90-CH90","v":0},{"$f":"CF90*'13. Diet input'!$S92*100","v":0},{"$f":"CF90*'13. Diet input'!$T92*100","v":0},{"$f":"CF90*'13. Diet input'!$U92*100","v":0},{"$f":"CG90*(1-'13. Diet input'!$V92)","v":0},null,{"$f":"'13. Diet input'!O92","v":0},{"$f":"CO90*'13. Diet input'!$Q92*100","v":0},{"$f":"CO90*'13. Diet input'!$R92*100","v":0},{"$f":"CP90-CQ90","v":0},{"$f":"CO90*'13. Diet input'!$S92*100","v":0},{"$f":"CO90*'13. Diet input'!$T92*100","v":0},{"$f":"CO90*'13. Diet input'!$U92*100","v":0},{"$f":"CP90*(1-'13. Diet input'!$V92)","v":0}]
[null,{"$f":"'13. Diet input'!B93","v":"Kynofos"},{"$f":"'13. Diet input'!E93","v":0},{"$f":"C91*'13. Diet input'!$Q93*100","v":0},{"$f":"C91*'13. Diet input'!$R93*100","v":0},0,{"$f":"C91*'13. Diet input'!$S93*100","v":0},{"$f":"C91*'13. Diet input'!$T93*100","v":0},{"$f":"C91*'13. Diet input'!$U93*100","v":0},{"$f":"D91*(1-'13. Diet input'!$V93)","v":0},null,{"$f":"'13. Diet input'!F93","v":0},{"$f":"L91*'13. Diet input'!$Q93*100","v":0},{"$f":"L91*'13. Diet input'!$R93*100","v":0},0,{"$f":"L91*'13. Diet input'!$S93*100","v":0},{"$f":"L91*'13. Diet input'!$T93*100","v":0},{"$f":"L91*'13. Diet input'!$U93*100","v":0},{"$f":"M91*(1-'13. Diet input'!$V93)","v":0},null,{"$f":"'13. Diet input'!G93","v":0},{"$f":"U91*'13. Diet input'!$Q93*100","v":0},{"$f":"U91*'13. Diet input'!$R93*100","v":0},0,{"$f":"U91*'13. Diet input'!$S93*100","v":0},{"$f":"U91*'13. Diet input'!$T93*100","v":0},{"$f":"U91*'13. Diet input'!$U93*100","v":0},{"$f":"V91*(1-'13. Diet input'!$V93)","v":0},null,{"$f":"'13. Diet input'!H93","v":0},{"$f":"AD91*'13. Diet input'!$Q93*100","v":0},{"$f":"AD91*'13. Diet input'!$R93*100","v":0},0,{"$f":"AD91*'13. Diet input'!$S93*100","v":0},{"$f":"AD91*'13. Diet input'!$T93*100","v":0},{"$f":"AD91*'13. Diet input'!$U93*100","v":0},{"$f":"AE91*(1-'13. Diet input'!$V93)","v":0},null,{"$f":"'13. Diet input'!I93","v":0},{"$f":"AM91*'13. Diet input'!$Q93*100","v":0},{"$f":"AM91*'13. Diet input'!$R93*100","v":0},0,{"$f":"AM91*'13. Diet input'!$S93*100","v":0},{"$f":"AM91*'13. Diet input'!$T93*100","v":0},{"$f":"AM91*'13. Diet input'!$U93*100","v":0},{"$f":"AN91*(1-'13. Diet input'!$V93)","v":0},null,{"$f":"'13. Diet input'!J93","v":0},{"$f":"AV91*'13. Diet input'!$Q93*100","v":0},{"$f":"AV91*'13. Diet input'!$R93*100","v":0},0,{"$f":"AV91*'13. Diet input'!$S93*100","v":0},{"$f":"AV91*'13. Diet input'!$T93*100","v":0},{"$f":"AV91*'13. Diet input'!$U93*100","v":0},{"$f":"AW91*(1-'13. Diet input'!$V93)","v":0},null,{"$f":"'13. Diet input'!K93","v":0},{"$f":"BE91*'13. Diet input'!$Q93*100","v":0},{"$f":"BE91*'13. Diet input'!$R93*100","v":0},0,{"$f":"BE91*'13. Diet input'!$S93*100","v":0},{"$f":"BE91*'13. Diet input'!$T93*100","v":0},{"$f":"BE91*'13. Diet input'!$U93*100","v":0},{"$f":"BF91*(1-'13. Diet input'!$V93)","v":0},null,{"$f":"'13. Diet input'!L93","v":0},{"$f":"BN91*'13. Diet input'!$Q93*100","v":0},{"$f":"BN91*'13. Diet input'!$R93*100","v":0},0,{"$f":"BN91*'13. Diet input'!$S93*100","v":0},{"$f":"BN91*'13. Diet input'!$T93*100","v":0},{"$f":"BN91*'13. Diet input'!$U93*100","v":0},{"$f":"BO91*(1-'13. Diet input'!$V93)","v":0},null,{"$f":"'13. Diet input'!M93","v":0},{"$f":"BW91*'13. Diet input'!$Q93*100","v":0},{"$f":"BW91*'13. Diet input'!$R93*100","v":0},0,{"$f":"BW91*'13. Diet input'!$S93*100","v":0},{"$f":"BW91*'13. Diet input'!$T93*100","v":0},{"$f":"BW91*'13. Diet input'!$U93*100","v":0},{"$f":"BX91*(1-'13. Diet input'!$V93)","v":0},null,{"$f":"'13. Diet input'!N93","v":0},{"$f":"CF91*'13. Diet input'!$Q93*100","v":0},{"$f":"CF91*'13. Diet input'!$R93*100","v":0},0,{"$f":"CF91*'13. Diet input'!$S93*100","v":0},{"$f":"CF91*'13. Diet input'!$T93*100","v":0},{"$f":"CF91*'13. Diet input'!$U93*100","v":0},{"$f":"CG91*(1-'13. Diet input'!$V93)","v":0},null,{"$f":"'13. Diet input'!O93","v":0},{"$f":"CO91*'13. Diet input'!$Q93*100","v":0},{"$f":"CO91*'13. Diet input'!$R93*100","v":0},0,{"$f":"CO91*'13. Diet input'!$S93*100","v":0},{"$f":"CO91*'13. Diet input'!$T93*100","v":0},{"$f":"CO91*'13. Diet input'!$U93*100","v":0},{"$f":"CP91*(1-'13. Diet input'!$V93)","v":0}]
[null,{"$f":"'13. Diet input'!B94","v":"Limestone"},{"$f":"'13. Diet input'!E94","v":0},{"$f":"C92*'13. Diet input'!$Q94*100","v":0},{"$f":"C92*'13. Diet input'!$R94*100","v":0},0,{"$f":"C92*'13. Diet input'!$S94*100","v":0},{"$f":"C92*'13. Diet input'!$T94*100","v":0},{"$f":"C92*'13. Diet input'!$U94*100","v":0},{"$f":"D92*(1-'13. Diet input'!$V94)","v":0},null,{"$f":"'13. Diet input'!F94","v":0},{"$f":"L92*'13. Diet input'!$Q94*100","v":0},{"$f":"L92*'13. Diet input'!$R94*100","v":0},0,{"$f":"L92*'13. Diet input'!$S94*100","v":0},{"$f":"L92*'13. Diet input'!$T94*100","v":0},{"$f":"L92*'13. Diet input'!$U94*100","v":0},{"$f":"M92*(1-'13. Diet input'!$V94)","v":0},null,{"$f":"'13. Diet input'!G94","v":5.0000000000000001E-3},{"$f":"U92*'13. Diet input'!$Q94*100","v":0.49500000000000005},{"$f":"U92*'13. Diet input'!$R94*100","v":0.49500000000000005},0,{"$f":"U92*'13. Diet input'!$S94*100","v":0},{"$f":"U92*'13. Diet input'!$T94*100","v":1.0000000000000002E-4},{"$f":"U92*'13. Diet input'!$U94*100","v":0},{"$f":"V92*(1-'13. Diet input'!$V94)","v":0.49500000000000005},null,{"$f":"'13. Diet input'!H94","v":6.0000000000000001E-3},{"$f":"AD92*'13. Diet input'!$Q94*100","v":0.59399999999999997},{"$f":"AD92*'13. Diet input'!$R94*100","v":0.59399999999999997},0,{"$f":"AD92*'13. Diet input'!$S94*100","v":0},{"$f":"AD92*'13. Diet input'!$T94*100","v":1.2000000000000002E-4},{"$f":"AD92*'13. Diet input'!$U94*100","v":0},{"$f":"AE92*(1-'13. Diet input'!$V94)","v":0.59399999999999997},null,{"$f":"'13. Diet input'!I94","v":6.0000000000000001E-3},{"$f":"AM92*'13. Diet input'!$Q94*100","v":0.59399999999999997},{"$f":"AM92*'13. Diet input'!$R94*100","v":0.59399999999999997},0,{"$f":"AM92*'13. Diet input'!$S94*100","v":0},{"$f":"AM92*'13. Diet input'!$T94*100","v":1.2000000000000002E-4},{"$f":"AM92*'13. Diet input'!$U94*100","v":0},{"$f":"AN92*(1-'13. Diet input'!$V94)","v":0.59399999999999997},null,{"$f":"'13. Diet input'!J94","v":0},{"$f":"AV92*'13. Diet input'!$Q94*100","v":0},{"$f":"AV92*'13. Diet input'!$R94*100","v":0},0,{"$f":"AV92*'13. Diet input'!$S94*100","v":0},{"$f":"AV92*'13. Diet input'!$T94*100","v":0},{"$f":"AV92*'13. Diet input'!$U94*100","v":0},{"$f":"AW92*(1-'13. Diet input'!$V94)","v":0},null,{"$f":"'13. Diet input'!K94","v":0},{"$f":"BE92*'13. Diet input'!$Q94*100","v":0},{"$f":"BE92*'13. Diet input'!$R94*100","v":0},0,{"$f":"BE92*'13. Diet input'!$S94*100","v":0},{"$f":"BE92*'13. Diet input'!$T94*100","v":0},{"$f":"BE92*'13. Diet input'!$U94*100","v":0},{"$f":"BF92*(1-'13. Diet input'!$V94)","v":0},null,{"$f":"'13. Diet input'!L94","v":6.0000000000000001E-3},{"$f":"BN92*'13. Diet input'!$Q94*100","v":0.59399999999999997},{"$f":"BN92*'13. Diet input'!$R94*100","v":0.59399999999999997},0,{"$f":"BN92*'13. Diet input'!$S94*100","v":0},{"$f":"BN92*'13. Diet input'!$T94*100","v":1.2000000000000002E-4},{"$f":"BN92*'13. Diet input'!$U94*100","v":0},{"$f":"BO92*(1-'13. Diet input'!$V94)","v":0.59399999999999997},null,{"$f":"'13. Diet input'!M94","v":0},{"$f":"BW92*'13. Diet input'!$Q94*100","v":0},{"$f":"BW92*'13. Diet input'!$R94*100","v":0},0,{"$f":"BW92*'13. Diet input'!$S94*100","v":0},{"$f":"BW92*'13. Diet input'!$T94*100","v":0},{"$f":"BW92*'13. Diet input'!$U94*100","v":0},{"$f":"BX92*(1-'13. Diet input'!$V94)","v":0},null,{"$f":"'13. Diet input'!N94","v":5.0000000000000001E-3},{"$f":"CF92*'13. Diet input'!$Q94*100","v":0.49500000000000005},{"$f":"CF92*'13. Diet input'!$R94*100","v":0.49500000000000005},0,{"$f":"CF92*'13. Diet input'!$S94*100","v":0},{"$f":"CF92*'13. Diet input'!$T94*100","v":1.0000000000000002E-4},{"$f":"CF92*'13. Diet input'!$U94*100","v":0},{"$f":"CG92*(1-'13. Diet input'!$V94)","v":0.49500000000000005},null,{"$f":"'13. Diet input'!O94","v":4.5999999999999999E-3},{"$f":"CO92*'13. Diet input'!$Q94*100","v":0.45539999999999997},{"$f":"CO92*'13. Diet input'!$R94*100","v":0.45539999999999997},0,{"$f":"CO92*'13. Diet input'!$S94*100","v":0},{"$f":"CO92*'13. Diet input'!$T94*100","v":9.2E-5},{"$f":"CO92*'13. Diet input'!$U94*100","v":0},{"$f":"CP92*(1-'13. Diet input'!$V94)","v":0.45539999999999997}]
[null,{"$f":"'13. Diet input'!B95","v":"Monodicalcium phosphate (MDCP)"},{"$f":"'13. Diet input'!E95","v":0},{"$f":"C93*'13. Diet input'!$Q95*100","v":0},{"$f":"C93*'13. Diet input'!$R95*100","v":0},0,{"$f":"C93*'13. Diet input'!$S95*100","v":0},{"$f":"C93*'13. Diet input'!$T95*100","v":0},{"$f":"C93*'13. Diet input'!$U95*100","v":0},{"$f":"D93*(1-'13. Diet input'!$V95)","v":0},null,{"$f":"'13. Diet input'!F95","v":0},{"$f":"L93*'13. Diet input'!$Q95*100","v":0},{"$f":"L93*'13. Diet input'!$R95*100","v":0},0,{"$f":"L93*'13. Diet input'!$S95*100","v":0},{"$f":"L93*'13. Diet input'!$T95*100","v":0},{"$f":"L93*'13. Diet input'!$U95*100","v":0},{"$f":"M93*(1-'13. Diet input'!$V95)","v":0},null,{"$f":"'13. Diet input'!G95","v":0},{"$f":"U93*'13. Diet input'!$Q95*100","v":0},{"$f":"U93*'13. Diet input'!$R95*100","v":0},0,{"$f":"U93*'13. Diet input'!$S95*100","v":0},{"$f":"U93*'13. Diet input'!$T95*100","v":0},{"$f":"U93*'13. Diet input'!$U95*100","v":0},{"$f":"V93*(1-'13. Diet input'!$V95)","v":0},null,{"$f":"'13. Diet input'!H95","v":0},{"$f":"AD93*'13. Diet input'!$Q95*100","v":0},{"$f":"AD93*'13. Diet input'!$R95*100","v":0},0,{"$f":"AD93*'13. Diet input'!$S95*100","v":0},{"$f":"AD93*'13. Diet input'!$T95*100","v":0},{"$f":"AD93*'13. Diet input'!$U95*100","v":0},{"$f":"AE93*(1-'13. Diet input'!$V95)","v":0},null,{"$f":"'13. Diet input'!I95","v":0},{"$f":"AM93*'13. Diet input'!$Q95*100","v":0},{"$f":"AM93*'13. Diet input'!$R95*100","v":0},0,{"$f":"AM93*'13. Diet input'!$S95*100","v":0},{"$f":"AM93*'13. Diet input'!$T95*100","v":0},{"$f":"AM93*'13. Diet input'!$U95*100","v":0},{"$f":"AN93*(1-'13. Diet input'!$V95)","v":0},null,{"$f":"'13. Diet input'!J95","v":0},{"$f":"AV93*'13. Diet input'!$Q95*100","v":0},{"$f":"AV93*'13. Diet input'!$R95*100","v":0},0,{"$f":"AV93*'13. Diet input'!$S95*100","v":0},{"$f":"AV93*'13. Diet input'!$T95*100","v":0},{"$f":"AV93*'13. Diet input'!$U95*100","v":0},{"$f":"AW93*(1-'13. Diet input'!$V95)","v":0},null,{"$f":"'13. Diet input'!K95","v":0},{"$f":"BE93*'13. Diet input'!$Q95*100","v":0},{"$f":"BE93*'13. Diet input'!$R95*100","v":0},0,{"$f":"BE93*'13. Diet input'!$S95*100","v":0},{"$f":"BE93*'13. Diet input'!$T95*100","v":0},{"$f":"BE93*'13. Diet input'!$U95*100","v":0},{"$f":"BF93*(1-'13. Diet input'!$V95)","v":0},null,{"$f":"'13. Diet input'!L95","v":0},{"$f":"BN93*'13. Diet input'!$Q95*100","v":0},{"$f":"BN93*'13. Diet input'!$R95*100","v":0},0,{"$f":"BN93*'13. Diet input'!$S95*100","v":0},{"$f":"BN93*'13. Diet input'!$T95*100","v":0},{"$f":"BN93*'13. Diet input'!$U95*100","v":0},{"$f":"BO93*(1-'13. Diet input'!$V95)","v":0},null,{"$f":"'13. Diet input'!M95","v":0},{"$f":"BW93*'13. Diet input'!$Q95*100","v":0},{"$f":"BW93*'13. Diet input'!$R95*100","v":0},0,{"$f":"BW93*'13. Diet input'!$S95*100","v":0},{"$f":"BW93*'13. Diet input'!$T95*100","v":0},{"$f":"BW93*'13. Diet input'!$U95*100","v":0},{"$f":"BX93*(1-'13. Diet input'!$V95)","v":0},null,{"$f":"'13. Diet input'!N95","v":0},{"$f":"CF93*'13. Diet input'!$Q95*100","v":0},{"$f":"CF93*'13. Diet input'!$R95*100","v":0},0,{"$f":"CF93*'13. Diet input'!$S95*100","v":0},{"$f":"CF93*'13. Diet input'!$T95*100","v":0},{"$f":"CF93*'13. Diet input'!$U95*100","v":0},{"$f":"CG93*(1-'13. Diet input'!$V95)","v":0},null,{"$f":"'13. Diet input'!O95","v":0},{"$f":"CO93*'13. Diet input'!$Q95*100","v":0},{"$f":"CO93*'13. Diet input'!$R95*100","v":0},0,{"$f":"CO93*'13. Diet input'!$S95*100","v":0},{"$f":"CO93*'13. Diet input'!$T95*100","v":0},{"$f":"CO93*'13. Diet input'!$U95*100","v":0},{"$f":"CP93*(1-'13. Diet input'!$V95)","v":0}]
[null,{"$f":"'13. Diet input'!B96","v":"Potassium Choride"},{"$f":"'13. Diet input'!E96","v":0},{"$f":"C94*'13. Diet input'!$Q96*100","v":0},{"$f":"C94*'13. Diet input'!$R96*100","v":0},0,{"$f":"C94*'13. Diet input'!$S96*100","v":0},{"$f":"C94*'13. Diet input'!$T96*100","v":0},{"$f":"C94*'13. Diet input'!$U96*100","v":0},{"$f":"D94*(1-'13. Diet input'!$V96)","v":0},null,{"$f":"'13. Diet input'!F96","v":0},{"$f":"L94*'13. Diet input'!$Q96*100","v":0},{"$f":"L94*'13. Diet input'!$R96*100","v":0},0,{"$f":"L94*'13. Diet input'!$S96*100","v":0},{"$f":"L94*'13. Diet input'!$T96*100","v":0},{"$f":"L94*'13. Diet input'!$U96*100","v":0},{"$f":"M94*(1-'13. Diet input'!$V96)","v":0},null,{"$f":"'13. Diet input'!G96","v":0},{"$f":"U94*'13. Diet input'!$Q96*100","v":0},{"$f":"U94*'13. Diet input'!$R96*100","v":0},0,{"$f":"U94*'13. Diet input'!$S96*100","v":0},{"$f":"U94*'13. Diet input'!$T96*100","v":0},{"$f":"U94*'13. Diet input'!$U96*100","v":0},{"$f":"V94*(1-'13. Diet input'!$V96)","v":0},null,{"$f":"'13. Diet input'!H96","v":0},{"$f":"AD94*'13. Diet input'!$Q96*100","v":0},{"$f":"AD94*'13. Diet input'!$R96*100","v":0},0,{"$f":"AD94*'13. Diet input'!$S96*100","v":0},{"$f":"AD94*'13. Diet input'!$T96*100","v":0},{"$f":"AD94*'13. Diet input'!$U96*100","v":0},{"$f":"AE94*(1-'13. Diet input'!$V96)","v":0},null,{"$f":"'13. Diet input'!I96","v":0},{"$f":"AM94*'13. Diet input'!$Q96*100","v":0},{"$f":"AM94*'13. Diet input'!$R96*100","v":0},0,{"$f":"AM94*'13. Diet input'!$S96*100","v":0},{"$f":"AM94*'13. Diet input'!$T96*100","v":0},{"$f":"AM94*'13. Diet input'!$U96*100","v":0},{"$f":"AN94*(1-'13. Diet input'!$V96)","v":0},null,{"$f":"'13. Diet input'!J96","v":0},{"$f":"AV94*'13. Diet input'!$Q96*100","v":0},{"$f":"AV94*'13. Diet input'!$R96*100","v":0},0,{"$f":"AV94*'13. Diet input'!$S96*100","v":0},{"$f":"AV94*'13. Diet input'!$T96*100","v":0},{"$f":"AV94*'13. Diet input'!$U96*100","v":0},{"$f":"AW94*(1-'13. Diet input'!$V96)","v":0},null,{"$f":"'13. Diet input'!K96","v":0},{"$f":"BE94*'13. Diet input'!$Q96*100","v":0},{"$f":"BE94*'13. Diet input'!$R96*100","v":0},0,{"$f":"BE94*'13. Diet input'!$S96*100","v":0},{"$f":"BE94*'13. Diet input'!$T96*100","v":0},{"$f":"BE94*'13. Diet input'!$U96*100","v":0},{"$f":"BF94*(1-'13. Diet input'!$V96)","v":0},null,{"$f":"'13. Diet input'!L96","v":4.0000000000000001E-3},{"$f":"BN94*'13. Diet input'!$Q96*100","v":0.4},{"$f":"BN94*'13. Diet input'!$R96*100","v":0.4},0,{"$f":"BN94*'13. Diet input'!$S96*100","v":0},{"$f":"BN94*'13. Diet input'!$T96*100","v":0},{"$f":"BN94*'13. Diet input'!$U96*100","v":0.2084},{"$f":"BO94*(1-'13. Diet input'!$V96)","v":0.4},null,{"$f":"'13. Diet input'!M96","v":3.0000000000000001E-3},{"$f":"BW94*'13. Diet input'!$Q96*100","v":0.3},{"$f":"BW94*'13. Diet input'!$R96*100","v":0.3},0,{"$f":"BW94*'13. Diet input'!$S96*100","v":0},{"$f":"BW94*'13. Diet input'!$T96*100","v":0},{"$f":"BW94*'13. Diet input'!$U96*100","v":0.15630000000000002},{"$f":"BX94*(1-'13. Diet input'!$V96)","v":0.3},null,{"$f":"'13. Diet input'!N96","v":0},{"$f":"CF94*'13. Diet input'!$Q96*100","v":0},{"$f":"CF94*'13. Diet input'!$R96*100","v":0},0,{"$f":"CF94*'13. Diet input'!$S96*100","v":0},{"$f":"CF94*'13. Diet input'!$T96*100","v":0},{"$f":"CF94*'13. Diet input'!$U96*100","v":0},{"$f":"CG94*(1-'13. Diet input'!$V96)","v":0},null,{"$f":"'13. Diet input'!O96","v":0},{"$f":"CO94*'13. Diet input'!$Q96*100","v":0},{"$f":"CO94*'13. Diet input'!$R96*100","v":0},0,{"$f":"CO94*'13. Diet input'!$S96*100","v":0},{"$f":"CO94*'13. Diet input'!$T96*100","v":0},{"$f":"CO94*'13. Diet input'!$U96*100","v":0},{"$f":"CP94*(1-'13. Diet input'!$V96)","v":0}]
[null,{"$f":"'13. Diet input'!B97","v":"Potassium sulphate"},{"$f":"'13. Diet input'!E97","v":0},{"$f":"C95*'13. Diet input'!$Q97*100","v":0},{"$f":"C95*'13. Diet input'!$R97*100","v":0},0,{"$f":"C95*'13. Diet input'!$S97*100","v":0},{"$f":"C95*'13. Diet input'!$T97*100","v":0},{"$f":"C95*'13. Diet input'!$U97*100","v":0},{"$f":"D95*(1-'13. Diet input'!$V97)","v":0},null,{"$f":"'13. Diet input'!F97","v":0},{"$f":"L95*'13. Diet input'!$Q97*100","v":0},{"$f":"L95*'13. Diet input'!$R97*100","v":0},0,{"$f":"L95*'13. Diet input'!$S97*100","v":0},{"$f":"L95*'13. Diet input'!$T97*100","v":0},{"$f":"L95*'13. Diet input'!$U97*100","v":0},{"$f":"M95*(1-'13. Diet input'!$V97)","v":0},null,{"$f":"'13. Diet input'!G97","v":0},{"$f":"U95*'13. Diet input'!$Q97*100","v":0},{"$f":"U95*'13. Diet input'!$R97*100","v":0},0,{"$f":"U95*'13. Diet input'!$S97*100","v":0},{"$f":"U95*'13. Diet input'!$T97*100","v":0},{"$f":"U95*'13. Diet input'!$U97*100","v":0},{"$f":"V95*(1-'13. Diet input'!$V97)","v":0},null,{"$f":"'13. Diet input'!H97","v":0},{"$f":"AD95*'13. Diet input'!$Q97*100","v":0},{"$f":"AD95*'13. Diet input'!$R97*100","v":0},0,{"$f":"AD95*'13. Diet input'!$S97*100","v":0},{"$f":"AD95*'13. Diet input'!$T97*100","v":0},{"$f":"AD95*'13. Diet input'!$U97*100","v":0},{"$f":"AE95*(1-'13. Diet input'!$V97)","v":0},null,{"$f":"'13. Diet input'!I97","v":0},{"$f":"AM95*'13. Diet input'!$Q97*100","v":0},{"$f":"AM95*'13. Diet input'!$R97*100","v":0},0,{"$f":"AM95*'13. Diet input'!$S97*100","v":0},{"$f":"AM95*'13. Diet input'!$T97*100","v":0},{"$f":"AM95*'13. Diet input'!$U97*100","v":0},{"$f":"AN95*(1-'13. Diet input'!$V97)","v":0},null,{"$f":"'13. Diet input'!J97","v":0},{"$f":"AV95*'13. Diet input'!$Q97*100","v":0},{"$f":"AV95*'13. Diet input'!$R97*100","v":0},0,{"$f":"AV95*'13. Diet input'!$S97*100","v":0},{"$f":"AV95*'13. Diet input'!$T97*100","v":0},{"$f":"AV95*'13. Diet input'!$U97*100","v":0},{"$f":"AW95*(1-'13. Diet input'!$V97)","v":0},null,{"$f":"'13. Diet input'!K97","v":0},{"$f":"BE95*'13. Diet input'!$Q97*100","v":0},{"$f":"BE95*'13. Diet input'!$R97*100","v":0},0,{"$f":"BE95*'13. Diet input'!$S97*100","v":0},{"$f":"BE95*'13. Diet input'!$T97*100","v":0},{"$f":"BE95*'13. Diet input'!$U97*100","v":0},{"$f":"BF95*(1-'13. Diet input'!$V97)","v":0},null,{"$f":"'13. Diet input'!L97","v":0},{"$f":"BN95*'13. Diet input'!$Q97*100","v":0},{"$f":"BN95*'13. Diet input'!$R97*100","v":0},0,{"$f":"BN95*'13. Diet input'!$S97*100","v":0},{"$f":"BN95*'13. Diet input'!$T97*100","v":0},{"$f":"BN95*'13. Diet input'!$U97*100","v":0},{"$f":"BO95*(1-'13. Diet input'!$V97)","v":0},null,{"$f":"'13. Diet input'!M97","v":0},{"$f":"BW95*'13. Diet input'!$Q97*100","v":0},{"$f":"BW95*'13. Diet input'!$R97*100","v":0},0,{"$f":"BW95*'13. Diet input'!$S97*100","v":0},{"$f":"BW95*'13. Diet input'!$T97*100","v":0},{"$f":"BW95*'13. Diet input'!$U97*100","v":0},{"$f":"BX95*(1-'13. Diet input'!$V97)","v":0},null,{"$f":"'13. Diet input'!N97","v":0},{"$f":"CF95*'13. Diet input'!$Q97*100","v":0},{"$f":"CF95*'13. Diet input'!$R97*100","v":0},0,{"$f":"CF95*'13. Diet input'!$S97*100","v":0},{"$f":"CF95*'13. Diet input'!$T97*100","v":0},{"$f":"CF95*'13. Diet input'!$U97*100","v":0},{"$f":"CG95*(1-'13. Diet input'!$V97)","v":0},null,{"$f":"'13. Diet input'!O97","v":0},{"$f":"CO95*'13. Diet input'!$Q97*100","v":0},{"$f":"CO95*'13. Diet input'!$R97*100","v":0},0,{"$f":"CO95*'13. Diet input'!$S97*100","v":0},{"$f":"CO95*'13. Diet input'!$T97*100","v":0},{"$f":"CO95*'13. Diet input'!$U97*100","v":0},{"$f":"CP95*(1-'13. Diet input'!$V97)","v":0}]
[null,{"$f":"'13. Diet input'!B98","v":"Sodium Bicarbonate"},{"$f":"'13. Diet input'!E98","v":0},{"$f":"C96*'13. Diet input'!$Q98*100","v":0},{"$f":"C96*'13. Diet input'!$R98*100","v":0},0,{"$f":"C96*'13. Diet input'!$S98*100","v":0},{"$f":"C96*'13. Diet input'!$T98*100","v":0},{"$f":"C96*'13. Diet input'!$U98*100","v":0},{"$f":"D96*(1-'13. Diet input'!$V98)","v":0},null,{"$f":"'13. Diet input'!F98","v":0},{"$f":"L96*'13. Diet input'!$Q98*100","v":0},{"$f":"L96*'13. Diet input'!$R98*100","v":0},0,{"$f":"L96*'13. Diet input'!$S98*100","v":0},{"$f":"L96*'13. Diet input'!$T98*100","v":0},{"$f":"L96*'13. Diet input'!$U98*100","v":0},{"$f":"M96*(1-'13. Diet input'!$V98)","v":0},null,{"$f":"'13. Diet input'!G98","v":0},{"$f":"U96*'13. Diet input'!$Q98*100","v":0},{"$f":"U96*'13. Diet input'!$R98*100","v":0},0,{"$f":"U96*'13. Diet input'!$S98*100","v":0},{"$f":"U96*'13. Diet input'!$T98*100","v":0},{"$f":"U96*'13. Diet input'!$U98*100","v":0},{"$f":"V96*(1-'13. Diet input'!$V98)","v":0},null,{"$f":"'13. Diet input'!H98","v":0},{"$f":"AD96*'13. Diet input'!$Q98*100","v":0},{"$f":"AD96*'13. Diet input'!$R98*100","v":0},0,{"$f":"AD96*'13. Diet input'!$S98*100","v":0},{"$f":"AD96*'13. Diet input'!$T98*100","v":0},{"$f":"AD96*'13. Diet input'!$U98*100","v":0},{"$f":"AE96*(1-'13. Diet input'!$V98)","v":0},null,{"$f":"'13. Diet input'!I98","v":0},{"$f":"AM96*'13. Diet input'!$Q98*100","v":0},{"$f":"AM96*'13. Diet input'!$R98*100","v":0},0,{"$f":"AM96*'13. Diet input'!$S98*100","v":0},{"$f":"AM96*'13. Diet input'!$T98*100","v":0},{"$f":"AM96*'13. Diet input'!$U98*100","v":0},{"$f":"AN96*(1-'13. Diet input'!$V98)","v":0},null,{"$f":"'13. Diet input'!J98","v":0},{"$f":"AV96*'13. Diet input'!$Q98*100","v":0},{"$f":"AV96*'13. Diet input'!$R98*100","v":0},0,{"$f":"AV96*'13. Diet input'!$S98*100","v":0},{"$f":"AV96*'13. Diet input'!$T98*100","v":0},{"$f":"AV96*'13. Diet input'!$U98*100","v":0},{"$f":"AW96*(1-'13. Diet input'!$V98)","v":0},null,{"$f":"'13. Diet input'!K98","v":0},{"$f":"BE96*'13. Diet input'!$Q98*100","v":0},{"$f":"BE96*'13. Diet input'!$R98*100","v":0},0,{"$f":"BE96*'13. Diet input'!$S98*100","v":0},{"$f":"BE96*'13. Diet input'!$T98*100","v":0},{"$f":"BE96*'13. Diet input'!$U98*100","v":0},{"$f":"BF96*(1-'13. Diet input'!$V98)","v":0},null,{"$f":"'13. Diet input'!L98","v":0},{"$f":"BN96*'13. Diet input'!$Q98*100","v":0},{"$f":"BN96*'13. Diet input'!$R98*100","v":0},0,{"$f":"BN96*'13. Diet input'!$S98*100","v":0},{"$f":"BN96*'13. Diet input'!$T98*100","v":0},{"$f":"BN96*'13. Diet input'!$U98*100","v":0},{"$f":"BO96*(1-'13. Diet input'!$V98)","v":0},null,{"$f":"'13. Diet input'!M98","v":0},{"$f":"BW96*'13. Diet input'!$Q98*100","v":0},{"$f":"BW96*'13. Diet input'!$R98*100","v":0},0,{"$f":"BW96*'13. Diet input'!$S98*100","v":0},{"$f":"BW96*'13. Diet input'!$T98*100","v":0},{"$f":"BW96*'13. Diet input'!$U98*100","v":0},{"$f":"BX96*(1-'13. Diet input'!$V98)","v":0},null,{"$f":"'13. Diet input'!N98","v":0},{"$f":"CF96*'13. Diet input'!$Q98*100","v":0},{"$f":"CF96*'13. Diet input'!$R98*100","v":0},0,{"$f":"CF96*'13. Diet input'!$S98*100","v":0},{"$f":"CF96*'13. Diet input'!$T98*100","v":0},{"$f":"CF96*'13. Diet input'!$U98*100","v":0},{"$f":"CG96*(1-'13. Diet input'!$V98)","v":0},null,{"$f":"'13. Diet input'!O98","v":0},{"$f":"CO96*'13. Diet input'!$Q98*100","v":0},{"$f":"CO96*'13. Diet input'!$R98*100","v":0},0,{"$f":"CO96*'13. Diet input'!$S98*100","v":0},{"$f":"CO96*'13. Diet input'!$T98*100","v":0},{"$f":"CO96*'13. Diet input'!$U98*100","v":0},{"$f":"CP96*(1-'13. Diet input'!$V98)","v":0}]
[null,{"$f":"'13. Diet input'!B99","v":"Salt"},{"$f":"'13. Diet input'!E99","v":3.5E-4},{"$f":"C97*'13. Diet input'!$Q99*100","v":3.4999999999999996E-2},{"$f":"C97*'13. Diet input'!$R99*100","v":3.4999999999999996E-2},0,{"$f":"C97*'13. Diet input'!$S99*100","v":0},{"$f":"C97*'13. Diet input'!$T99*100","v":0},{"$f":"C97*'13. Diet input'!$U99*100","v":0},{"$f":"D97*(1-'13. Diet input'!$V99)","v":3.4999999999999996E-2},null,{"$f":"'13. Diet input'!F99","v":2.5000000000000001E-3},{"$f":"L97*'13. Diet input'!$Q99*100","v":0.25},{"$f":"L97*'13. Diet input'!$R99*100","v":0.25},0,{"$f":"L97*'13. Diet input'!$S99*100","v":0},{"$f":"L97*'13. Diet input'!$T99*100","v":0},{"$f":"L97*'13. Diet input'!$U99*100","v":0},{"$f":"M97*(1-'13. Diet input'!$V99)","v":0.25},null,{"$f":"'13. Diet input'!G99","v":2.5000000000000001E-3},{"$f":"U97*'13. Diet input'!$Q99*100","v":0.25},{"$f":"U97*'13. Diet input'!$R99*100","v":0.25},0,{"$f":"U97*'13. Diet input'!$S99*100","v":0},{"$f":"U97*'13. Diet input'!$T99*100","v":0},{"$f":"U97*'13. Diet input'!$U99*100","v":0},{"$f":"V97*(1-'13. Diet input'!$V99)","v":0.25},null,{"$f":"'13. Diet input'!H99","v":2.5000000000000001E-3},{"$f":"AD97*'13. Diet input'!$Q99*100","v":0.25},{"$f":"AD97*'13. Diet input'!$R99*100","v":0.25},0,{"$f":"AD97*'13. Diet input'!$S99*100","v":0},{"$f":"AD97*'13. Diet input'!$T99*100","v":0},{"$f":"AD97*'13. Diet input'!$U99*100","v":0},{"$f":"AE97*(1-'13. Diet input'!$V99)","v":0.25},null,{"$f":"'13. Diet input'!I99","v":2.5000000000000001E-3},{"$f":"AM97*'13. Diet input'!$Q99*100","v":0.25},{"$f":"AM97*'13. Diet input'!$R99*100","v":0.25},0,{"$f":"AM97*'13. Diet input'!$S99*100","v":0},{"$f":"AM97*'13. Diet input'!$T99*100","v":0},{"$f":"AM97*'13. Diet input'!$U99*100","v":0},{"$f":"AN97*(1-'13. Diet input'!$V99)","v":0.25},null,{"$f":"'13. Diet input'!J99","v":0},{"$f":"AV97*'13. Diet input'!$Q99*100","v":0},{"$f":"AV97*'13. Diet input'!$R99*100","v":0},0,{"$f":"AV97*'13. Diet input'!$S99*100","v":0},{"$f":"AV97*'13. Diet input'!$T99*100","v":0},{"$f":"AV97*'13. Diet input'!$U99*100","v":0},{"$f":"AW97*(1-'13. Diet input'!$V99)","v":0},null,{"$f":"'13. Diet input'!K99","v":0},{"$f":"BE97*'13. Diet input'!$Q99*100","v":0},{"$f":"BE97*'13. Diet input'!$R99*100","v":0},0,{"$f":"BE97*'13. Diet input'!$S99*100","v":0},{"$f":"BE97*'13. Diet input'!$T99*100","v":0},{"$f":"BE97*'13. Diet input'!$U99*100","v":0},{"$f":"BF97*(1-'13. Diet input'!$V99)","v":0},null,{"$f":"'13. Diet input'!L99","v":4.0000000000000001E-3},{"$f":"BN97*'13. Diet input'!$Q99*100","v":0.4},{"$f":"BN97*'13. Diet input'!$R99*100","v":0.4},0,{"$f":"BN97*'13. Diet input'!$S99*100","v":0},{"$f":"BN97*'13. Diet input'!$T99*100","v":0},{"$f":"BN97*'13. Diet input'!$U99*100","v":0},{"$f":"BO97*(1-'13. Diet input'!$V99)","v":0.4},null,{"$f":"'13. Diet input'!M99","v":4.0000000000000001E-3},{"$f":"BW97*'13. Diet input'!$Q99*100","v":0.4},{"$f":"BW97*'13. Diet input'!$R99*100","v":0.4},0,{"$f":"BW97*'13. Diet input'!$S99*100","v":0},{"$f":"BW97*'13. Diet input'!$T99*100","v":0},{"$f":"BW97*'13. Diet input'!$U99*100","v":0},{"$f":"BX97*(1-'13. Diet input'!$V99)","v":0.4},null,{"$f":"'13. Diet input'!N99","v":4.0000000000000001E-3},{"$f":"CF97*'13. Diet input'!$Q99*100","v":0.4},{"$f":"CF97*'13. Diet input'!$R99*100","v":0.4},0,{"$f":"CF97*'13. Diet input'!$S99*100","v":0},{"$f":"CF97*'13. Diet input'!$T99*100","v":0},{"$f":"CF97*'13. Diet input'!$U99*100","v":0},{"$f":"CG97*(1-'13. Diet input'!$V99)","v":0.4},null,{"$f":"'13. Diet input'!O99","v":4.0000000000000001E-3},{"$f":"CO97*'13. Diet input'!$Q99*100","v":0.4},{"$f":"CO97*'13. Diet input'!$R99*100","v":0.4},0,{"$f":"CO97*'13. Diet input'!$S99*100","v":0},{"$f":"CO97*'13. Diet input'!$T99*100","v":0},{"$f":"CO97*'13. Diet input'!$U99*100","v":0},{"$f":"CP97*(1-'13. Diet input'!$V99)","v":0.4}]
[null,{"$f":"'13. Diet input'!B100","v":"HiZox/Zinco Plus"},{"$f":"'13. Diet input'!E100","v":0},{"$f":"C98*'13. Diet input'!$Q100*100","v":0},{"$f":"C98*'13. Diet input'!$R100*100","v":0},0,{"$f":"C98*'13. Diet input'!$S100*100","v":0},{"$f":"C98*'13. Diet input'!$T100*100","v":0},{"$f":"C98*'13. Diet input'!$U100*100","v":0},{"$f":"D98*(1-'13. Diet input'!$V100)","v":0},null,{"$f":"'13. Diet input'!F100","v":0},{"$f":"L98*'13. Diet input'!$Q100*100","v":0},{"$f":"L98*'13. Diet input'!$R100*100","v":0},0,{"$f":"L98*'13. Diet input'!$S100*100","v":0},{"$f":"L98*'13. Diet input'!$T100*100","v":0},{"$f":"L98*'13. Diet input'!$U100*100","v":0},{"$f":"M98*(1-'13. Diet input'!$V100)","v":0},null,{"$f":"'13. Diet input'!G100","v":0},{"$f":"U98*'13. Diet input'!$Q100*100","v":0},{"$f":"U98*'13. Diet input'!$R100*100","v":0},0,{"$f":"U98*'13. Diet input'!$S100*100","v":0},{"$f":"U98*'13. Diet input'!$T100*100","v":0},{"$f":"U98*'13. Diet input'!$U100*100","v":0},{"$f":"V98*(1-'13. Diet input'!$V100)","v":0},null,{"$f":"'13. Diet input'!H100","v":0},{"$f":"AD98*'13. Diet input'!$Q100*100","v":0},{"$f":"AD98*'13. Diet input'!$R100*100","v":0},0,{"$f":"AD98*'13. Diet input'!$S100*100","v":0},{"$f":"AD98*'13. Diet input'!$T100*100","v":0},{"$f":"AD98*'13. Diet input'!$U100*100","v":0},{"$f":"AE98*(1-'13. Diet input'!$V100)","v":0},null,{"$f":"'13. Diet input'!I100","v":0},{"$f":"AM98*'13. Diet input'!$Q100*100","v":0},{"$f":"AM98*'13. Diet input'!$R100*100","v":0},0,{"$f":"AM98*'13. Diet input'!$S100*100","v":0},{"$f":"AM98*'13. Diet input'!$T100*100","v":0},{"$f":"AM98*'13. Diet input'!$U100*100","v":0},{"$f":"AN98*(1-'13. Diet input'!$V100)","v":0},null,{"$f":"'13. Diet input'!J100","v":0},{"$f":"AV98*'13. Diet input'!$Q100*100","v":0},{"$f":"AV98*'13. Diet input'!$R100*100","v":0},0,{"$f":"AV98*'13. Diet input'!$S100*100","v":0},{"$f":"AV98*'13. Diet input'!$T100*100","v":0},{"$f":"AV98*'13. Diet input'!$U100*100","v":0},{"$f":"AW98*(1-'13. Diet input'!$V100)","v":0},null,{"$f":"'13. Diet input'!K100","v":0},{"$f":"BE98*'13. Diet input'!$Q100*100","v":0},{"$f":"BE98*'13. Diet input'!$R100*100","v":0},0,{"$f":"BE98*'13. Diet input'!$S100*100","v":0},{"$f":"BE98*'13. Diet input'!$T100*100","v":0},{"$f":"BE98*'13. Diet input'!$U100*100","v":0},{"$f":"BF98*(1-'13. Diet input'!$V100)","v":0},null,{"$f":"'13. Diet input'!L100","v":0},{"$f":"BN98*'13. Diet input'!$Q100*100","v":0},{"$f":"BN98*'13. Diet input'!$R100*100","v":0},0,{"$f":"BN98*'13. Diet input'!$S100*100","v":0},{"$f":"BN98*'13. Diet input'!$T100*100","v":0},{"$f":"BN98*'13. Diet input'!$U100*100","v":0},{"$f":"BO98*(1-'13. Diet input'!$V100)","v":0},null,{"$f":"'13. Diet input'!M100","v":0},{"$f":"BW98*'13. Diet input'!$Q100*100","v":0},{"$f":"BW98*'13. Diet input'!$R100*100","v":0},0,{"$f":"BW98*'13. Diet input'!$S100*100","v":0},{"$f":"BW98*'13. Diet input'!$T100*100","v":0},{"$f":"BW98*'13. Diet input'!$U100*100","v":0},{"$f":"BX98*(1-'13. Diet input'!$V100)","v":0},null,{"$f":"'13. Diet input'!N100","v":0},{"$f":"CF98*'13. Diet input'!$Q100*100","v":0},{"$f":"CF98*'13. Diet input'!$R100*100","v":0},0,{"$f":"CF98*'13. Diet input'!$S100*100","v":0},{"$f":"CF98*'13. Diet input'!$T100*100","v":0},{"$f":"CF98*'13. Diet input'!$U100*100","v":0},{"$f":"CG98*(1-'13. Diet input'!$V100)","v":0},null,{"$f":"'13. Diet input'!O100","v":0},{"$f":"CO98*'13. Diet input'!$Q100*100","v":0},{"$f":"CO98*'13. Diet input'!$R100*100","v":0},0,{"$f":"CO98*'13. Diet input'!$S100*100","v":0},{"$f":"CO98*'13. Diet input'!$T100*100","v":0},{"$f":"CO98*'13. Diet input'!$U100*100","v":0},{"$f":"CP98*(1-'13. Diet input'!$V100)","v":0}]
[null,{"$f":"'13. Diet input'!B101","v":"Zinc Oxide"},{"$f":"'13. Diet input'!E101","v":2.9999999999999997E-4},{"$f":"C99*'13. Diet input'!$Q101*100","v":0.03},{"$f":"C99*'13. Diet input'!$R101*100","v":2.9399999999999999E-2},5.9999999999999984E-4,{"$f":"C99*'13. Diet input'!$S101*100","v":0},{"$f":"C99*'13. Diet input'!$T101*100","v":0},{"$f":"C99*'13. Diet input'!$U101*100","v":0},{"$f":"D99*(1-'13. Diet input'!$V101)","v":0.03},null,{"$f":"'13. Diet input'!F101","v":3.0000000000000001E-3},{"$f":"L99*'13. Diet input'!$Q101*100","v":0.3},{"$f":"L99*'13. Diet input'!$R101*100","v":0.29399999999999998},6.0000000000000053E-3,{"$f":"L99*'13. Diet input'!$S101*100","v":0},{"$f":"L99*'13. Diet input'!$T101*100","v":0},{"$f":"L99*'13. Diet input'!$U101*100","v":0},{"$f":"M99*(1-'13. Diet input'!$V101)","v":0.3},null,{"$f":"'13. Diet input'!G101","v":0},{"$f":"U99*'13. Diet input'!$Q101*100","v":0},{"$f":"U99*'13. Diet input'!$R101*100","v":0},0,{"$f":"U99*'13. Diet input'!$S101*100","v":0},{"$f":"U99*'13. Diet input'!$T101*100","v":0},{"$f":"U99*'13. Diet input'!$U101*100","v":0},{"$f":"V99*(1-'13. Diet input'!$V101)","v":0},null,{"$f":"'13. Diet input'!H101","v":0},{"$f":"AD99*'13. Diet input'!$Q101*100","v":0},{"$f":"AD99*'13. Diet input'!$R101*100","v":0},0,{"$f":"AD99*'13. Diet input'!$S101*100","v":0},{"$f":"AD99*'13. Diet input'!$T101*100","v":0},{"$f":"AD99*'13. Diet input'!$U101*100","v":0},{"$f":"AE99*(1-'13. Diet input'!$V101)","v":0},null,{"$f":"'13. Diet input'!I101","v":0},{"$f":"AM99*'13. Diet input'!$Q101*100","v":0},{"$f":"AM99*'13. Diet input'!$R101*100","v":0},0,{"$f":"AM99*'13. Diet input'!$S101*100","v":0},{"$f":"AM99*'13. Diet input'!$T101*100","v":0},{"$f":"AM99*'13. Diet input'!$U101*100","v":0},{"$f":"AN99*(1-'13. Diet input'!$V101)","v":0},null,{"$f":"'13. Diet input'!J101","v":0},{"$f":"AV99*'13. Diet input'!$Q101*100","v":0},{"$f":"AV99*'13. Diet input'!$R101*100","v":0},0,{"$f":"AV99*'13. Diet input'!$S101*100","v":0},{"$f":"AV99*'13. Diet input'!$T101*100","v":0},{"$f":"AV99*'13. Diet input'!$U101*100","v":0},{"$f":"AW99*(1-'13. Diet input'!$V101)","v":0},null,{"$f":"'13. Diet input'!K101","v":0},{"$f":"BE99*'13. Diet input'!$Q101*100","v":0},{"$f":"BE99*'13. Diet input'!$R101*100","v":0},0,{"$f":"BE99*'13. Diet input'!$S101*100","v":0},{"$f":"BE99*'13. Diet input'!$T101*100","v":0},{"$f":"BE99*'13. Diet input'!$U101*100","v":0},{"$f":"BF99*(1-'13. Diet input'!$V101)","v":0},null,{"$f":"'13. Diet input'!L101","v":0},{"$f":"BN99*'13. Diet input'!$Q101*100","v":0},{"$f":"BN99*'13. Diet input'!$R101*100","v":0},0,{"$f":"BN99*'13. Diet input'!$S101*100","v":0},{"$f":"BN99*'13. Diet input'!$T101*100","v":0},{"$f":"BN99*'13. Diet input'!$U101*100","v":0},{"$f":"BO99*(1-'13. Diet input'!$V101)","v":0},null,{"$f":"'13. Diet input'!M101","v":0},{"$f":"BW99*'13. Diet input'!$Q101*100","v":0},{"$f":"BW99*'13. Diet input'!$R101*100","v":0},0,{"$f":"BW99*'13. Diet input'!$S101*100","v":0},{"$f":"BW99*'13. Diet input'!$T101*100","v":0},{"$f":"BW99*'13. Diet input'!$U101*100","v":0},{"$f":"BX99*(1-'13. Diet input'!$V101)","v":0},null,{"$f":"'13. Diet input'!N101","v":0},{"$f":"CF99*'13. Diet input'!$Q101*100","v":0},{"$f":"CF99*'13. Diet input'!$R101*100","v":0},0,{"$f":"CF99*'13. Diet input'!$S101*100","v":0},{"$f":"CF99*'13. Diet input'!$T101*100","v":0},{"$f":"CF99*'13. Diet input'!$U101*100","v":0},{"$f":"CG99*(1-'13. Diet input'!$V101)","v":0},null,{"$f":"'13. Diet input'!O101","v":0},{"$f":"CO99*'13. Diet input'!$Q101*100","v":0},{"$f":"CO99*'13. Diet input'!$R101*100","v":0},0,{"$f":"CO99*'13. Diet input'!$S101*100","v":0},{"$f":"CO99*'13. Diet input'!$T101*100","v":0},{"$f":"CO99*'13. Diet input'!$U101*100","v":0},{"$f":"CP99*(1-'13. Diet input'!$V101)","v":0}]
[null,"Synthetic amino acids"]
[null,{"$f":"'13. Diet input'!B103","v":"L-Isoleucine"},{"$f":"'13. Diet input'!E103","v":1.05E-4},{"$f":"C101*'13. Diet input'!$Q103*100","v":1.0342500000000001E-2},{"$f":"C101*'13. Diet input'!$R103*100","v":5.2500000000000002E-5},{"$f":"D101-E101","v":1.0290000000000001E-2},{"$f":"C101*'13. Diet input'!$S103*100","v":1.0500000000000002E-3},{"$f":"C101*'13. Diet input'!$T103*100","v":0},{"$f":"C101*'13. Diet input'!$U103*100","v":0},{"$f":"D101*(1-'13. Diet input'!$V103)","v":0},null,{"$f":"'13. Diet input'!F103","v":8.25E-4},{"$f":"L101*'13. Diet input'!$Q103*100","v":8.1262500000000001E-2},{"$f":"L101*'13. Diet input'!$R103*100","v":4.1250000000000005E-4},{"$f":"M101-N101","v":8.0850000000000005E-2},{"$f":"L101*'13. Diet input'!$S103*100","v":8.2500000000000004E-3},{"$f":"L101*'13. Diet input'!$T103*100","v":0},{"$f":"L101*'13. Diet input'!$U103*100","v":0},{"$f":"M101*(1-'13. Diet input'!$V103)","v":0},null,{"$f":"'13. Diet input'!G103","v":0},{"$f":"U101*'13. Diet input'!$Q103*100","v":0},{"$f":"U101*'13. Diet input'!$R103*100","v":0},{"$f":"V101-W101","v":0},{"$f":"U101*'13. Diet input'!$S103*100","v":0},{"$f":"U101*'13. Diet input'!$T103*100","v":0},{"$f":"U101*'13. Diet input'!$U103*100","v":0},{"$f":"V101*(1-'13. Diet input'!$V103)","v":0},null,{"$f":"'13. Diet input'!H103","v":3.5E-4},{"$f":"AD101*'13. Diet input'!$Q103*100","v":3.4474999999999999E-2},{"$f":"AD101*'13. Diet input'!$R103*100","v":1.75E-4},{"$f":"AE101-AF101","v":3.4299999999999997E-2},{"$f":"AD101*'13. Diet input'!$S103*100","v":3.5000000000000005E-3},{"$f":"AD101*'13. Diet input'!$T103*100","v":0},{"$f":"AD101*'13. Diet input'!$U103*100","v":0},{"$f":"AE101*(1-'13. Diet input'!$V103)","v":0},null,{"$f":"'13. Diet input'!I103","v":0},{"$f":"AM101*'13. Diet input'!$Q103*100","v":0},{"$f":"AM101*'13. Diet input'!$R103*100","v":0},{"$f":"AN101-AO101","v":0},{"$f":"AM101*'13. Diet input'!$S103*100","v":0},{"$f":"AM101*'13. Diet input'!$T103*100","v":0},{"$f":"AM101*'13. Diet input'!$U103*100","v":0},{"$f":"AN101*(1-'13. Diet input'!$V103)","v":0},null,{"$f":"'13. Diet input'!J103","v":0},{"$f":"AV101*'13. Diet input'!$Q103*100","v":0},{"$f":"AV101*'13. Diet input'!$R103*100","v":0},{"$f":"AW101-AX101","v":0},{"$f":"AV101*'13. Diet input'!$S103*100","v":0},{"$f":"AV101*'13. Diet input'!$T103*100","v":0},{"$f":"AV101*'13. Diet input'!$U103*100","v":0},{"$f":"AW101*(1-'13. Diet input'!$V103)","v":0},null,{"$f":"'13. Diet input'!K103","v":0},{"$f":"BE101*'13. Diet input'!$Q103*100","v":0},{"$f":"BE101*'13. Diet input'!$R103*100","v":0},{"$f":"BF101-BG101","v":0},{"$f":"BE101*'13. Diet input'!$S103*100","v":0},{"$f":"BE101*'13. Diet input'!$T103*100","v":0},{"$f":"BE101*'13. Diet input'!$U103*100","v":0},{"$f":"BF101*(1-'13. Diet input'!$V103)","v":0},null,{"$f":"'13. Diet input'!L103","v":0},{"$f":"BN101*'13. Diet input'!$Q103*100","v":0},{"$f":"BN101*'13. Diet input'!$R103*100","v":0},{"$f":"BO101-BP101","v":0},{"$f":"BN101*'13. Diet input'!$S103*100","v":0},{"$f":"BN101*'13. Diet input'!$T103*100","v":0},{"$f":"BN101*'13. Diet input'!$U103*100","v":0},{"$f":"BO101*(1-'13. Diet input'!$V103)","v":0},null,{"$f":"'13. Diet input'!M103","v":0},{"$f":"BW101*'13. Diet input'!$Q103*100","v":0},{"$f":"BW101*'13. Diet input'!$R103*100","v":0},{"$f":"BX101-BY101","v":0},{"$f":"BW101*'13. Diet input'!$S103*100","v":0},{"$f":"BW101*'13. Diet input'!$T103*100","v":0},{"$f":"BW101*'13. Diet input'!$U103*100","v":0},{"$f":"BX101*(1-'13. Diet input'!$V103)","v":0},null,{"$f":"'13. Diet input'!N103","v":0},{"$f":"CF101*'13. Diet input'!$Q103*100","v":0},{"$f":"CF101*'13. Diet input'!$R103*100","v":0},{"$f":"CG101-CH101","v":0},{"$f":"CF101*'13. Diet input'!$S103*100","v":0},{"$f":"CF101*'13. Diet input'!$T103*100","v":0},{"$f":"CF101*'13. Diet input'!$U103*100","v":0},{"$f":"CG101*(1-'13. Diet input'!$V103)","v":0},null,{"$f":"'13. Diet input'!O103","v":0},{"$f":"CO101*'13. Diet input'!$Q103*100","v":0},{"$f":"CO101*'13. Diet input'!$R103*100","v":0},{"$f":"CP101-CQ101","v":0},{"$f":"CO101*'13. Diet input'!$S103*100","v":0},{"$f":"CO101*'13. Diet input'!$T103*100","v":0},{"$f":"CO101*'13. Diet input'!$U103*100","v":0},{"$f":"CP101*(1-'13. Diet input'!$V103)","v":0}]
[null,{"$f":"'13. Diet input'!B104","v":"L-Lysine HCL"},{"$f":"'13. Diet input'!E104","v":4.4999999999999999E-4},{"$f":"C102*'13. Diet input'!$Q104*100","v":4.4774999999999995E-2},{"$f":"C102*'13. Diet input'!$R104*100","v":2.2499999999999999E-4},4.4549999999999992E-2,{"$f":"C102*'13. Diet input'!$S104*100","v":6.8688000000000004E-3},{"$f":"C102*'13. Diet input'!$T104*100","v":0},{"$f":"C102*'13. Diet input'!$U104*100","v":0},{"$f":"D102*(1-'13. Diet input'!$V104)","v":2.2376311844082685E-5},null,{"$f":"'13. Diet input'!F104","v":4.4999999999999997E-3},{"$f":"L102*'13. Diet input'!$Q104*100","v":0.44774999999999998},{"$f":"L102*'13. Diet input'!$R104*100","v":2.2499999999999998E-3},0.44550000000000001,{"$f":"L102*'13. Diet input'!$S104*100","v":6.8687999999999999E-2},{"$f":"L102*'13. Diet input'!$T104*100","v":0},{"$f":"L102*'13. Diet input'!$U104*100","v":0},{"$f":"M102*(1-'13. Diet input'!$V104)","v":2.2376311844082687E-4},null,{"$f":"'13. Diet input'!G104","v":4.4999999999999997E-3},{"$f":"U102*'13. Diet input'!$Q104*100","v":0.44774999999999998},{"$f":"U102*'13. Diet input'!$R104*100","v":2.2499999999999998E-3},0.44550000000000001,{"$f":"U102*'13. Diet input'!$S104*100","v":6.8687999999999999E-2},{"$f":"U102*'13. Diet input'!$T104*100","v":0},{"$f":"U102*'13. Diet input'!$U104*100","v":0},{"$f":"V102*(1-'13. Diet input'!$V104)","v":2.2376311844082687E-4},null,{"$f":"'13. Diet input'!H104","v":4.4999999999999997E-3},{"$f":"AD102*'13. Diet input'!$Q104*100","v":0.44774999999999998},{"$f":"AD102*'13. Diet input'!$R104*100","v":2.2499999999999998E-3},0.44550000000000001,{"$f":"AD102*'13. Diet input'!$S104*100","v":6.8687999999999999E-2},{"$f":"AD102*'13. Diet input'!$T104*100","v":0},{"$f":"AD102*'13. Diet input'!$U104*100","v":0},{"$f":"AE102*(1-'13. Diet input'!$V104)","v":2.2376311844082687E-4},null,{"$f":"'13. Diet input'!I104","v":3.0000000000000001E-3},{"$f":"AM102*'13. Diet input'!$Q104*100","v":0.29850000000000004},{"$f":"AM102*'13. Diet input'!$R104*100","v":1.5E-3},0.29700000000000004,{"$f":"AM102*'13. Diet input'!$S104*100","v":4.5791999999999999E-2},{"$f":"AM102*'13. Diet input'!$T104*100","v":0},{"$f":"AM102*'13. Diet input'!$U104*100","v":0},{"$f":"AN102*(1-'13. Diet input'!$V104)","v":1.4917541229388461E-4},null,{"$f":"'13. Diet input'!J104","v":0},{"$f":"AV102*'13. Diet input'!$Q104*100","v":0},{"$f":"AV102*'13. Diet input'!$R104*100","v":0},0,{"$f":"AV102*'13. Diet input'!$S104*100","v":0},{"$f":"AV102*'13. Diet input'!$T104*100","v":0},{"$f":"AV102*'13. Diet input'!$U104*100","v":0},{"$f":"AW102*(1-'13. Diet input'!$V104)","v":0},null,{"$f":"'13. Diet input'!K104","v":0},{"$f":"BE102*'13. Diet input'!$Q104*100","v":0},{"$f":"BE102*'13. Diet input'!$R104*100","v":0},0,{"$f":"BE102*'13. Diet input'!$S104*100","v":0},{"$f":"BE102*'13. Diet input'!$T104*100","v":0},{"$f":"BE102*'13. Diet input'!$U104*100","v":0},{"$f":"BF102*(1-'13. Diet input'!$V104)","v":0},null,{"$f":"'13. Diet input'!L104","v":3.3E-3},{"$f":"BN102*'13. Diet input'!$Q104*100","v":0.32834999999999998},{"$f":"BN102*'13. Diet input'!$R104*100","v":1.6500000000000002E-3},0.32669999999999999,{"$f":"BN102*'13. Diet input'!$S104*100","v":5.0371200000000005E-2},{"$f":"BN102*'13. Diet input'!$T104*100","v":0},{"$f":"BN102*'13. Diet input'!$U104*100","v":0},{"$f":"BO102*(1-'13. Diet input'!$V104)","v":1.6409295352327305E-4},null,{"$f":"'13. Diet input'!M104","v":5.0000000000000001E-4},{"$f":"BW102*'13. Diet input'!$Q104*100","v":4.9750000000000003E-2},{"$f":"BW102*'13. Diet input'!$R104*100","v":2.5000000000000001E-4},4.9500000000000002E-2,{"$f":"BW102*'13. Diet input'!$S104*100","v":7.6319999999999999E-3},{"$f":"BW102*'13. Diet input'!$T104*100","v":0},{"$f":"BW102*'13. Diet input'!$U104*100","v":0},{"$f":"BX102*(1-'13. Diet input'!$V104)","v":2.4862568715647435E-5},null,{"$f":"'13. Diet input'!N104","v":3.0500000000000002E-3},{"$f":"CF102*'13. Diet input'!$Q104*100","v":0.30347499999999999},{"$f":"CF102*'13. Diet input'!$R104*100","v":1.5250000000000001E-3},0.30195,{"$f":"CF102*'13. Diet input'!$S104*100","v":4.6555200000000005E-2},{"$f":"CF102*'13. Diet input'!$T104*100","v":0},{"$f":"CF102*'13. Diet input'!$U104*100","v":0},{"$f":"CG102*(1-'13. Diet input'!$V104)","v":1.5166166916544933E-4},null,{"$f":"'13. Diet input'!O104","v":1.4999999999999999E-4},{"$f":"CO102*'13. Diet input'!$Q104*100","v":1.4924999999999999E-2},{"$f":"CO102*'13. Diet input'!$R104*100","v":7.4999999999999993E-5},1.4849999999999999E-2,{"$f":"CO102*'13. Diet input'!$S104*100","v":2.2895999999999997E-3},{"$f":"CO102*'13. Diet input'!$T104*100","v":0},{"$f":"CO102*'13. Diet input'!$U104*100","v":0},{"$f":"CP102*(1-'13. Diet input'!$V104)","v":7.458770614694229E-6}]
[null,{"$f":"'13. Diet input'!B105","v":"DL-Methionine"},{"$f":"'13. Diet input'!E105","v":2.2000000000000001E-4},{"$f":"C103*'13. Diet input'!$Q105*100","v":2.189E-2},{"$f":"C103*'13. Diet input'!$R105*100","v":4.3999999999999999E-5},2.1846000000000001E-2,{"$f":"C103*'13. Diet input'!$S105*100","v":2.0556799999999998E-3},{"$f":"C103*'13. Diet input'!$T105*100","v":0},{"$f":"C103*'13. Diet input'!$U105*100","v":0},{"$f":"D103*(1-'13. Diet input'!$V105)","v":0},null,{"$f":"'13. Diet input'!F105","v":1.75E-3},{"$f":"L103*'13. Diet input'!$Q105*100","v":0.174125},{"$f":"L103*'13. Diet input'!$R105*100","v":3.5E-4},0.17377500000000001,{"$f":"L103*'13. Diet input'!$S105*100","v":1.6352000000000002E-2},{"$f":"L103*'13. Diet input'!$T105*100","v":0},{"$f":"L103*'13. Diet input'!$U105*100","v":0},{"$f":"M103*(1-'13. Diet input'!$V105)","v":0},null,{"$f":"'13. Diet input'!G105","v":8.0000000000000004E-4},{"$f":"U103*'13. Diet input'!$Q105*100","v":7.9600000000000004E-2},{"$f":"U103*'13. Diet input'!$R105*100","v":1.6000000000000001E-4},7.9440000000000011E-2,{"$f":"U103*'13. Diet input'!$S105*100","v":7.4752000000000004E-3},{"$f":"U103*'13. Diet input'!$T105*100","v":0},{"$f":"U103*'13. Diet input'!$U105*100","v":0},{"$f":"V103*(1-'13. Diet input'!$V105)","v":0},null,{"$f":"'13. Diet input'!H105","v":7.7499999999999997E-4},{"$f":"AD103*'13. Diet input'!$Q105*100","v":7.71125E-2},{"$f":"AD103*'13. Diet input'!$R105*100","v":1.55E-4},7.6957499999999998E-2,{"$f":"AD103*'13. Diet input'!$S105*100","v":7.2415999999999991E-3},{"$f":"AD103*'13. Diet input'!$T105*100","v":0},{"$f":"AD103*'13. Diet input'!$U105*100","v":0},{"$f":"AE103*(1-'13. Diet input'!$V105)","v":0},null,{"$f":"'13. Diet input'!I105","v":4.75E-4},{"$f":"AM103*'13. Diet input'!$Q105*100","v":4.7262499999999999E-2},{"$f":"AM103*'13. Diet input'!$R105*100","v":9.5000000000000005E-5},4.7167500000000001E-2,{"$f":"AM103*'13. Diet input'!$S105*100","v":4.4384000000000003E-3},{"$f":"AM103*'13. Diet input'!$T105*100","v":0},{"$f":"AM103*'13. Diet input'!$U105*100","v":0},{"$f":"AN103*(1-'13. Diet input'!$V105)","v":0},null,{"$f":"'13. Diet input'!J105","v":0},{"$f":"AV103*'13. Diet input'!$Q105*100","v":0},{"$f":"AV103*'13. Diet input'!$R105*100","v":0},0,{"$f":"AV103*'13. Diet input'!$S105*100","v":0},{"$f":"AV103*'13. Diet input'!$T105*100","v":0},{"$f":"AV103*'13. Diet input'!$U105*100","v":0},{"$f":"AW103*(1-'13. Diet input'!$V105)","v":0},null,{"$f":"'13. Diet input'!K105","v":0},{"$f":"BE103*'13. Diet input'!$Q105*100","v":0},{"$f":"BE103*'13. Diet input'!$R105*100","v":0},0,{"$f":"BE103*'13. Diet input'!$S105*100","v":0},{"$f":"BE103*'13. Diet input'!$T105*100","v":0},{"$f":"BE103*'13. Diet input'!$U105*100","v":0},{"$f":"BF103*(1-'13. Diet input'!$V105)","v":0},null,{"$f":"'13. Diet input'!L105","v":2.4000000000000001E-4},{"$f":"BN103*'13. Diet input'!$Q105*100","v":2.3880000000000002E-2},{"$f":"BN103*'13. Diet input'!$R105*100","v":4.8000000000000008E-5},2.3832000000000002E-2,{"$f":"BN103*'13. Diet input'!$S105*100","v":2.2425600000000002E-3},{"$f":"BN103*'13. Diet input'!$T105*100","v":0},{"$f":"BN103*'13. Diet input'!$U105*100","v":0},{"$f":"BO103*(1-'13. Diet input'!$V105)","v":0},null,{"$f":"'13. Diet input'!M105","v":0},{"$f":"BW103*'13. Diet input'!$Q105*100","v":0},{"$f":"BW103*'13. Diet input'!$R105*100","v":0},0,{"$f":"BW103*'13. Diet input'!$S105*100","v":0},{"$f":"BW103*'13. Diet input'!$T105*100","v":0},{"$f":"BW103*'13. Diet input'!$U105*100","v":0},{"$f":"BX103*(1-'13. Diet input'!$V105)","v":0},null,{"$f":"'13. Diet input'!N105","v":3.8099999999999999E-4},{"$f":"CF103*'13. Diet input'!$Q105*100","v":3.7909499999999999E-2},{"$f":"CF103*'13. Diet input'!$R105*100","v":7.6199999999999995E-5},3.78333E-2,{"$f":"CF103*'13. Diet input'!$S105*100","v":3.5600639999999995E-3},{"$f":"CF103*'13. Diet input'!$T105*100","v":0},{"$f":"CF103*'13. Diet input'!$U105*100","v":0},{"$f":"CG103*(1-'13. Diet input'!$V105)","v":0},null,{"$f":"'13. Diet input'!O105","v":0},{"$f":"CO103*'13. Diet input'!$Q105*100","v":0},{"$f":"CO103*'13. Diet input'!$R105*100","v":0},0,{"$f":"CO103*'13. Diet input'!$S105*100","v":0},{"$f":"CO103*'13. Diet input'!$T105*100","v":0},{"$f":"CO103*'13. Diet input'!$U105*100","v":0},{"$f":"CP103*(1-'13. Diet input'!$V105)","v":0}]
[null,{"$f":"'13. Diet input'!B106","v":"L-Threonine"},{"$f":"'13. Diet input'!E106","v":1.95E-4},{"$f":"C104*'13. Diet input'!$Q106*100","v":1.94025E-2},{"$f":"C104*'13. Diet input'!$R106*100","v":9.7499999999999998E-5},1.9304999999999999E-2,{"$f":"C104*'13. Diet input'!$S106*100","v":2.2807199999999995E-3},{"$f":"C104*'13. Diet input'!$T106*100","v":0},{"$f":"C104*'13. Diet input'!$U106*100","v":0},{"$f":"D104*(1-'13. Diet input'!$V106)","v":4.5017401392110555E-5},null,{"$f":"'13. Diet input'!F106","v":1.8E-3},{"$f":"L104*'13. Diet input'!$Q106*100","v":0.17909999999999998},{"$f":"L104*'13. Diet input'!$R106*100","v":8.9999999999999998E-4},0.17819999999999997,{"$f":"L104*'13. Diet input'!$S106*100","v":2.1052799999999997E-2},{"$f":"L104*'13. Diet input'!$T106*100","v":0},{"$f":"L104*'13. Diet input'!$U106*100","v":0},{"$f":"M104*(1-'13. Diet input'!$V106)","v":4.1554524361948203E-4},null,{"$f":"'13. Diet input'!G106","v":1.25E-3},{"$f":"U104*'13. Diet input'!$Q106*100","v":0.12437500000000001},{"$f":"U104*'13. Diet input'!$R106*100","v":6.2500000000000001E-4},0.12375000000000001,{"$f":"U104*'13. Diet input'!$S106*100","v":1.4620000000000001E-2},{"$f":"U104*'13. Diet input'!$T106*100","v":0},{"$f":"U104*'13. Diet input'!$U106*100","v":0},{"$f":"V104*(1-'13. Diet input'!$V106)","v":2.8857308584686258E-4},null,{"$f":"'13. Diet input'!H106","v":1.2750000000000001E-3},{"$f":"AD104*'13. Diet input'!$Q106*100","v":0.12686249999999999},{"$f":"AD104*'13. Diet input'!$R106*100","v":6.3750000000000005E-4},0.12622499999999998,{"$f":"AD104*'13. Diet input'!$S106*100","v":1.4912399999999999E-2},{"$f":"AD104*'13. Diet input'!$T106*100","v":0},{"$f":"AD104*'13. Diet input'!$U106*100","v":0},{"$f":"AE104*(1-'13. Diet input'!$V106)","v":2.9434454756379979E-4},null,{"$f":"'13. Diet input'!I106","v":5.2499999999999997E-4},{"$f":"AM104*'13. Diet input'!$Q106*100","v":5.2237499999999992E-2},{"$f":"AM104*'13. Diet input'!$R106*100","v":2.6249999999999998E-4},5.1974999999999993E-2,{"$f":"AM104*'13. Diet input'!$S106*100","v":6.1403999999999999E-3},{"$f":"AM104*'13. Diet input'!$T106*100","v":0},{"$f":"AM104*'13. Diet input'!$U106*100","v":0},{"$f":"AN104*(1-'13. Diet input'!$V106)","v":1.2120069605568225E-4},null,{"$f":"'13. Diet input'!J106","v":0},{"$f":"AV104*'13. Diet input'!$Q106*100","v":0},{"$f":"AV104*'13. Diet input'!$R106*100","v":0},0,{"$f":"AV104*'13. Diet input'!$S106*100","v":0},{"$f":"AV104*'13. Diet input'!$T106*100","v":0},{"$f":"AV104*'13. Diet input'!$U106*100","v":0},{"$f":"AW104*(1-'13. Diet input'!$V106)","v":0},null,{"$f":"'13. Diet input'!K106","v":0},{"$f":"BE104*'13. Diet input'!$Q106*100","v":0},{"$f":"BE104*'13. Diet input'!$R106*100","v":0},0,{"$f":"BE104*'13. Diet input'!$S106*100","v":0},{"$f":"BE104*'13. Diet input'!$T106*100","v":0},{"$f":"BE104*'13. Diet input'!$U106*100","v":0},{"$f":"BF104*(1-'13. Diet input'!$V106)","v":0},null,{"$f":"'13. Diet input'!L106","v":8.4999999999999995E-4},{"$f":"BN104*'13. Diet input'!$Q106*100","v":8.4574999999999997E-2},{"$f":"BN104*'13. Diet input'!$R106*100","v":4.2499999999999998E-4},8.4150000000000003E-2,{"$f":"BN104*'13. Diet input'!$S106*100","v":9.9415999999999984E-3},{"$f":"BN104*'13. Diet input'!$T106*100","v":0},{"$f":"BN104*'13. Diet input'!$U106*100","v":0},{"$f":"BO104*(1-'13. Diet input'!$V106)","v":1.9622969837586654E-4},null,{"$f":"'13. Diet input'!M106","v":0},{"$f":"BW104*'13. Diet input'!$Q106*100","v":0},{"$f":"BW104*'13. Diet input'!$R106*100","v":0},0,{"$f":"BW104*'13. Diet input'!$S106*100","v":0},{"$f":"BW104*'13. Diet input'!$T106*100","v":0},{"$f":"BW104*'13. Diet input'!$U106*100","v":0},{"$f":"BX104*(1-'13. Diet input'!$V106)","v":0},null,{"$f":"'13. Diet input'!N106","v":1.33E-3},{"$f":"CF104*'13. Diet input'!$Q106*100","v":0.13233500000000001},{"$f":"CF104*'13. Diet input'!$R106*100","v":6.6500000000000001E-4},0.13167000000000001,{"$f":"CF104*'13. Diet input'!$S106*100","v":1.5555680000000001E-2},{"$f":"CF104*'13. Diet input'!$T106*100","v":0},{"$f":"CF104*'13. Diet input'!$U106*100","v":0},{"$f":"CG104*(1-'13. Diet input'!$V106)","v":3.0704176334106178E-4},null,{"$f":"'13. Diet input'!O106","v":0},{"$f":"CO104*'13. Diet input'!$Q106*100","v":0},{"$f":"CO104*'13. Diet input'!$R106*100","v":0},0,{"$f":"CO104*'13. Diet input'!$S106*100","v":0},{"$f":"CO104*'13. Diet input'!$T106*100","v":0},{"$f":"CO104*'13. Diet input'!$U106*100","v":0},{"$f":"CP104*(1-'13. Diet input'!$V106)","v":0}]
[null,{"$f":"'13. Diet input'!B107","v":"L-Tryptophan"},{"$f":"'13. Diet input'!E107","v":6.7500000000000001E-5},{"$f":"C105*'13. Diet input'!$Q107*100","v":6.71625E-3},{"$f":"C105*'13. Diet input'!$R107*100","v":3.375E-5},6.6825000000000001E-3,{"$f":"C105*'13. Diet input'!$S107*100","v":9.2124000000000004E-4},{"$f":"C105*'13. Diet input'!$T107*100","v":0},{"$f":"C105*'13. Diet input'!$U107*100","v":0},{"$f":"D105*(1-'13. Diet input'!$V107)","v":-4.8881004366806131E-6},null,{"$f":"'13. Diet input'!F107","v":2.9999999999999997E-4},{"$f":"L105*'13. Diet input'!$Q107*100","v":2.9849999999999998E-2},{"$f":"L105*'13. Diet input'!$R107*100","v":1.4999999999999999E-4},2.9699999999999997E-2,{"$f":"L105*'13. Diet input'!$S107*100","v":4.0943999999999989E-3},{"$f":"L105*'13. Diet input'!$T107*100","v":0},{"$f":"L105*'13. Diet input'!$U107*100","v":0},{"$f":"M105*(1-'13. Diet input'!$V107)","v":-2.172489082969161E-5},null,{"$f":"'13. Diet input'!G107","v":5.0000000000000002E-5},{"$f":"U105*'13. Diet input'!$Q107*100","v":4.9750000000000003E-3},{"$f":"U105*'13. Diet input'!$R107*100","v":2.5000000000000005E-5},4.9500000000000004E-3,{"$f":"U105*'13. Diet input'!$S107*100","v":6.824E-4},{"$f":"U105*'13. Diet input'!$T107*100","v":0},{"$f":"U105*'13. Diet input'!$U107*100","v":0},{"$f":"V105*(1-'13. Diet input'!$V107)","v":-3.6208151382819355E-6},null,{"$f":"'13. Diet input'!H107","v":1.75E-4},{"$f":"AD105*'13. Diet input'!$Q107*100","v":1.7412499999999997E-2},{"$f":"AD105*'13. Diet input'!$R107*100","v":8.7499999999999999E-5},1.7324999999999997E-2,{"$f":"AD105*'13. Diet input'!$S107*100","v":2.3883999999999997E-3},{"$f":"AD105*'13. Diet input'!$T107*100","v":0},{"$f":"AD105*'13. Diet input'!$U107*100","v":0},{"$f":"AE105*(1-'13. Diet input'!$V107)","v":-1.2672852983986773E-5},null,{"$f":"'13. Diet input'!I107","v":1.4999999999999999E-4},{"$f":"AM105*'13. Diet input'!$Q107*100","v":1.4924999999999999E-2},{"$f":"AM105*'13. Diet input'!$R107*100","v":7.4999999999999993E-5},1.4849999999999999E-2,{"$f":"AM105*'13. Diet input'!$S107*100","v":2.0471999999999995E-3},{"$f":"AM105*'13. Diet input'!$T107*100","v":0},{"$f":"AM105*'13. Diet input'!$U107*100","v":0},{"$f":"AN105*(1-'13. Diet input'!$V107)","v":-1.0862445414845805E-5},null,{"$f":"'13. Diet input'!J107","v":0},{"$f":"AV105*'13. Diet input'!$Q107*100","v":0},{"$f":"AV105*'13. Diet input'!$R107*100","v":0},0,{"$f":"AV105*'13. Diet input'!$S107*100","v":0},{"$f":"AV105*'13. Diet input'!$T107*100","v":0},{"$f":"AV105*'13. Diet input'!$U107*100","v":0},{"$f":"AW105*(1-'13. Diet input'!$V107)","v":0},null,{"$f":"'13. Diet input'!K107","v":0},{"$f":"BE105*'13. Diet input'!$Q107*100","v":0},{"$f":"BE105*'13. Diet input'!$R107*100","v":0},0,{"$f":"BE105*'13. Diet input'!$S107*100","v":0},{"$f":"BE105*'13. Diet input'!$T107*100","v":0},{"$f":"BE105*'13. Diet input'!$U107*100","v":0},{"$f":"BF105*(1-'13. Diet input'!$V107)","v":0},null,{"$f":"'13. Diet input'!L107","v":1.17E-4},{"$f":"BN105*'13. Diet input'!$Q107*100","v":1.1641500000000001E-2},{"$f":"BN105*'13. Diet input'!$R107*100","v":5.8499999999999999E-5},1.1583000000000001E-2,{"$f":"BN105*'13. Diet input'!$S107*100","v":1.5968159999999998E-3},{"$f":"BN105*'13. Diet input'!$T107*100","v":0},{"$f":"BN105*'13. Diet input'!$U107*100","v":0},{"$f":"BO105*(1-'13. Diet input'!$V107)","v":-8.4727074235797285E-6},null,{"$f":"'13. Diet input'!M107","v":0},{"$f":"BW105*'13. Diet input'!$Q107*100","v":0},{"$f":"BW105*'13. Diet input'!$R107*100","v":0},0,{"$f":"BW105*'13. Diet input'!$S107*100","v":0},{"$f":"BW105*'13. Diet input'!$T107*100","v":0},{"$f":"BW105*'13. Diet input'!$U107*100","v":0},{"$f":"BX105*(1-'13. Diet input'!$V107)","v":0},null,{"$f":"'13. Diet input'!N107","v":1.4300000000000001E-4},{"$f":"CF105*'13. Diet input'!$Q107*100","v":1.42285E-2},{"$f":"CF105*'13. Diet input'!$R107*100","v":7.1500000000000003E-5},1.4156999999999999E-2,{"$f":"CF105*'13. Diet input'!$S107*100","v":1.9516639999999999E-3},{"$f":"CF105*'13. Diet input'!$T107*100","v":0},{"$f":"CF105*'13. Diet input'!$U107*100","v":0},{"$f":"CG105*(1-'13. Diet input'!$V107)","v":-1.0355531295486335E-5},null,{"$f":"'13. Diet input'!O107","v":0},{"$f":"CO105*'13. Diet input'!$Q107*100","v":0},{"$f":"CO105*'13. Diet input'!$R107*100","v":0},0,{"$f":"CO105*'13. Diet input'!$S107*100","v":0},{"$f":"CO105*'13. Diet input'!$T107*100","v":0},{"$f":"CO105*'13. Diet input'!$U107*100","v":0},{"$f":"CP105*(1-'13. Diet input'!$V107)","v":0}]
[null,"Micellaneous ingredients"]
[null,{"$f":"'13. Diet input'!B109","v":"Lactose"},{"$f":"'13. Diet input'!E109","v":2.5000000000000001E-3},{"$f":"C107*'13. Diet input'!$Q109*100","v":0.24750000000000003},{"$f":"C107*'13. Diet input'!$R109*100","v":1.25E-3},{"$f":"D107-E107","v":0.24625000000000002},{"$f":"C107*'13. Diet input'!$S109*100","v":0},{"$f":"C107*'13. Diet input'!$T109*100","v":1.0000000000000002E-4},{"$f":"C107*'13. Diet input'!$U109*100","v":0},{"$f":"D107*(1-'13. Diet input'!$V109)","v":6.0637500000000004E-2},null,{"$f":"'13. Diet input'!F109","v":0},{"$f":"L107*'13. Diet input'!$Q109*100","v":0},{"$f":"L107*'13. Diet input'!$R109*100","v":0},{"$f":"M107-N107","v":0},{"$f":"L107*'13. Diet input'!$S109*100","v":0},{"$f":"L107*'13. Diet input'!$T109*100","v":0},{"$f":"L107*'13. Diet input'!$U109*100","v":0},{"$f":"M107*(1-'13. Diet input'!$V109)","v":0},null,{"$f":"'13. Diet input'!G109","v":0},{"$f":"U107*'13. Diet input'!$Q109*100","v":0},{"$f":"U107*'13. Diet input'!$R109*100","v":0},{"$f":"V107-W107","v":0},{"$f":"U107*'13. Diet input'!$S109*100","v":0},{"$f":"U107*'13. Diet input'!$T109*100","v":0},{"$f":"U107*'13. Diet input'!$U109*100","v":0},{"$f":"V107*(1-'13. Diet input'!$V109)","v":0},null,{"$f":"'13. Diet input'!H109","v":0},{"$f":"AD107*'13. Diet input'!$Q109*100","v":0},{"$f":"AD107*'13. Diet input'!$R109*100","v":0},{"$f":"AE107-AF107","v":0},{"$f":"AD107*'13. Diet input'!$S109*100","v":0},{"$f":"AD107*'13. Diet input'!$T109*100","v":0},{"$f":"AD107*'13. Diet input'!$U109*100","v":0},{"$f":"AE107*(1-'13. Diet input'!$V109)","v":0},null,{"$f":"'13. Diet input'!I109","v":0},{"$f":"AM107*'13. Diet input'!$Q109*100","v":0},{"$f":"AM107*'13. Diet input'!$R109*100","v":0},{"$f":"AN107-AO107","v":0},{"$f":"AM107*'13. Diet input'!$S109*100","v":0},{"$f":"AM107*'13. Diet input'!$T109*100","v":0},{"$f":"AM107*'13. Diet input'!$U109*100","v":0},{"$f":"AN107*(1-'13. Diet input'!$V109)","v":0},null,{"$f":"'13. Diet input'!J109","v":0},{"$f":"AV107*'13. Diet input'!$Q109*100","v":0},{"$f":"AV107*'13. Diet input'!$R109*100","v":0},{"$f":"AW107-AX107","v":0},{"$f":"AV107*'13. Diet input'!$S109*100","v":0},{"$f":"AV107*'13. Diet input'!$T109*100","v":0},{"$f":"AV107*'13. Diet input'!$U109*100","v":0},{"$f":"AW107*(1-'13. Diet input'!$V109)","v":0},null,{"$f":"'13. Diet input'!K109","v":0},{"$f":"BE107*'13. Diet input'!$Q109*100","v":0},{"$f":"BE107*'13. Diet input'!$R109*100","v":0},{"$f":"BF107-BG107","v":0},{"$f":"BE107*'13. Diet input'!$S109*100","v":0},{"$f":"BE107*'13. Diet input'!$T109*100","v":0},{"$f":"BE107*'13. Diet input'!$U109*100","v":0},{"$f":"BF107*(1-'13. Diet input'!$V109)","v":0},null,{"$f":"'13. Diet input'!L109","v":0},{"$f":"BN107*'13. Diet input'!$Q109*100","v":0},{"$f":"BN107*'13. Diet input'!$R109*100","v":0},{"$f":"BO107-BP107","v":0},{"$f":"BN107*'13. Diet input'!$S109*100","v":0},{"$f":"BN107*'13. Diet input'!$T109*100","v":0},{"$f":"BN107*'13. Diet input'!$U109*100","v":0},{"$f":"BO107*(1-'13. Diet input'!$V109)","v":0},null,{"$f":"'13. Diet input'!M109","v":0},{"$f":"BW107*'13. Diet input'!$Q109*100","v":0},{"$f":"BW107*'13. Diet input'!$R109*100","v":0},{"$f":"BX107-BY107","v":0},{"$f":"BW107*'13. Diet input'!$S109*100","v":0},{"$f":"BW107*'13. Diet input'!$T109*100","v":0},{"$f":"BW107*'13. Diet input'!$U109*100","v":0},{"$f":"BX107*(1-'13. Diet input'!$V109)","v":0},null,{"$f":"'13. Diet input'!N109","v":0},{"$f":"CF107*'13. Diet input'!$Q109*100","v":0},{"$f":"CF107*'13. Diet input'!$R109*100","v":0},{"$f":"CG107-CH107","v":0},{"$f":"CF107*'13. Diet input'!$S109*100","v":0},{"$f":"CF107*'13. Diet input'!$T109*100","v":0},{"$f":"CF107*'13. Diet input'!$U109*100","v":0},{"$f":"CG107*(1-'13. Diet input'!$V109)","v":0},null,{"$f":"'13. Diet input'!O109","v":0},{"$f":"CO107*'13. Diet input'!$Q109*100","v":0},{"$f":"CO107*'13. Diet input'!$R109*100","v":0},{"$f":"CP107-CQ107","v":0},{"$f":"CO107*'13. Diet input'!$S109*100","v":0},{"$f":"CO107*'13. Diet input'!$T109*100","v":0},{"$f":"CO107*'13. Diet input'!$U109*100","v":0},{"$f":"CP107*(1-'13. Diet input'!$V109)","v":0}]
[null,{"$f":"'13. Diet input'!B110","v":"Levucell"},{"$f":"'13. Diet input'!E110","v":0},{"$f":"C108*'13. Diet input'!$Q110*100","v":0},{"$f":"C108*'13. Diet input'!$R110*100","v":0},0,{"$f":"C108*'13. Diet input'!$S110*100","v":0},{"$f":"C108*'13. Diet input'!$T110*100","v":0},{"$f":"C108*'13. Diet input'!$U110*100","v":0},{"$f":"D108*(1-'13. Diet input'!$V110)","v":0},null,{"$f":"'13. Diet input'!F110","v":0},{"$f":"L108*'13. Diet input'!$Q110*100","v":0},{"$f":"L108*'13. Diet input'!$R110*100","v":0},0,{"$f":"L108*'13. Diet input'!$S110*100","v":0},{"$f":"L108*'13. Diet input'!$T110*100","v":0},{"$f":"L108*'13. Diet input'!$U110*100","v":0},{"$f":"M108*(1-'13. Diet input'!$V110)","v":0},null,{"$f":"'13. Diet input'!G110","v":0},{"$f":"U108*'13. Diet input'!$Q110*100","v":0},{"$f":"U108*'13. Diet input'!$R110*100","v":0},0,{"$f":"U108*'13. Diet input'!$S110*100","v":0},{"$f":"U108*'13. Diet input'!$T110*100","v":0},{"$f":"U108*'13. Diet input'!$U110*100","v":0},{"$f":"V108*(1-'13. Diet input'!$V110)","v":0},null,{"$f":"'13. Diet input'!H110","v":0},{"$f":"AD108*'13. Diet input'!$Q110*100","v":0},{"$f":"AD108*'13. Diet input'!$R110*100","v":0},0,{"$f":"AD108*'13. Diet input'!$S110*100","v":0},{"$f":"AD108*'13. Diet input'!$T110*100","v":0},{"$f":"AD108*'13. Diet input'!$U110*100","v":0},{"$f":"AE108*(1-'13. Diet input'!$V110)","v":0},null,{"$f":"'13. Diet input'!I110","v":0},{"$f":"AM108*'13. Diet input'!$Q110*100","v":0},{"$f":"AM108*'13. Diet input'!$R110*100","v":0},0,{"$f":"AM108*'13. Diet input'!$S110*100","v":0},{"$f":"AM108*'13. Diet input'!$T110*100","v":0},{"$f":"AM108*'13. Diet input'!$U110*100","v":0},{"$f":"AN108*(1-'13. Diet input'!$V110)","v":0},null,{"$f":"'13. Diet input'!J110","v":0},{"$f":"AV108*'13. Diet input'!$Q110*100","v":0},{"$f":"AV108*'13. Diet input'!$R110*100","v":0},0,{"$f":"AV108*'13. Diet input'!$S110*100","v":0},{"$f":"AV108*'13. Diet input'!$T110*100","v":0},{"$f":"AV108*'13. Diet input'!$U110*100","v":0},{"$f":"AW108*(1-'13. Diet input'!$V110)","v":0},null,{"$f":"'13. Diet input'!K110","v":0},{"$f":"BE108*'13. Diet input'!$Q110*100","v":0},{"$f":"BE108*'13. Diet input'!$R110*100","v":0},0,{"$f":"BE108*'13. Diet input'!$S110*100","v":0},{"$f":"BE108*'13. Diet input'!$T110*100","v":0},{"$f":"BE108*'13. Diet input'!$U110*100","v":0},{"$f":"BF108*(1-'13. Diet input'!$V110)","v":0},null,{"$f":"'13. Diet input'!L110","v":0},{"$f":"BN108*'13. Diet input'!$Q110*100","v":0},{"$f":"BN108*'13. Diet input'!$R110*100","v":0},0,{"$f":"BN108*'13. Diet input'!$S110*100","v":0},{"$f":"BN108*'13. Diet input'!$T110*100","v":0},{"$f":"BN108*'13. Diet input'!$U110*100","v":0},{"$f":"BO108*(1-'13. Diet input'!$V110)","v":0},null,{"$f":"'13. Diet input'!M110","v":0},{"$f":"BW108*'13. Diet input'!$Q110*100","v":0},{"$f":"BW108*'13. Diet input'!$R110*100","v":0},0,{"$f":"BW108*'13. Diet input'!$S110*100","v":0},{"$f":"BW108*'13. Diet input'!$T110*100","v":0},{"$f":"BW108*'13. Diet input'!$U110*100","v":0},{"$f":"BX108*(1-'13. Diet input'!$V110)","v":0},null,{"$f":"'13. Diet input'!N110","v":0},{"$f":"CF108*'13. Diet input'!$Q110*100","v":0},{"$f":"CF108*'13. Diet input'!$R110*100","v":0},0,{"$f":"CF108*'13. Diet input'!$S110*100","v":0},{"$f":"CF108*'13. Diet input'!$T110*100","v":0},{"$f":"CF108*'13. Diet input'!$U110*100","v":0},{"$f":"CG108*(1-'13. Diet input'!$V110)","v":0},null,{"$f":"'13. Diet input'!O110","v":0},{"$f":"CO108*'13. Diet input'!$Q110*100","v":0},{"$f":"CO108*'13. Diet input'!$R110*100","v":0},0,{"$f":"CO108*'13. Diet input'!$S110*100","v":0},{"$f":"CO108*'13. Diet input'!$T110*100","v":0},{"$f":"CO108*'13. Diet input'!$U110*100","v":0},{"$f":"CP108*(1-'13. Diet input'!$V110)","v":0}]
[null,"Vitamin/mineral premixes"]
[null,{"$f":"'13. Diet input'!B112","v":"Breeder premix"},{"$f":"'13. Diet input'!E112","v":0},{"$f":"C110*'13. Diet input'!$Q112*100","v":0},{"$f":"C110*'13. Diet input'!$R112*100","v":0},0,{"$f":"C110*'13. Diet input'!$S112*100","v":0},{"$f":"C110*'13. Diet input'!$T112*100","v":0},{"$f":"C110*'13. Diet input'!$U112*100","v":0},{"$f":"D110*(1-'13. Diet input'!$V112)","v":0},null,{"$f":"'13. Diet input'!F112","v":0},{"$f":"L110*'13. Diet input'!$Q112*100","v":0},{"$f":"L110*'13. Diet input'!$R112*100","v":0},0,{"$f":"L110*'13. Diet input'!$S112*100","v":0},{"$f":"L110*'13. Diet input'!$T112*100","v":0},{"$f":"L110*'13. Diet input'!$U112*100","v":0},{"$f":"M110*(1-'13. Diet input'!$V112)","v":0},null,{"$f":"'13. Diet input'!G112","v":0},{"$f":"U110*'13. Diet input'!$Q112*100","v":0},{"$f":"U110*'13. Diet input'!$R112*100","v":0},0,{"$f":"U110*'13. Diet input'!$S112*100","v":0},{"$f":"U110*'13. Diet input'!$T112*100","v":0},{"$f":"U110*'13. Diet input'!$U112*100","v":0},{"$f":"V110*(1-'13. Diet input'!$V112)","v":0},null,{"$f":"'13. Diet input'!H112","v":0},{"$f":"AD110*'13. Diet input'!$Q112*100","v":0},{"$f":"AD110*'13. Diet input'!$R112*100","v":0},0,{"$f":"AD110*'13. Diet input'!$S112*100","v":0},{"$f":"AD110*'13. Diet input'!$T112*100","v":0},{"$f":"AD110*'13. Diet input'!$U112*100","v":0},{"$f":"AE110*(1-'13. Diet input'!$V112)","v":0},null,{"$f":"'13. Diet input'!I112","v":0},{"$f":"AM110*'13. Diet input'!$Q112*100","v":0},{"$f":"AM110*'13. Diet input'!$R112*100","v":0},0,{"$f":"AM110*'13. Diet input'!$S112*100","v":0},{"$f":"AM110*'13. Diet input'!$T112*100","v":0},{"$f":"AM110*'13. Diet input'!$U112*100","v":0},{"$f":"AN110*(1-'13. Diet input'!$V112)","v":0},null,{"$f":"'13. Diet input'!J112","v":0},{"$f":"AV110*'13. Diet input'!$Q112*100","v":0},{"$f":"AV110*'13. Diet input'!$R112*100","v":0},0,{"$f":"AV110*'13. Diet input'!$S112*100","v":0},{"$f":"AV110*'13. Diet input'!$T112*100","v":0},{"$f":"AV110*'13. Diet input'!$U112*100","v":0},{"$f":"AW110*(1-'13. Diet input'!$V112)","v":0},null,{"$f":"'13. Diet input'!K112","v":0},{"$f":"BE110*'13. Diet input'!$Q112*100","v":0},{"$f":"BE110*'13. Diet input'!$R112*100","v":0},0,{"$f":"BE110*'13. Diet input'!$S112*100","v":0},{"$f":"BE110*'13. Diet input'!$T112*100","v":0},{"$f":"BE110*'13. Diet input'!$U112*100","v":0},{"$f":"BF110*(1-'13. Diet input'!$V112)","v":0},null,{"$f":"'13. Diet input'!L112","v":2E-3},{"$f":"BN110*'13. Diet input'!$Q112*100","v":0.2},{"$f":"BN110*'13. Diet input'!$R112*100","v":4.5999999999999999E-2},0.15400000000000003,{"$f":"BN110*'13. Diet input'!$S112*100","v":0},{"$f":"BN110*'13. Diet input'!$T112*100","v":0},{"$f":"BN110*'13. Diet input'!$U112*100","v":0},{"$f":"BO110*(1-'13. Diet input'!$V112)","v":0.2},null,{"$f":"'13. Diet input'!M112","v":2E-3},{"$f":"BW110*'13. Diet input'!$Q112*100","v":0.2},{"$f":"BW110*'13. Diet input'!$R112*100","v":4.5999999999999999E-2},0.15400000000000003,{"$f":"BW110*'13. Diet input'!$S112*100","v":0},{"$f":"BW110*'13. Diet input'!$T112*100","v":0},{"$f":"BW110*'13. Diet input'!$U112*100","v":0},{"$f":"BX110*(1-'13. Diet input'!$V112)","v":0.2},null,{"$f":"'13. Diet input'!N112","v":2E-3},{"$f":"CF110*'13. Diet input'!$Q112*100","v":0.2},{"$f":"CF110*'13. Diet input'!$R112*100","v":4.5999999999999999E-2},0.15400000000000003,{"$f":"CF110*'13. Diet input'!$S112*100","v":0},{"$f":"CF110*'13. Diet input'!$T112*100","v":0},{"$f":"CF110*'13. Diet input'!$U112*100","v":0},{"$f":"CG110*(1-'13. Diet input'!$V112)","v":0.2},null,{"$f":"'13. Diet input'!O112","v":2E-3},{"$f":"CO110*'13. Diet input'!$Q112*100","v":0.2},{"$f":"CO110*'13. Diet input'!$R112*100","v":4.5999999999999999E-2},0.15400000000000003,{"$f":"CO110*'13. Diet input'!$S112*100","v":0},{"$f":"CO110*'13. Diet input'!$T112*100","v":0},{"$f":"CO110*'13. Diet input'!$U112*100","v":0},{"$f":"CP110*(1-'13. Diet input'!$V112)","v":0.2}]
[null,{"$f":"'13. Diet input'!B113","v":"Grower premix"},{"$f":"'13. Diet input'!E113","v":0},{"$f":"C111*'13. Diet input'!$Q113*100","v":0},{"$f":"C111*'13. Diet input'!$R113*100","v":0},0,{"$f":"C111*'13. Diet input'!$S113*100","v":0},{"$f":"C111*'13. Diet input'!$T113*100","v":0},{"$f":"C111*'13. Diet input'!$U113*100","v":0},{"$f":"D111*(1-'13. Diet input'!$V113)","v":0},null,{"$f":"'13. Diet input'!F113","v":0},{"$f":"L111*'13. Diet input'!$Q113*100","v":0},{"$f":"L111*'13. Diet input'!$R113*100","v":0},0,{"$f":"L111*'13. Diet input'!$S113*100","v":0},{"$f":"L111*'13. Diet input'!$T113*100","v":0},{"$f":"L111*'13. Diet input'!$U113*100","v":0},{"$f":"M111*(1-'13. Diet input'!$V113)","v":0},null,{"$f":"'13. Diet input'!G113","v":2E-3},{"$f":"U111*'13. Diet input'!$Q113*100","v":0.2},{"$f":"U111*'13. Diet input'!$R113*100","v":4.5999999999999999E-2},0.15400000000000003,{"$f":"U111*'13. Diet input'!$S113*100","v":1.5999999999999999E-3},{"$f":"U111*'13. Diet input'!$T113*100","v":4.7999999999999996E-4},{"$f":"U111*'13. Diet input'!$U113*100","v":5.5999999999999995E-4},{"$f":"V111*(1-'13. Diet input'!$V113)","v":0.2},null,{"$f":"'13. Diet input'!H113","v":2E-3},{"$f":"AD111*'13. Diet input'!$Q113*100","v":0.2},{"$f":"AD111*'13. Diet input'!$R113*100","v":4.5999999999999999E-2},0.15400000000000003,{"$f":"AD111*'13. Diet input'!$S113*100","v":1.5999999999999999E-3},{"$f":"AD111*'13. Diet input'!$T113*100","v":4.7999999999999996E-4},{"$f":"AD111*'13. Diet input'!$U113*100","v":5.5999999999999995E-4},{"$f":"AE111*(1-'13. Diet input'!$V113)","v":0.2},null,{"$f":"'13. Diet input'!I113","v":2E-3},{"$f":"AM111*'13. Diet input'!$Q113*100","v":0.2},{"$f":"AM111*'13. Diet input'!$R113*100","v":4.5999999999999999E-2},0.15400000000000003,{"$f":"AM111*'13. Diet input'!$S113*100","v":1.5999999999999999E-3},{"$f":"AM111*'13. Diet input'!$T113*100","v":4.7999999999999996E-4},{"$f":"AM111*'13. Diet input'!$U113*100","v":5.5999999999999995E-4},{"$f":"AN111*(1-'13. Diet input'!$V113)","v":0.2},null,{"$f":"'13. Diet input'!J113","v":0},{"$f":"AV111*'13. Diet input'!$Q113*100","v":0},{"$f":"AV111*'13. Diet input'!$R113*100","v":0},0,{"$f":"AV111*'13. Diet input'!$S113*100","v":0},{"$f":"AV111*'13. Diet input'!$T113*100","v":0},{"$f":"AV111*'13. Diet input'!$U113*100","v":0},{"$f":"AW111*(1-'13. Diet input'!$V113)","v":0},null,{"$f":"'13. Diet input'!K113","v":0},{"$f":"BE111*'13. Diet input'!$Q113*100","v":0},{"$f":"BE111*'13. Diet input'!$R113*100","v":0},0,{"$f":"BE111*'13. Diet input'!$S113*100","v":0},{"$f":"BE111*'13. Diet input'!$T113*100","v":0},{"$f":"BE111*'13. Diet input'!$U113*100","v":0},{"$f":"BF111*(1-'13. Diet input'!$V113)","v":0},null,{"$f":"'13. Diet input'!L113","v":0},{"$f":"BN111*'13. Diet input'!$Q113*100","v":0},{"$f":"BN111*'13. Diet input'!$R113*100","v":0},0,{"$f":"BN111*'13. Diet input'!$S113*100","v":0},{"$f":"BN111*'13. Diet input'!$T113*100","v":0},{"$f":"BN111*'13. Diet input'!$U113*100","v":0},{"$f":"BO111*(1-'13. Diet input'!$V113)","v":0},null,{"$f":"'13. Diet input'!M113","v":0},{"$f":"BW111*'13. Diet input'!$Q113*100","v":0},{"$f":"BW111*'13. Diet input'!$R113*100","v":0},0,{"$f":"BW111*'13. Diet input'!$S113*100","v":0},{"$f":"BW111*'13. Diet input'!$T113*100","v":0},{"$f":"BW111*'13. Diet input'!$U113*100","v":0},{"$f":"BX111*(1-'13. Diet input'!$V113)","v":0},null,{"$f":"'13. Diet input'!N113","v":0},{"$f":"CF111*'13. Diet input'!$Q113*100","v":0},{"$f":"CF111*'13. Diet input'!$R113*100","v":0},0,{"$f":"CF111*'13. Diet input'!$S113*100","v":0},{"$f":"CF111*'13. Diet input'!$T113*100","v":0},{"$f":"CF111*'13. Diet input'!$U113*100","v":0},{"$f":"CG111*(1-'13. Diet input'!$V113)","v":0},null,{"$f":"'13. Diet input'!O113","v":0},{"$f":"CO111*'13. Diet input'!$Q113*100","v":0},{"$f":"CO111*'13. Diet input'!$R113*100","v":0},0,{"$f":"CO111*'13. Diet input'!$S113*100","v":0},{"$f":"CO111*'13. Diet input'!$T113*100","v":0},{"$f":"CO111*'13. Diet input'!$U113*100","v":0},{"$f":"CP111*(1-'13. Diet input'!$V113)","v":0}]
[null,{"$f":"'13. Diet input'!B114","v":"Weaner premix"},{"$f":"'13. Diet input'!E114","v":2.0000000000000001E-4},{"$f":"C112*'13. Diet input'!$Q114*100","v":0.02},{"$f":"C112*'13. Diet input'!$R114*100","v":4.6000000000000008E-3},1.54E-2,{"$f":"C112*'13. Diet input'!$S114*100","v":0},{"$f":"C112*'13. Diet input'!$T114*100","v":0},{"$f":"C112*'13. Diet input'!$U114*100","v":0},{"$f":"D112*(1-'13. Diet input'!$V114)","v":0.02},null,{"$f":"'13. Diet input'!F114","v":2E-3},{"$f":"L112*'13. Diet input'!$Q114*100","v":0.2},{"$f":"L112*'13. Diet input'!$R114*100","v":4.5999999999999999E-2},0.15400000000000003,{"$f":"L112*'13. Diet input'!$S114*100","v":0},{"$f":"L112*'13. Diet input'!$T114*100","v":0},{"$f":"L112*'13. Diet input'!$U114*100","v":0},{"$f":"M112*(1-'13. Diet input'!$V114)","v":0.2},null,{"$f":"'13. Diet input'!G114","v":0},{"$f":"U112*'13. Diet input'!$Q114*100","v":0},{"$f":"U112*'13. Diet input'!$R114*100","v":0},0,{"$f":"U112*'13. Diet input'!$S114*100","v":0},{"$f":"U112*'13. Diet input'!$T114*100","v":0},{"$f":"U112*'13. Diet input'!$U114*100","v":0},{"$f":"V112*(1-'13. Diet input'!$V114)","v":0},null,{"$f":"'13. Diet input'!H114","v":0},{"$f":"AD112*'13. Diet input'!$Q114*100","v":0},{"$f":"AD112*'13. Diet input'!$R114*100","v":0},0,{"$f":"AD112*'13. Diet input'!$S114*100","v":0},{"$f":"AD112*'13. Diet input'!$T114*100","v":0},{"$f":"AD112*'13. Diet input'!$U114*100","v":0},{"$f":"AE112*(1-'13. Diet input'!$V114)","v":0},null,{"$f":"'13. Diet input'!I114","v":0},{"$f":"AM112*'13. Diet input'!$Q114*100","v":0},{"$f":"AM112*'13. Diet input'!$R114*100","v":0},0,{"$f":"AM112*'13. Diet input'!$S114*100","v":0},{"$f":"AM112*'13. Diet input'!$T114*100","v":0},{"$f":"AM112*'13. Diet input'!$U114*100","v":0},{"$f":"AN112*(1-'13. Diet input'!$V114)","v":0},null,{"$f":"'13. Diet input'!J114","v":0},{"$f":"AV112*'13. Diet input'!$Q114*100","v":0},{"$f":"AV112*'13. Diet input'!$R114*100","v":0},0,{"$f":"AV112*'13. Diet input'!$S114*100","v":0},{"$f":"AV112*'13. Diet input'!$T114*100","v":0},{"$f":"AV112*'13. Diet input'!$U114*100","v":0},{"$f":"AW112*(1-'13. Diet input'!$V114)","v":0},null,{"$f":"'13. Diet input'!K114","v":0},{"$f":"BE112*'13. Diet input'!$Q114*100","v":0},{"$f":"BE112*'13. Diet input'!$R114*100","v":0},0,{"$f":"BE112*'13. Diet input'!$S114*100","v":0},{"$f":"BE112*'13. Diet input'!$T114*100","v":0},{"$f":"BE112*'13. Diet input'!$U114*100","v":0},{"$f":"BF112*(1-'13. Diet input'!$V114)","v":0},null,{"$f":"'13. Diet input'!L114","v":0},{"$f":"BN112*'13. Diet input'!$Q114*100","v":0},{"$f":"BN112*'13. Diet input'!$R114*100","v":0},0,{"$f":"BN112*'13. Diet input'!$S114*100","v":0},{"$f":"BN112*'13. Diet input'!$T114*100","v":0},{"$f":"BN112*'13. Diet input'!$U114*100","v":0},{"$f":"BO112*(1-'13. Diet input'!$V114)","v":0},null,{"$f":"'13. Diet input'!M114","v":0},{"$f":"BW112*'13. Diet input'!$Q114*100","v":0},{"$f":"BW112*'13. Diet input'!$R114*100","v":0},0,{"$f":"BW112*'13. Diet input'!$S114*100","v":0},{"$f":"BW112*'13. Diet input'!$T114*100","v":0},{"$f":"BW112*'13. Diet input'!$U114*100","v":0},{"$f":"BX112*(1-'13. Diet input'!$V114)","v":0},null,{"$f":"'13. Diet input'!N114","v":0},{"$f":"CF112*'13. Diet input'!$Q114*100","v":0},{"$f":"CF112*'13. Diet input'!$R114*100","v":0},0,{"$f":"CF112*'13. Diet input'!$S114*100","v":0},{"$f":"CF112*'13. Diet input'!$T114*100","v":0},{"$f":"CF112*'13. Diet input'!$U114*100","v":0},{"$f":"CG112*(1-'13. Diet input'!$V114)","v":0},null,{"$f":"'13. Diet input'!O114","v":0},{"$f":"CO112*'13. Diet input'!$Q114*100","v":0},{"$f":"CO112*'13. Diet input'!$R114*100","v":0},0,{"$f":"CO112*'13. Diet input'!$S114*100","v":0},{"$f":"CO112*'13. Diet input'!$T114*100","v":0},{"$f":"CO112*'13. Diet input'!$U114*100","v":0},{"$f":"CP112*(1-'13. Diet input'!$V114)","v":0}]
[null,"Enzymes"]
[null,{"$f":"'13. Diet input'!B116","v":"Feedzyme "},{"$f":"'13. Diet input'!E116","v":0},{"$f":"C114*'13. Diet input'!$Q116*100","v":0},{"$f":"C114*'13. Diet input'!$R116*100","v":0},0,{"$f":"C114*'13. Diet input'!$S116*100","v":0},{"$f":"C114*'13. Diet input'!$T116*100","v":0},{"$f":"C114*'13. Diet input'!$U116*100","v":0},{"$f":"D114*(1-'13. Diet input'!$V116)","v":0},null,{"$f":"'13. Diet input'!F116","v":0},{"$f":"L114*'13. Diet input'!$Q116*100","v":0},{"$f":"L114*'13. Diet input'!$R116*100","v":0},0,{"$f":"L114*'13. Diet input'!$S116*100","v":0},{"$f":"L114*'13. Diet input'!$T116*100","v":0},{"$f":"L114*'13. Diet input'!$U116*100","v":0},{"$f":"M114*(1-'13. Diet input'!$V116)","v":0},null,{"$f":"'13. Diet input'!G116","v":0},{"$f":"U114*'13. Diet input'!$Q116*100","v":0},{"$f":"U114*'13. Diet input'!$R116*100","v":0},0,{"$f":"U114*'13. Diet input'!$S116*100","v":0},{"$f":"U114*'13. Diet input'!$T116*100","v":0},{"$f":"U114*'13. Diet input'!$U116*100","v":0},{"$f":"V114*(1-'13. Diet input'!$V116)","v":0},null,{"$f":"'13. Diet input'!H116","v":0},{"$f":"AD114*'13. Diet input'!$Q116*100","v":0},{"$f":"AD114*'13. Diet input'!$R116*100","v":0},0,{"$f":"AD114*'13. Diet input'!$S116*100","v":0},{"$f":"AD114*'13. Diet input'!$T116*100","v":0},{"$f":"AD114*'13. Diet input'!$U116*100","v":0},{"$f":"AE114*(1-'13. Diet input'!$V116)","v":0},null,{"$f":"'13. Diet input'!I116","v":0},{"$f":"AM114*'13. Diet input'!$Q116*100","v":0},{"$f":"AM114*'13. Diet input'!$R116*100","v":0},0,{"$f":"AM114*'13. Diet input'!$S116*100","v":0},{"$f":"AM114*'13. Diet input'!$T116*100","v":0},{"$f":"AM114*'13. Diet input'!$U116*100","v":0},{"$f":"AN114*(1-'13. Diet input'!$V116)","v":0},null,{"$f":"'13. Diet input'!J116","v":0},{"$f":"AV114*'13. Diet input'!$Q116*100","v":0},{"$f":"AV114*'13. Diet input'!$R116*100","v":0},0,{"$f":"AV114*'13. Diet input'!$S116*100","v":0},{"$f":"AV114*'13. Diet input'!$T116*100","v":0},{"$f":"AV114*'13. Diet input'!$U116*100","v":0},{"$f":"AW114*(1-'13. Diet input'!$V116)","v":0},null,{"$f":"'13. Diet input'!K116","v":0},{"$f":"BE114*'13. Diet input'!$Q116*100","v":0},{"$f":"BE114*'13. Diet input'!$R116*100","v":0},0,{"$f":"BE114*'13. Diet input'!$S116*100","v":0},{"$f":"BE114*'13. Diet input'!$T116*100","v":0},{"$f":"BE114*'13. Diet input'!$U116*100","v":0},{"$f":"BF114*(1-'13. Diet input'!$V116)","v":0},null,{"$f":"'13. Diet input'!L116","v":0},{"$f":"BN114*'13. Diet input'!$Q116*100","v":0},{"$f":"BN114*'13. Diet input'!$R116*100","v":0},0,{"$f":"BN114*'13. Diet input'!$S116*100","v":0},{"$f":"BN114*'13. Diet input'!$T116*100","v":0},{"$f":"BN114*'13. Diet input'!$U116*100","v":0},{"$f":"BO114*(1-'13. Diet input'!$V116)","v":0},null,{"$f":"'13. Diet input'!M116","v":0},{"$f":"BW114*'13. Diet input'!$Q116*100","v":0},{"$f":"BW114*'13. Diet input'!$R116*100","v":0},0,{"$f":"BW114*'13. Diet input'!$S116*100","v":0},{"$f":"BW114*'13. Diet input'!$T116*100","v":0},{"$f":"BW114*'13. Diet input'!$U116*100","v":0},{"$f":"BX114*(1-'13. Diet input'!$V116)","v":0},null,{"$f":"'13. Diet input'!N116","v":0},{"$f":"CF114*'13. Diet input'!$Q116*100","v":0},{"$f":"CF114*'13. Diet input'!$R116*100","v":0},0,{"$f":"CF114*'13. Diet input'!$S116*100","v":0},{"$f":"CF114*'13. Diet input'!$T116*100","v":0},{"$f":"CF114*'13. Diet input'!$U116*100","v":0},{"$f":"CG114*(1-'13. Diet input'!$V116)","v":0},null,{"$f":"'13. Diet input'!O116","v":0},{"$f":"CO114*'13. Diet input'!$Q116*100","v":0},{"$f":"CO114*'13. Diet input'!$R116*100","v":0},0,{"$f":"CO114*'13. Diet input'!$S116*100","v":0},{"$f":"CO114*'13. Diet input'!$T116*100","v":0},{"$f":"CO114*'13. Diet input'!$U116*100","v":0},{"$f":"CP114*(1-'13. Diet input'!$V116)","v":0}]
[null,{"$f":"'13. Diet input'!B117","v":"Axtra Phy"},{"$f":"'13. Diet input'!E117","v":1.0000000000000001E-5},{"$f":"C115*'13. Diet input'!$Q117*100","v":1E-3},{"$f":"C115*'13. Diet input'!$R117*100","v":0},1E-3,{"$f":"C115*'13. Diet input'!$S117*100","v":0},{"$f":"C115*'13. Diet input'!$T117*100","v":0},{"$f":"C115*'13. Diet input'!$U117*100","v":0},{"$f":"D115*(1-'13. Diet input'!$V117)","v":1E-3},null,{"$f":"'13. Diet input'!F117","v":1E-4},{"$f":"L115*'13. Diet input'!$Q117*100","v":0.01},{"$f":"L115*'13. Diet input'!$R117*100","v":0},0.01,{"$f":"L115*'13. Diet input'!$S117*100","v":0},{"$f":"L115*'13. Diet input'!$T117*100","v":0},{"$f":"L115*'13. Diet input'!$U117*100","v":0},{"$f":"M115*(1-'13. Diet input'!$V117)","v":0.01},null,{"$f":"'13. Diet input'!G117","v":1E-4},{"$f":"U115*'13. Diet input'!$Q117*100","v":0.01},{"$f":"U115*'13. Diet input'!$R117*100","v":0},0.01,{"$f":"U115*'13. Diet input'!$S117*100","v":0},{"$f":"U115*'13. Diet input'!$T117*100","v":0},{"$f":"U115*'13. Diet input'!$U117*100","v":0},{"$f":"V115*(1-'13. Diet input'!$V117)","v":0.01},null,{"$f":"'13. Diet input'!H117","v":1E-4},{"$f":"AD115*'13. Diet input'!$Q117*100","v":0.01},{"$f":"AD115*'13. Diet input'!$R117*100","v":0},0.01,{"$f":"AD115*'13. Diet input'!$S117*100","v":0},{"$f":"AD115*'13. Diet input'!$T117*100","v":0},{"$f":"AD115*'13. Diet input'!$U117*100","v":0},{"$f":"AE115*(1-'13. Diet input'!$V117)","v":0.01},null,{"$f":"'13. Diet input'!I117","v":1E-4},{"$f":"AM115*'13. Diet input'!$Q117*100","v":0.01},{"$f":"AM115*'13. Diet input'!$R117*100","v":0},0.01,{"$f":"AM115*'13. Diet input'!$S117*100","v":0},{"$f":"AM115*'13. Diet input'!$T117*100","v":0},{"$f":"AM115*'13. Diet input'!$U117*100","v":0},{"$f":"AN115*(1-'13. Diet input'!$V117)","v":0.01},null,{"$f":"'13. Diet input'!J117","v":0},{"$f":"AV115*'13. Diet input'!$Q117*100","v":0},{"$f":"AV115*'13. Diet input'!$R117*100","v":0},0,{"$f":"AV115*'13. Diet input'!$S117*100","v":0},{"$f":"AV115*'13. Diet input'!$T117*100","v":0},{"$f":"AV115*'13. Diet input'!$U117*100","v":0},{"$f":"AW115*(1-'13. Diet input'!$V117)","v":0},null,{"$f":"'13. Diet input'!K117","v":0},{"$f":"BE115*'13. Diet input'!$Q117*100","v":0},{"$f":"BE115*'13. Diet input'!$R117*100","v":0},0,{"$f":"BE115*'13. Diet input'!$S117*100","v":0},{"$f":"BE115*'13. Diet input'!$T117*100","v":0},{"$f":"BE115*'13. Diet input'!$U117*100","v":0},{"$f":"BF115*(1-'13. Diet input'!$V117)","v":0},null,{"$f":"'13. Diet input'!L117","v":1E-4},{"$f":"BN115*'13. Diet input'!$Q117*100","v":0.01},{"$f":"BN115*'13. Diet input'!$R117*100","v":0},0.01,{"$f":"BN115*'13. Diet input'!$S117*100","v":0},{"$f":"BN115*'13. Diet input'!$T117*100","v":0},{"$f":"BN115*'13. Diet input'!$U117*100","v":0},{"$f":"BO115*(1-'13. Diet input'!$V117)","v":0.01},null,{"$f":"'13. Diet input'!M117","v":1E-4},{"$f":"BW115*'13. Diet input'!$Q117*100","v":0.01},{"$f":"BW115*'13. Diet input'!$R117*100","v":0},0.01,{"$f":"BW115*'13. Diet input'!$S117*100","v":0},{"$f":"BW115*'13. Diet input'!$T117*100","v":0},{"$f":"BW115*'13. Diet input'!$U117*100","v":0},{"$f":"BX115*(1-'13. Diet input'!$V117)","v":0.01},null,{"$f":"'13. Diet input'!N117","v":1E-4},{"$f":"CF115*'13. Diet input'!$Q117*100","v":0.01},{"$f":"CF115*'13. Diet input'!$R117*100","v":0},0.01,{"$f":"CF115*'13. Diet input'!$S117*100","v":0},{"$f":"CF115*'13. Diet input'!$T117*100","v":0},{"$f":"CF115*'13. Diet input'!$U117*100","v":0},{"$f":"CG115*(1-'13. Diet input'!$V117)","v":0.01},null,{"$f":"'13. Diet input'!O117","v":1E-4},{"$f":"CO115*'13. Diet input'!$Q117*100","v":0.01},{"$f":"CO115*'13. Diet input'!$R117*100","v":0},0.01,{"$f":"CO115*'13. Diet input'!$S117*100","v":0},{"$f":"CO115*'13. Diet input'!$T117*100","v":0},{"$f":"CO115*'13. Diet input'!$U117*100","v":0},{"$f":"CP115*(1-'13. Diet input'!$V117)","v":0.01}]
[null,{"$f":"'13. Diet input'!B118","v":"Axtra XB"},{"$f":"'13. Diet input'!E118","v":0},{"$f":"C116*'13. Diet input'!$Q118*100","v":0},{"$f":"C116*'13. Diet input'!$R118*100","v":0},0,{"$f":"C116*'13. Diet input'!$S118*100","v":0},{"$f":"C116*'13. Diet input'!$T118*100","v":0},{"$f":"C116*'13. Diet input'!$U118*100","v":0},{"$f":"D116*(1-'13. Diet input'!$V118)","v":0},null,{"$f":"'13. Diet input'!F118","v":0},{"$f":"L116*'13. Diet input'!$Q118*100","v":0},{"$f":"L116*'13. Diet input'!$R118*100","v":0},0,{"$f":"L116*'13. Diet input'!$S118*100","v":0},{"$f":"L116*'13. Diet input'!$T118*100","v":0},{"$f":"L116*'13. Diet input'!$U118*100","v":0},{"$f":"M116*(1-'13. Diet input'!$V118)","v":0},null,{"$f":"'13. Diet input'!G118","v":0},{"$f":"U116*'13. Diet input'!$Q118*100","v":0},{"$f":"U116*'13. Diet input'!$R118*100","v":0},0,{"$f":"U116*'13. Diet input'!$S118*100","v":0},{"$f":"U116*'13. Diet input'!$T118*100","v":0},{"$f":"U116*'13. Diet input'!$U118*100","v":0},{"$f":"V116*(1-'13. Diet input'!$V118)","v":0},null,{"$f":"'13. Diet input'!H118","v":0},{"$f":"AD116*'13. Diet input'!$Q118*100","v":0},{"$f":"AD116*'13. Diet input'!$R118*100","v":0},0,{"$f":"AD116*'13. Diet input'!$S118*100","v":0},{"$f":"AD116*'13. Diet input'!$T118*100","v":0},{"$f":"AD116*'13. Diet input'!$U118*100","v":0},{"$f":"AE116*(1-'13. Diet input'!$V118)","v":0},null,{"$f":"'13. Diet input'!I118","v":0},{"$f":"AM116*'13. Diet input'!$Q118*100","v":0},{"$f":"AM116*'13. Diet input'!$R118*100","v":0},0,{"$f":"AM116*'13. Diet input'!$S118*100","v":0},{"$f":"AM116*'13. Diet input'!$T118*100","v":0},{"$f":"AM116*'13. Diet input'!$U118*100","v":0},{"$f":"AN116*(1-'13. Diet input'!$V118)","v":0},null,{"$f":"'13. Diet input'!J118","v":0},{"$f":"AV116*'13. Diet input'!$Q118*100","v":0},{"$f":"AV116*'13. Diet input'!$R118*100","v":0},0,{"$f":"AV116*'13. Diet input'!$S118*100","v":0},{"$f":"AV116*'13. Diet input'!$T118*100","v":0},{"$f":"AV116*'13. Diet input'!$U118*100","v":0},{"$f":"AW116*(1-'13. Diet input'!$V118)","v":0},null,{"$f":"'13. Diet input'!K118","v":0},{"$f":"BE116*'13. Diet input'!$Q118*100","v":0},{"$f":"BE116*'13. Diet input'!$R118*100","v":0},0,{"$f":"BE116*'13. Diet input'!$S118*100","v":0},{"$f":"BE116*'13. Diet input'!$T118*100","v":0},{"$f":"BE116*'13. Diet input'!$U118*100","v":0},{"$f":"BF116*(1-'13. Diet input'!$V118)","v":0},null,{"$f":"'13. Diet input'!L118","v":0},{"$f":"BN116*'13. Diet input'!$Q118*100","v":0},{"$f":"BN116*'13. Diet input'!$R118*100","v":0},0,{"$f":"BN116*'13. Diet input'!$S118*100","v":0},{"$f":"BN116*'13. Diet input'!$T118*100","v":0},{"$f":"BN116*'13. Diet input'!$U118*100","v":0},{"$f":"BO116*(1-'13. Diet input'!$V118)","v":0},null,{"$f":"'13. Diet input'!M118","v":1E-4},{"$f":"BW116*'13. Diet input'!$Q118*100","v":0.01},{"$f":"BW116*'13. Diet input'!$R118*100","v":0},0.01,{"$f":"BW116*'13. Diet input'!$S118*100","v":0},{"$f":"BW116*'13. Diet input'!$T118*100","v":0},{"$f":"BW116*'13. Diet input'!$U118*100","v":0},{"$f":"BX116*(1-'13. Diet input'!$V118)","v":0.01},null,{"$f":"'13. Diet input'!N118","v":0},{"$f":"CF116*'13. Diet input'!$Q118*100","v":0},{"$f":"CF116*'13. Diet input'!$R118*100","v":0},0,{"$f":"CF116*'13. Diet input'!$S118*100","v":0},{"$f":"CF116*'13. Diet input'!$T118*100","v":0},{"$f":"CF116*'13. Diet input'!$U118*100","v":0},{"$f":"CG116*(1-'13. Diet input'!$V118)","v":0},null,{"$f":"'13. Diet input'!O118","v":0},{"$f":"CO116*'13. Diet input'!$Q118*100","v":0},{"$f":"CO116*'13. Diet input'!$R118*100","v":0},0,{"$f":"CO116*'13. Diet input'!$S118*100","v":0},{"$f":"CO116*'13. Diet input'!$T118*100","v":0},{"$f":"CO116*'13. Diet input'!$U118*100","v":0},{"$f":"CP116*(1-'13. Diet input'!$V118)","v":0}]
[null,{"$f":"'13. Diet input'!B119","v":"Natuphos Blue"},{"$f":"'13. Diet input'!E119","v":0},{"$f":"C117*'13. Diet input'!$Q119*100","v":0},{"$f":"C117*'13. Diet input'!$R119*100","v":0},0,{"$f":"C117*'13. Diet input'!$S119*100","v":0},{"$f":"C117*'13. Diet input'!$T119*100","v":0},{"$f":"C117*'13. Diet input'!$U119*100","v":0},{"$f":"D117*(1-'13. Diet input'!$V119)","v":0},null,{"$f":"'13. Diet input'!F119","v":0},{"$f":"L117*'13. Diet input'!$Q119*100","v":0},{"$f":"L117*'13. Diet input'!$R119*100","v":0},0,{"$f":"L117*'13. Diet input'!$S119*100","v":0},{"$f":"L117*'13. Diet input'!$T119*100","v":0},{"$f":"L117*'13. Diet input'!$U119*100","v":0},{"$f":"M117*(1-'13. Diet input'!$V119)","v":0},null,{"$f":"'13. Diet input'!G119","v":0},{"$f":"U117*'13. Diet input'!$Q119*100","v":0},{"$f":"U117*'13. Diet input'!$R119*100","v":0},0,{"$f":"U117*'13. Diet input'!$S119*100","v":0},{"$f":"U117*'13. Diet input'!$T119*100","v":0},{"$f":"U117*'13. Diet input'!$U119*100","v":0},{"$f":"V117*(1-'13. Diet input'!$V119)","v":0},null,{"$f":"'13. Diet input'!H119","v":0},{"$f":"AD117*'13. Diet input'!$Q119*100","v":0},{"$f":"AD117*'13. Diet input'!$R119*100","v":0},0,{"$f":"AD117*'13. Diet input'!$S119*100","v":0},{"$f":"AD117*'13. Diet input'!$T119*100","v":0},{"$f":"AD117*'13. Diet input'!$U119*100","v":0},{"$f":"AE117*(1-'13. Diet input'!$V119)","v":0},null,{"$f":"'13. Diet input'!I119","v":0},{"$f":"AM117*'13. Diet input'!$Q119*100","v":0},{"$f":"AM117*'13. Diet input'!$R119*100","v":0},0,{"$f":"AM117*'13. Diet input'!$S119*100","v":0},{"$f":"AM117*'13. Diet input'!$T119*100","v":0},{"$f":"AM117*'13. Diet input'!$U119*100","v":0},{"$f":"AN117*(1-'13. Diet input'!$V119)","v":0},null,{"$f":"'13. Diet input'!J119","v":0},{"$f":"AV117*'13. Diet input'!$Q119*100","v":0},{"$f":"AV117*'13. Diet input'!$R119*100","v":0},0,{"$f":"AV117*'13. Diet input'!$S119*100","v":0},{"$f":"AV117*'13. Diet input'!$T119*100","v":0},{"$f":"AV117*'13. Diet input'!$U119*100","v":0},{"$f":"AW117*(1-'13. Diet input'!$V119)","v":0},null,{"$f":"'13. Diet input'!K119","v":0},{"$f":"BE117*'13. Diet input'!$Q119*100","v":0},{"$f":"BE117*'13. Diet input'!$R119*100","v":0},0,{"$f":"BE117*'13. Diet input'!$S119*100","v":0},{"$f":"BE117*'13. Diet input'!$T119*100","v":0},{"$f":"BE117*'13. Diet input'!$U119*100","v":0},{"$f":"BF117*(1-'13. Diet input'!$V119)","v":0},null,{"$f":"'13. Diet input'!L119","v":0},{"$f":"BN117*'13. Diet input'!$Q119*100","v":0},{"$f":"BN117*'13. Diet input'!$R119*100","v":0},0,{"$f":"BN117*'13. Diet input'!$S119*100","v":0},{"$f":"BN117*'13. Diet input'!$T119*100","v":0},{"$f":"BN117*'13. Diet input'!$U119*100","v":0},{"$f":"BO117*(1-'13. Diet input'!$V119)","v":0},null,{"$f":"'13. Diet input'!M119","v":0},{"$f":"BW117*'13. Diet input'!$Q119*100","v":0},{"$f":"BW117*'13. Diet input'!$R119*100","v":0},0,{"$f":"BW117*'13. Diet input'!$S119*100","v":0},{"$f":"BW117*'13. Diet input'!$T119*100","v":0},{"$f":"BW117*'13. Diet input'!$U119*100","v":0},{"$f":"BX117*(1-'13. Diet input'!$V119)","v":0},null,{"$f":"'13. Diet input'!N119","v":0},{"$f":"CF117*'13. Diet input'!$Q119*100","v":0},{"$f":"CF117*'13. Diet input'!$R119*100","v":0},0,{"$f":"CF117*'13. Diet input'!$S119*100","v":0},{"$f":"CF117*'13. Diet input'!$T119*100","v":0},{"$f":"CF117*'13. Diet input'!$U119*100","v":0},{"$f":"CG117*(1-'13. Diet input'!$V119)","v":0},null,{"$f":"'13. Diet input'!O119","v":0},{"$f":"CO117*'13. Diet input'!$Q119*100","v":0},{"$f":"CO117*'13. Diet input'!$R119*100","v":0},0,{"$f":"CO117*'13. Diet input'!$S119*100","v":0},{"$f":"CO117*'13. Diet input'!$T119*100","v":0},{"$f":"CO117*'13. Diet input'!$U119*100","v":0},{"$f":"CP117*(1-'13. Diet input'!$V119)","v":0}]
[null,{"$f":"'13. Diet input'!B120","v":"Ronozyme P 5000 (150g dose)"},{"$f":"'13. Diet input'!E120","v":0},{"$f":"C118*'13. Diet input'!$Q120*100","v":0},{"$f":"C118*'13. Diet input'!$R120*100","v":0},0,{"$f":"C118*'13. Diet input'!$S120*100","v":0},{"$f":"C118*'13. Diet input'!$T120*100","v":0},{"$f":"C118*'13. Diet input'!$U120*100","v":0},{"$f":"D118*(1-'13. Diet input'!$V120)","v":0},null,{"$f":"'13. Diet input'!F120","v":0},{"$f":"L118*'13. Diet input'!$Q120*100","v":0},{"$f":"L118*'13. Diet input'!$R120*100","v":0},0,{"$f":"L118*'13. Diet input'!$S120*100","v":0},{"$f":"L118*'13. Diet input'!$T120*100","v":0},{"$f":"L118*'13. Diet input'!$U120*100","v":0},{"$f":"M118*(1-'13. Diet input'!$V120)","v":0},null,{"$f":"'13. Diet input'!G120","v":0},{"$f":"U118*'13. Diet input'!$Q120*100","v":0},{"$f":"U118*'13. Diet input'!$R120*100","v":0},0,{"$f":"U118*'13. Diet input'!$S120*100","v":0},{"$f":"U118*'13. Diet input'!$T120*100","v":0},{"$f":"U118*'13. Diet input'!$U120*100","v":0},{"$f":"V118*(1-'13. Diet input'!$V120)","v":0},null,{"$f":"'13. Diet input'!H120","v":0},{"$f":"AD118*'13. Diet input'!$Q120*100","v":0},{"$f":"AD118*'13. Diet input'!$R120*100","v":0},0,{"$f":"AD118*'13. Diet input'!$S120*100","v":0},{"$f":"AD118*'13. Diet input'!$T120*100","v":0},{"$f":"AD118*'13. Diet input'!$U120*100","v":0},{"$f":"AE118*(1-'13. Diet input'!$V120)","v":0},null,{"$f":"'13. Diet input'!I120","v":0},{"$f":"AM118*'13. Diet input'!$Q120*100","v":0},{"$f":"AM118*'13. Diet input'!$R120*100","v":0},0,{"$f":"AM118*'13. Diet input'!$S120*100","v":0},{"$f":"AM118*'13. Diet input'!$T120*100","v":0},{"$f":"AM118*'13. Diet input'!$U120*100","v":0},{"$f":"AN118*(1-'13. Diet input'!$V120)","v":0},null,{"$f":"'13. Diet input'!J120","v":0},{"$f":"AV118*'13. Diet input'!$Q120*100","v":0},{"$f":"AV118*'13. Diet input'!$R120*100","v":0},0,{"$f":"AV118*'13. Diet input'!$S120*100","v":0},{"$f":"AV118*'13. Diet input'!$T120*100","v":0},{"$f":"AV118*'13. Diet input'!$U120*100","v":0},{"$f":"AW118*(1-'13. Diet input'!$V120)","v":0},null,{"$f":"'13. Diet input'!K120","v":0},{"$f":"BE118*'13. Diet input'!$Q120*100","v":0},{"$f":"BE118*'13. Diet input'!$R120*100","v":0},0,{"$f":"BE118*'13. Diet input'!$S120*100","v":0},{"$f":"BE118*'13. Diet input'!$T120*100","v":0},{"$f":"BE118*'13. Diet input'!$U120*100","v":0},{"$f":"BF118*(1-'13. Diet input'!$V120)","v":0},null,{"$f":"'13. Diet input'!L120","v":0},{"$f":"BN118*'13. Diet input'!$Q120*100","v":0},{"$f":"BN118*'13. Diet input'!$R120*100","v":0},0,{"$f":"BN118*'13. Diet input'!$S120*100","v":0},{"$f":"BN118*'13. Diet input'!$T120*100","v":0},{"$f":"BN118*'13. Diet input'!$U120*100","v":0},{"$f":"BO118*(1-'13. Diet input'!$V120)","v":0},null,{"$f":"'13. Diet input'!M120","v":0},{"$f":"BW118*'13. Diet input'!$Q120*100","v":0},{"$f":"BW118*'13. Diet input'!$R120*100","v":0},0,{"$f":"BW118*'13. Diet input'!$S120*100","v":0},{"$f":"BW118*'13. Diet input'!$T120*100","v":0},{"$f":"BW118*'13. Diet input'!$U120*100","v":0},{"$f":"BX118*(1-'13. Diet input'!$V120)","v":0},null,{"$f":"'13. Diet input'!N120","v":0},{"$f":"CF118*'13. Diet input'!$Q120*100","v":0},{"$f":"CF118*'13. Diet input'!$R120*100","v":0},0,{"$f":"CF118*'13. Diet input'!$S120*100","v":0},{"$f":"CF118*'13. Diet input'!$T120*100","v":0},{"$f":"CF118*'13. Diet input'!$U120*100","v":0},{"$f":"CG118*(1-'13. Diet input'!$V120)","v":0},null,{"$f":"'13. Diet input'!O120","v":0},{"$f":"CO118*'13. Diet input'!$Q120*100","v":0},{"$f":"CO118*'13. Diet input'!$R120*100","v":0},0,{"$f":"CO118*'13. Diet input'!$S120*100","v":0},{"$f":"CO118*'13. Diet input'!$T120*100","v":0},{"$f":"CO118*'13. Diet input'!$U120*100","v":0},{"$f":"CP118*(1-'13. Diet input'!$V120)","v":0}]
[null,{"$f":"'13. Diet input'!B121","v":"Rovabio Excel premix"},{"$f":"'13. Diet input'!E121","v":5.0000000000000002E-5},{"$f":"C119*'13. Diet input'!$Q121*100","v":5.0000000000000001E-3},{"$f":"C119*'13. Diet input'!$R121*100","v":0},5.0000000000000001E-3,{"$f":"C119*'13. Diet input'!$S121*100","v":0},{"$f":"C119*'13. Diet input'!$T121*100","v":0},{"$f":"C119*'13. Diet input'!$U121*100","v":0},{"$f":"D119*(1-'13. Diet input'!$V121)","v":5.0000000000000001E-3},null,{"$f":"'13. Diet input'!F121","v":5.0000000000000001E-4},{"$f":"L119*'13. Diet input'!$Q121*100","v":0.05},{"$f":"L119*'13. Diet input'!$R121*100","v":0},0.05,{"$f":"L119*'13. Diet input'!$S121*100","v":0},{"$f":"L119*'13. Diet input'!$T121*100","v":0},{"$f":"L119*'13. Diet input'!$U121*100","v":0},{"$f":"M119*(1-'13. Diet input'!$V121)","v":0.05},null,{"$f":"'13. Diet input'!G121","v":5.0000000000000001E-4},{"$f":"U119*'13. Diet input'!$Q121*100","v":0.05},{"$f":"U119*'13. Diet input'!$R121*100","v":0},0.05,{"$f":"U119*'13. Diet input'!$S121*100","v":0},{"$f":"U119*'13. Diet input'!$T121*100","v":0},{"$f":"U119*'13. Diet input'!$U121*100","v":0},{"$f":"V119*(1-'13. Diet input'!$V121)","v":0.05},null,{"$f":"'13. Diet input'!H121","v":5.0000000000000001E-4},{"$f":"AD119*'13. Diet input'!$Q121*100","v":0.05},{"$f":"AD119*'13. Diet input'!$R121*100","v":0},0.05,{"$f":"AD119*'13. Diet input'!$S121*100","v":0},{"$f":"AD119*'13. Diet input'!$T121*100","v":0},{"$f":"AD119*'13. Diet input'!$U121*100","v":0},{"$f":"AE119*(1-'13. Diet input'!$V121)","v":0.05},null,{"$f":"'13. Diet input'!I121","v":5.0000000000000001E-4},{"$f":"AM119*'13. Diet input'!$Q121*100","v":0.05},{"$f":"AM119*'13. Diet input'!$R121*100","v":0},0.05,{"$f":"AM119*'13. Diet input'!$S121*100","v":0},{"$f":"AM119*'13. Diet input'!$T121*100","v":0},{"$f":"AM119*'13. Diet input'!$U121*100","v":0},{"$f":"AN119*(1-'13. Diet input'!$V121)","v":0.05},null,{"$f":"'13. Diet input'!J121","v":0},{"$f":"AV119*'13. Diet input'!$Q121*100","v":0},{"$f":"AV119*'13. Diet input'!$R121*100","v":0},0,{"$f":"AV119*'13. Diet input'!$S121*100","v":0},{"$f":"AV119*'13. Diet input'!$T121*100","v":0},{"$f":"AV119*'13. Diet input'!$U121*100","v":0},{"$f":"AW119*(1-'13. Diet input'!$V121)","v":0},null,{"$f":"'13. Diet input'!K121","v":0},{"$f":"BE119*'13. Diet input'!$Q121*100","v":0},{"$f":"BE119*'13. Diet input'!$R121*100","v":0},0,{"$f":"BE119*'13. Diet input'!$S121*100","v":0},{"$f":"BE119*'13. Diet input'!$T121*100","v":0},{"$f":"BE119*'13. Diet input'!$U121*100","v":0},{"$f":"BF119*(1-'13. Diet input'!$V121)","v":0},null,{"$f":"'13. Diet input'!L121","v":5.0000000000000001E-4},{"$f":"BN119*'13. Diet input'!$Q121*100","v":0.05},{"$f":"BN119*'13. Diet input'!$R121*100","v":0},0.05,{"$f":"BN119*'13. Diet input'!$S121*100","v":0},{"$f":"BN119*'13. Diet input'!$T121*100","v":0},{"$f":"BN119*'13. Diet input'!$U121*100","v":0},{"$f":"BO119*(1-'13. Diet input'!$V121)","v":0.05},null,{"$f":"'13. Diet input'!M121","v":0},{"$f":"BW119*'13. Diet input'!$Q121*100","v":0},{"$f":"BW119*'13. Diet input'!$R121*100","v":0},0,{"$f":"BW119*'13. Diet input'!$S121*100","v":0},{"$f":"BW119*'13. Diet input'!$T121*100","v":0},{"$f":"BW119*'13. Diet input'!$U121*100","v":0},{"$f":"BX119*(1-'13. Diet input'!$V121)","v":0},null,{"$f":"'13. Diet input'!N121","v":0},{"$f":"CF119*'13. Diet input'!$Q121*100","v":0},{"$f":"CF119*'13. Diet input'!$R121*100","v":0},0,{"$f":"CF119*'13. Diet input'!$S121*100","v":0},{"$f":"CF119*'13. Diet input'!$T121*100","v":0},{"$f":"CF119*'13. Diet input'!$U121*100","v":0},{"$f":"CG119*(1-'13. Diet input'!$V121)","v":0},null,{"$f":"'13. Diet input'!O121","v":0},{"$f":"CO119*'13. Diet input'!$Q121*100","v":0},{"$f":"CO119*'13. Diet input'!$R121*100","v":0},0,{"$f":"CO119*'13. Diet input'!$S121*100","v":0},{"$f":"CO119*'13. Diet input'!$T121*100","v":0},{"$f":"CO119*'13. Diet input'!$U121*100","v":0},{"$f":"CP119*(1-'13. Diet input'!$V121)","v":0}]
[null,{"$f":"'13. Diet input'!B122","v":"Rovabio T-Flex "},{"$f":"'13. Diet input'!E122","v":0},{"$f":"C120*'13. Diet input'!$Q122*100","v":0},{"$f":"C120*'13. Diet input'!$R122*100","v":0},0,{"$f":"C120*'13. Diet input'!$S122*100","v":0},{"$f":"C120*'13. Diet input'!$T122*100","v":0},{"$f":"C120*'13. Diet input'!$U122*100","v":0},{"$f":"D120*(1-'13. Diet input'!$V122)","v":0},null,{"$f":"'13. Diet input'!F122","v":0},{"$f":"L120*'13. Diet input'!$Q122*100","v":0},{"$f":"L120*'13. Diet input'!$R122*100","v":0},0,{"$f":"L120*'13. Diet input'!$S122*100","v":0},{"$f":"L120*'13. Diet input'!$T122*100","v":0},{"$f":"L120*'13. Diet input'!$U122*100","v":0},{"$f":"M120*(1-'13. Diet input'!$V122)","v":0},null,{"$f":"'13. Diet input'!G122","v":0},{"$f":"U120*'13. Diet input'!$Q122*100","v":0},{"$f":"U120*'13. Diet input'!$R122*100","v":0},0,{"$f":"U120*'13. Diet input'!$S122*100","v":0},{"$f":"U120*'13. Diet input'!$T122*100","v":0},{"$f":"U120*'13. Diet input'!$U122*100","v":0},{"$f":"V120*(1-'13. Diet input'!$V122)","v":0},null,{"$f":"'13. Diet input'!H122","v":0},{"$f":"AD120*'13. Diet input'!$Q122*100","v":0},{"$f":"AD120*'13. Diet input'!$R122*100","v":0},0,{"$f":"AD120*'13. Diet input'!$S122*100","v":0},{"$f":"AD120*'13. Diet input'!$T122*100","v":0},{"$f":"AD120*'13. Diet input'!$U122*100","v":0},{"$f":"AE120*(1-'13. Diet input'!$V122)","v":0},null,{"$f":"'13. Diet input'!I122","v":0},{"$f":"AM120*'13. Diet input'!$Q122*100","v":0},{"$f":"AM120*'13. Diet input'!$R122*100","v":0},0,{"$f":"AM120*'13. Diet input'!$S122*100","v":0},{"$f":"AM120*'13. Diet input'!$T122*100","v":0},{"$f":"AM120*'13. Diet input'!$U122*100","v":0},{"$f":"AN120*(1-'13. Diet input'!$V122)","v":0},null,{"$f":"'13. Diet input'!J122","v":0},{"$f":"AV120*'13. Diet input'!$Q122*100","v":0},{"$f":"AV120*'13. Diet input'!$R122*100","v":0},0,{"$f":"AV120*'13. Diet input'!$S122*100","v":0},{"$f":"AV120*'13. Diet input'!$T122*100","v":0},{"$f":"AV120*'13. Diet input'!$U122*100","v":0},{"$f":"AW120*(1-'13. Diet input'!$V122)","v":0},null,{"$f":"'13. Diet input'!K122","v":0},{"$f":"BE120*'13. Diet input'!$Q122*100","v":0},{"$f":"BE120*'13. Diet input'!$R122*100","v":0},0,{"$f":"BE120*'13. Diet input'!$S122*100","v":0},{"$f":"BE120*'13. Diet input'!$T122*100","v":0},{"$f":"BE120*'13. Diet input'!$U122*100","v":0},{"$f":"BF120*(1-'13. Diet input'!$V122)","v":0},null,{"$f":"'13. Diet input'!L122","v":0},{"$f":"BN120*'13. Diet input'!$Q122*100","v":0},{"$f":"BN120*'13. Diet input'!$R122*100","v":0},0,{"$f":"BN120*'13. Diet input'!$S122*100","v":0},{"$f":"BN120*'13. Diet input'!$T122*100","v":0},{"$f":"BN120*'13. Diet input'!$U122*100","v":0},{"$f":"BO120*(1-'13. Diet input'!$V122)","v":0},null,{"$f":"'13. Diet input'!M122","v":0},{"$f":"BW120*'13. Diet input'!$Q122*100","v":0},{"$f":"BW120*'13. Diet input'!$R122*100","v":0},0,{"$f":"BW120*'13. Diet input'!$S122*100","v":0},{"$f":"BW120*'13. Diet input'!$T122*100","v":0},{"$f":"BW120*'13. Diet input'!$U122*100","v":0},{"$f":"BX120*(1-'13. Diet input'!$V122)","v":0},null,{"$f":"'13. Diet input'!N122","v":0},{"$f":"CF120*'13. Diet input'!$Q122*100","v":0},{"$f":"CF120*'13. Diet input'!$R122*100","v":0},0,{"$f":"CF120*'13. Diet input'!$S122*100","v":0},{"$f":"CF120*'13. Diet input'!$T122*100","v":0},{"$f":"CF120*'13. Diet input'!$U122*100","v":0},{"$f":"CG120*(1-'13. Diet input'!$V122)","v":0},null,{"$f":"'13. Diet input'!O122","v":0},{"$f":"CO120*'13. Diet input'!$Q122*100","v":0},{"$f":"CO120*'13. Diet input'!$R122*100","v":0},0,{"$f":"CO120*'13. Diet input'!$S122*100","v":0},{"$f":"CO120*'13. Diet input'!$T122*100","v":0},{"$f":"CO120*'13. Diet input'!$U122*100","v":0},{"$f":"CP120*(1-'13. Diet input'!$V122)","v":0}]
[null,"Toxin Binders"]
[null,{"$f":"'13. Diet input'!B124","v":"Mycofix"},{"$f":"'13. Diet input'!E124","v":2.0000000000000001E-4},{"$f":"C122*'13. Diet input'!$Q124*100","v":0.02},{"$f":"C122*'13. Diet input'!$R124*100","v":1.9599999999999999E-2},4.0000000000000105E-4,{"$f":"C122*'13. Diet input'!$S124*100","v":0},{"$f":"C122*'13. Diet input'!$T124*100","v":0},{"$f":"C122*'13. Diet input'!$U124*100","v":0},{"$f":"D122*(1-'13. Diet input'!$V124)","v":0.02},null,{"$f":"'13. Diet input'!F124","v":0},{"$f":"L122*'13. Diet input'!$Q124*100","v":0},{"$f":"L122*'13. Diet input'!$R124*100","v":0},0,{"$f":"L122*'13. Diet input'!$S124*100","v":0},{"$f":"L122*'13. Diet input'!$T124*100","v":0},{"$f":"L122*'13. Diet input'!$U124*100","v":0},{"$f":"M122*(1-'13. Diet input'!$V124)","v":0},null,{"$f":"'13. Diet input'!G124","v":0},{"$f":"U122*'13. Diet input'!$Q124*100","v":0},{"$f":"U122*'13. Diet input'!$R124*100","v":0},0,{"$f":"U122*'13. Diet input'!$S124*100","v":0},{"$f":"U122*'13. Diet input'!$T124*100","v":0},{"$f":"U122*'13. Diet input'!$U124*100","v":0},{"$f":"V122*(1-'13. Diet input'!$V124)","v":0},null,{"$f":"'13. Diet input'!H124","v":0},{"$f":"AD122*'13. Diet input'!$Q124*100","v":0},{"$f":"AD122*'13. Diet input'!$R124*100","v":0},0,{"$f":"AD122*'13. Diet input'!$S124*100","v":0},{"$f":"AD122*'13. Diet input'!$T124*100","v":0},{"$f":"AD122*'13. Diet input'!$U124*100","v":0},{"$f":"AE122*(1-'13. Diet input'!$V124)","v":0},null,{"$f":"'13. Diet input'!I124","v":0},{"$f":"AM122*'13. Diet input'!$Q124*100","v":0},{"$f":"AM122*'13. Diet input'!$R124*100","v":0},0,{"$f":"AM122*'13. Diet input'!$S124*100","v":0},{"$f":"AM122*'13. Diet input'!$T124*100","v":0},{"$f":"AM122*'13. Diet input'!$U124*100","v":0},{"$f":"AN122*(1-'13. Diet input'!$V124)","v":0},null,{"$f":"'13. Diet input'!J124","v":0},{"$f":"AV122*'13. Diet input'!$Q124*100","v":0},{"$f":"AV122*'13. Diet input'!$R124*100","v":0},0,{"$f":"AV122*'13. Diet input'!$S124*100","v":0},{"$f":"AV122*'13. Diet input'!$T124*100","v":0},{"$f":"AV122*'13. Diet input'!$U124*100","v":0},{"$f":"AW122*(1-'13. Diet input'!$V124)","v":0},null,{"$f":"'13. Diet input'!K124","v":0},{"$f":"BE122*'13. Diet input'!$Q124*100","v":0},{"$f":"BE122*'13. Diet input'!$R124*100","v":0},0,{"$f":"BE122*'13. Diet input'!$S124*100","v":0},{"$f":"BE122*'13. Diet input'!$T124*100","v":0},{"$f":"BE122*'13. Diet input'!$U124*100","v":0},{"$f":"BF122*(1-'13. Diet input'!$V124)","v":0},null,{"$f":"'13. Diet input'!L124","v":2E-3},{"$f":"BN122*'13. Diet input'!$Q124*100","v":0.2},{"$f":"BN122*'13. Diet input'!$R124*100","v":0.19600000000000001},4.0000000000000036E-3,{"$f":"BN122*'13. Diet input'!$S124*100","v":0},{"$f":"BN122*'13. Diet input'!$T124*100","v":0},{"$f":"BN122*'13. Diet input'!$U124*100","v":0},{"$f":"BO122*(1-'13. Diet input'!$V124)","v":0.2},null,{"$f":"'13. Diet input'!M124","v":2E-3},{"$f":"BW122*'13. Diet input'!$Q124*100","v":0.2},{"$f":"BW122*'13. Diet input'!$R124*100","v":0.19600000000000001},4.0000000000000036E-3,{"$f":"BW122*'13. Diet input'!$S124*100","v":0},{"$f":"BW122*'13. Diet input'!$T124*100","v":0},{"$f":"BW122*'13. Diet input'!$U124*100","v":0},{"$f":"BX122*(1-'13. Diet input'!$V124)","v":0.2},null,{"$f":"'13. Diet input'!N124","v":2E-3},{"$f":"CF122*'13. Diet input'!$Q124*100","v":0.2},{"$f":"CF122*'13. Diet input'!$R124*100","v":0.19600000000000001},4.0000000000000036E-3,{"$f":"CF122*'13. Diet input'!$S124*100","v":0},{"$f":"CF122*'13. Diet input'!$T124*100","v":0},{"$f":"CF122*'13. Diet input'!$U124*100","v":0},{"$f":"CG122*(1-'13. Diet input'!$V124)","v":0.2},null,{"$f":"'13. Diet input'!O124","v":0},{"$f":"CO122*'13. Diet input'!$Q124*100","v":0},{"$f":"CO122*'13. Diet input'!$R124*100","v":0},0,{"$f":"CO122*'13. Diet input'!$S124*100","v":0},{"$f":"CO122*'13. Diet input'!$T124*100","v":0},{"$f":"CO122*'13. Diet input'!$U124*100","v":0},{"$f":"CP122*(1-'13. Diet input'!$V124)","v":0}]
[null,{"$f":"'13. Diet input'!B125","v":"Mycosorb"},{"$f":"'13. Diet input'!E125","v":0},{"$f":"C123*'13. Diet input'!$Q125*100","v":0},{"$f":"C123*'13. Diet input'!$R125*100","v":0},{"$f":"D123-E123","v":0},{"$f":"C123*'13. Diet input'!$S125*100","v":0},{"$f":"C123*'13. Diet input'!$T125*100","v":0},{"$f":"C123*'13. Diet input'!$U125*100","v":0},{"$f":"D123*(1-'13. Diet input'!$V125)","v":0},null,{"$f":"'13. Diet input'!F125","v":0},{"$f":"L123*'13. Diet input'!$Q125*100","v":0},{"$f":"L123*'13. Diet input'!$R125*100","v":0},{"$f":"M123-N123","v":0},{"$f":"L123*'13. Diet input'!$S125*100","v":0},{"$f":"L123*'13. Diet input'!$T125*100","v":0},{"$f":"L123*'13. Diet input'!$U125*100","v":0},{"$f":"M123*(1-'13. Diet input'!$V125)","v":0},null,{"$f":"'13. Diet input'!G125","v":0},{"$f":"U123*'13. Diet input'!$Q125*100","v":0},{"$f":"U123*'13. Diet input'!$R125*100","v":0},{"$f":"V123-W123","v":0},{"$f":"U123*'13. Diet input'!$S125*100","v":0},{"$f":"U123*'13. Diet input'!$T125*100","v":0},{"$f":"U123*'13. Diet input'!$U125*100","v":0},{"$f":"V123*(1-'13. Diet input'!$V125)","v":0},null,{"$f":"'13. Diet input'!H125","v":0},{"$f":"AD123*'13. Diet input'!$Q125*100","v":0},{"$f":"AD123*'13. Diet input'!$R125*100","v":0},{"$f":"AE123-AF123","v":0},{"$f":"AD123*'13. Diet input'!$S125*100","v":0},{"$f":"AD123*'13. Diet input'!$T125*100","v":0},{"$f":"AD123*'13. Diet input'!$U125*100","v":0},{"$f":"AE123*(1-'13. Diet input'!$V125)","v":0},null,{"$f":"'13. Diet input'!I125","v":0},{"$f":"AM123*'13. Diet input'!$Q125*100","v":0},{"$f":"AM123*'13. Diet input'!$R125*100","v":0},{"$f":"AN123-AO123","v":0},{"$f":"AM123*'13. Diet input'!$S125*100","v":0},{"$f":"AM123*'13. Diet input'!$T125*100","v":0},{"$f":"AM123*'13. Diet input'!$U125*100","v":0},{"$f":"AN123*(1-'13. Diet input'!$V125)","v":0},null,{"$f":"'13. Diet input'!J125","v":0},{"$f":"AV123*'13. Diet input'!$Q125*100","v":0},{"$f":"AV123*'13. Diet input'!$R125*100","v":0},{"$f":"AW123-AX123","v":0},{"$f":"AV123*'13. Diet input'!$S125*100","v":0},{"$f":"AV123*'13. Diet input'!$T125*100","v":0},{"$f":"AV123*'13. Diet input'!$U125*100","v":0},{"$f":"AW123*(1-'13. Diet input'!$V125)","v":0},null,{"$f":"'13. Diet input'!K125","v":0},{"$f":"BE123*'13. Diet input'!$Q125*100","v":0},{"$f":"BE123*'13. Diet input'!$R125*100","v":0},{"$f":"BF123-BG123","v":0},{"$f":"BE123*'13. Diet input'!$S125*100","v":0},{"$f":"BE123*'13. Diet input'!$T125*100","v":0},{"$f":"BE123*'13. Diet input'!$U125*100","v":0},{"$f":"BF123*(1-'13. Diet input'!$V125)","v":0},null,{"$f":"'13. Diet input'!L125","v":0},{"$f":"BN123*'13. Diet input'!$Q125*100","v":0},{"$f":"BN123*'13. Diet input'!$R125*100","v":0},{"$f":"BO123-BP123","v":0},{"$f":"BN123*'13. Diet input'!$S125*100","v":0},{"$f":"BN123*'13. Diet input'!$T125*100","v":0},{"$f":"BN123*'13. Diet input'!$U125*100","v":0},{"$f":"BO123*(1-'13. Diet input'!$V125)","v":0},null,{"$f":"'13. Diet input'!M125","v":0},{"$f":"BW123*'13. Diet input'!$Q125*100","v":0},{"$f":"BW123*'13. Diet input'!$R125*100","v":0},{"$f":"BX123-BY123","v":0},{"$f":"BW123*'13. Diet input'!$S125*100","v":0},{"$f":"BW123*'13. Diet input'!$T125*100","v":0},{"$f":"BW123*'13. Diet input'!$U125*100","v":0},{"$f":"BX123*(1-'13. Diet input'!$V125)","v":0},null,{"$f":"'13. Diet input'!N125","v":0},{"$f":"CF123*'13. Diet input'!$Q125*100","v":0},{"$f":"CF123*'13. Diet input'!$R125*100","v":0},{"$f":"CG123-CH123","v":0},{"$f":"CF123*'13. Diet input'!$S125*100","v":0},{"$f":"CF123*'13. Diet input'!$T125*100","v":0},{"$f":"CF123*'13. Diet input'!$U125*100","v":0},{"$f":"CG123*(1-'13. Diet input'!$V125)","v":0},null,{"$f":"'13. Diet input'!O125","v":0},{"$f":"CO123*'13. Diet input'!$Q125*100","v":0},{"$f":"CO123*'13. Diet input'!$R125*100","v":0},{"$f":"CP123-CQ123","v":0},{"$f":"CO123*'13. Diet input'!$S125*100","v":0},{"$f":"CO123*'13. Diet input'!$T125*100","v":0},{"$f":"CO123*'13. Diet input'!$U125*100","v":0},{"$f":"CP123*(1-'13. Diet input'!$V125)","v":0}]
[null,{"$f":"'13. Diet input'!B126","v":"Elitox"},{"$f":"'13. Diet input'!E126","v":0},{"$f":"C124*'13. Diet input'!$Q126*100","v":0},{"$f":"C124*'13. Diet input'!$R126*100","v":0},0,{"$f":"C124*'13. Diet input'!$S126*100","v":0},{"$f":"C124*'13. Diet input'!$T126*100","v":0},{"$f":"C124*'13. Diet input'!$U126*100","v":0},{"$f":"D124*(1-'13. Diet input'!$V126)","v":0},null,{"$f":"'13. Diet input'!F126","v":1E-3},{"$f":"L124*'13. Diet input'!$Q126*100","v":0.1},{"$f":"L124*'13. Diet input'!$R126*100","v":8.4999999999999992E-2},1.5000000000000013E-2,{"$f":"L124*'13. Diet input'!$S126*100","v":0},{"$f":"L124*'13. Diet input'!$T126*100","v":0},{"$f":"L124*'13. Diet input'!$U126*100","v":0},{"$f":"M124*(1-'13. Diet input'!$V126)","v":0.1},null,{"$f":"'13. Diet input'!G126","v":1E-3},{"$f":"U124*'13. Diet input'!$Q126*100","v":0.1},{"$f":"U124*'13. Diet input'!$R126*100","v":8.4999999999999992E-2},1.5000000000000013E-2,{"$f":"U124*'13. Diet input'!$S126*100","v":0},{"$f":"U124*'13. Diet input'!$T126*100","v":0},{"$f":"U124*'13. Diet input'!$U126*100","v":0},{"$f":"V124*(1-'13. Diet input'!$V126)","v":0.1},null,{"$f":"'13. Diet input'!H126","v":1E-3},{"$f":"AD124*'13. Diet input'!$Q126*100","v":0.1},{"$f":"AD124*'13. Diet input'!$R126*100","v":8.4999999999999992E-2},1.5000000000000013E-2,{"$f":"AD124*'13. Diet input'!$S126*100","v":0},{"$f":"AD124*'13. Diet input'!$T126*100","v":0},{"$f":"AD124*'13. Diet input'!$U126*100","v":0},{"$f":"AE124*(1-'13. Diet input'!$V126)","v":0.1},null,{"$f":"'13. Diet input'!I126","v":0},{"$f":"AM124*'13. Diet input'!$Q126*100","v":0},{"$f":"AM124*'13. Diet input'!$R126*100","v":0},0,{"$f":"AM124*'13. Diet input'!$S126*100","v":0},{"$f":"AM124*'13. Diet input'!$T126*100","v":0},{"$f":"AM124*'13. Diet input'!$U126*100","v":0},{"$f":"AN124*(1-'13. Diet input'!$V126)","v":0},null,{"$f":"'13. Diet input'!J126","v":0},{"$f":"AV124*'13. Diet input'!$Q126*100","v":0},{"$f":"AV124*'13. Diet input'!$R126*100","v":0},0,{"$f":"AV124*'13. Diet input'!$S126*100","v":0},{"$f":"AV124*'13. Diet input'!$T126*100","v":0},{"$f":"AV124*'13. Diet input'!$U126*100","v":0},{"$f":"AW124*(1-'13. Diet input'!$V126)","v":0},null,{"$f":"'13. Diet input'!K126","v":0},{"$f":"BE124*'13. Diet input'!$Q126*100","v":0},{"$f":"BE124*'13. Diet input'!$R126*100","v":0},0,{"$f":"BE124*'13. Diet input'!$S126*100","v":0},{"$f":"BE124*'13. Diet input'!$T126*100","v":0},{"$f":"BE124*'13. Diet input'!$U126*100","v":0},{"$f":"BF124*(1-'13. Diet input'!$V126)","v":0},null,{"$f":"'13. Diet input'!L126","v":0},{"$f":"BN124*'13. Diet input'!$Q126*100","v":0},{"$f":"BN124*'13. Diet input'!$R126*100","v":0},0,{"$f":"BN124*'13. Diet input'!$S126*100","v":0},{"$f":"BN124*'13. Diet input'!$T126*100","v":0},{"$f":"BN124*'13. Diet input'!$U126*100","v":0},{"$f":"BO124*(1-'13. Diet input'!$V126)","v":0},null,{"$f":"'13. Diet input'!M126","v":0},{"$f":"BW124*'13. Diet input'!$Q126*100","v":0},{"$f":"BW124*'13. Diet input'!$R126*100","v":0},0,{"$f":"BW124*'13. Diet input'!$S126*100","v":0},{"$f":"BW124*'13. Diet input'!$T126*100","v":0},{"$f":"BW124*'13. Diet input'!$U126*100","v":0},{"$f":"BX124*(1-'13. Diet input'!$V126)","v":0},null,{"$f":"'13. Diet input'!N126","v":0},{"$f":"CF124*'13. Diet input'!$Q126*100","v":0},{"$f":"CF124*'13. Diet input'!$R126*100","v":0},0,{"$f":"CF124*'13. Diet input'!$S126*100","v":0},{"$f":"CF124*'13. Diet input'!$T126*100","v":0},{"$f":"CF124*'13. Diet input'!$U126*100","v":0},{"$f":"CG124*(1-'13. Diet input'!$V126)","v":0},null,{"$f":"'13. Diet input'!O126","v":0},{"$f":"CO124*'13. Diet input'!$Q126*100","v":0},{"$f":"CO124*'13. Diet input'!$R126*100","v":0},0,{"$f":"CO124*'13. Diet input'!$S126*100","v":0},{"$f":"CO124*'13. Diet input'!$T126*100","v":0},{"$f":"CO124*'13. Diet input'!$U126*100","v":0},{"$f":"CP124*(1-'13. Diet input'!$V126)","v":0}]
[null,{"$f":"'13. Diet input'!B127","v":"Mastersorb "},{"$f":"'13. Diet input'!E127","v":0},{"$f":"C125*'13. Diet input'!$Q127*100","v":0},{"$f":"C125*'13. Diet input'!$R127*100","v":0},0,{"$f":"C125*'13. Diet input'!$S127*100","v":0},{"$f":"C125*'13. Diet input'!$T127*100","v":0},{"$f":"C125*'13. Diet input'!$U127*100","v":0},{"$f":"D125*(1-'13. Diet input'!$V127)","v":0},null,{"$f":"'13. Diet input'!F127","v":0},{"$f":"L125*'13. Diet input'!$Q127*100","v":0},{"$f":"L125*'13. Diet input'!$R127*100","v":0},0,{"$f":"L125*'13. Diet input'!$S127*100","v":0},{"$f":"L125*'13. Diet input'!$T127*100","v":0},{"$f":"L125*'13. Diet input'!$U127*100","v":0},{"$f":"M125*(1-'13. Diet input'!$V127)","v":0},null,{"$f":"'13. Diet input'!G127","v":0},{"$f":"U125*'13. Diet input'!$Q127*100","v":0},{"$f":"U125*'13. Diet input'!$R127*100","v":0},0,{"$f":"U125*'13. Diet input'!$S127*100","v":0},{"$f":"U125*'13. Diet input'!$T127*100","v":0},{"$f":"U125*'13. Diet input'!$U127*100","v":0},{"$f":"V125*(1-'13. Diet input'!$V127)","v":0},null,{"$f":"'13. Diet input'!H127","v":0},{"$f":"AD125*'13. Diet input'!$Q127*100","v":0},{"$f":"AD125*'13. Diet input'!$R127*100","v":0},0,{"$f":"AD125*'13. Diet input'!$S127*100","v":0},{"$f":"AD125*'13. Diet input'!$T127*100","v":0},{"$f":"AD125*'13. Diet input'!$U127*100","v":0},{"$f":"AE125*(1-'13. Diet input'!$V127)","v":0},null,{"$f":"'13. Diet input'!I127","v":5.0000000000000001E-4},{"$f":"AM125*'13. Diet input'!$Q127*100","v":0.05},{"$f":"AM125*'13. Diet input'!$R127*100","v":4.2499999999999996E-2},7.5000000000000067E-3,{"$f":"AM125*'13. Diet input'!$S127*100","v":0},{"$f":"AM125*'13. Diet input'!$T127*100","v":0},{"$f":"AM125*'13. Diet input'!$U127*100","v":0},{"$f":"AN125*(1-'13. Diet input'!$V127)","v":0.05},null,{"$f":"'13. Diet input'!J127","v":0},{"$f":"AV125*'13. Diet input'!$Q127*100","v":0},{"$f":"AV125*'13. Diet input'!$R127*100","v":0},0,{"$f":"AV125*'13. Diet input'!$S127*100","v":0},{"$f":"AV125*'13. Diet input'!$T127*100","v":0},{"$f":"AV125*'13. Diet input'!$U127*100","v":0},{"$f":"AW125*(1-'13. Diet input'!$V127)","v":0},null,{"$f":"'13. Diet input'!K127","v":0},{"$f":"BE125*'13. Diet input'!$Q127*100","v":0},{"$f":"BE125*'13. Diet input'!$R127*100","v":0},0,{"$f":"BE125*'13. Diet input'!$S127*100","v":0},{"$f":"BE125*'13. Diet input'!$T127*100","v":0},{"$f":"BE125*'13. Diet input'!$U127*100","v":0},{"$f":"BF125*(1-'13. Diet input'!$V127)","v":0},null,{"$f":"'13. Diet input'!L127","v":0},{"$f":"BN125*'13. Diet input'!$Q127*100","v":0},{"$f":"BN125*'13. Diet input'!$R127*100","v":0},0,{"$f":"BN125*'13. Diet input'!$S127*100","v":0},{"$f":"BN125*'13. Diet input'!$T127*100","v":0},{"$f":"BN125*'13. Diet input'!$U127*100","v":0},{"$f":"BO125*(1-'13. Diet input'!$V127)","v":0},null,{"$f":"'13. Diet input'!M127","v":0},{"$f":"BW125*'13. Diet input'!$Q127*100","v":0},{"$f":"BW125*'13. Diet input'!$R127*100","v":0},0,{"$f":"BW125*'13. Diet input'!$S127*100","v":0},{"$f":"BW125*'13. Diet input'!$T127*100","v":0},{"$f":"BW125*'13. Diet input'!$U127*100","v":0},{"$f":"BX125*(1-'13. Diet input'!$V127)","v":0},null,{"$f":"'13. Diet input'!N127","v":0},{"$f":"CF125*'13. Diet input'!$Q127*100","v":0},{"$f":"CF125*'13. Diet input'!$R127*100","v":0},0,{"$f":"CF125*'13. Diet input'!$S127*100","v":0},{"$f":"CF125*'13. Diet input'!$T127*100","v":0},{"$f":"CF125*'13. Diet input'!$U127*100","v":0},{"$f":"CG125*(1-'13. Diet input'!$V127)","v":0},null,{"$f":"'13. Diet input'!O127","v":0},{"$f":"CO125*'13. Diet input'!$Q127*100","v":0},{"$f":"CO125*'13. Diet input'!$R127*100","v":0},0,{"$f":"CO125*'13. Diet input'!$S127*100","v":0},{"$f":"CO125*'13. Diet input'!$T127*100","v":0},{"$f":"CO125*'13. Diet input'!$U127*100","v":0},{"$f":"CP125*(1-'13. Diet input'!$V127)","v":0}]
[null,"Acidifiers"]
[null,{"$f":"'13. Diet input'!B129","v":"Formi Acid"},{"$f":"'13. Diet input'!E129","v":0},{"$f":"C127*'13. Diet input'!$Q129*100","v":0},{"$f":"C127*'13. Diet input'!$R129*100","v":0},{"$f":"D127-E127","v":0},{"$f":"C127*'13. Diet input'!$S129*100","v":0},{"$f":"C127*'13. Diet input'!$T129*100","v":0},{"$f":"C127*'13. Diet input'!$U129*100","v":0},{"$f":"D127*(1-'13. Diet input'!$V129)","v":0},null,{"$f":"'13. Diet input'!F129","v":0},{"$f":"L127*'13. Diet input'!$Q129*100","v":0},{"$f":"L127*'13. Diet input'!$R129*100","v":0},{"$f":"M127-N127","v":0},{"$f":"L127*'13. Diet input'!$S129*100","v":0},{"$f":"L127*'13. Diet input'!$T129*100","v":0},{"$f":"L127*'13. Diet input'!$U129*100","v":0},{"$f":"M127*(1-'13. Diet input'!$V129)","v":0},null,{"$f":"'13. Diet input'!G129","v":0},{"$f":"U127*'13. Diet input'!$Q129*100","v":0},{"$f":"U127*'13. Diet input'!$R129*100","v":0},{"$f":"V127-W127","v":0},{"$f":"U127*'13. Diet input'!$S129*100","v":0},{"$f":"U127*'13. Diet input'!$T129*100","v":0},{"$f":"U127*'13. Diet input'!$U129*100","v":0},{"$f":"V127*(1-'13. Diet input'!$V129)","v":0},null,{"$f":"'13. Diet input'!H129","v":0},{"$f":"AD127*'13. Diet input'!$Q129*100","v":0},{"$f":"AD127*'13. Diet input'!$R129*100","v":0},{"$f":"AE127-AF127","v":0},{"$f":"AD127*'13. Diet input'!$S129*100","v":0},{"$f":"AD127*'13. Diet input'!$T129*100","v":0},{"$f":"AD127*'13. Diet input'!$U129*100","v":0},{"$f":"AE127*(1-'13. Diet input'!$V129)","v":0},null,{"$f":"'13. Diet input'!I129","v":0},{"$f":"AM127*'13. Diet input'!$Q129*100","v":0},{"$f":"AM127*'13. Diet input'!$R129*100","v":0},{"$f":"AN127-AO127","v":0},{"$f":"AM127*'13. Diet input'!$S129*100","v":0},{"$f":"AM127*'13. Diet input'!$T129*100","v":0},{"$f":"AM127*'13. Diet input'!$U129*100","v":0},{"$f":"AN127*(1-'13. Diet input'!$V129)","v":0},null,{"$f":"'13. Diet input'!J129","v":0},{"$f":"AV127*'13. Diet input'!$Q129*100","v":0},{"$f":"AV127*'13. Diet input'!$R129*100","v":0},{"$f":"AW127-AX127","v":0},{"$f":"AV127*'13. Diet input'!$S129*100","v":0},{"$f":"AV127*'13. Diet input'!$T129*100","v":0},{"$f":"AV127*'13. Diet input'!$U129*100","v":0},{"$f":"AW127*(1-'13. Diet input'!$V129)","v":0},null,{"$f":"'13. Diet input'!K129","v":0},{"$f":"BE127*'13. Diet input'!$Q129*100","v":0},{"$f":"BE127*'13. Diet input'!$R129*100","v":0},{"$f":"BF127-BG127","v":0},{"$f":"BE127*'13. Diet input'!$S129*100","v":0},{"$f":"BE127*'13. Diet input'!$T129*100","v":0},{"$f":"BE127*'13. Diet input'!$U129*100","v":0},{"$f":"BF127*(1-'13. Diet input'!$V129)","v":0},null,{"$f":"'13. Diet input'!L129","v":0},{"$f":"BN127*'13. Diet input'!$Q129*100","v":0},{"$f":"BN127*'13. Diet input'!$R129*100","v":0},{"$f":"BO127-BP127","v":0},{"$f":"BN127*'13. Diet input'!$S129*100","v":0},{"$f":"BN127*'13. Diet input'!$T129*100","v":0},{"$f":"BN127*'13. Diet input'!$U129*100","v":0},{"$f":"BO127*(1-'13. Diet input'!$V129)","v":0},null,{"$f":"'13. Diet input'!M129","v":0},{"$f":"BW127*'13. Diet input'!$Q129*100","v":0},{"$f":"BW127*'13. Diet input'!$R129*100","v":0},{"$f":"BX127-BY127","v":0},{"$f":"BW127*'13. Diet input'!$S129*100","v":0},{"$f":"BW127*'13. Diet input'!$T129*100","v":0},{"$f":"BW127*'13. Diet input'!$U129*100","v":0},{"$f":"BX127*(1-'13. Diet input'!$V129)","v":0},null,{"$f":"'13. Diet input'!N129","v":0},{"$f":"CF127*'13. Diet input'!$Q129*100","v":0},{"$f":"CF127*'13. Diet input'!$R129*100","v":0},{"$f":"CG127-CH127","v":0},{"$f":"CF127*'13. Diet input'!$S129*100","v":0},{"$f":"CF127*'13. Diet input'!$T129*100","v":0},{"$f":"CF127*'13. Diet input'!$U129*100","v":0},{"$f":"CG127*(1-'13. Diet input'!$V129)","v":0},null,{"$f":"'13. Diet input'!O129","v":0},{"$f":"CO127*'13. Diet input'!$Q129*100","v":0},{"$f":"CO127*'13. Diet input'!$R129*100","v":0},{"$f":"CP127-CQ127","v":0},{"$f":"CO127*'13. Diet input'!$S129*100","v":0},{"$f":"CO127*'13. Diet input'!$T129*100","v":0},{"$f":"CO127*'13. Diet input'!$U129*100","v":0},{"$f":"CP127*(1-'13. Diet input'!$V129)","v":0}]
[null,{"$f":"'13. Diet input'!B130","v":"Top3"},{"$f":"'13. Diet input'!E130","v":0},{"$f":"C128*'13. Diet input'!$Q130*100","v":0},{"$f":"C128*'13. Diet input'!$R130*100","v":0},0,{"$f":"C128*'13. Diet input'!$S130*100","v":0},{"$f":"C128*'13. Diet input'!$T130*100","v":0},{"$f":"C128*'13. Diet input'!$U130*100","v":0},{"$f":"D128*(1-'13. Diet input'!$V130)","v":0},null,{"$f":"'13. Diet input'!F130","v":1.5E-3},{"$f":"L128*'13. Diet input'!$Q130*100","v":0.15},{"$f":"L128*'13. Diet input'!$R130*100","v":0},0.15,{"$f":"L128*'13. Diet input'!$S130*100","v":0},{"$f":"L128*'13. Diet input'!$T130*100","v":0},{"$f":"L128*'13. Diet input'!$U130*100","v":0},{"$f":"M128*(1-'13. Diet input'!$V130)","v":0.15},null,{"$f":"'13. Diet input'!G130","v":0},{"$f":"U128*'13. Diet input'!$Q130*100","v":0},{"$f":"U128*'13. Diet input'!$R130*100","v":0},0,{"$f":"U128*'13. Diet input'!$S130*100","v":0},{"$f":"U128*'13. Diet input'!$T130*100","v":0},{"$f":"U128*'13. Diet input'!$U130*100","v":0},{"$f":"V128*(1-'13. Diet input'!$V130)","v":0},null,{"$f":"'13. Diet input'!H130","v":0},{"$f":"AD128*'13. Diet input'!$Q130*100","v":0},{"$f":"AD128*'13. Diet input'!$R130*100","v":0},0,{"$f":"AD128*'13. Diet input'!$S130*100","v":0},{"$f":"AD128*'13. Diet input'!$T130*100","v":0},{"$f":"AD128*'13. Diet input'!$U130*100","v":0},{"$f":"AE128*(1-'13. Diet input'!$V130)","v":0},null,{"$f":"'13. Diet input'!I130","v":0},{"$f":"AM128*'13. Diet input'!$Q130*100","v":0},{"$f":"AM128*'13. Diet input'!$R130*100","v":0},0,{"$f":"AM128*'13. Diet input'!$S130*100","v":0},{"$f":"AM128*'13. Diet input'!$T130*100","v":0},{"$f":"AM128*'13. Diet input'!$U130*100","v":0},{"$f":"AN128*(1-'13. Diet input'!$V130)","v":0},null,{"$f":"'13. Diet input'!J130","v":0},{"$f":"AV128*'13. Diet input'!$Q130*100","v":0},{"$f":"AV128*'13. Diet input'!$R130*100","v":0},0,{"$f":"AV128*'13. Diet input'!$S130*100","v":0},{"$f":"AV128*'13. Diet input'!$T130*100","v":0},{"$f":"AV128*'13. Diet input'!$U130*100","v":0},{"$f":"AW128*(1-'13. Diet input'!$V130)","v":0},null,{"$f":"'13. Diet input'!K130","v":0},{"$f":"BE128*'13. Diet input'!$Q130*100","v":0},{"$f":"BE128*'13. Diet input'!$R130*100","v":0},0,{"$f":"BE128*'13. Diet input'!$S130*100","v":0},{"$f":"BE128*'13. Diet input'!$T130*100","v":0},{"$f":"BE128*'13. Diet input'!$U130*100","v":0},{"$f":"BF128*(1-'13. Diet input'!$V130)","v":0},null,{"$f":"'13. Diet input'!L130","v":0},{"$f":"BN128*'13. Diet input'!$Q130*100","v":0},{"$f":"BN128*'13. Diet input'!$R130*100","v":0},0,{"$f":"BN128*'13. Diet input'!$S130*100","v":0},{"$f":"BN128*'13. Diet input'!$T130*100","v":0},{"$f":"BN128*'13. Diet input'!$U130*100","v":0},{"$f":"BO128*(1-'13. Diet input'!$V130)","v":0},null,{"$f":"'13. Diet input'!M130","v":0},{"$f":"BW128*'13. Diet input'!$Q130*100","v":0},{"$f":"BW128*'13. Diet input'!$R130*100","v":0},0,{"$f":"BW128*'13. Diet input'!$S130*100","v":0},{"$f":"BW128*'13. Diet input'!$T130*100","v":0},{"$f":"BW128*'13. Diet input'!$U130*100","v":0},{"$f":"BX128*(1-'13. Diet input'!$V130)","v":0},null,{"$f":"'13. Diet input'!N130","v":0},{"$f":"CF128*'13. Diet input'!$Q130*100","v":0},{"$f":"CF128*'13. Diet input'!$R130*100","v":0},0,{"$f":"CF128*'13. Diet input'!$S130*100","v":0},{"$f":"CF128*'13. Diet input'!$T130*100","v":0},{"$f":"CF128*'13. Diet input'!$U130*100","v":0},{"$f":"CG128*(1-'13. Diet input'!$V130)","v":0},null,{"$f":"'13. Diet input'!O130","v":0},{"$f":"CO128*'13. Diet input'!$Q130*100","v":0},{"$f":"CO128*'13. Diet input'!$R130*100","v":0},0,{"$f":"CO128*'13. Diet input'!$S130*100","v":0},{"$f":"CO128*'13. Diet input'!$T130*100","v":0},{"$f":"CO128*'13. Diet input'!$U130*100","v":0},{"$f":"CP128*(1-'13. Diet input'!$V130)","v":0}]
[null,{"$f":"'13. Diet input'!B131","v":"Tetracid 500"},{"$f":"'13. Diet input'!E131","v":0},{"$f":"C129*'13. Diet input'!$Q131*100","v":0},{"$f":"C129*'13. Diet input'!$R131*100","v":0},0,{"$f":"C129*'13. Diet input'!$S131*100","v":0},{"$f":"C129*'13. Diet input'!$T131*100","v":0},{"$f":"C129*'13. Diet input'!$U131*100","v":0},{"$f":"D129*(1-'13. Diet input'!$V131)","v":0},null,{"$f":"'13. Diet input'!F131","v":0},{"$f":"L129*'13. Diet input'!$Q131*100","v":0},{"$f":"L129*'13. Diet input'!$R131*100","v":0},0,{"$f":"L129*'13. Diet input'!$S131*100","v":0},{"$f":"L129*'13. Diet input'!$T131*100","v":0},{"$f":"L129*'13. Diet input'!$U131*100","v":0},{"$f":"M129*(1-'13. Diet input'!$V131)","v":0},null,{"$f":"'13. Diet input'!G131","v":0},{"$f":"U129*'13. Diet input'!$Q131*100","v":0},{"$f":"U129*'13. Diet input'!$R131*100","v":0},0,{"$f":"U129*'13. Diet input'!$S131*100","v":0},{"$f":"U129*'13. Diet input'!$T131*100","v":0},{"$f":"U129*'13. Diet input'!$U131*100","v":0},{"$f":"V129*(1-'13. Diet input'!$V131)","v":0},null,{"$f":"'13. Diet input'!H131","v":0},{"$f":"AD129*'13. Diet input'!$Q131*100","v":0},{"$f":"AD129*'13. Diet input'!$R131*100","v":0},0,{"$f":"AD129*'13. Diet input'!$S131*100","v":0},{"$f":"AD129*'13. Diet input'!$T131*100","v":0},{"$f":"AD129*'13. Diet input'!$U131*100","v":0},{"$f":"AE129*(1-'13. Diet input'!$V131)","v":0},null,{"$f":"'13. Diet input'!I131","v":0},{"$f":"AM129*'13. Diet input'!$Q131*100","v":0},{"$f":"AM129*'13. Diet input'!$R131*100","v":0},0,{"$f":"AM129*'13. Diet input'!$S131*100","v":0},{"$f":"AM129*'13. Diet input'!$T131*100","v":0},{"$f":"AM129*'13. Diet input'!$U131*100","v":0},{"$f":"AN129*(1-'13. Diet input'!$V131)","v":0},null,{"$f":"'13. Diet input'!J131","v":0},{"$f":"AV129*'13. Diet input'!$Q131*100","v":0},{"$f":"AV129*'13. Diet input'!$R131*100","v":0},0,{"$f":"AV129*'13. Diet input'!$S131*100","v":0},{"$f":"AV129*'13. Diet input'!$T131*100","v":0},{"$f":"AV129*'13. Diet input'!$U131*100","v":0},{"$f":"AW129*(1-'13. Diet input'!$V131)","v":0},null,{"$f":"'13. Diet input'!K131","v":0},{"$f":"BE129*'13. Diet input'!$Q131*100","v":0},{"$f":"BE129*'13. Diet input'!$R131*100","v":0},0,{"$f":"BE129*'13. Diet input'!$S131*100","v":0},{"$f":"BE129*'13. Diet input'!$T131*100","v":0},{"$f":"BE129*'13. Diet input'!$U131*100","v":0},{"$f":"BF129*(1-'13. Diet input'!$V131)","v":0},null,{"$f":"'13. Diet input'!L131","v":0},{"$f":"BN129*'13. Diet input'!$Q131*100","v":0},{"$f":"BN129*'13. Diet input'!$R131*100","v":0},0,{"$f":"BN129*'13. Diet input'!$S131*100","v":0},{"$f":"BN129*'13. Diet input'!$T131*100","v":0},{"$f":"BN129*'13. Diet input'!$U131*100","v":0},{"$f":"BO129*(1-'13. Diet input'!$V131)","v":0},null,{"$f":"'13. Diet input'!M131","v":0},{"$f":"BW129*'13. Diet input'!$Q131*100","v":0},{"$f":"BW129*'13. Diet input'!$R131*100","v":0},0,{"$f":"BW129*'13. Diet input'!$S131*100","v":0},{"$f":"BW129*'13. Diet input'!$T131*100","v":0},{"$f":"BW129*'13. Diet input'!$U131*100","v":0},{"$f":"BX129*(1-'13. Diet input'!$V131)","v":0},null,{"$f":"'13. Diet input'!N131","v":0},{"$f":"CF129*'13. Diet input'!$Q131*100","v":0},{"$f":"CF129*'13. Diet input'!$R131*100","v":0},0,{"$f":"CF129*'13. Diet input'!$S131*100","v":0},{"$f":"CF129*'13. Diet input'!$T131*100","v":0},{"$f":"CF129*'13. Diet input'!$U131*100","v":0},{"$f":"CG129*(1-'13. Diet input'!$V131)","v":0},null,{"$f":"'13. Diet input'!O131","v":0},{"$f":"CO129*'13. Diet input'!$Q131*100","v":0},{"$f":"CO129*'13. Diet input'!$R131*100","v":0},0,{"$f":"CO129*'13. Diet input'!$S131*100","v":0},{"$f":"CO129*'13. Diet input'!$T131*100","v":0},{"$f":"CO129*'13. Diet input'!$U131*100","v":0},{"$f":"CP129*(1-'13. Diet input'!$V131)","v":0}]
[null,{"$f":"'13. Diet input'!B132","v":"AcidLac"},{"$f":"'13. Diet input'!E132","v":0},{"$f":"C130*'13. Diet input'!$Q132*100","v":0},{"$f":"C130*'13. Diet input'!$R132*100","v":0},0,{"$f":"C130*'13. Diet input'!$S132*100","v":0},{"$f":"C130*'13. Diet input'!$T132*100","v":0},{"$f":"C130*'13. Diet input'!$U132*100","v":0},{"$f":"D130*(1-'13. Diet input'!$V132)","v":0},null,{"$f":"'13. Diet input'!F132","v":0},{"$f":"L130*'13. Diet input'!$Q132*100","v":0},{"$f":"L130*'13. Diet input'!$R132*100","v":0},0,{"$f":"L130*'13. Diet input'!$S132*100","v":0},{"$f":"L130*'13. Diet input'!$T132*100","v":0},{"$f":"L130*'13. Diet input'!$U132*100","v":0},{"$f":"M130*(1-'13. Diet input'!$V132)","v":0},null,{"$f":"'13. Diet input'!G132","v":0},{"$f":"U130*'13. Diet input'!$Q132*100","v":0},{"$f":"U130*'13. Diet input'!$R132*100","v":0},0,{"$f":"U130*'13. Diet input'!$S132*100","v":0},{"$f":"U130*'13. Diet input'!$T132*100","v":0},{"$f":"U130*'13. Diet input'!$U132*100","v":0},{"$f":"V130*(1-'13. Diet input'!$V132)","v":0},null,{"$f":"'13. Diet input'!H132","v":0},{"$f":"AD130*'13. Diet input'!$Q132*100","v":0},{"$f":"AD130*'13. Diet input'!$R132*100","v":0},0,{"$f":"AD130*'13. Diet input'!$S132*100","v":0},{"$f":"AD130*'13. Diet input'!$T132*100","v":0},{"$f":"AD130*'13. Diet input'!$U132*100","v":0},{"$f":"AE130*(1-'13. Diet input'!$V132)","v":0},null,{"$f":"'13. Diet input'!I132","v":0},{"$f":"AM130*'13. Diet input'!$Q132*100","v":0},{"$f":"AM130*'13. Diet input'!$R132*100","v":0},0,{"$f":"AM130*'13. Diet input'!$S132*100","v":0},{"$f":"AM130*'13. Diet input'!$T132*100","v":0},{"$f":"AM130*'13. Diet input'!$U132*100","v":0},{"$f":"AN130*(1-'13. Diet input'!$V132)","v":0},null,{"$f":"'13. Diet input'!J132","v":0},{"$f":"AV130*'13. Diet input'!$Q132*100","v":0},{"$f":"AV130*'13. Diet input'!$R132*100","v":0},0,{"$f":"AV130*'13. Diet input'!$S132*100","v":0},{"$f":"AV130*'13. Diet input'!$T132*100","v":0},{"$f":"AV130*'13. Diet input'!$U132*100","v":0},{"$f":"AW130*(1-'13. Diet input'!$V132)","v":0},null,{"$f":"'13. Diet input'!K132","v":0},{"$f":"BE130*'13. Diet input'!$Q132*100","v":0},{"$f":"BE130*'13. Diet input'!$R132*100","v":0},0,{"$f":"BE130*'13. Diet input'!$S132*100","v":0},{"$f":"BE130*'13. Diet input'!$T132*100","v":0},{"$f":"BE130*'13. Diet input'!$U132*100","v":0},{"$f":"BF130*(1-'13. Diet input'!$V132)","v":0},null,{"$f":"'13. Diet input'!L132","v":0},{"$f":"BN130*'13. Diet input'!$Q132*100","v":0},{"$f":"BN130*'13. Diet input'!$R132*100","v":0},0,{"$f":"BN130*'13. Diet input'!$S132*100","v":0},{"$f":"BN130*'13. Diet input'!$T132*100","v":0},{"$f":"BN130*'13. Diet input'!$U132*100","v":0},{"$f":"BO130*(1-'13. Diet input'!$V132)","v":0},null,{"$f":"'13. Diet input'!M132","v":0},{"$f":"BW130*'13. Diet input'!$Q132*100","v":0},{"$f":"BW130*'13. Diet input'!$R132*100","v":0},0,{"$f":"BW130*'13. Diet input'!$S132*100","v":0},{"$f":"BW130*'13. Diet input'!$T132*100","v":0},{"$f":"BW130*'13. Diet input'!$U132*100","v":0},{"$f":"BX130*(1-'13. Diet input'!$V132)","v":0},null,{"$f":"'13. Diet input'!N132","v":0},{"$f":"CF130*'13. Diet input'!$Q132*100","v":0},{"$f":"CF130*'13. Diet input'!$R132*100","v":0},0,{"$f":"CF130*'13. Diet input'!$S132*100","v":0},{"$f":"CF130*'13. Diet input'!$T132*100","v":0},{"$f":"CF130*'13. Diet input'!$U132*100","v":0},{"$f":"CG130*(1-'13. Diet input'!$V132)","v":0},null,{"$f":"'13. Diet input'!O132","v":0},{"$f":"CO130*'13. Diet input'!$Q132*100","v":0},{"$f":"CO130*'13. Diet input'!$R132*100","v":0},0,{"$f":"CO130*'13. Diet input'!$S132*100","v":0},{"$f":"CO130*'13. Diet input'!$T132*100","v":0},{"$f":"CO130*'13. Diet input'!$U132*100","v":0},{"$f":"CP130*(1-'13. Diet input'!$V132)","v":0}]
[null,{"$f":"'13. Diet input'!B133","v":"VevoVital "},{"$f":"'13. Diet input'!E133","v":5.0000000000000001E-4},{"$f":"C131*'13. Diet input'!$Q133*100","v":0.05},{"$f":"C131*'13. Diet input'!$R133*100","v":0},0.05,{"$f":"C131*'13. Diet input'!$S133*100","v":0},{"$f":"C131*'13. Diet input'!$T133*100","v":0},{"$f":"C131*'13. Diet input'!$U133*100","v":0},{"$f":"D131*(1-'13. Diet input'!$V133)","v":0.05},null,{"$f":"'13. Diet input'!F133","v":0},{"$f":"L131*'13. Diet input'!$Q133*100","v":0},{"$f":"L131*'13. Diet input'!$R133*100","v":0},0,{"$f":"L131*'13. Diet input'!$S133*100","v":0},{"$f":"L131*'13. Diet input'!$T133*100","v":0},{"$f":"L131*'13. Diet input'!$U133*100","v":0},{"$f":"M131*(1-'13. Diet input'!$V133)","v":0},null,{"$f":"'13. Diet input'!G133","v":0},{"$f":"U131*'13. Diet input'!$Q133*100","v":0},{"$f":"U131*'13. Diet input'!$R133*100","v":0},0,{"$f":"U131*'13. Diet input'!$S133*100","v":0},{"$f":"U131*'13. Diet input'!$T133*100","v":0},{"$f":"U131*'13. Diet input'!$U133*100","v":0},{"$f":"V131*(1-'13. Diet input'!$V133)","v":0},null,{"$f":"'13. Diet input'!H133","v":0},{"$f":"AD131*'13. Diet input'!$Q133*100","v":0},{"$f":"AD131*'13. Diet input'!$R133*100","v":0},0,{"$f":"AD131*'13. Diet input'!$S133*100","v":0},{"$f":"AD131*'13. Diet input'!$T133*100","v":0},{"$f":"AD131*'13. Diet input'!$U133*100","v":0},{"$f":"AE131*(1-'13. Diet input'!$V133)","v":0},null,{"$f":"'13. Diet input'!I133","v":0},{"$f":"AM131*'13. Diet input'!$Q133*100","v":0},{"$f":"AM131*'13. Diet input'!$R133*100","v":0},0,{"$f":"AM131*'13. Diet input'!$S133*100","v":0},{"$f":"AM131*'13. Diet input'!$T133*100","v":0},{"$f":"AM131*'13. Diet input'!$U133*100","v":0},{"$f":"AN131*(1-'13. Diet input'!$V133)","v":0},null,{"$f":"'13. Diet input'!J133","v":0},{"$f":"AV131*'13. Diet input'!$Q133*100","v":0},{"$f":"AV131*'13. Diet input'!$R133*100","v":0},0,{"$f":"AV131*'13. Diet input'!$S133*100","v":0},{"$f":"AV131*'13. Diet input'!$T133*100","v":0},{"$f":"AV131*'13. Diet input'!$U133*100","v":0},{"$f":"AW131*(1-'13. Diet input'!$V133)","v":0},null,{"$f":"'13. Diet input'!K133","v":0},{"$f":"BE131*'13. Diet input'!$Q133*100","v":0},{"$f":"BE131*'13. Diet input'!$R133*100","v":0},0,{"$f":"BE131*'13. Diet input'!$S133*100","v":0},{"$f":"BE131*'13. Diet input'!$T133*100","v":0},{"$f":"BE131*'13. Diet input'!$U133*100","v":0},{"$f":"BF131*(1-'13. Diet input'!$V133)","v":0},null,{"$f":"'13. Diet input'!L133","v":0},{"$f":"BN131*'13. Diet input'!$Q133*100","v":0},{"$f":"BN131*'13. Diet input'!$R133*100","v":0},0,{"$f":"BN131*'13. Diet input'!$S133*100","v":0},{"$f":"BN131*'13. Diet input'!$T133*100","v":0},{"$f":"BN131*'13. Diet input'!$U133*100","v":0},{"$f":"BO131*(1-'13. Diet input'!$V133)","v":0},null,{"$f":"'13. Diet input'!M133","v":0},{"$f":"BW131*'13. Diet input'!$Q133*100","v":0},{"$f":"BW131*'13. Diet input'!$R133*100","v":0},0,{"$f":"BW131*'13. Diet input'!$S133*100","v":0},{"$f":"BW131*'13. Diet input'!$T133*100","v":0},{"$f":"BW131*'13. Diet input'!$U133*100","v":0},{"$f":"BX131*(1-'13. Diet input'!$V133)","v":0},null,{"$f":"'13. Diet input'!N133","v":0},{"$f":"CF131*'13. Diet input'!$Q133*100","v":0},{"$f":"CF131*'13. Diet input'!$R133*100","v":0},0,{"$f":"CF131*'13. Diet input'!$S133*100","v":0},{"$f":"CF131*'13. Diet input'!$T133*100","v":0},{"$f":"CF131*'13. Diet input'!$U133*100","v":0},{"$f":"CG131*(1-'13. Diet input'!$V133)","v":0},null,{"$f":"'13. Diet input'!O133","v":0},{"$f":"CO131*'13. Diet input'!$Q133*100","v":0},{"$f":"CO131*'13. Diet input'!$R133*100","v":0},0,{"$f":"CO131*'13. Diet input'!$S133*100","v":0},{"$f":"CO131*'13. Diet input'!$T133*100","v":0},{"$f":"CO131*'13. Diet input'!$U133*100","v":0},{"$f":"CP131*(1-'13. Diet input'!$V133)","v":0}]
[null,"Other Additives"]
[null,{"$f":"'13. Diet input'!B135","v":"Krave"},{"$f":"'13. Diet input'!E135","v":4.0000000000000003E-5},{"$f":"C133*'13. Diet input'!$Q135*100","v":4.0000000000000001E-3},{"$f":"C133*'13. Diet input'!$R135*100","v":3.9200000000000007E-3},7.9999999999999342E-5,{"$f":"C133*'13. Diet input'!$S135*100","v":0},{"$f":"C133*'13. Diet input'!$T135*100","v":0},{"$f":"C133*'13. Diet input'!$U135*100","v":0},{"$f":"D133*(1-'13. Diet input'!$V135)","v":4.0000000000000001E-3},null,{"$f":"'13. Diet input'!F135","v":4.0000000000000002E-4},{"$f":"L133*'13. Diet input'!$Q135*100","v":0.04},{"$f":"L133*'13. Diet input'!$R135*100","v":3.9199999999999999E-2},8.000000000000021E-4,{"$f":"L133*'13. Diet input'!$S135*100","v":0},{"$f":"L133*'13. Diet input'!$T135*100","v":0},{"$f":"L133*'13. Diet input'!$U135*100","v":0},{"$f":"M133*(1-'13. Diet input'!$V135)","v":0.04},null,{"$f":"'13. Diet input'!G135","v":0},{"$f":"U133*'13. Diet input'!$Q135*100","v":0},{"$f":"U133*'13. Diet input'!$R135*100","v":0},0,{"$f":"U133*'13. Diet input'!$S135*100","v":0},{"$f":"U133*'13. Diet input'!$T135*100","v":0},{"$f":"U133*'13. Diet input'!$U135*100","v":0},{"$f":"V133*(1-'13. Diet input'!$V135)","v":0},null,{"$f":"'13. Diet input'!H135","v":0},{"$f":"AD133*'13. Diet input'!$Q135*100","v":0},{"$f":"AD133*'13. Diet input'!$R135*100","v":0},0,{"$f":"AD133*'13. Diet input'!$S135*100","v":0},{"$f":"AD133*'13. Diet input'!$T135*100","v":0},{"$f":"AD133*'13. Diet input'!$U135*100","v":0},{"$f":"AE133*(1-'13. Diet input'!$V135)","v":0},null,{"$f":"'13. Diet input'!I135","v":0},{"$f":"AM133*'13. Diet input'!$Q135*100","v":0},{"$f":"AM133*'13. Diet input'!$R135*100","v":0},0,{"$f":"AM133*'13. Diet input'!$S135*100","v":0},{"$f":"AM133*'13. Diet input'!$T135*100","v":0},{"$f":"AM133*'13. Diet input'!$U135*100","v":0},{"$f":"AN133*(1-'13. Diet input'!$V135)","v":0},null,{"$f":"'13. Diet input'!J135","v":0},{"$f":"AV133*'13. Diet input'!$Q135*100","v":0},{"$f":"AV133*'13. Diet input'!$R135*100","v":0},0,{"$f":"AV133*'13. Diet input'!$S135*100","v":0},{"$f":"AV133*'13. Diet input'!$T135*100","v":0},{"$f":"AV133*'13. Diet input'!$U135*100","v":0},{"$f":"AW133*(1-'13. Diet input'!$V135)","v":0},null,{"$f":"'13. Diet input'!K135","v":0},{"$f":"BE133*'13. Diet input'!$Q135*100","v":0},{"$f":"BE133*'13. Diet input'!$R135*100","v":0},0,{"$f":"BE133*'13. Diet input'!$S135*100","v":0},{"$f":"BE133*'13. Diet input'!$T135*100","v":0},{"$f":"BE133*'13. Diet input'!$U135*100","v":0},{"$f":"BF133*(1-'13. Diet input'!$V135)","v":0},null,{"$f":"'13. Diet input'!L135","v":0},{"$f":"BN133*'13. Diet input'!$Q135*100","v":0},{"$f":"BN133*'13. Diet input'!$R135*100","v":0},0,{"$f":"BN133*'13. Diet input'!$S135*100","v":0},{"$f":"BN133*'13. Diet input'!$T135*100","v":0},{"$f":"BN133*'13. Diet input'!$U135*100","v":0},{"$f":"BO133*(1-'13. Diet input'!$V135)","v":0},null,{"$f":"'13. Diet input'!M135","v":0},{"$f":"BW133*'13. Diet input'!$Q135*100","v":0},{"$f":"BW133*'13. Diet input'!$R135*100","v":0},0,{"$f":"BW133*'13. Diet input'!$S135*100","v":0},{"$f":"BW133*'13. Diet input'!$T135*100","v":0},{"$f":"BW133*'13. Diet input'!$U135*100","v":0},{"$f":"BX133*(1-'13. Diet input'!$V135)","v":0},null,{"$f":"'13. Diet input'!N135","v":0},{"$f":"CF133*'13. Diet input'!$Q135*100","v":0},{"$f":"CF133*'13. Diet input'!$R135*100","v":0},0,{"$f":"CF133*'13. Diet input'!$S135*100","v":0},{"$f":"CF133*'13. Diet input'!$T135*100","v":0},{"$f":"CF133*'13. Diet input'!$U135*100","v":0},{"$f":"CG133*(1-'13. Diet input'!$V135)","v":0},null,{"$f":"'13. Diet input'!O135","v":0},{"$f":"CO133*'13. Diet input'!$Q135*100","v":0},{"$f":"CO133*'13. Diet input'!$R135*100","v":0},0,{"$f":"CO133*'13. Diet input'!$S135*100","v":0},{"$f":"CO133*'13. Diet input'!$T135*100","v":0},{"$f":"CO133*'13. Diet input'!$U135*100","v":0},{"$f":"CP133*(1-'13. Diet input'!$V135)","v":0}]
[null,{"$f":"'13. Diet input'!B136","v":"Betaine"},{"$f":"'13. Diet input'!E136","v":1E-4},{"$f":"C134*'13. Diet input'!$Q136*100","v":0.01},{"$f":"C134*'13. Diet input'!$R136*100","v":9.7999999999999997E-3},2.0000000000000052E-4,{"$f":"C134*'13. Diet input'!$S136*100","v":0},{"$f":"C134*'13. Diet input'!$T136*100","v":0},{"$f":"C134*'13. Diet input'!$U136*100","v":0},{"$f":"D134*(1-'13. Diet input'!$V136)","v":0.01},null,{"$f":"'13. Diet input'!F136","v":1E-3},{"$f":"L134*'13. Diet input'!$Q136*100","v":0.1},{"$f":"L134*'13. Diet input'!$R136*100","v":9.8000000000000004E-2},2.0000000000000018E-3,{"$f":"L134*'13. Diet input'!$S136*100","v":0},{"$f":"L134*'13. Diet input'!$T136*100","v":0},{"$f":"L134*'13. Diet input'!$U136*100","v":0},{"$f":"M134*(1-'13. Diet input'!$V136)","v":0.1},null,{"$f":"'13. Diet input'!G136","v":1E-3},{"$f":"U134*'13. Diet input'!$Q136*100","v":0.1},{"$f":"U134*'13. Diet input'!$R136*100","v":9.8000000000000004E-2},2.0000000000000018E-3,{"$f":"U134*'13. Diet input'!$S136*100","v":0},{"$f":"U134*'13. Diet input'!$T136*100","v":0},{"$f":"U134*'13. Diet input'!$U136*100","v":0},{"$f":"V134*(1-'13. Diet input'!$V136)","v":0.1},null,{"$f":"'13. Diet input'!H136","v":0},{"$f":"AD134*'13. Diet input'!$Q136*100","v":0},{"$f":"AD134*'13. Diet input'!$R136*100","v":0},0,{"$f":"AD134*'13. Diet input'!$S136*100","v":0},{"$f":"AD134*'13. Diet input'!$T136*100","v":0},{"$f":"AD134*'13. Diet input'!$U136*100","v":0},{"$f":"AE134*(1-'13. Diet input'!$V136)","v":0},null,{"$f":"'13. Diet input'!I136","v":0},{"$f":"AM134*'13. Diet input'!$Q136*100","v":0},{"$f":"AM134*'13. Diet input'!$R136*100","v":0},0,{"$f":"AM134*'13. Diet input'!$S136*100","v":0},{"$f":"AM134*'13. Diet input'!$T136*100","v":0},{"$f":"AM134*'13. Diet input'!$U136*100","v":0},{"$f":"AN134*(1-'13. Diet input'!$V136)","v":0},null,{"$f":"'13. Diet input'!J136","v":0},{"$f":"AV134*'13. Diet input'!$Q136*100","v":0},{"$f":"AV134*'13. Diet input'!$R136*100","v":0},0,{"$f":"AV134*'13. Diet input'!$S136*100","v":0},{"$f":"AV134*'13. Diet input'!$T136*100","v":0},{"$f":"AV134*'13. Diet input'!$U136*100","v":0},{"$f":"AW134*(1-'13. Diet input'!$V136)","v":0},null,{"$f":"'13. Diet input'!K136","v":0},{"$f":"BE134*'13. Diet input'!$Q136*100","v":0},{"$f":"BE134*'13. Diet input'!$R136*100","v":0},0,{"$f":"BE134*'13. Diet input'!$S136*100","v":0},{"$f":"BE134*'13. Diet input'!$T136*100","v":0},{"$f":"BE134*'13. Diet input'!$U136*100","v":0},{"$f":"BF134*(1-'13. Diet input'!$V136)","v":0},null,{"$f":"'13. Diet input'!L136","v":1.5E-3},{"$f":"BN134*'13. Diet input'!$Q136*100","v":0.15},{"$f":"BN134*'13. Diet input'!$R136*100","v":0.14699999999999999},3.0000000000000027E-3,{"$f":"BN134*'13. Diet input'!$S136*100","v":0},{"$f":"BN134*'13. Diet input'!$T136*100","v":0},{"$f":"BN134*'13. Diet input'!$U136*100","v":0},{"$f":"BO134*(1-'13. Diet input'!$V136)","v":0.15},null,{"$f":"'13. Diet input'!M136","v":1E-3},{"$f":"BW134*'13. Diet input'!$Q136*100","v":0.1},{"$f":"BW134*'13. Diet input'!$R136*100","v":9.8000000000000004E-2},2.0000000000000018E-3,{"$f":"BW134*'13. Diet input'!$S136*100","v":0},{"$f":"BW134*'13. Diet input'!$T136*100","v":0},{"$f":"BW134*'13. Diet input'!$U136*100","v":0},{"$f":"BX134*(1-'13. Diet input'!$V136)","v":0.1},null,{"$f":"'13. Diet input'!N136","v":5.0000000000000001E-4},{"$f":"CF134*'13. Diet input'!$Q136*100","v":0.05},{"$f":"CF134*'13. Diet input'!$R136*100","v":4.9000000000000002E-2},1.0000000000000009E-3,{"$f":"CF134*'13. Diet input'!$S136*100","v":0},{"$f":"CF134*'13. Diet input'!$T136*100","v":0},{"$f":"CF134*'13. Diet input'!$U136*100","v":0},{"$f":"CG134*(1-'13. Diet input'!$V136)","v":0.05},null,{"$f":"'13. Diet input'!O136","v":0},{"$f":"CO134*'13. Diet input'!$Q136*100","v":0},{"$f":"CO134*'13. Diet input'!$R136*100","v":0},0,{"$f":"CO134*'13. Diet input'!$S136*100","v":0},{"$f":"CO134*'13. Diet input'!$T136*100","v":0},{"$f":"CO134*'13. Diet input'!$U136*100","v":0},{"$f":"CP134*(1-'13. Diet input'!$V136)","v":0}]
[null,{"$f":"'13. Diet input'!B137","v":"Biomos"},{"$f":"'13. Diet input'!E137","v":0},{"$f":"C135*'13. Diet input'!$Q137*100","v":0},{"$f":"C135*'13. Diet input'!$R137*100","v":0},0,{"$f":"C135*'13. Diet input'!$S137*100","v":0},{"$f":"C135*'13. Diet input'!$T137*100","v":0},{"$f":"C135*'13. Diet input'!$U137*100","v":0},{"$f":"D135*(1-'13. Diet input'!$V137)","v":0},null,{"$f":"'13. Diet input'!F137","v":0},{"$f":"L135*'13. Diet input'!$Q137*100","v":0},{"$f":"L135*'13. Diet input'!$R137*100","v":0},0,{"$f":"L135*'13. Diet input'!$S137*100","v":0},{"$f":"L135*'13. Diet input'!$T137*100","v":0},{"$f":"L135*'13. Diet input'!$U137*100","v":0},{"$f":"M135*(1-'13. Diet input'!$V137)","v":0},null,{"$f":"'13. Diet input'!G137","v":0},{"$f":"U135*'13. Diet input'!$Q137*100","v":0},{"$f":"U135*'13. Diet input'!$R137*100","v":0},0,{"$f":"U135*'13. Diet input'!$S137*100","v":0},{"$f":"U135*'13. Diet input'!$T137*100","v":0},{"$f":"U135*'13. Diet input'!$U137*100","v":0},{"$f":"V135*(1-'13. Diet input'!$V137)","v":0},null,{"$f":"'13. Diet input'!H137","v":0},{"$f":"AD135*'13. Diet input'!$Q137*100","v":0},{"$f":"AD135*'13. Diet input'!$R137*100","v":0},0,{"$f":"AD135*'13. Diet input'!$S137*100","v":0},{"$f":"AD135*'13. Diet input'!$T137*100","v":0},{"$f":"AD135*'13. Diet input'!$U137*100","v":0},{"$f":"AE135*(1-'13. Diet input'!$V137)","v":0},null,{"$f":"'13. Diet input'!I137","v":0},{"$f":"AM135*'13. Diet input'!$Q137*100","v":0},{"$f":"AM135*'13. Diet input'!$R137*100","v":0},0,{"$f":"AM135*'13. Diet input'!$S137*100","v":0},{"$f":"AM135*'13. Diet input'!$T137*100","v":0},{"$f":"AM135*'13. Diet input'!$U137*100","v":0},{"$f":"AN135*(1-'13. Diet input'!$V137)","v":0},null,{"$f":"'13. Diet input'!J137","v":0},{"$f":"AV135*'13. Diet input'!$Q137*100","v":0},{"$f":"AV135*'13. Diet input'!$R137*100","v":0},0,{"$f":"AV135*'13. Diet input'!$S137*100","v":0},{"$f":"AV135*'13. Diet input'!$T137*100","v":0},{"$f":"AV135*'13. Diet input'!$U137*100","v":0},{"$f":"AW135*(1-'13. Diet input'!$V137)","v":0},null,{"$f":"'13. Diet input'!K137","v":0},{"$f":"BE135*'13. Diet input'!$Q137*100","v":0},{"$f":"BE135*'13. Diet input'!$R137*100","v":0},0,{"$f":"BE135*'13. Diet input'!$S137*100","v":0},{"$f":"BE135*'13. Diet input'!$T137*100","v":0},{"$f":"BE135*'13. Diet input'!$U137*100","v":0},{"$f":"BF135*(1-'13. Diet input'!$V137)","v":0},null,{"$f":"'13. Diet input'!L137","v":0},{"$f":"BN135*'13. Diet input'!$Q137*100","v":0},{"$f":"BN135*'13. Diet input'!$R137*100","v":0},0,{"$f":"BN135*'13. Diet input'!$S137*100","v":0},{"$f":"BN135*'13. Diet input'!$T137*100","v":0},{"$f":"BN135*'13. Diet input'!$U137*100","v":0},{"$f":"BO135*(1-'13. Diet input'!$V137)","v":0},null,{"$f":"'13. Diet input'!M137","v":0},{"$f":"BW135*'13. Diet input'!$Q137*100","v":0},{"$f":"BW135*'13. Diet input'!$R137*100","v":0},0,{"$f":"BW135*'13. Diet input'!$S137*100","v":0},{"$f":"BW135*'13. Diet input'!$T137*100","v":0},{"$f":"BW135*'13. Diet input'!$U137*100","v":0},{"$f":"BX135*(1-'13. Diet input'!$V137)","v":0},null,{"$f":"'13. Diet input'!N137","v":0},{"$f":"CF135*'13. Diet input'!$Q137*100","v":0},{"$f":"CF135*'13. Diet input'!$R137*100","v":0},0,{"$f":"CF135*'13. Diet input'!$S137*100","v":0},{"$f":"CF135*'13. Diet input'!$T137*100","v":0},{"$f":"CF135*'13. Diet input'!$U137*100","v":0},{"$f":"CG135*(1-'13. Diet input'!$V137)","v":0},null,{"$f":"'13. Diet input'!O137","v":0},{"$f":"CO135*'13. Diet input'!$Q137*100","v":0},{"$f":"CO135*'13. Diet input'!$R137*100","v":0},0,{"$f":"CO135*'13. Diet input'!$S137*100","v":0},{"$f":"CO135*'13. Diet input'!$T137*100","v":0},{"$f":"CO135*'13. Diet input'!$U137*100","v":0},{"$f":"CP135*(1-'13. Diet input'!$V137)","v":0}]
[null,{"$f":"'13. Diet input'!B138","v":"De-Oderase"},{"$f":"'13. Diet input'!E138","v":0},{"$f":"C136*'13. Diet input'!$Q138*100","v":0},{"$f":"C136*'13. Diet input'!$R138*100","v":0},0,{"$f":"C136*'13. Diet input'!$S138*100","v":0},{"$f":"C136*'13. Diet input'!$T138*100","v":0},{"$f":"C136*'13. Diet input'!$U138*100","v":0},{"$f":"D136*(1-'13. Diet input'!$V138)","v":0},null,{"$f":"'13. Diet input'!F138","v":0},{"$f":"L136*'13. Diet input'!$Q138*100","v":0},{"$f":"L136*'13. Diet input'!$R138*100","v":0},0,{"$f":"L136*'13. Diet input'!$S138*100","v":0},{"$f":"L136*'13. Diet input'!$T138*100","v":0},{"$f":"L136*'13. Diet input'!$U138*100","v":0},{"$f":"M136*(1-'13. Diet input'!$V138)","v":0},null,{"$f":"'13. Diet input'!G138","v":0},{"$f":"U136*'13. Diet input'!$Q138*100","v":0},{"$f":"U136*'13. Diet input'!$R138*100","v":0},0,{"$f":"U136*'13. Diet input'!$S138*100","v":0},{"$f":"U136*'13. Diet input'!$T138*100","v":0},{"$f":"U136*'13. Diet input'!$U138*100","v":0},{"$f":"V136*(1-'13. Diet input'!$V138)","v":0},null,{"$f":"'13. Diet input'!H138","v":0},{"$f":"AD136*'13. Diet input'!$Q138*100","v":0},{"$f":"AD136*'13. Diet input'!$R138*100","v":0},0,{"$f":"AD136*'13. Diet input'!$S138*100","v":0},{"$f":"AD136*'13. Diet input'!$T138*100","v":0},{"$f":"AD136*'13. Diet input'!$U138*100","v":0},{"$f":"AE136*(1-'13. Diet input'!$V138)","v":0},null,{"$f":"'13. Diet input'!I138","v":0},{"$f":"AM136*'13. Diet input'!$Q138*100","v":0},{"$f":"AM136*'13. Diet input'!$R138*100","v":0},0,{"$f":"AM136*'13. Diet input'!$S138*100","v":0},{"$f":"AM136*'13. Diet input'!$T138*100","v":0},{"$f":"AM136*'13. Diet input'!$U138*100","v":0},{"$f":"AN136*(1-'13. Diet input'!$V138)","v":0},null,{"$f":"'13. Diet input'!J138","v":0},{"$f":"AV136*'13. Diet input'!$Q138*100","v":0},{"$f":"AV136*'13. Diet input'!$R138*100","v":0},0,{"$f":"AV136*'13. Diet input'!$S138*100","v":0},{"$f":"AV136*'13. Diet input'!$T138*100","v":0},{"$f":"AV136*'13. Diet input'!$U138*100","v":0},{"$f":"AW136*(1-'13. Diet input'!$V138)","v":0},null,{"$f":"'13. Diet input'!K138","v":0},{"$f":"BE136*'13. Diet input'!$Q138*100","v":0},{"$f":"BE136*'13. Diet input'!$R138*100","v":0},0,{"$f":"BE136*'13. Diet input'!$S138*100","v":0},{"$f":"BE136*'13. Diet input'!$T138*100","v":0},{"$f":"BE136*'13. Diet input'!$U138*100","v":0},{"$f":"BF136*(1-'13. Diet input'!$V138)","v":0},null,{"$f":"'13. Diet input'!L138","v":0},{"$f":"BN136*'13. Diet input'!$Q138*100","v":0},{"$f":"BN136*'13. Diet input'!$R138*100","v":0},0,{"$f":"BN136*'13. Diet input'!$S138*100","v":0},{"$f":"BN136*'13. Diet input'!$T138*100","v":0},{"$f":"BN136*'13. Diet input'!$U138*100","v":0},{"$f":"BO136*(1-'13. Diet input'!$V138)","v":0},null,{"$f":"'13. Diet input'!M138","v":0},{"$f":"BW136*'13. Diet input'!$Q138*100","v":0},{"$f":"BW136*'13. Diet input'!$R138*100","v":0},0,{"$f":"BW136*'13. Diet input'!$S138*100","v":0},{"$f":"BW136*'13. Diet input'!$T138*100","v":0},{"$f":"BW136*'13. Diet input'!$U138*100","v":0},{"$f":"BX136*(1-'13. Diet input'!$V138)","v":0},null,{"$f":"'13. Diet input'!N138","v":0},{"$f":"CF136*'13. Diet input'!$Q138*100","v":0},{"$f":"CF136*'13. Diet input'!$R138*100","v":0},0,{"$f":"CF136*'13. Diet input'!$S138*100","v":0},{"$f":"CF136*'13. Diet input'!$T138*100","v":0},{"$f":"CF136*'13. Diet input'!$U138*100","v":0},{"$f":"CG136*(1-'13. Diet input'!$V138)","v":0},null,{"$f":"'13. Diet input'!O138","v":0},{"$f":"CO136*'13. Diet input'!$Q138*100","v":0},{"$f":"CO136*'13. Diet input'!$R138*100","v":0},0,{"$f":"CO136*'13. Diet input'!$S138*100","v":0},{"$f":"CO136*'13. Diet input'!$T138*100","v":0},{"$f":"CO136*'13. Diet input'!$U138*100","v":0},{"$f":"CP136*(1-'13. Diet input'!$V138)","v":0}]
[null,"Bedding Materials"]
[null,{"$f":"'13. Diet input'!B140","v":"Hardwood sawdust"},{"$f":"'13. Diet input'!E140","v":0},{"$f":"C138*'13. Diet input'!$Q140*100","v":0},{"$f":"C138*'13. Diet input'!$R140*100","v":0},0,{"$f":"C138*'13. Diet input'!$S140*100","v":0},{"$f":"C138*'13. Diet input'!$T140*100","v":0},{"$f":"C138*'13. Diet input'!$U140*100","v":0},{"$f":"D138*(1-'13. Diet input'!$V140)","v":0},null,{"$f":"'13. Diet input'!F140","v":0},{"$f":"L138*'13. Diet input'!$Q140*100","v":0},{"$f":"L138*'13. Diet input'!$R140*100","v":0},0,{"$f":"L138*'13. Diet input'!$S140*100","v":0},{"$f":"L138*'13. Diet input'!$T140*100","v":0},{"$f":"L138*'13. Diet input'!$U140*100","v":0},{"$f":"M138*(1-'13. Diet input'!$V140)","v":0},null,{"$f":"'13. Diet input'!G140","v":0},{"$f":"U138*'13. Diet input'!$Q140*100","v":0},{"$f":"U138*'13. Diet input'!$R140*100","v":0},0,{"$f":"U138*'13. Diet input'!$S140*100","v":0},{"$f":"U138*'13. Diet input'!$T140*100","v":0},{"$f":"U138*'13. Diet input'!$U140*100","v":0},{"$f":"V138*(1-'13. Diet input'!$V140)","v":0},null,{"$f":"'13. Diet input'!H140","v":0},{"$f":"AD138*'13. Diet input'!$Q140*100","v":0},{"$f":"AD138*'13. Diet input'!$R140*100","v":0},0,{"$f":"AD138*'13. Diet input'!$S140*100","v":0},{"$f":"AD138*'13. Diet input'!$T140*100","v":0},{"$f":"AD138*'13. Diet input'!$U140*100","v":0},{"$f":"AE138*(1-'13. Diet input'!$V140)","v":0},null,{"$f":"'13. Diet input'!I140","v":0},{"$f":"AM138*'13. Diet input'!$Q140*100","v":0},{"$f":"AM138*'13. Diet input'!$R140*100","v":0},0,{"$f":"AM138*'13. Diet input'!$S140*100","v":0},{"$f":"AM138*'13. Diet input'!$T140*100","v":0},{"$f":"AM138*'13. Diet input'!$U140*100","v":0},{"$f":"AN138*(1-'13. Diet input'!$V140)","v":0},null,{"$f":"'13. Diet input'!J140","v":0},{"$f":"AV138*'13. Diet input'!$Q140*100","v":0},{"$f":"AV138*'13. Diet input'!$R140*100","v":0},0,{"$f":"AV138*'13. Diet input'!$S140*100","v":0},{"$f":"AV138*'13. Diet input'!$T140*100","v":0},{"$f":"AV138*'13. Diet input'!$U140*100","v":0},{"$f":"AW138*(1-'13. Diet input'!$V140)","v":0},null,{"$f":"'13. Diet input'!K140","v":0},{"$f":"BE138*'13. Diet input'!$Q140*100","v":0},{"$f":"BE138*'13. Diet input'!$R140*100","v":0},0,{"$f":"BE138*'13. Diet input'!$S140*100","v":0},{"$f":"BE138*'13. Diet input'!$T140*100","v":0},{"$f":"BE138*'13. Diet input'!$U140*100","v":0},{"$f":"BF138*(1-'13. Diet input'!$V140)","v":0},null,{"$f":"'13. Diet input'!L140","v":0},{"$f":"BN138*'13. Diet input'!$Q140*100","v":0},{"$f":"BN138*'13. Diet input'!$R140*100","v":0},0,{"$f":"BN138*'13. Diet input'!$S140*100","v":0},{"$f":"BN138*'13. Diet input'!$T140*100","v":0},{"$f":"BN138*'13. Diet input'!$U140*100","v":0},{"$f":"BO138*(1-'13. Diet input'!$V140)","v":0},null,{"$f":"'13. Diet input'!M140","v":0},{"$f":"BW138*'13. Diet input'!$Q140*100","v":0},{"$f":"BW138*'13. Diet input'!$R140*100","v":0},0,{"$f":"BW138*'13. Diet input'!$S140*100","v":0},{"$f":"BW138*'13. Diet input'!$T140*100","v":0},{"$f":"BW138*'13. Diet input'!$U140*100","v":0},{"$f":"BX138*(1-'13. Diet input'!$V140)","v":0},null,{"$f":"'13. Diet input'!N140","v":0},{"$f":"CF138*'13. Diet input'!$Q140*100","v":0},{"$f":"CF138*'13. Diet input'!$R140*100","v":0},0,{"$f":"CF138*'13. Diet input'!$S140*100","v":0},{"$f":"CF138*'13. Diet input'!$T140*100","v":0},{"$f":"CF138*'13. Diet input'!$U140*100","v":0},{"$f":"CG138*(1-'13. Diet input'!$V140)","v":0},null,{"$f":"'13. Diet input'!O140","v":0},{"$f":"CO138*'13. Diet input'!$Q140*100","v":0},{"$f":"CO138*'13. Diet input'!$R140*100","v":0},0,{"$f":"CO138*'13. Diet input'!$S140*100","v":0},{"$f":"CO138*'13. Diet input'!$T140*100","v":0},{"$f":"CO138*'13. Diet input'!$U140*100","v":0},{"$f":"CP138*(1-'13. Diet input'!$V140)","v":0}]
[null,{"$f":"'13. Diet input'!B141","v":"Softwood sawdust/shavings"},{"$f":"'13. Diet input'!E141","v":0},{"$f":"C139*'13. Diet input'!$Q141*100","v":0},{"$f":"C139*'13. Diet input'!$R141*100","v":0},{"$f":"D139-E139","v":0},{"$f":"C139*'13. Diet input'!$S141*100","v":0},{"$f":"C139*'13. Diet input'!$T141*100","v":0},{"$f":"C139*'13. Diet input'!$U141*100","v":0},{"$f":"D139*(1-'13. Diet input'!$V141)","v":0},null,{"$f":"'13. Diet input'!F141","v":0},{"$f":"L139*'13. Diet input'!$Q141*100","v":0},{"$f":"L139*'13. Diet input'!$R141*100","v":0},{"$f":"M139-N139","v":0},{"$f":"L139*'13. Diet input'!$S141*100","v":0},{"$f":"L139*'13. Diet input'!$T141*100","v":0},{"$f":"L139*'13. Diet input'!$U141*100","v":0},{"$f":"M139*(1-'13. Diet input'!$V141)","v":0},null,{"$f":"'13. Diet input'!G141","v":0},{"$f":"U139*'13. Diet input'!$Q141*100","v":0},{"$f":"U139*'13. Diet input'!$R141*100","v":0},{"$f":"V139-W139","v":0},{"$f":"U139*'13. Diet input'!$S141*100","v":0},{"$f":"U139*'13. Diet input'!$T141*100","v":0},{"$f":"U139*'13. Diet input'!$U141*100","v":0},{"$f":"V139*(1-'13. Diet input'!$V141)","v":0},null,{"$f":"'13. Diet input'!H141","v":0},{"$f":"AD139*'13. Diet input'!$Q141*100","v":0},{"$f":"AD139*'13. Diet input'!$R141*100","v":0},{"$f":"AE139-AF139","v":0},{"$f":"AD139*'13. Diet input'!$S141*100","v":0},{"$f":"AD139*'13. Diet input'!$T141*100","v":0},{"$f":"AD139*'13. Diet input'!$U141*100","v":0},{"$f":"AE139*(1-'13. Diet input'!$V141)","v":0},null,{"$f":"'13. Diet input'!I141","v":0},{"$f":"AM139*'13. Diet input'!$Q141*100","v":0},{"$f":"AM139*'13. Diet input'!$R141*100","v":0},{"$f":"AN139-AO139","v":0},{"$f":"AM139*'13. Diet input'!$S141*100","v":0},{"$f":"AM139*'13. Diet input'!$T141*100","v":0},{"$f":"AM139*'13. Diet input'!$U141*100","v":0},{"$f":"AN139*(1-'13. Diet input'!$V141)","v":0},null,{"$f":"'13. Diet input'!J141","v":0},{"$f":"AV139*'13. Diet input'!$Q141*100","v":0},{"$f":"AV139*'13. Diet input'!$R141*100","v":0},{"$f":"AW139-AX139","v":0},{"$f":"AV139*'13. Diet input'!$S141*100","v":0},{"$f":"AV139*'13. Diet input'!$T141*100","v":0},{"$f":"AV139*'13. Diet input'!$U141*100","v":0},{"$f":"AW139*(1-'13. Diet input'!$V141)","v":0},null,{"$f":"'13. Diet input'!K141","v":0},{"$f":"BE139*'13. Diet input'!$Q141*100","v":0},{"$f":"BE139*'13. Diet input'!$R141*100","v":0},{"$f":"BF139-BG139","v":0},{"$f":"BE139*'13. Diet input'!$S141*100","v":0},{"$f":"BE139*'13. Diet input'!$T141*100","v":0},{"$f":"BE139*'13. Diet input'!$U141*100","v":0},{"$f":"BF139*(1-'13. Diet input'!$V141)","v":0},null,{"$f":"'13. Diet input'!L141","v":0},{"$f":"BN139*'13. Diet input'!$Q141*100","v":0},{"$f":"BN139*'13. Diet input'!$R141*100","v":0},{"$f":"BO139-BP139","v":0},{"$f":"BN139*'13. Diet input'!$S141*100","v":0},{"$f":"BN139*'13. Diet input'!$T141*100","v":0},{"$f":"BN139*'13. Diet input'!$U141*100","v":0},{"$f":"BO139*(1-'13. Diet input'!$V141)","v":0},null,{"$f":"'13. Diet input'!M141","v":0},{"$f":"BW139*'13. Diet input'!$Q141*100","v":0},{"$f":"BW139*'13. Diet input'!$R141*100","v":0},{"$f":"BX139-BY139","v":0},{"$f":"BW139*'13. Diet input'!$S141*100","v":0},{"$f":"BW139*'13. Diet input'!$T141*100","v":0},{"$f":"BW139*'13. Diet input'!$U141*100","v":0},{"$f":"BX139*(1-'13. Diet input'!$V141)","v":0},null,{"$f":"'13. Diet input'!N141","v":0},{"$f":"CF139*'13. Diet input'!$Q141*100","v":0},{"$f":"CF139*'13. Diet input'!$R141*100","v":0},{"$f":"CG139-CH139","v":0},{"$f":"CF139*'13. Diet input'!$S141*100","v":0},{"$f":"CF139*'13. Diet input'!$T141*100","v":0},{"$f":"CF139*'13. Diet input'!$U141*100","v":0},{"$f":"CG139*(1-'13. Diet input'!$V141)","v":0},null,{"$f":"'13. Diet input'!O141","v":0},{"$f":"CO139*'13. Diet input'!$Q141*100","v":0},{"$f":"CO139*'13. Diet input'!$R141*100","v":0},0,{"$f":"CO139*'13. Diet input'!$S141*100","v":0},{"$f":"CO139*'13. Diet input'!$T141*100","v":0},{"$f":"CO139*'13. Diet input'!$U141*100","v":0},{"$f":"CP139*(1-'13. Diet input'!$V141)","v":0}]
[null,{"$f":"'13. Diet input'!B142","v":"Rice Hulls"},{"$f":"'13. Diet input'!E142","v":0},{"$f":"C140*'13. Diet input'!$Q142*100","v":0},{"$f":"C140*'13. Diet input'!$R142*100","v":0},{"$f":"D140-E140","v":0},{"$f":"C140*'13. Diet input'!$S142*100","v":0},{"$f":"C140*'13. Diet input'!$T142*100","v":0},{"$f":"C140*'13. Diet input'!$U142*100","v":0},{"$f":"D140*(1-'13. Diet input'!$V142)","v":0},null,{"$f":"'13. Diet input'!F142","v":0},{"$f":"L140*'13. Diet input'!$Q142*100","v":0},{"$f":"L140*'13. Diet input'!$R142*100","v":0},{"$f":"M140-N140","v":0},{"$f":"L140*'13. Diet input'!$S142*100","v":0},{"$f":"L140*'13. Diet input'!$T142*100","v":0},{"$f":"L140*'13. Diet input'!$U142*100","v":0},{"$f":"M140*(1-'13. Diet input'!$V142)","v":0},null,{"$f":"'13. Diet input'!G142","v":0},{"$f":"U140*'13. Diet input'!$Q142*100","v":0},{"$f":"U140*'13. Diet input'!$R142*100","v":0},{"$f":"V140-W140","v":0},{"$f":"U140*'13. Diet input'!$S142*100","v":0},{"$f":"U140*'13. Diet input'!$T142*100","v":0},{"$f":"U140*'13. Diet input'!$U142*100","v":0},{"$f":"V140*(1-'13. Diet input'!$V142)","v":0},null,{"$f":"'13. Diet input'!H142","v":0},{"$f":"AD140*'13. Diet input'!$Q142*100","v":0},{"$f":"AD140*'13. Diet input'!$R142*100","v":0},{"$f":"AE140-AF140","v":0},{"$f":"AD140*'13. Diet input'!$S142*100","v":0},{"$f":"AD140*'13. Diet input'!$T142*100","v":0},{"$f":"AD140*'13. Diet input'!$U142*100","v":0},{"$f":"AE140*(1-'13. Diet input'!$V142)","v":0},null,{"$f":"'13. Diet input'!I142","v":0},{"$f":"AM140*'13. Diet input'!$Q142*100","v":0},{"$f":"AM140*'13. Diet input'!$R142*100","v":0},{"$f":"AN140-AO140","v":0},{"$f":"AM140*'13. Diet input'!$S142*100","v":0},{"$f":"AM140*'13. Diet input'!$T142*100","v":0},{"$f":"AM140*'13. Diet input'!$U142*100","v":0},{"$f":"AN140*(1-'13. Diet input'!$V142)","v":0},null,{"$f":"'13. Diet input'!J142","v":0},{"$f":"AV140*'13. Diet input'!$Q142*100","v":0},{"$f":"AV140*'13. Diet input'!$R142*100","v":0},{"$f":"AW140-AX140","v":0},{"$f":"AV140*'13. Diet input'!$S142*100","v":0},{"$f":"AV140*'13. Diet input'!$T142*100","v":0},{"$f":"AV140*'13. Diet input'!$U142*100","v":0},{"$f":"AW140*(1-'13. Diet input'!$V142)","v":0},null,{"$f":"'13. Diet input'!K142","v":0},{"$f":"BE140*'13. Diet input'!$Q142*100","v":0},{"$f":"BE140*'13. Diet input'!$R142*100","v":0},{"$f":"BF140-BG140","v":0},{"$f":"BE140*'13. Diet input'!$S142*100","v":0},{"$f":"BE140*'13. Diet input'!$T142*100","v":0},{"$f":"BE140*'13. Diet input'!$U142*100","v":0},{"$f":"BF140*(1-'13. Diet input'!$V142)","v":0},null,{"$f":"'13. Diet input'!L142","v":0},{"$f":"BN140*'13. Diet input'!$Q142*100","v":0},{"$f":"BN140*'13. Diet input'!$R142*100","v":0},{"$f":"BO140-BP140","v":0},{"$f":"BN140*'13. Diet input'!$S142*100","v":0},{"$f":"BN140*'13. Diet input'!$T142*100","v":0},{"$f":"BN140*'13. Diet input'!$U142*100","v":0},{"$f":"BO140*(1-'13. Diet input'!$V142)","v":0},null,{"$f":"'13. Diet input'!M142","v":0},{"$f":"BW140*'13. Diet input'!$Q142*100","v":0},{"$f":"BW140*'13. Diet input'!$R142*100","v":0},{"$f":"BX140-BY140","v":0},{"$f":"BW140*'13. Diet input'!$S142*100","v":0},{"$f":"BW140*'13. Diet input'!$T142*100","v":0},{"$f":"BW140*'13. Diet input'!$U142*100","v":0},{"$f":"BX140*(1-'13. Diet input'!$V142)","v":0},null,{"$f":"'13. Diet input'!N142","v":0},{"$f":"CF140*'13. Diet input'!$Q142*100","v":0},{"$f":"CF140*'13. Diet input'!$R142*100","v":0},{"$f":"CG140-CH140","v":0},{"$f":"CF140*'13. Diet input'!$S142*100","v":0},{"$f":"CF140*'13. Diet input'!$T142*100","v":0},{"$f":"CF140*'13. Diet input'!$U142*100","v":0},{"$f":"CG140*(1-'13. Diet input'!$V142)","v":0},null,{"$f":"'13. Diet input'!O142","v":0},{"$f":"CO140*'13. Diet input'!$Q142*100","v":0},{"$f":"CO140*'13. Diet input'!$R142*100","v":0},{"$f":"CP140-CQ140","v":0},{"$f":"CO140*'13. Diet input'!$S142*100","v":0},{"$f":"CO140*'13. Diet input'!$T142*100","v":0},{"$f":"CO140*'13. Diet input'!$U142*100","v":0},{"$f":"CP140*(1-'13. Diet input'!$V142)","v":0}]
[null,{"$f":"'13. Diet input'!B143","v":"Barley straw"},{"$f":"'13. Diet input'!E143","v":0},{"$f":"C141*'13. Diet input'!$Q143*100","v":0},{"$f":"C141*'13. Diet input'!$R143*100","v":0},{"$f":"D141-E141","v":0},{"$f":"C141*'13. Diet input'!$S143*100","v":0},{"$f":"C141*'13. Diet input'!$T143*100","v":0},{"$f":"C141*'13. Diet input'!$U143*100","v":0},{"$f":"D141*(1-'13. Diet input'!$V143)","v":0},null,{"$f":"'13. Diet input'!F143","v":0},{"$f":"L141*'13. Diet input'!$Q143*100","v":0},{"$f":"L141*'13. Diet input'!$R143*100","v":0},{"$f":"M141-N141","v":0},{"$f":"L141*'13. Diet input'!$S143*100","v":0},{"$f":"L141*'13. Diet input'!$T143*100","v":0},{"$f":"L141*'13. Diet input'!$U143*100","v":0},{"$f":"M141*(1-'13. Diet input'!$V143)","v":0},null,{"$f":"'13. Diet input'!G143","v":0},{"$f":"U141*'13. Diet input'!$Q143*100","v":0},{"$f":"U141*'13. Diet input'!$R143*100","v":0},{"$f":"V141-W141","v":0},{"$f":"U141*'13. Diet input'!$S143*100","v":0},{"$f":"U141*'13. Diet input'!$T143*100","v":0},{"$f":"U141*'13. Diet input'!$U143*100","v":0},{"$f":"V141*(1-'13. Diet input'!$V143)","v":0},null,{"$f":"'13. Diet input'!H143","v":0},{"$f":"AD141*'13. Diet input'!$Q143*100","v":0},{"$f":"AD141*'13. Diet input'!$R143*100","v":0},{"$f":"AE141-AF141","v":0},{"$f":"AD141*'13. Diet input'!$S143*100","v":0},{"$f":"AD141*'13. Diet input'!$T143*100","v":0},{"$f":"AD141*'13. Diet input'!$U143*100","v":0},{"$f":"AE141*(1-'13. Diet input'!$V143)","v":0},null,{"$f":"'13. Diet input'!I143","v":0},{"$f":"AM141*'13. Diet input'!$Q143*100","v":0},{"$f":"AM141*'13. Diet input'!$R143*100","v":0},{"$f":"AN141-AO141","v":0},{"$f":"AM141*'13. Diet input'!$S143*100","v":0},{"$f":"AM141*'13. Diet input'!$T143*100","v":0},{"$f":"AM141*'13. Diet input'!$U143*100","v":0},{"$f":"AN141*(1-'13. Diet input'!$V143)","v":0},null,{"$f":"'13. Diet input'!J143","v":0},{"$f":"AV141*'13. Diet input'!$Q143*100","v":0},{"$f":"AV141*'13. Diet input'!$R143*100","v":0},{"$f":"AW141-AX141","v":0},{"$f":"AV141*'13. Diet input'!$S143*100","v":0},{"$f":"AV141*'13. Diet input'!$T143*100","v":0},{"$f":"AV141*'13. Diet input'!$U143*100","v":0},{"$f":"AW141*(1-'13. Diet input'!$V143)","v":0},null,{"$f":"'13. Diet input'!K143","v":0},{"$f":"BE141*'13. Diet input'!$Q143*100","v":0},{"$f":"BE141*'13. Diet input'!$R143*100","v":0},{"$f":"BF141-BG141","v":0},{"$f":"BE141*'13. Diet input'!$S143*100","v":0},{"$f":"BE141*'13. Diet input'!$T143*100","v":0},{"$f":"BE141*'13. Diet input'!$U143*100","v":0},{"$f":"BF141*(1-'13. Diet input'!$V143)","v":0},null,{"$f":"'13. Diet input'!L143","v":0},{"$f":"BN141*'13. Diet input'!$Q143*100","v":0},{"$f":"BN141*'13. Diet input'!$R143*100","v":0},{"$f":"BO141-BP141","v":0},{"$f":"BN141*'13. Diet input'!$S143*100","v":0},{"$f":"BN141*'13. Diet input'!$T143*100","v":0},{"$f":"BN141*'13. Diet input'!$U143*100","v":0},{"$f":"BO141*(1-'13. Diet input'!$V143)","v":0},null,{"$f":"'13. Diet input'!M143","v":0},{"$f":"BW141*'13. Diet input'!$Q143*100","v":0},{"$f":"BW141*'13. Diet input'!$R143*100","v":0},{"$f":"BX141-BY141","v":0},{"$f":"BW141*'13. Diet input'!$S143*100","v":0},{"$f":"BW141*'13. Diet input'!$T143*100","v":0},{"$f":"BW141*'13. Diet input'!$U143*100","v":0},{"$f":"BX141*(1-'13. Diet input'!$V143)","v":0},null,{"$f":"'13. Diet input'!N143","v":0},{"$f":"CF141*'13. Diet input'!$Q143*100","v":0},{"$f":"CF141*'13. Diet input'!$R143*100","v":0},{"$f":"CG141-CH141","v":0},{"$f":"CF141*'13. Diet input'!$S143*100","v":0},{"$f":"CF141*'13. Diet input'!$T143*100","v":0},{"$f":"CF141*'13. Diet input'!$U143*100","v":0},{"$f":"CG141*(1-'13. Diet input'!$V143)","v":0},null,{"$f":"'13. Diet input'!O143","v":0},{"$f":"CO141*'13. Diet input'!$Q143*100","v":0},{"$f":"CO141*'13. Diet input'!$R143*100","v":0},{"$f":"CP141-CQ141","v":0},{"$f":"CO141*'13. Diet input'!$S143*100","v":0},{"$f":"CO141*'13. Diet input'!$T143*100","v":0},{"$f":"CO141*'13. Diet input'!$U143*100","v":0},{"$f":"CP141*(1-'13. Diet input'!$V143)","v":0}]
[null,{"$f":"'13. Diet input'!B144","v":"Wheat straw"},{"$f":"'13. Diet input'!E144","v":0},{"$f":"C142*'13. Diet input'!$Q144*100","v":0},{"$f":"C142*'13. Diet input'!$R144*100","v":0},{"$f":"D142-E142","v":0},{"$f":"C142*'13. Diet input'!$S144*100","v":0},{"$f":"C142*'13. Diet input'!$T144*100","v":0},{"$f":"C142*'13. Diet input'!$U144*100","v":0},{"$f":"D142*(1-'13. Diet input'!$V144)","v":0},null,{"$f":"'13. Diet input'!F144","v":0},{"$f":"L142*'13. Diet input'!$Q144*100","v":0},{"$f":"L142*'13. Diet input'!$R144*100","v":0},{"$f":"M142-N142","v":0},{"$f":"L142*'13. Diet input'!$S144*100","v":0},{"$f":"L142*'13. Diet input'!$T144*100","v":0},{"$f":"L142*'13. Diet input'!$U144*100","v":0},{"$f":"M142*(1-'13. Diet input'!$V144)","v":0},null,{"$f":"'13. Diet input'!G144","v":0},{"$f":"U142*'13. Diet input'!$Q144*100","v":0},{"$f":"U142*'13. Diet input'!$R144*100","v":0},{"$f":"V142-W142","v":0},{"$f":"U142*'13. Diet input'!$S144*100","v":0},{"$f":"U142*'13. Diet input'!$T144*100","v":0},{"$f":"U142*'13. Diet input'!$U144*100","v":0},{"$f":"V142*(1-'13. Diet input'!$V144)","v":0},null,{"$f":"'13. Diet input'!H144","v":0},{"$f":"AD142*'13. Diet input'!$Q144*100","v":0},{"$f":"AD142*'13. Diet input'!$R144*100","v":0},{"$f":"AE142-AF142","v":0},{"$f":"AD142*'13. Diet input'!$S144*100","v":0},{"$f":"AD142*'13. Diet input'!$T144*100","v":0},{"$f":"AD142*'13. Diet input'!$U144*100","v":0},{"$f":"AE142*(1-'13. Diet input'!$V144)","v":0},null,{"$f":"'13. Diet input'!I144","v":0},{"$f":"AM142*'13. Diet input'!$Q144*100","v":0},{"$f":"AM142*'13. Diet input'!$R144*100","v":0},{"$f":"AN142-AO142","v":0},{"$f":"AM142*'13. Diet input'!$S144*100","v":0},{"$f":"AM142*'13. Diet input'!$T144*100","v":0},{"$f":"AM142*'13. Diet input'!$U144*100","v":0},{"$f":"AN142*(1-'13. Diet input'!$V144)","v":0},null,{"$f":"'13. Diet input'!J144","v":0},{"$f":"AV142*'13. Diet input'!$Q144*100","v":0},{"$f":"AV142*'13. Diet input'!$R144*100","v":0},{"$f":"AW142-AX142","v":0},{"$f":"AV142*'13. Diet input'!$S144*100","v":0},{"$f":"AV142*'13. Diet input'!$T144*100","v":0},{"$f":"AV142*'13. Diet input'!$U144*100","v":0},{"$f":"AW142*(1-'13. Diet input'!$V144)","v":0},null,{"$f":"'13. Diet input'!K144","v":0},{"$f":"BE142*'13. Diet input'!$Q144*100","v":0},{"$f":"BE142*'13. Diet input'!$R144*100","v":0},{"$f":"BF142-BG142","v":0},{"$f":"BE142*'13. Diet input'!$S144*100","v":0},{"$f":"BE142*'13. Diet input'!$T144*100","v":0},{"$f":"BE142*'13. Diet input'!$U144*100","v":0},{"$f":"BF142*(1-'13. Diet input'!$V144)","v":0},null,{"$f":"'13. Diet input'!L144","v":0},{"$f":"BN142*'13. Diet input'!$Q144*100","v":0},{"$f":"BN142*'13. Diet input'!$R144*100","v":0},{"$f":"BO142-BP142","v":0},{"$f":"BN142*'13. Diet input'!$S144*100","v":0},{"$f":"BN142*'13. Diet input'!$T144*100","v":0},{"$f":"BN142*'13. Diet input'!$U144*100","v":0},{"$f":"BO142*(1-'13. Diet input'!$V144)","v":0},null,{"$f":"'13. Diet input'!M144","v":0},{"$f":"BW142*'13. Diet input'!$Q144*100","v":0},{"$f":"BW142*'13. Diet input'!$R144*100","v":0},{"$f":"BX142-BY142","v":0},{"$f":"BW142*'13. Diet input'!$S144*100","v":0},{"$f":"BW142*'13. Diet input'!$T144*100","v":0},{"$f":"BW142*'13. Diet input'!$U144*100","v":0},{"$f":"BX142*(1-'13. Diet input'!$V144)","v":0},null,{"$f":"'13. Diet input'!N144","v":0},{"$f":"CF142*'13. Diet input'!$Q144*100","v":0},{"$f":"CF142*'13. Diet input'!$R144*100","v":0},{"$f":"CG142-CH142","v":0},{"$f":"CF142*'13. Diet input'!$S144*100","v":0},{"$f":"CF142*'13. Diet input'!$T144*100","v":0},{"$f":"CF142*'13. Diet input'!$U144*100","v":0},{"$f":"CG142*(1-'13. Diet input'!$V144)","v":0},null,{"$f":"'13. Diet input'!O144","v":0},{"$f":"CO142*'13. Diet input'!$Q144*100","v":0},{"$f":"CO142*'13. Diet input'!$R144*100","v":0},{"$f":"CP142-CQ142","v":0},{"$f":"CO142*'13. Diet input'!$S144*100","v":0},{"$f":"CO142*'13. Diet input'!$T144*100","v":0},{"$f":"CO142*'13. Diet input'!$U144*100","v":0},{"$f":"CP142*(1-'13. Diet input'!$V144)","v":0}]
[null,{"$f":"'13. Diet input'!B145","v":"Shredded paper"},{"$f":"'13. Diet input'!E145","v":0},{"$f":"C143*'13. Diet input'!$Q145*100","v":0},{"$f":"C143*'13. Diet input'!$R145*100","v":0},{"$f":"D143-E143","v":0},{"$f":"C143*'13. Diet input'!$S145*100","v":0},{"$f":"C143*'13. Diet input'!$T145*100","v":0},{"$f":"C143*'13. Diet input'!$U145*100","v":0},{"$f":"D143*(1-'13. Diet input'!$V145)","v":0},null,{"$f":"'13. Diet input'!F145","v":0},{"$f":"L143*'13. Diet input'!$Q145*100","v":0},{"$f":"L143*'13. Diet input'!$R145*100","v":0},{"$f":"M143-N143","v":0},{"$f":"L143*'13. Diet input'!$S145*100","v":0},{"$f":"L143*'13. Diet input'!$T145*100","v":0},{"$f":"L143*'13. Diet input'!$U145*100","v":0},{"$f":"M143*(1-'13. Diet input'!$V145)","v":0},null,{"$f":"'13. Diet input'!G145","v":0},{"$f":"U143*'13. Diet input'!$Q145*100","v":0},{"$f":"U143*'13. Diet input'!$R145*100","v":0},{"$f":"V143-W143","v":0},{"$f":"U143*'13. Diet input'!$S145*100","v":0},{"$f":"U143*'13. Diet input'!$T145*100","v":0},{"$f":"U143*'13. Diet input'!$U145*100","v":0},{"$f":"V143*(1-'13. Diet input'!$V145)","v":0},null,{"$f":"'13. Diet input'!H145","v":0},{"$f":"AD143*'13. Diet input'!$Q145*100","v":0},{"$f":"AD143*'13. Diet input'!$R145*100","v":0},{"$f":"AE143-AF143","v":0},{"$f":"AD143*'13. Diet input'!$S145*100","v":0},{"$f":"AD143*'13. Diet input'!$T145*100","v":0},{"$f":"AD143*'13. Diet input'!$U145*100","v":0},{"$f":"AE143*(1-'13. Diet input'!$V145)","v":0},null,{"$f":"'13. Diet input'!I145","v":0},{"$f":"AM143*'13. Diet input'!$Q145*100","v":0},{"$f":"AM143*'13. Diet input'!$R145*100","v":0},{"$f":"AN143-AO143","v":0},{"$f":"AM143*'13. Diet input'!$S145*100","v":0},{"$f":"AM143*'13. Diet input'!$T145*100","v":0},{"$f":"AM143*'13. Diet input'!$U145*100","v":0},{"$f":"AN143*(1-'13. Diet input'!$V145)","v":0},null,{"$f":"'13. Diet input'!J145","v":0},{"$f":"AV143*'13. Diet input'!$Q145*100","v":0},{"$f":"AV143*'13. Diet input'!$R145*100","v":0},{"$f":"AW143-AX143","v":0},{"$f":"AV143*'13. Diet input'!$S145*100","v":0},{"$f":"AV143*'13. Diet input'!$T145*100","v":0},{"$f":"AV143*'13. Diet input'!$U145*100","v":0},{"$f":"AW143*(1-'13. Diet input'!$V145)","v":0},null,{"$f":"'13. Diet input'!K145","v":0},{"$f":"BE143*'13. Diet input'!$Q145*100","v":0},{"$f":"BE143*'13. Diet input'!$R145*100","v":0},{"$f":"BF143-BG143","v":0},{"$f":"BE143*'13. Diet input'!$S145*100","v":0},{"$f":"BE143*'13. Diet input'!$T145*100","v":0},{"$f":"BE143*'13. Diet input'!$U145*100","v":0},{"$f":"BF143*(1-'13. Diet input'!$V145)","v":0},null,{"$f":"'13. Diet input'!L145","v":0},{"$f":"BN143*'13. Diet input'!$Q145*100","v":0},{"$f":"BN143*'13. Diet input'!$R145*100","v":0},{"$f":"BO143-BP143","v":0},{"$f":"BN143*'13. Diet input'!$S145*100","v":0},{"$f":"BN143*'13. Diet input'!$T145*100","v":0},{"$f":"BN143*'13. Diet input'!$U145*100","v":0},{"$f":"BO143*(1-'13. Diet input'!$V145)","v":0},null,{"$f":"'13. Diet input'!M145","v":0},{"$f":"BW143*'13. Diet input'!$Q145*100","v":0},{"$f":"BW143*'13. Diet input'!$R145*100","v":0},{"$f":"BX143-BY143","v":0},{"$f":"BW143*'13. Diet input'!$S145*100","v":0},{"$f":"BW143*'13. Diet input'!$T145*100","v":0},{"$f":"BW143*'13. Diet input'!$U145*100","v":0},{"$f":"BX143*(1-'13. Diet input'!$V145)","v":0},null,{"$f":"'13. Diet input'!N145","v":0},{"$f":"CF143*'13. Diet input'!$Q145*100","v":0},{"$f":"CF143*'13. Diet input'!$R145*100","v":0},{"$f":"CG143-CH143","v":0},{"$f":"CF143*'13. Diet input'!$S145*100","v":0},{"$f":"CF143*'13. Diet input'!$T145*100","v":0},{"$f":"CF143*'13. Diet input'!$U145*100","v":0},{"$f":"CG143*(1-'13. Diet input'!$V145)","v":0},null,{"$f":"'13. Diet input'!O145","v":0},{"$f":"CO143*'13. Diet input'!$Q145*100","v":0},{"$f":"CO143*'13. Diet input'!$R145*100","v":0},{"$f":"CP143-CQ143","v":0},{"$f":"CO143*'13. Diet input'!$S145*100","v":0},{"$f":"CO143*'13. Diet input'!$T145*100","v":0},{"$f":"CO143*'13. Diet input'!$U145*100","v":0},{"$f":"CP143*(1-'13. Diet input'!$V145)","v":0}]
[null,"Additional ingredients"]
[null,{"$f":"IF('12. Diet ingredient data'!B145=\"\", \"\", '12. Diet ingredient data'!B145)","v":"Sow milk"},{"$f":"'13. Diet input'!E147","v":0.9},{"$f":"C145*'13. Diet input'!$Q147*100","v":18.000000000000004},{"$f":"C145*'13. Diet input'!$R147*100","v":0.90000000000000013},17.100000000000005,{"$f":"C145*'13. Diet input'!$S147*100","v":0.81072},{"$f":"C145*'13. Diet input'!$T147*100","v":0.13500000000000001},{"$f":"C145*'13. Diet input'!$U147*100","v":6.3E-2},{"$f":"D145*(1-'13. Diet input'!$V147)","v":0},null,{"$f":"'13. Diet input'!F147","v":0},{"$f":"L145*'13. Diet input'!$Q147*100","v":0},{"$f":"L145*'13. Diet input'!$R147*100","v":0},{"$f":"M145-N145","v":0},{"$f":"L145*'13. Diet input'!$S147*100","v":0},{"$f":"L145*'13. Diet input'!$T147*100","v":0},{"$f":"L145*'13. Diet input'!$U147*100","v":0},{"$f":"M145*(1-'13. Diet input'!$V147)","v":0},null,{"$f":"'13. Diet input'!G147","v":0},{"$f":"U145*'13. Diet input'!$Q147*100","v":0},{"$f":"U145*'13. Diet input'!$R147*100","v":0},{"$f":"V145-W145","v":0},{"$f":"U145*'13. Diet input'!$S147*100","v":0},{"$f":"U145*'13. Diet input'!$T147*100","v":0},{"$f":"U145*'13. Diet input'!$U147*100","v":0},{"$f":"V145*(1-'13. Diet input'!$V147)","v":0},null,{"$f":"'13. Diet input'!H147","v":0},{"$f":"AD145*'13. Diet input'!$Q147*100","v":0},{"$f":"AD145*'13. Diet input'!$R147*100","v":0},{"$f":"AE145-AF145","v":0},{"$f":"AD145*'13. Diet input'!$S147*100","v":0},{"$f":"AD145*'13. Diet input'!$T147*100","v":0},{"$f":"AD145*'13. Diet input'!$U147*100","v":0},{"$f":"AE145*(1-'13. Diet input'!$V147)","v":0},null,{"$f":"'13. Diet input'!I147","v":0},{"$f":"AM145*'13. Diet input'!$Q147*100","v":0},{"$f":"AM145*'13. Diet input'!$R147*100","v":0},{"$f":"AN145-AO145","v":0},{"$f":"AM145*'13. Diet input'!$S147*100","v":0},{"$f":"AM145*'13. Diet input'!$T147*100","v":0},{"$f":"AM145*'13. Diet input'!$U147*100","v":0},{"$f":"AN145*(1-'13. Diet input'!$V147)","v":0},null,{"$f":"'13. Diet input'!J147","v":0},{"$f":"AV145*'13. Diet input'!$Q147*100","v":0},{"$f":"AV145*'13. Diet input'!$R147*100","v":0},{"$f":"AW145-AX145","v":0},{"$f":"AV145*'13. Diet input'!$S147*100","v":0},{"$f":"AV145*'13. Diet input'!$T147*100","v":0},{"$f":"AV145*'13. Diet input'!$U147*100","v":0},{"$f":"AW145*(1-'13. Diet input'!$V147)","v":0},null,{"$f":"'13. Diet input'!K147","v":0},{"$f":"BE145*'13. Diet input'!$Q147*100","v":0},{"$f":"BE145*'13. Diet input'!$R147*100","v":0},{"$f":"BF145-BG145","v":0},{"$f":"BE145*'13. Diet input'!$S147*100","v":0},{"$f":"BE145*'13. Diet input'!$T147*100","v":0},{"$f":"BE145*'13. Diet input'!$U147*100","v":0},{"$f":"BF145*(1-'13. Diet input'!$V147)","v":0},null,{"$f":"'13. Diet input'!L147","v":0},{"$f":"BN145*'13. Diet input'!$Q147*100","v":0},{"$f":"BN145*'13. Diet input'!$R147*100","v":0},{"$f":"BO145-BP145","v":0},{"$f":"BN145*'13. Diet input'!$S147*100","v":0},{"$f":"BN145*'13. Diet input'!$T147*100","v":0},{"$f":"BN145*'13. Diet input'!$U147*100","v":0},{"$f":"BO145*(1-'13. Diet input'!$V147)","v":0},null,{"$f":"'13. Diet input'!M147","v":0},{"$f":"BW145*'13. Diet input'!$Q147*100","v":0},{"$f":"BW145*'13. Diet input'!$R147*100","v":0},{"$f":"BX145-BY145","v":0},{"$f":"BW145*'13. Diet input'!$S147*100","v":0},{"$f":"BW145*'13. Diet input'!$T147*100","v":0},{"$f":"BW145*'13. Diet input'!$U147*100","v":0},{"$f":"BX145*(1-'13. Diet input'!$V147)","v":0},null,{"$f":"'13. Diet input'!N147","v":0},{"$f":"CF145*'13. Diet input'!$Q147*100","v":0},{"$f":"CF145*'13. Diet input'!$R147*100","v":0},0,{"$f":"CF145*'13. Diet input'!$S147*100","v":0},{"$f":"CF145*'13. Diet input'!$T147*100","v":0},{"$f":"CF145*'13. Diet input'!$U147*100","v":0},{"$f":"CG145*(1-'13. Diet input'!$V147)","v":0},null,{"$f":"'13. Diet input'!O147","v":0},{"$f":"CO145*'13. Diet input'!$Q147*100","v":0},{"$f":"CO145*'13. Diet input'!$R147*100","v":0},0,{"$f":"CO145*'13. Diet input'!$S147*100","v":0},{"$f":"CO145*'13. Diet input'!$T147*100","v":0},{"$f":"CO145*'13. Diet input'!$U147*100","v":0},{"$f":"CP145*(1-'13. Diet input'!$V147)","v":0}]
[null,{"$f":"IF('12. Diet ingredient data'!B146=\"\", \"\", '12. Diet ingredient data'!B146)","v":"Milk fat"},{"$f":"'13. Diet input'!E148","v":0},{"$f":"C146*'13. Diet input'!$Q148*100","v":0},{"$f":"C146*'13. Diet input'!$R148*100","v":0},{"$f":"D146-E146","v":0},{"$f":"C146*'13. Diet input'!$S148*100","v":0},{"$f":"C146*'13. Diet input'!$T148*100","v":0},{"$f":"C146*'13. Diet input'!$U148*100","v":0},{"$f":"D146*(1-'13. Diet input'!$V148)","v":0},null,{"$f":"'13. Diet input'!F148","v":0},{"$f":"L146*'13. Diet input'!$Q148*100","v":0},{"$f":"L146*'13. Diet input'!$R148*100","v":0},{"$f":"M146-N146","v":0},{"$f":"L146*'13. Diet input'!$S148*100","v":0},{"$f":"L146*'13. Diet input'!$T148*100","v":0},{"$f":"L146*'13. Diet input'!$U148*100","v":0},{"$f":"M146*(1-'13. Diet input'!$V148)","v":0},null,{"$f":"'13. Diet input'!G148","v":0},{"$f":"U146*'13. Diet input'!$Q148*100","v":0},{"$f":"U146*'13. Diet input'!$R148*100","v":0},{"$f":"V146-W146","v":0},{"$f":"U146*'13. Diet input'!$S148*100","v":0},{"$f":"U146*'13. Diet input'!$T148*100","v":0},{"$f":"U146*'13. Diet input'!$U148*100","v":0},{"$f":"V146*(1-'13. Diet input'!$V148)","v":0},null,{"$f":"'13. Diet input'!H148","v":0},{"$f":"AD146*'13. Diet input'!$Q148*100","v":0},{"$f":"AD146*'13. Diet input'!$R148*100","v":0},{"$f":"AE146-AF146","v":0},{"$f":"AD146*'13. Diet input'!$S148*100","v":0},{"$f":"AD146*'13. Diet input'!$T148*100","v":0},{"$f":"AD146*'13. Diet input'!$U148*100","v":0},{"$f":"AE146*(1-'13. Diet input'!$V148)","v":0},null,{"$f":"'13. Diet input'!I148","v":0},{"$f":"AM146*'13. Diet input'!$Q148*100","v":0},{"$f":"AM146*'13. Diet input'!$R148*100","v":0},{"$f":"AN146-AO146","v":0},{"$f":"AM146*'13. Diet input'!$S148*100","v":0},{"$f":"AM146*'13. Diet input'!$T148*100","v":0},{"$f":"AM146*'13. Diet input'!$U148*100","v":0},{"$f":"AN146*(1-'13. Diet input'!$V148)","v":0},null,{"$f":"'13. Diet input'!J148","v":0},{"$f":"AV146*'13. Diet input'!$Q148*100","v":0},{"$f":"AV146*'13. Diet input'!$R148*100","v":0},{"$f":"AW146-AX146","v":0},{"$f":"AV146*'13. Diet input'!$S148*100","v":0},{"$f":"AV146*'13. Diet input'!$T148*100","v":0},{"$f":"AV146*'13. Diet input'!$U148*100","v":0},{"$f":"AW146*(1-'13. Diet input'!$V148)","v":0},null,{"$f":"'13. Diet input'!K148","v":0},{"$f":"BE146*'13. Diet input'!$Q148*100","v":0},{"$f":"BE146*'13. Diet input'!$R148*100","v":0},{"$f":"BF146-BG146","v":0},{"$f":"BE146*'13. Diet input'!$S148*100","v":0},{"$f":"BE146*'13. Diet input'!$T148*100","v":0},{"$f":"BE146*'13. Diet input'!$U148*100","v":0},{"$f":"BF146*(1-'13. Diet input'!$V148)","v":0},null,{"$f":"'13. Diet input'!L148","v":0},{"$f":"BN146*'13. Diet input'!$Q148*100","v":0},{"$f":"BN146*'13. Diet input'!$R148*100","v":0},{"$f":"BO146-BP146","v":0},{"$f":"BN146*'13. Diet input'!$S148*100","v":0},{"$f":"BN146*'13. Diet input'!$T148*100","v":0},{"$f":"BN146*'13. Diet input'!$U148*100","v":0},{"$f":"BO146*(1-'13. Diet input'!$V148)","v":0},null,{"$f":"'13. Diet input'!M148","v":0},{"$f":"BW146*'13. Diet input'!$Q148*100","v":0},{"$f":"BW146*'13. Diet input'!$R148*100","v":0},{"$f":"BX146-BY146","v":0},{"$f":"BW146*'13. Diet input'!$S148*100","v":0},{"$f":"BW146*'13. Diet input'!$T148*100","v":0},{"$f":"BW146*'13. Diet input'!$U148*100","v":0},{"$f":"BX146*(1-'13. Diet input'!$V148)","v":0},null,{"$f":"'13. Diet input'!N148","v":0},{"$f":"CF146*'13. Diet input'!$Q148*100","v":0},{"$f":"CF146*'13. Diet input'!$R148*100","v":0},{"$f":"CG146-CH146","v":0},{"$f":"CF146*'13. Diet input'!$S148*100","v":0},{"$f":"CF146*'13. Diet input'!$T148*100","v":0},{"$f":"CF146*'13. Diet input'!$U148*100","v":0},{"$f":"CG146*(1-'13. Diet input'!$V148)","v":0},null,{"$f":"'13. Diet input'!O148","v":0},{"$f":"CO146*'13. Diet input'!$Q148*100","v":0},{"$f":"CO146*'13. Diet input'!$R148*100","v":0},{"$f":"CP146-CQ146","v":0},{"$f":"CO146*'13. Diet input'!$S148*100","v":0},{"$f":"CO146*'13. Diet input'!$T148*100","v":0},{"$f":"CO146*'13. Diet input'!$U148*100","v":0},{"$f":"CP146*(1-'13. Diet input'!$V148)","v":0}]
[]
[null,{"$f":"IF('12. Diet ingredient data'!B148=\"\", \"\", '12. Diet ingredient data'!B148)","v":""},{"$f":"'13. Diet input'!E150","v":0},{"$f":"C148*'13. Diet input'!$Q150*100","v":0},{"$f":"C148*'13. Diet input'!$R150*100","v":0},{"$f":"D148-E148","v":0},{"$f":"C148*'13. Diet input'!$S150*100","v":0},{"$f":"C148*'13. Diet input'!$T150*100","v":0},{"$f":"C148*'13. Diet input'!$U150*100","v":0},{"$f":"D148*(1-'13. Diet input'!$V150)","v":0},null,{"$f":"'13. Diet input'!F150","v":0},{"$f":"L148*'13. Diet input'!$Q150*100","v":0},{"$f":"L148*'13. Diet input'!$R150*100","v":0},{"$f":"M148-N148","v":0},{"$f":"L148*'13. Diet input'!$S150*100","v":0},{"$f":"L148*'13. Diet input'!$T150*100","v":0},{"$f":"L148*'13. Diet input'!$U150*100","v":0},{"$f":"M148*(1-'13. Diet input'!$V150)","v":0},null,{"$f":"'13. Diet input'!G150","v":0},{"$f":"U148*'13. Diet input'!$Q150*100","v":0},{"$f":"U148*'13. Diet input'!$R150*100","v":0},{"$f":"V148-W148","v":0},{"$f":"U148*'13. Diet input'!$S150*100","v":0},{"$f":"U148*'13. Diet input'!$T150*100","v":0},{"$f":"U148*'13. Diet input'!$U150*100","v":0},{"$f":"V148*(1-'13. Diet input'!$V150)","v":0},null,{"$f":"'13. Diet input'!H150","v":0},{"$f":"AD148*'13. Diet input'!$Q150*100","v":0},{"$f":"AD148*'13. Diet input'!$R150*100","v":0},{"$f":"AE148-AF148","v":0},{"$f":"AD148*'13. Diet input'!$S150*100","v":0},{"$f":"AD148*'13. Diet input'!$T150*100","v":0},{"$f":"AD148*'13. Diet input'!$U150*100","v":0},{"$f":"AE148*(1-'13. Diet input'!$V150)","v":0},null,{"$f":"'13. Diet input'!I150","v":0},{"$f":"AM148*'13. Diet input'!$Q150*100","v":0},{"$f":"AM148*'13. Diet input'!$R150*100","v":0},{"$f":"AN148-AO148","v":0},{"$f":"AM148*'13. Diet input'!$S150*100","v":0},{"$f":"AM148*'13. Diet input'!$T150*100","v":0},{"$f":"AM148*'13. Diet input'!$U150*100","v":0},{"$f":"AN148*(1-'13. Diet input'!$V150)","v":0},null,{"$f":"'13. Diet input'!J150","v":0},{"$f":"AV148*'13. Diet input'!$Q150*100","v":0},{"$f":"AV148*'13. Diet input'!$R150*100","v":0},{"$f":"AW148-AX148","v":0},{"$f":"AV148*'13. Diet input'!$S150*100","v":0},{"$f":"AV148*'13. Diet input'!$T150*100","v":0},{"$f":"AV148*'13. Diet input'!$U150*100","v":0},{"$f":"AW148*(1-'13. Diet input'!$V150)","v":0},null,{"$f":"'13. Diet input'!K150","v":0},{"$f":"BE148*'13. Diet input'!$Q150*100","v":0},{"$f":"BE148*'13. Diet input'!$R150*100","v":0},{"$f":"BF148-BG148","v":0},{"$f":"BE148*'13. Diet input'!$S150*100","v":0},{"$f":"BE148*'13. Diet input'!$T150*100","v":0},{"$f":"BE148*'13. Diet input'!$U150*100","v":0},{"$f":"BF148*(1-'13. Diet input'!$V150)","v":0},null,{"$f":"'13. Diet input'!L150","v":0},{"$f":"BN148*'13. Diet input'!$Q150*100","v":0},{"$f":"BN148*'13. Diet input'!$R150*100","v":0},{"$f":"BO148-BP148","v":0},{"$f":"BN148*'13. Diet input'!$S150*100","v":0},{"$f":"BN148*'13. Diet input'!$T150*100","v":0},{"$f":"BN148*'13. Diet input'!$U150*100","v":0},{"$f":"BO148*(1-'13. Diet input'!$V150)","v":0},null,{"$f":"'13. Diet input'!M150","v":0},{"$f":"BW148*'13. Diet input'!$Q150*100","v":0},{"$f":"BW148*'13. Diet input'!$R150*100","v":0},{"$f":"BX148-BY148","v":0},{"$f":"BW148*'13. Diet input'!$S150*100","v":0},{"$f":"BW148*'13. Diet input'!$T150*100","v":0},{"$f":"BW148*'13. Diet input'!$U150*100","v":0},{"$f":"BX148*(1-'13. Diet input'!$V150)","v":0},null,{"$f":"'13. Diet input'!N150","v":0},{"$f":"CF148*'13. Diet input'!$Q150*100","v":0},{"$f":"CF148*'13. Diet input'!$R150*100","v":0},{"$f":"CG148-CH148","v":0},{"$f":"CF148*'13. Diet input'!$S150*100","v":0},{"$f":"CF148*'13. Diet input'!$T150*100","v":0},{"$f":"CF148*'13. Diet input'!$U150*100","v":0},{"$f":"CG148*(1-'13. Diet input'!$V150)","v":0},null,{"$f":"'13. Diet input'!O150","v":0},{"$f":"CO148*'13. Diet input'!$Q150*100","v":0},{"$f":"CO148*'13. Diet input'!$R150*100","v":0},{"$f":"CP148-CQ148","v":0},{"$f":"CO148*'13. Diet input'!$S150*100","v":0},{"$f":"CO148*'13. Diet input'!$T150*100","v":0},{"$f":"CO148*'13. Diet input'!$U150*100","v":0},{"$f":"CP148*(1-'13. Diet input'!$V150)","v":0}]
[]
[null,"Totals:",{"$f":"SUM(C9:C148)","v":1},27.023851250000003,1.4454115000000003,25.578439750000008,1.1199164399999999,0.20269825000000002,0.159603625,1.3688907977526779,null,{"$f":"SUM(L9:L148)","v":0.99999999999999989},88.995187500000014,4.4975249999999996,84.497662500000018,3.1021572000000002,0.59161050000000004,0.58910825,13.220994577141306,null,{"$f":"SUM(U9:U148)","v":0.99999999999999978},88.687100000000001,4.5990100000000007,84.088089999999994,2.9402655999999996,0.56803199999999998,0.65747800000000001,14.088442626803719,null,{"$f":"SUM(AD9:AD148)","v":0.99999999999999989},88.606737499999994,4.1212049999999998,84.485532500000033,2.2811303999999994,0.50448500000000007,0.52368749999999997,14.872576009697017,null,{"$f":"SUM(AM9:AM148)","v":0.99999999999999989},88.530825000000021,4.2267574999999997,84.304067499999988,2.2792979999999998,0.48080700000000004,0.52076549999999988,17.216327331153234,null,{"$f":"SUM(AV9:AV148)","v":0},0,0,0,0,0,0,0,null,{"$f":"SUM(BE9:BE148)","v":0},0,0,0,0,0,0,0,null,{"$f":"SUM(BN9:BN148)","v":1.0000000000000002},{"$f":"SUM(BO9:BO148)","v":88.777530500000026},5.0352309999999987,83.742299500000016,2.4847809760000001,0.53105362,0.69885112999999999,15.442360779625272,null,{"$f":"SUM(BW9:BW148)","v":1},88.61735000000003,4.8794200000000005,83.737930000000006,2.1892959999999997,0.57969399999999993,0.644625,17.024746467263604,null,{"$f":"SUM(CF9:CF148)","v":1},88.622096000000013,4.7928316999999998,83.82926430000002,2.1820162079999998,0.54200864000000004,0.48313835999999993,16.965012303904427,null,{"$f":"SUM(CO9:CO148)","v":1},88.585525000000018,4.8556049999999997,83.729920000000007,2.2097296000000002,0.56885399999999997,0.50090049999999986,17.875499233894917]

{"sheet":"14. DM DAMP","index":19,"n_rows":279,"n_cols":19,"rows_kept":279,"cut":false,"hidden":false,"merged":[[1,0,1,16]]}
["Menu"]
["14. DMDAMP calculations"]
[]
[]
[null,"Parameter","Units","Sucker",{"$f":"'5. Herd details'!B15","v":"Weaner"},{"$f":"'5. Herd details'!B16","v":"Porker"},{"$f":"'5. Herd details'!B37","v":"Grower"},{"$f":"'5. Herd details'!B38","v":"Finisher"},{"$f":"'5. Herd details'!B19","v":"Unallocated"},{"$f":"'5. Herd details'!B20","v":"Unallocated"},"Lac sow","Dry sow 1","Dry sow 2","Gilt","Boar","Totals"]
[]
[null,"Shed type",null,{"$f":"IF('5. Herd details'!F14=\"\",\"\",'5. Herd details'!F14)","v":"Flushing"},{"$f":"IF('5. Herd details'!F15=\"\",\"\",'5. Herd details'!F15)","v":"Flushing"},{"$f":"IF('5. Herd details'!F16=\"\",\"\",'5. Herd details'!F16)","v":"Flushing"},{"$f":"IF('5. Herd details'!F17=\"\",\"\",'5. Herd details'!F17)","v":"Flushing"},{"$f":"IF('5. Herd details'!F18=\"\",\"\",'5. Herd details'!F18)","v":"Flushing"},{"$f":"IF('5. Herd details'!F19=\"\",\"\",'5. Herd details'!F19)","v":""},{"$f":"IF('5. Herd details'!F20=\"\",\"\",'5. Herd details'!F20)","v":"Flushing"},{"$f":"IF('5. Herd details'!F13=\"\",\"\",'5. Herd details'!F13)","v":"Flushing"},{"$f":"IF('5. Herd details'!F11=\"\",\"\",'5. Herd details'!F11)","v":"Flushing"},{"$f":"IF('5. Herd details'!F12=\"\",\"\",'5. Herd details'!F12)","v":"Flushing"},{"$f":"IF('5. Herd details'!F9=\"\",\"\",'5. Herd details'!F9)","v":"Flushing"},{"$f":"IF('5. Herd details'!F10=\"\",\"\",'5. Herd details'!F10)","v":"Flushing"}]
[null,"No of pigs","pigs",{"$f":"'5. Herd details'!E14","v":1662.8883287671231},{"$f":"'5. Herd details'!E15","v":2957.369327544784},{"$f":"'5. Herd details'!E16","v":1774.4648906608736},{"$f":"'5. Herd details'!E17","v":1755.3552687614488},{"$f":"'5. Herd details'!E18","v":1736.4514427901718},{"$f":"'5. Herd details'!E19","v":0},{"$f":"'5. Herd details'!E20","v":0},{"$f":"'5. Herd details'!E13","v":149.04126959954959},{"$f":"'5. Herd details'!E11","v":850.95873040045035},{"$f":"'5. Herd details'!E12","v":0},{"$f":"'5. Herd details'!E9","v":102.53742590682847},{"$f":"'5. Herd details'!E10","v":10},{"$f":"SUM(D8:O8)","v":10999.066684431231}]
[null,"Entry age","weeks",0,{"$f":"IF('3. Herd Input'!G17<>\"\", '3. Herd Input'!G16,0)","v":3.4285714285714284},{"$f":"IF('3. Herd Input'!G18<>\"\", '3. Herd Input'!G17,0)","v":10},{"$f":"IF('3. Herd Input'!G19<>\"\", '3. Herd Input'!G18,0)","v":14},{"$f":"IF('3. Herd Input'!G20<>\"\",'3. Herd Input'!G19,0)","v":18},{"$f":"IF('3. Herd Input'!G21<>\"\",'3. Herd Input'!G20,0)","v":0},{"$f":"IF('3. Herd Input'!G22<>\"\",'3. Herd Input'!G21,0)","v":0},null,null,null,{"$f":"'3. Herd Input'!C30","v":22},{"$f":"'3. Herd Input'!C31","v":22}]
[null,"Exit age","weeks",{"$f":"'3. Herd Input'!G16","v":3.4285714285714284},{"$f":"'3. Herd Input'!G17","v":10},{"$f":"'3. Herd Input'!G18","v":14},{"$f":"'3. Herd Input'!G19","v":18},{"$f":"'3. Herd Input'!G20","v":22},{"$f":"'3. Herd Input'!G21","v":0},{"$f":"'3. Herd Input'!G22","v":0},{"$f":"'3. Herd Input'!C38/7","v":3.4285714285714284},null,null,{"$f":"'3. Herd Input'!C32","v":30},{"$f":"'5. Herd details'!H10","v":100.21428571428571}]
[null,"Entry live weight","kg. pig-1",{"$f":"'3. Herd Input'!G30","v":1.4},{"$f":"IF('3. Herd Input'!G32<>\"\",'3. Herd Input'!G31,0)","v":7},{"$f":"IF('3. Herd Input'!G33<>\"\",'3. Herd Input'!G32,0)","v":35},{"$f":"IF('3. Herd Input'!G34<>\"\", '3. Herd Input'!G33,0)","v":60},{"$f":"IF('3. Herd Input'!G35<>\"\",'3. Herd Input'!G34,0)","v":85},{"$f":"IF('3. Herd Input'!G36<>\"\",'3. Herd Input'!G35,0)","v":0},{"$f":"IF('3. Herd Input'!G37<>\"\", '3. Herd Input'!G36,0)","v":0},{"$f":"'3. Herd Input'!C34","v":200},{"$f":"'3. Herd Input'!C33","v":145},{"$f":"'3. Herd Input'!C33","v":145},{"$f":"'5. Herd details'!J9","v":106.38681155560008},{"$f":"'Growth curve sheet'!V16","v":106.38681155560008}]
[null,"Exit live weight","kg. pig-1",{"$f":"'3. Herd Input'!G31","v":7},{"$f":"'3. Herd Input'!G32","v":35},{"$f":"'3. Herd Input'!G33","v":60},{"$f":"'3. Herd Input'!G34","v":85},{"$f":"'3. Herd Input'!G35","v":110},{"$f":"'3. Herd Input'!G36","v":0},{"$f":"'3. Herd Input'!G37","v":0},{"$f":"'3. Herd Input'!C33","v":145},{"$f":"'3. Herd Input'!C34","v":200},{"$f":"'3. Herd Input'!C34","v":200},{"$f":"'Growth curve sheet'!V15","v":140.61427475000016},{"$f":"'3. Herd Input'!C35","v":300}]
[null,"Average live weight","kg. pig-1",{"$f":"(D11+D12)/2","v":4.2},21,47.5,72.5,97.5,0,0,172.5,{"$f":"(L11+L12)/2","v":172.5},{"$f":"(M11+M12)/2","v":172.5},{"$f":"(N11+N12)/2","v":123.50054315280012},{"$f":"(O11+O12)/2","v":203.19340577780002}]
[null,"Live weight gain","kg. pig-1. day-1",{"$f":"IF(D8=0, 0,(D12-D11)/(7*(D10-D9)))","v":0.23333333333333331},{"$f":"IF(E8=0, 0,(E12-E11)/(7*(E10-E9)))","v":0.60869565217391308},0.8928571428571429,0.8928571428571429,0.8928571428571429,0,0,{"$f":"IF(K8=0,0,(K12-K11)/(7*(K10-K9)))","v":-2.2916666666666665},{"$f":"IF(L8=0,0,(L12-L11)/((365/'3. Herd Input'!C25)-'3. Herd Input'!C38))","v":0.40415108933866184},{"$f":"IF(M8=0,0,(M12-M11)/((365/'3. Herd Input'!C25)-'3. Herd Input'!C38))","v":0},{"$f":"IF(N8=0,0,(N12-N11)/(7*(N10-N9)))","v":0.61120469990000159},{"$f":"IF(O8=0,0,(O12-O11)/(7*(O10-O9)))","v":0.35363139441899527}]
[]
[null,"Pig carcass ash composition","g ash. kg live weight-1",{"$f":"'7. Assumptions'!$F$7","v":29},{"$f":"'7. Assumptions'!$F$7","v":29},{"$f":"'7. Assumptions'!$F$7","v":29},{"$f":"'7. Assumptions'!$F$7","v":29},{"$f":"'7. Assumptions'!$F$7","v":29},{"$f":"'7. Assumptions'!$F$7","v":29},{"$f":"'7. Assumptions'!$F$7","v":29},{"$f":"'7. Assumptions'!$F$7","v":29},{"$f":"'7. Assumptions'!$F$7","v":29},{"$f":"'7. Assumptions'!$F$7","v":29},{"$f":"'7. Assumptions'!$F$7","v":29},{"$f":"'7. Assumptions'!$F$7","v":29}]
[null,"Pig carcass N composition","g N. kg live weight-1",{"$f":"'7. Assumptions'!$I$7","v":25.6},{"$f":"'7. Assumptions'!$I$7","v":25.6},{"$f":"'7. Assumptions'!$I$7","v":25.6},{"$f":"'7. Assumptions'!$I$7","v":25.6},{"$f":"'7. Assumptions'!$I$7","v":25.6},{"$f":"'7. Assumptions'!$I$7","v":25.6},{"$f":"'7. Assumptions'!$I$7","v":25.6},{"$f":"'7. Assumptions'!$I$7","v":25.6},{"$f":"'7. Assumptions'!$I$7","v":25.6},{"$f":"'7. Assumptions'!$I$7","v":25.6},{"$f":"'7. Assumptions'!$I$7","v":25.6},{"$f":"'7. Assumptions'!$I$7","v":25.6}]
[null,"Pig carcass P composition","g P. kg live weight-1",{"$f":"'7. Assumptions'!$J$7","v":4.5},{"$f":"'7. Assumptions'!$J$7","v":4.5},{"$f":"'7. Assumptions'!$J$7","v":4.5},{"$f":"'7. Assumptions'!$J$7","v":4.5},{"$f":"'7. Assumptions'!$J$7","v":4.5},{"$f":"'7. Assumptions'!$J$7","v":4.5},{"$f":"'7. Assumptions'!$J$7","v":4.5},{"$f":"'7. Assumptions'!$J$7","v":4.5},{"$f":"'7. Assumptions'!$J$7","v":4.5},{"$f":"'7. Assumptions'!$J$7","v":4.5},{"$f":"'7. Assumptions'!$J$7","v":4.5},{"$f":"'7. Assumptions'!$J$7","v":4.5}]
[null,"Pig carcass K composition","g K. kg live weight-1",{"$f":"'7. Assumptions'!$K$7","v":2.4},{"$f":"'7. Assumptions'!$K$7","v":2.4},{"$f":"'7. Assumptions'!$K$7","v":2.4},{"$f":"'7. Assumptions'!$K$7","v":2.4},{"$f":"'7. Assumptions'!$K$7","v":2.4},{"$f":"'7. Assumptions'!$K$7","v":2.4},{"$f":"'7. Assumptions'!$K$7","v":2.4},{"$f":"'7. Assumptions'!$K$7","v":2.4},{"$f":"'7. Assumptions'!$K$7","v":2.4},{"$f":"'7. Assumptions'!$K$7","v":2.4},{"$f":"'7. Assumptions'!$K$7","v":2.4},{"$f":"'7. Assumptions'!$K$7","v":2.4}]
[]
[null,"Shed losses"]
[null,"TS","%",{"$f":"IF(D$7=\"\", 0, VLOOKUP(D$7,'7. Assumptions'!$B$34:$K$36,4,FALSE))","v":0.02},{"$f":"IF(E$7=\"\", 0, VLOOKUP(E$7,'7. Assumptions'!$B$34:$K$36,4,FALSE))","v":0.02},{"$f":"IF(F$7=\"\", 0, VLOOKUP(F$7,'7. Assumptions'!$B$34:$K$36,4,FALSE))","v":0.02},{"$f":"IF(G$7=\"\", 0, VLOOKUP(G$7,'7. Assumptions'!$B$34:$K$36,4,FALSE))","v":0.02},{"$f":"IF(H$7=\"\", 0, VLOOKUP(H$7,'7. Assumptions'!$B$34:$K$36,4,FALSE))","v":0.02},{"$f":"IF(I$7=\"\", 0, VLOOKUP(I$7,'7. Assumptions'!$B$34:$K$36,4,FALSE))","v":0},{"$f":"IF(J$7=\"\", 0, VLOOKUP(J$7,'7. Assumptions'!$B$34:$K$36,4,FALSE))","v":0.02},{"$f":"IF(K$7=\"\", 0, VLOOKUP(K$7,'7. Assumptions'!$B$34:$K$36,4,FALSE))","v":0.02},{"$f":"IF(L$7=\"\", 0, VLOOKUP(L$7,'7. Assumptions'!$B$34:$K$36,4,FALSE))","v":0.02},{"$f":"IF(M$7=\"\", 0, VLOOKUP(M$7,'7. Assumptions'!$B$34:$K$36,4,FALSE))","v":0.02},{"$f":"IF(N$7=\"\", 0, VLOOKUP(N$7,'7. Assumptions'!$B$34:$K$36,4,FALSE))","v":0.02},{"$f":"IF(O$7=\"\", 0, VLOOKUP(O$7,'7. Assumptions'!$B$34:$K$36,4,FALSE))","v":0.02}]
[null,"FS","%",{"$f":"IF(D$7=\"\", 0, VLOOKUP(D$7,'7. Assumptions'!$B$34:$K$36,5,FALSE))","v":0},{"$f":"IF(E$7=\"\", 0, VLOOKUP(E$7,'7. Assumptions'!$B$34:$K$36,5,FALSE))","v":0},{"$f":"IF(F$7=\"\", 0, VLOOKUP(F$7,'7. Assumptions'!$B$34:$K$36,5,FALSE))","v":0},{"$f":"IF(G$7=\"\", 0, VLOOKUP(G$7,'7. Assumptions'!$B$34:$K$36,5,FALSE))","v":0},{"$f":"IF(H$7=\"\", 0, VLOOKUP(H$7,'7. Assumptions'!$B$34:$K$36,5,FALSE))","v":0},{"$f":"IF(I$7=\"\", 0, VLOOKUP(I$7,'7. Assumptions'!$B$34:$K$36,5,FALSE))","v":0},{"$f":"IF(J$7=\"\", 0, VLOOKUP(J$7,'7. Assumptions'!$B$34:$K$36,5,FALSE))","v":0},{"$f":"IF(K$7=\"\", 0, VLOOKUP(K$7,'7. Assumptions'!$B$34:$K$36,5,FALSE))","v":0},{"$f":"IF(L$7=\"\", 0, VLOOKUP(L$7,'7. Assumptions'!$B$34:$K$36,5,FALSE))","v":0},{"$f":"IF(M$7=\"\", 0, VLOOKUP(M$7,'7. Assumptions'!$B$34:$K$36,5,FALSE))","v":0},{"$f":"IF(N$7=\"\", 0, VLOOKUP(N$7,'7. Assumptions'!$B$34:$K$36,5,FALSE))","v":0},{"$f":"IF(O$7=\"\", 0, VLOOKUP(O$7,'7. Assumptions'!$B$34:$K$36,5,FALSE))","v":0}]
[null,"VS","%",{"$f":"IF(D$7=\"\", 0, VLOOKUP(D$7,'7. Assumptions'!$B$34:$K$36,6,FALSE))","v":0.03},{"$f":"IF(E$7=\"\", 0, VLOOKUP(E$7,'7. Assumptions'!$B$34:$K$36,6,FALSE))","v":0.03},{"$f":"IF(F$7=\"\", 0, VLOOKUP(F$7,'7. Assumptions'!$B$34:$K$36,6,FALSE))","v":0.03},{"$f":"IF(G$7=\"\", 0, VLOOKUP(G$7,'7. Assumptions'!$B$34:$K$36,6,FALSE))","v":0.03},{"$f":"IF(H$7=\"\", 0, VLOOKUP(H$7,'7. Assumptions'!$B$34:$K$36,6,FALSE))","v":0.03},{"$f":"IF(I$7=\"\", 0, VLOOKUP(I$7,'7. Assumptions'!$B$34:$K$36,6,FALSE))","v":0},{"$f":"IF(J$7=\"\", 0, VLOOKUP(J$7,'7. Assumptions'!$B$34:$K$36,6,FALSE))","v":0.03},{"$f":"IF(K$7=\"\", 0, VLOOKUP(K$7,'7. Assumptions'!$B$34:$K$36,6,FALSE))","v":0.03},{"$f":"IF(L$7=\"\", 0, VLOOKUP(L$7,'7. Assumptions'!$B$34:$K$36,6,FALSE))","v":0.03},{"$f":"IF(M$7=\"\", 0, VLOOKUP(M$7,'7. Assumptions'!$B$34:$K$36,6,FALSE))","v":0.03},{"$f":"IF(N$7=\"\", 0, VLOOKUP(N$7,'7. Assumptions'!$B$34:$K$36,6,FALSE))","v":0.03},{"$f":"IF(O$7=\"\", 0, VLOOKUP(O$7,'7. Assumptions'!$B$34:$K$36,6,FALSE))","v":0.03}]
[null,"N","%",{"$f":"IF(D$7=\"\", 0, VLOOKUP(D$7,'7. Assumptions'!$B$34:$K$36,8,FALSE))","v":0.1},{"$f":"IF(E$7=\"\", 0, VLOOKUP(E$7,'7. Assumptions'!$B$34:$K$36,8,FALSE))","v":0.1},{"$f":"IF(F$7=\"\", 0, VLOOKUP(F$7,'7. Assumptions'!$B$34:$K$36,8,FALSE))","v":0.1},{"$f":"IF(G$7=\"\", 0, VLOOKUP(G$7,'7. Assumptions'!$B$34:$K$36,8,FALSE))","v":0.1},{"$f":"IF(H$7=\"\", 0, VLOOKUP(H$7,'7. Assumptions'!$B$34:$K$36,8,FALSE))","v":0.1},{"$f":"IF(I$7=\"\", 0, VLOOKUP(I$7,'7. Assumptions'!$B$34:$K$36,8,FALSE))","v":0},{"$f":"IF(J$7=\"\", 0, VLOOKUP(J$7,'7. Assumptions'!$B$34:$K$36,8,FALSE))","v":0.1},{"$f":"IF(K$7=\"\", 0, VLOOKUP(K$7,'7. Assumptions'!$B$34:$K$36,8,FALSE))","v":0.1},{"$f":"IF(L$7=\"\", 0, VLOOKUP(L$7,'7. Assumptions'!$B$34:$K$36,8,FALSE))","v":0.1},{"$f":"IF(M$7=\"\", 0, VLOOKUP(M$7,'7. Assumptions'!$B$34:$K$36,8,FALSE))","v":0.1},{"$f":"IF(N$7=\"\", 0, VLOOKUP(N$7,'7. Assumptions'!$B$34:$K$36,8,FALSE))","v":0.1},{"$f":"IF(O$7=\"\", 0, VLOOKUP(O$7,'7. Assumptions'!$B$34:$K$36,8,FALSE))","v":0.1}]
[null,"P","%",{"$f":"IF(D$7=\"\", 0, VLOOKUP(D$7,'7. Assumptions'!$B$34:$K$36,9,FALSE))","v":0},{"$f":"IF(E$7=\"\", 0, VLOOKUP(E$7,'7. Assumptions'!$B$34:$K$36,9,FALSE))","v":0},{"$f":"IF(F$7=\"\", 0, VLOOKUP(F$7,'7. Assumptions'!$B$34:$K$36,9,FALSE))","v":0},{"$f":"IF(G$7=\"\", 0, VLOOKUP(G$7,'7. Assumptions'!$B$34:$K$36,9,FALSE))","v":0},{"$f":"IF(H$7=\"\", 0, VLOOKUP(H$7,'7. Assumptions'!$B$34:$K$36,9,FALSE))","v":0},{"$f":"IF(I$7=\"\", 0, VLOOKUP(I$7,'7. Assumptions'!$B$34:$K$36,9,FALSE))","v":0},{"$f":"IF(J$7=\"\", 0, VLOOKUP(J$7,'7. Assumptions'!$B$34:$K$36,9,FALSE))","v":0},{"$f":"IF(K$7=\"\", 0, VLOOKUP(K$7,'7. Assumptions'!$B$34:$K$36,9,FALSE))","v":0},{"$f":"IF(L$7=\"\", 0, VLOOKUP(L$7,'7. Assumptions'!$B$34:$K$36,9,FALSE))","v":0},{"$f":"IF(M$7=\"\", 0, VLOOKUP(M$7,'7. Assumptions'!$B$34:$K$36,9,FALSE))","v":0},{"$f":"IF(N$7=\"\", 0, VLOOKUP(N$7,'7. Assumptions'!$B$34:$K$36,9,FALSE))","v":0},{"$f":"IF(O$7=\"\", 0, VLOOKUP(O$7,'7. Assumptions'!$B$34:$K$36,9,FALSE))","v":0}]
[null,"K","%",{"$f":"IF(D$7=\"\", 0, VLOOKUP(D$7,'7. Assumptions'!$B$34:$K$36,10,FALSE))","v":0},{"$f":"IF(E$7=\"\", 0, VLOOKUP(E$7,'7. Assumptions'!$B$34:$K$36,10,FALSE))","v":0},{"$f":"IF(F$7=\"\", 0, VLOOKUP(F$7,'7. Assumptions'!$B$34:$K$36,10,FALSE))","v":0},{"$f":"IF(G$7=\"\", 0, VLOOKUP(G$7,'7. Assumptions'!$B$34:$K$36,10,FALSE))","v":0},{"$f":"IF(H$7=\"\", 0, VLOOKUP(H$7,'7. Assumptions'!$B$34:$K$36,10,FALSE))","v":0},{"$f":"IF(I$7=\"\", 0, VLOOKUP(I$7,'7. Assumptions'!$B$34:$K$36,10,FALSE))","v":0},{"$f":"IF(J$7=\"\", 0, VLOOKUP(J$7,'7. Assumptions'!$B$34:$K$36,10,FALSE))","v":0},{"$f":"IF(K$7=\"\", 0, VLOOKUP(K$7,'7. Assumptions'!$B$34:$K$36,10,FALSE))","v":0},{"$f":"IF(L$7=\"\", 0, VLOOKUP(L$7,'7. Assumptions'!$B$34:$K$36,10,FALSE))","v":0},{"$f":"IF(M$7=\"\", 0, VLOOKUP(M$7,'7. Assumptions'!$B$34:$K$36,10,FALSE))","v":0},{"$f":"IF(N$7=\"\", 0, VLOOKUP(N$7,'7. Assumptions'!$B$34:$K$36,10,FALSE))","v":0},{"$f":"IF(O$7=\"\", 0, VLOOKUP(O$7,'7. Assumptions'!$B$34:$K$36,10,FALSE))","v":0}]
[]
[null,"Feed"]
[null,"Feed ingested","kg as fed. pig-1. day-1",{"$f":"'8. Feed details'!L17+0.8","v":0.81800000000000006},{"$f":"'8. Feed details'!L18","v":0.85253000000000001},{"$f":"'8. Feed details'!L19","v":1.6662124999999997},{"$f":"'8. Feed details'!L20","v":2.3437125000000001},{"$f":"'8. Feed details'!L21","v":2.9337124999999999},{"$f":"'8. Feed details'!L22","v":0},{"$f":"'8. Feed details'!L23","v":0},{"$f":"'8. Feed details'!L16","v":6.3},{"$f":"'8. Feed details'!L15","v":2.2999999999999998},{"$f":"'8. Feed details'!L15","v":2.2999999999999998},{"$f":"'8. Feed details'!L13","v":2.5},{"$f":"'8. Feed details'!L14","v":2.2999999999999998}]
[null,"Wastage","%",{"$f":"'8. Feed details'!E17","v":0.05},{"$f":"'8. Feed details'!E18","v":0.05},{"$f":"'8. Feed details'!E19","v":0.05},{"$f":"'8. Feed details'!E20","v":0.05},{"$f":"'8. Feed details'!E21","v":0.05},{"$f":"'8. Feed details'!E22","v":0},{"$f":"'8. Feed details'!E23","v":0},{"$f":"'8. Feed details'!E16","v":0.05},{"$f":"'8. Feed details'!E15","v":0.05},{"$f":"'8. Feed details'!E15","v":0.05},{"$f":"'8. Feed details'!E13","v":0.05},{"$f":"'8. Feed details'!E14","v":0.05}]
[null,"Feed supplied","kg as fed. pig-1. day-1",{"$f":"D30/(1-D31)","v":0.86105263157894751},{"$f":"E30/(1-E31)","v":0.89740000000000009},{"$f":"F30/(1-F31)","v":1.7539078947368418},2.4670657894736845,3.0881184210526316,0,0,6.6315789473684212,2.4210526315789473,{"$f":"M30/(1-M31)","v":2.4210526315789473},2.6315789473684212,2.4210526315789473]
[null,"Wastage","kg as fed. pig-1. day-1",{"$f":"D32-D30","v":4.3052631578947453E-2},{"$f":"E32-E30","v":4.4870000000000076E-2},8.769539473684218E-2,0.1233532894736844,0.15440592105263162,0,0,0.33157894736842142,0.12105263157894752,{"$f":"M32-M30","v":0.12105263157894752},0.13157894736842124,0.12105263157894752]
[null,"Feed supplied","kg as fed. day-1",{"$f":"D32*D8","v":1431.8343715068495},2653.9432345386895,3112.2479806634528,4330.5769319337551,5362.3676877437492,0,0,988.3789457654342,2060.2158736010902,{"$f":"M32*M8","v":0},269.83533133375914,24.210526315789473,{"$f":"SUM(D34:O34)","v":20233.610883402569}]
[null,"Feed supplied","t as fed. yr-1",{"$f":"D32*D8*365/1000","v":522.61954560000004},968.68928060662165,1135.9705129421602,1580.6605801558205,1957.2642060264684,0,0,360.75831520438345,751.97879386439786,{"$f":"M32*M8*365/1000","v":0},98.48989593682208,8.8368421052631589,{"$f":"SUM(D35:O35)","v":7385.2679724419368}]
[]
[null,"TS","kg. 100 kg fed-1",{"$f":"'Diet calcs'!D150","v":27.023851250000003},{"$f":"'Diet calcs'!M150","v":88.995187500000014},{"$f":"'Diet calcs'!V150","v":88.687100000000001},{"$f":"'Diet calcs'!AE150","v":88.606737499999994},{"$f":"'Diet calcs'!AN150","v":88.530825000000021},{"$f":"'Diet calcs'!AW150","v":0},{"$f":"'Diet calcs'!BF150","v":0},{"$f":"'Diet calcs'!BO150","v":88.777530500000026},{"$f":"'Diet calcs'!BX150","v":88.61735000000003},{"$f":"'Diet calcs'!BX150","v":88.61735000000003},{"$f":"'Diet calcs'!CG150","v":88.622096000000013},{"$f":"'Diet calcs'!CP150","v":88.585525000000018}]
[null,"FS","kg. 100 kg fed-1",{"$f":"'Diet calcs'!E$150","v":1.4454115000000003},{"$f":"'Diet calcs'!N$150","v":4.4975249999999996},{"$f":"'Diet calcs'!W$150","v":4.5990100000000007},{"$f":"'Diet calcs'!AF$150","v":4.1212049999999998},{"$f":"'Diet calcs'!AO$150","v":4.2267574999999997},{"$f":"'Diet calcs'!AX$150","v":0},{"$f":"'Diet calcs'!BG$150","v":0},{"$f":"'Diet calcs'!BP$150","v":5.0352309999999987},{"$f":"'Diet calcs'!BY$150","v":4.8794200000000005},{"$f":"'Diet calcs'!BY$150","v":4.8794200000000005},{"$f":"'Diet calcs'!CH150","v":4.7928316999999998},{"$f":"'Diet calcs'!CQ150","v":4.8556049999999997}]
[null,"VS","kg. 100 kg fed-1",{"$f":"'Diet calcs'!F$150","v":25.578439750000008},{"$f":"'Diet calcs'!O$150","v":84.497662500000018},{"$f":"'Diet calcs'!X$150","v":84.088089999999994},{"$f":"'Diet calcs'!AG$150","v":84.485532500000033},{"$f":"'Diet calcs'!AP$150","v":84.304067499999988},{"$f":"'Diet calcs'!AY$150","v":0},{"$f":"'Diet calcs'!BH$150","v":0},{"$f":"'Diet calcs'!BQ$150","v":83.742299500000016},{"$f":"'Diet calcs'!BZ$150","v":83.737930000000006},{"$f":"'Diet calcs'!BZ$150","v":83.737930000000006},{"$f":"'Diet calcs'!CI150","v":83.82926430000002},{"$f":"'Diet calcs'!CR150","v":83.729920000000007}]
[null,"N","kg. 100 kg fed-1",{"$f":"'Diet calcs'!G$150","v":1.1199164399999999},{"$f":"'Diet calcs'!P$150","v":3.1021572000000002},{"$f":"'Diet calcs'!Y$150","v":2.9402655999999996},{"$f":"'Diet calcs'!AH$150","v":2.2811303999999994},{"$f":"'Diet calcs'!AQ$150","v":2.2792979999999998},{"$f":"'Diet calcs'!AZ$150","v":0},{"$f":"'Diet calcs'!BI$150","v":0},{"$f":"'Diet calcs'!BR$150","v":2.4847809760000001},{"$f":"'Diet calcs'!CA$150","v":2.1892959999999997},{"$f":"'Diet calcs'!CA$150","v":2.1892959999999997},{"$f":"'Diet calcs'!CJ150","v":2.1820162079999998},{"$f":"'Diet calcs'!CS150","v":2.2097296000000002}]
[null,"P","kg. 100 kg fed-1",{"$f":"'Diet calcs'!H$150","v":0.20269825000000002},{"$f":"'Diet calcs'!Q$150","v":0.59161050000000004},{"$f":"'Diet calcs'!Z$150","v":0.56803199999999998},{"$f":"'Diet calcs'!AI$150","v":0.50448500000000007},{"$f":"'Diet calcs'!AR$150","v":0.48080700000000004},{"$f":"'Diet calcs'!BA$150","v":0},{"$f":"'Diet calcs'!BJ$150","v":0},{"$f":"'Diet calcs'!BS$150","v":0.53105362},{"$f":"'Diet calcs'!CB$150","v":0.57969399999999993},{"$f":"'Diet calcs'!CB$150","v":0.57969399999999993},{"$f":"'Diet calcs'!CK150","v":0.54200864000000004},{"$f":"'Diet calcs'!CT150","v":0.56885399999999997}]
[null,"K","kg. 100 kg fed-1",{"$f":"'Diet calcs'!I$150","v":0.159603625},{"$f":"'Diet calcs'!R$150","v":0.58910825},{"$f":"'Diet calcs'!AA$150","v":0.65747800000000001},{"$f":"'Diet calcs'!AJ$150","v":0.52368749999999997},{"$f":"'Diet calcs'!AS$150","v":0.52076549999999988},{"$f":"'Diet calcs'!BB$150","v":0},{"$f":"'Diet calcs'!BK$150","v":0},{"$f":"'Diet calcs'!BT$150","v":0.69885112999999999},{"$f":"'Diet calcs'!CC$150","v":0.644625},{"$f":"'Diet calcs'!CC$150","v":0.644625},{"$f":"'Diet calcs'!CL150","v":0.48313835999999993},{"$f":"'Diet calcs'!CU150","v":0.50090049999999986}]
[null,"TS ingested","kg. pig-1. day-1",{"$f":"D$30*D37/100","v":0.22105510322500005},{"$f":"E$30*E37/100","v":0.7587106719937502},1.4777155460874996,2.0766871826296875,2.5972398793781259,0,0,5.5929844215000015,2.0381990500000007,{"$f":"M$30*M37/100","v":2.0381990500000007},2.2155524000000004,2.0374670750000003]
[null,"FS ingested","kg. pig-1. day-1",{"$f":"D$30*D38/100","v":1.1823466070000004E-2},3.8342749882499999E-2,{"$f":"F$30*F38/100","v":7.6629279496249994E-2},9.6589196735624994E-2,0.12400091312218749,0,0,0.31721955299999993,{"$f":"L$30*L38/100","v":0.11222666000000001},{"$f":"M$30*M38/100","v":0.11222666000000001},0.1198207925,0.11167891499999998]
[null,"VS ingested","kg. pig-1. day-1",0.20923163715500007,0.72036792211125023,{"$f":"F$30*F39/100","v":1.4010862665912496},1.9800979858940633,2.4732389662559369,0,0,5.2757648685000005,1.9259723900000001,{"$f":"M$30*M39/100","v":1.9259723900000001},2.0957316075000008,1.92578816]
[null,"N ingested","kg. pig-1. day-1",9.160916479199999E-3,{"$f":"E$30*E40/100","v":2.6446820777160002E-2},{"$f":"F$30*F40/100","v":4.8991072960399985E-2},5.3463138326099988E-2,6.6868050338249996E-2,0,0,0.15654120148799999,5.0353807999999986E-2,{"$f":"M$30*M40/100","v":5.0353807999999986E-2},5.4550405199999999E-2,5.0823780799999996E-2]
[null,"P ingested","kg. pig-1. day-1",1.6580716850000002E-3,5.0436569956499996E-3,{"$f":"F$30*F41/100","v":9.4646201879999975E-3},1.1823678005625003E-2,1.4105495059875002E-2,0,0,3.345637806E-2,1.3332961999999997E-2,{"$f":"M$30*M41/100","v":1.3332961999999997E-2},1.3550216000000002E-2,1.3083641999999998E-2]
[null,"K ingested","kg. pig-1. day-1",1.3055576525000002E-3,5.0223245637250006E-3,{"$f":"F$30*F42/100","v":1.095498062075E-2},1.2273729398437501E-2,1.5277762569187496E-2,0,0,4.4027621190000005E-2,1.4826374999999998E-2,{"$f":"M$30*M42/100","v":1.4826374999999998E-2},1.2078459E-2,1.1520711499999996E-2]
[]
[null,"TS ingested","kg. yr-1",{"$f":"D43*D$8*365","v":134170.33217605142},{"$f":"E43*E$8*365","v":818982.49948985106},957086.33954435016,1330543.1824734127,1646143.0415736863,0,0,304258.70714626485,633064.4957003626,{"$f":"M43*M$8*365","v":0},82919.619621059057,7436.7548237500014,{"$f":"SUM(D50:O50)","v":5914604.9725487884}]
[null,"FS ingested","kg. yr-1",{"$f":"D44*D$8*365","v":7176.3028626826381},41388.690439222803,49631.227612898183,61885.149719290144,78592.371041887236,0,0,17256.763796136383,34857.5934803993,{"$f":"M44*M$8*365","v":0},4484.4322060691702,407.62803974999991,295680.15919833584]
[null,"VS ingested","kg. yr-1",126994.02931336881,777593.80905062822,907455.11193145206,1268658.032754123,1567550.6705317979,0,0,287001.94335012842,598206.90221996314,{"$f":"M45*M$8*365","v":0},78435.187414989909,7029.126784,5618924.8133504521]
[null,"N ingested","kg. yr-1",{"$f":"D46*D$8*365","v":5560.2570993363106},28547.751050768187,31730.52270727279,34254.082564013239,42381.289707543314,0,0,8515.8512862598036,15639.889572175429,{"$f":"M46*M$8*365","v":0},2041.6122179546016,185.50679991999999,168856.76300524367]
[null,"P ingested","kg. yr-1",1006.3736394346945,5444.3241216210745,6130.0422228718307,7575.4857514091382,8940.1301455161993,0,0,1820.0290877266941,4141.2171518390678,{"$f":"M47*M$8*365","v":0},507.13255822935548,47.755293299999991,35612.489971948053]
[null,"K ingested","kg. yr-1",792.4137527493217,5421.2970454732949,7095.3183986277654,7863.8357819183366,9683.1188923930276,0,0,2395.1053842560564,4605.0711349509556,{"$f":"M48*M$8*365","v":0},452.05034459512541,42.050596974999984,38350.261331938884]
[]
[null,"Waste feed"]
[null,"TS","kg. pig-1. day-1",{"$f":"D33*D37/100","v":1.1634479117105287E-2},3.9932140631250078E-2,7.7774502425657963E-2,0.10929932540156266,0.13669683575674349,0,0,0.29436760113157934,0.10727363421052649,{"$f":"M33*M37/100","v":0.10727363421052649},0.11660802105263177,0.10723510921052647]
[null,"FS","kg. pig-1. day-1",{"$f":"D33*D38/100","v":6.2228768789473815E-4},2.0180394675000032E-3,4.0331199734868458E-3,5.0836419334539555E-3,6.5263638485361852E-3,0,0,1.6695765947368435E-2,5.9066663157894819E-3,{"$f":"M33*M38/100","v":5.9066663157894819E-3},6.3063575000000087E-3,5.8778376315789553E-3]
[null,"VS","kg. pig-1. day-1",{"$f":"D33*D39/100","v":1.1012191429210552E-2},3.7914101163750075E-2,7.3741382452171114E-2,0.10421568346810876,0.13017047190820727,0,0,0.2776718351842109,0.10136696789473698,{"$f":"M33*M39/100","v":0.10136696789473698},0.11030166355263177,0.10135727157894751]
[null,"N","kg. pig-1. day-1",{"$f":"D33*D40/100","v":4.8215349890526408E-4},1.3919379356400025E-3,2.5784775242315809E-3,2.8138493855842145E-3,3.5193710704342113E-3,0,0,8.2390106046315876E-3,2.6502004210526347E-3,{"$f":"M33*M40/100","v":2.6502004210526347E-3},2.871073957894741E-3,2.6749358315789513E-3]
[null,"P","kg. pig-1. day-1",{"$f":"D33*D41/100","v":8.7266930789473872E-5},2.6545563135000049E-4,4.9813790463157934E-4,6.2229884240131686E-4,7.4239447683552664E-4,0,0,1.7608620031578967E-3,7.0173484210526397E-4,{"$f":"M33*M41/100","v":7.0173484210526397E-4},7.131692631578958E-4,6.8861273684210601E-4]
[null,"K","kg. pig-1. day-1",{"$f":"D33*D42/100","v":6.871356065789487E-5},2.6433287177500043E-4,5.7657792740789526E-4,6.4598575781250097E-4,8.0409276679934219E-4,0,0,2.3172432205263182E-3,7.8033552631579049E-4,{"$f":"M33*M42/100","v":7.8033552631579049E-4},6.3570836842105345E-4,6.0635323684210584E-4]
[]
[null,"TS","kg. pig-1. yr-1",{"$f":"D58*365","v":4.2465848777434294},{"$f":"E58*365","v":14.575231330406279},28.387693385365157,39.894253771570369,49.894345051211374,0,0,107.44417441302646,39.15487648684217,{"$f":"M58*365","v":39.15487648684217},42.561927684210595,39.140814861842159]
[null,"FS","kg. pig-1. yr-1",{"$f":"D59*365","v":0.22713500608157941},0.73658440563750116,1.4720887903226987,1.8555293057106939,2.3821228047157077,0,0,6.0939545707894789,2.1559332052631608,{"$f":"M59*365","v":2.1559332052631608},2.3018204875000032,2.1454107355263186]
[null,"VS","kg. pig-1. yr-1",4.019449871661851,13.838646924768778,26.915604595042456,38.038724465859701,47.512222246495654,0,0,101.35021984223698,36.998943281578995,{"$f":"M60*365","v":36.998943281578995},40.260107196710592,36.99540412631584]
[null,"N","kg. pig-1. yr-1",0.17598602710042138,0.5080573465086009,0.94114429634452701,1.0270550257382383,1.284570440708487,0,0,3.0072388706905295,0.96732315368421162,{"$f":"M61*365","v":0.96732315368421162},1.0479419946315804,0.97635157852631727]
[null,"P","kg. pig-1. yr-1",3.185242973815796E-2,9.6891305442750181E-2,0.18182033519052646,0.22713907747648066,0.2709739840449672,0,0,0.64271463115263228,0.25613321736842137,{"$f":"M62*365","v":0.25613321736842137},0.26030678105263194,0.25134364894736871]
[null,"K","kg. pig-1. yr-1",2.5080449640131626E-2,9.648149819787516E-2,0.21045094350388177,0.23578480160156284,0.29349385988175991,0,0,0.8457937754921061,0.28482246710526354,{"$f":"M63*365","v":0.28482246710526354},0.23203355447368451,0.22131893144736864]
[]
[null,"TS","kg. day-1",{"$f":"D58*D$8","v":19.346839535119205},{"$f":"E58*E$8","v":118.09408788606379},138.008123942949,191.85914671570507,237.36741767464838,0,0,43.872921001624398,91.285435573231936,{"$f":"M58*M$8","v":0},11.956686318826124,1.0723510921052646,{"$f":"SUM(D72:O72)","v":852.86300974027313}]
[null,"FS","kg. day-1",{"$f":"D59*D$8","v":1.0347949333356381},5.9680880229593187,7.1566297927755214,8.9235976523850393,11.332713920964277,0,0,2.4883581537327184,5.0263292689833232,{"$f":"M59*M$8","v":0},0.64663766489822294,5.8778376315789554E-2,42.635927786349853]
[null,"VS","kg. day-1",18.312044601783573,112.12599986310447,130.85149415017349,182.93554906332014,226.03470375368403,0,0,41.384562847891679,86.25910630424859,{"$f":"M60*M$8","v":0},11.310048653927902,1.0135727157894752,810.22708195392318]
[null,"N","kg. day-1",0.80176742600379547,4.1164745567077494,4.5754178381071124,4.9393053444864163,6.1112169729694772,0,0,1.2279526007584445,2.2552111856056891,{"$f":"M61*M$8","v":0},0.29439253323065678,2.6749358315789513E-2,24.348487816185131]
[null,"P","kg. day-1",0.14511516069714439,0.78505034197852708,0.88392822247611214,1.0923555517533019,1.2891319604205049,0,0,0.26244110854025904,0.59714739031565589,{"$f":"M62*M$8","v":0},7.3126540480080202E-2,6.8861273684210599E-3,5.135182404030008]
[null,"K","kg. day-1",0.11426297804604514,0.78172992724921464,1.0231172889153239,1.1339345035210309,1.3962680450458589,0,0,0.34536487155819157,0.66403332876005228,{"$f":"M63*M$8","v":0},6.5183899725324582E-2,6.0635323684210584E-3,5.5299583751894632]
[]
[null,"TS","kg. yr-1",{"$f":"D72*365","v":7061.5964303185101},43104.342078413283,{"$f":"F72*365","v":50372.965239176381},70028.588551232344,86639.107451246658,0,0,16013.616165592905,33319.183984229654,{"$f":"M72*365","v":0},4364.1905063715349,391.40814861842159,{"$f":"SUM(D79:O79)","v":311294.99855519971}]
[null,"FS","kg. yr-1",377.7001506675079,2178.3521283801515,2612.1698743630654,3257.1131431205395,4136.4405811519609,0,0,908.25072611244218,1834.6101831789131,{"$f":"M73*365","v":0},236.02274768785136,21.454107355263186,15562.113642017695]
[null,"VS","kg. yr-1",6683.8962796510041,40925.98995003313,{"$f":"F74*365","v":47760.795364813326},66771.475408111844,82502.666870094676,0,0,15105.365439480463,31484.573801050734,{"$f":"M74*365","v":0},4128.167758683684,369.95404126315844,295732.884913182]
[null,"N","kg. yr-1",292.64511049138537,1502.5132131983285,{"$f":"F75*365","v":1670.027510909096},1802.846450737542,2230.5941951338591,0,0,448.20269927683222,823.15208274607653,{"$f":"M75*365","v":0},107.45327462918972,9.7635157852631718,8887.1980529075736]
[null,"P","kg. yr-1",{"$f":"D76*365","v":52.967033654457701},286.54337482216238,322.63380120378093,398.70977638995521,470.53316555348431,0,0,95.791004617194545,217.95879746521439,{"$f":"M76*365","v":0},26.691187275229275,2.5134364894736869,1874.3415774709526]
[null,"K","kg. yr-1",{"$f":"D77*365","v":41.705986986806479},285.33142344596337,373.43781045409327,413.88609378517629,509.6378364417385,0,0,126.05817811873992,242.37216499741908,{"$f":"M77*365","v":0},23.792123399743474,2.2131893144736865,2018.4348069441544]
[]
[null,"TS (conv sheds)","kg. day-1",{"$f":"IF(D7=\"Deep litter\", 0, D72)","v":19.346839535119205},{"$f":"IF(E7=\"Deep litter\", 0, E72)","v":118.09408788606379},138.008123942949,191.85914671570507,237.36741767464838,0,0,43.872921001624398,91.285435573231936,{"$f":"IF(M7=\"Deep litter\", 0, M72)","v":0},11.956686318826124,1.0723510921052646,{"$f":"SUM(D86:O86)","v":852.86300974027313}]
[]
[null,"Lac sow non-manure export"]
[null,"(Suckers, milk, placenta)"]
[null,"TS","kg. sow-1. day-1",null,null,null,null,null,null,null,{"$f":"'7. Assumptions'!E31","v":1.8594000000000002},null,null,null,null,null,null,null,{"$f":"K90","v":1.8594000000000002}]
[null,"FS","kg. sow-1. day-1",null,null,null,null,null,null,null,{"$f":"'7. Assumptions'!F31","v":0.10507533333333341},null,null,null,null,null,null,null,0.10507533333333341]
[null,"VS","kg. sow-1. day-1",null,null,null,null,null,null,null,{"$f":"'7. Assumptions'!G31","v":1.754324666666667},null,null,null,null,null,null,null,1.754324666666667]
[null,"N","kg. sow-1. day-1",null,null,null,null,null,null,null,{"$f":"'7. Assumptions'!I31","v":9.4135466666666667E-2},null,null,null,null,null,null,null,9.4135466666666667E-2]
[null,"P","kg. sow-1. day-1",null,null,null,null,null,null,null,{"$f":"'7. Assumptions'!J31","v":1.5891000000000002E-2},null,null,null,null,null,null,null,1.5891000000000002E-2]
[null,"K","kg. sow-1. day-1",null,null,null,null,null,null,null,{"$f":"'7. Assumptions'!K31","v":7.6752000000000001E-3},null,null,null,null,null,null,null,7.6752000000000001E-3]
[]
[null,"Manure excreted"]
[null,"TS excreted","kg. 100 kg ingested-1",{"$f":"'Diet calcs'!J150","v":1.3688907977526779},{"$f":"'Diet calcs'!S150","v":13.220994577141306},{"$f":"'Diet calcs'!AB150","v":14.088442626803719},{"$f":"'Diet calcs'!AK150","v":14.872576009697017},{"$f":"'Diet calcs'!AT150","v":17.216327331153234},{"$f":"'Diet calcs'!BC150","v":0},{"$f":"'Diet calcs'!BL150","v":0},{"$f":"'Diet calcs'!BU150","v":15.442360779625272},{"$f":"'Diet calcs'!CD150","v":17.024746467263604},{"$f":"'Diet calcs'!CD150","v":17.024746467263604},{"$f":"'Diet calcs'!CM150","v":16.965012303904427},{"$f":"'Diet calcs'!CV150","v":17.875499233894917},null,null,null,{"$f":"K98","v":15.442360779625272}]
[null,"FS ingested","kg. pig-1. day-1",{"$f":"D38*D30/100","v":1.1823466070000004E-2},{"$f":"E38*E30/100","v":3.8342749882499999E-2},7.6629279496249994E-2,9.6589196735624994E-2,0.12400091312218749,0,0,0.31721955299999993,0.11222666000000001,{"$f":"M38*M30/100","v":0.11222666000000001},0.1198207925,0.11167891499999998,null,null,null,{"$f":"K99","v":0.31721955299999993}]
[null,"FS retained","kg. pig-1. day-1",{"$f":"D16*D14/1000","v":6.7666666666666656E-3},{"$f":"E16*E14/1000","v":1.7652173913043481E-2},{"$f":"F16*F14/1000","v":2.5892857142857145E-2},2.5892857142857145E-2,2.5892857142857145E-2,0,0,{"$f":"K16*K14/1000","v":-6.6458333333333328E-2},1.1720381590821193E-2,{"$f":"M16*M14/1000","v":0},{"$f":"N16*N14/1000","v":1.7724936297100046E-2},{"$f":"O16*O14/1000","v":1.0255310438150863E-2},null,null,null,{"$f":"K100","v":-6.6458333333333328E-2}]
[null,"FS excreted","kg. pig-1. day-1",{"$f":"IF(D99-D100<0, 0, D99-D100)","v":5.0567994033333379E-3},{"$f":"E99-E100","v":2.0690575969456518E-2},5.0736422353392846E-2,7.0696339592767846E-2,9.8108055979330339E-2,0,0,{"$f":"K99-K100-K91","v":0.27860255299999986},0.10050627840917881,{"$f":"M99-M100","v":0.11222666000000001},{"$f":"N99-N100","v":0.10209585620289995},{"$f":"O99-O100","v":0.10142360456184911},null,null,null,{"$f":"S99-S100","v":0.38367788633333327}]
[null,"FS excreted","kg. 100 kg ingested-1",{"$f":"IF(D30=0, 0, 100*D101/D30)","v":0.6181906361043199},{"$f":"IF(E30=0, 0, 100*E101/E30)","v":2.4269616282660458},{"$f":"IF(F30=0, 0, 100*F101/F30)","v":3.0450151078204524},{"$f":"IF(G30=0, 0, 100*G101/G30)","v":3.0164254187647948},{"$f":"IF(H30=0, 0, 100*H101/H30)","v":3.344160546724682},{"$f":"IF(I30=0, 0, 100*I101/I30)","v":0},0,4.4222627460317439,4.3698381917034261,{"$f":"IF(M30=0, 0, 100*M101/M30)","v":4.8794200000000005},4.0838342481159975,4.4097219374717005,null,null,null,{"$f":"100*S101/K30","v":6.0901251798941791}]
[null,"VS excreted","kg. 100 kg ingested-1",{"$f":"D98-D102","v":0.75070016164835796},10.794032948875261,11.043427518983266,11.856150590932222,13.872166784428552,0,0,11.020098033593527,12.654908275560178,{"$f":"M98-M102","v":12.145326467263605},{"$f":"N98-N102","v":12.881178055788428},{"$f":"O98-O102","v":13.465777296423216},null,null,null,{"$f":"S98-S102","v":9.3522355997310918}]
[null,"VS/TS","%",{"$f":"IF(D103=0, 0,D103/D98)","v":0.54840032738973055},0.81643123638654325,0.78386432138161155,0.79718204722584263,0.80575644953768,0,0,0.71362780541518622,0.74332433084357163,{"$f":"IF(M103=0, 0,M103/M98)","v":0.71339250135780308},0.75927902821643567,0.75330915910252538,null,null,null,{"$f":"IF(S103=0, 0,S103/S98)","v":0.60562214114764612}]
[null,"N ingested","kg. pig-1. day-1",{"$f":"D30*D40/100","v":9.160916479199999E-3},{"$f":"E30*E40/100","v":2.6446820777160002E-2},{"$f":"F30*F40/100","v":4.8991072960399985E-2},5.3463138326099988E-2,6.6868050338249996E-2,0,0,0.15654120148799999,5.0353807999999986E-2,{"$f":"M30*M40/100","v":5.0353807999999986E-2},{"$f":"N30*N40/100","v":5.4550405199999999E-2},5.0823780799999996E-2,null,null,null,{"$f":"K105","v":0.15654120148799999}]
[null,"P ingested","kg. pig-1. day-1",{"$f":"D41*D30/100","v":1.6580716850000002E-3},5.0436569956499996E-3,9.4646201879999975E-3,1.1823678005625003E-2,1.4105495059875002E-2,0,0,3.345637806E-2,1.3332961999999997E-2,{"$f":"M41*M30/100","v":1.3332961999999997E-2},1.3550216000000002E-2,1.3083641999999998E-2,null,null,null,3.345637806E-2]
[null,"K ingested","kg. pig-1. day-1",{"$f":"D42*D30/100","v":1.3055576525000002E-3},5.0223245637250006E-3,1.095498062075E-2,1.2273729398437501E-2,1.5277762569187496E-2,0,0,4.4027621190000005E-2,1.4826374999999998E-2,{"$f":"M42*M30/100","v":1.4826374999999998E-2},1.2078459E-2,1.1520711499999996E-2,null,null,null,4.4027621190000005E-2]
[null,"N retained","kg. pig-1. day-1",{"$f":"D14*D17/1000","v":5.9733333333333331E-3},{"$f":"E14*E17/1000","v":1.5582608695652176E-2},2.2857142857142861E-2,2.2857142857142861E-2,2.2857142857142861E-2,0,0,-5.8666666666666666E-2,1.0346267887069743E-2,{"$f":"M14*M17/1000","v":0},{"$f":"N14*N17/1000","v":1.5646840317440042E-2},{"$f":"O14*O17/1000","v":9.0529636971262793E-3},null,null,null,-5.8666666666666666E-2]
[null,"P retained","kg. pig-1. day-1",{"$f":"D14*D18/1000","v":1.0499999999999997E-3},2.739130434782609E-3,4.0178571428571433E-3,4.0178571428571433E-3,4.0178571428571433E-3,0,0,-1.03125E-2,1.8186799020239784E-3,{"$f":"M14*M18/1000","v":0},{"$f":"N14*N18/1000","v":2.7504211495500072E-3},{"$f":"O14*O18/1000","v":1.5913412748854788E-3},null,null,null,-1.03125E-2]
[null,"K retained","kg. pig-1. day-1",{"$f":"D14*D19/1000","v":5.5999999999999995E-4},{"$f":"E14*E19/1000","v":1.4608695652173914E-3},2.142857142857143E-3,2.142857142857143E-3,{"$f":"H14*H19/1000","v":2.142857142857143E-3},0,0,-5.4999999999999988E-3,{"$f":"L14*L19/1000","v":9.6996261441278844E-4},{"$f":"M14*M19/1000","v":0},{"$f":"N14*N19/1000","v":1.4668912797600037E-3},{"$f":"O14*O19/1000","v":8.4871534660558863E-4},null,null,null,-5.4999999999999988E-3]
[]
[null,"TS excreted","kg. pig-1. day-1",{"$f":"D98*D30/100","v":1.1197526725616906E-2},0.11271294506850278,0.23474339210313186,0.34857042301127023,0.50507754695495888,0,0,0.97286872911639211,0.39156916874706282,{"$f":"M98*M30/100","v":0.39156916874706282},0.42412530759761069,0.41113648237958311,null,null,null,{"$f":"S98*K30/100","v":0.97286872911639211}]
[null,"FS excreted","kg. pig-1. day-1",{"$f":"D101","v":5.0567994033333379E-3},{"$f":"E101","v":2.0690575969456518E-2},5.0736422353392846E-2,7.0696339592767846E-2,9.8108055979330339E-2,0,0,0.27860255299999986,0.10050627840917881,{"$f":"M101","v":0.11222666000000001},0.10209585620289995,0.10142360456184911,null,null,null,{"$f":"S101","v":0.38367788633333327}]
[null,"VS excreted","kg. pig-1. day-1",{"$f":"D103*D30/100","v":6.1407273222835691E-3},9.202236909904625E-2,0.18400696974973901,0.27787408341850234,0.40696949097562851,0,0,0.69426617611639219,0.29106289033788407,{"$f":"M103*M30/100","v":0.27934250874706285},0.32202945139471068,0.30971287781773393,null,null,null,{"$f":"S103*K30/100","v":0.58919084278305878}]
[null,"N excreted","kg. pig-1. day-1",{"$f":"IF(D105-D108<0, 0, D105-D108)","v":3.1875831458666659E-3},{"$f":"E105-E108","v":1.0864212081507826E-2},{"$f":"F105-F108","v":2.6133930103257125E-2},3.0605995468957127E-2,4.4010907481107135E-2,0,0,{"$f":"K105-K108-K93","v":0.121072401488},4.0007540112930243E-2,{"$f":"M105-M108","v":5.0353807999999986E-2},{"$f":"N105-N108","v":3.8903564882559957E-2},4.1770817102873718E-2,null,null,null,{"$f":"S105-S108-S93","v":0.121072401488}]
[null,"P excreted","kg. pig-1. day-1",{"$f":"IF(D106-D109<0, 0, D106-D109)","v":6.0807168500000047E-4},2.3045265608673906E-3,5.4467630451428542E-3,7.8058208627678595E-3,1.0087637917017857E-2,0,0,{"$f":"K106-K109-K94","v":2.787787806E-2},1.1514282097976019E-2,{"$f":"M106-M109","v":1.3332961999999997E-2},1.0799794850449995E-2,1.1492300725114519E-2,null,null,null,{"$f":"S106-S109-S94","v":2.787787806E-2}]
[null,"K excreted","kg. pig-1. day-1",{"$f":"IF(D107-D110<0, 0, D107-D110)","v":7.455576525000002E-4},3.5614549985076094E-3,8.8121234778928571E-3,1.0130872255580358E-2,1.3134905426330354E-2,0,0,{"$f":"K107-K110-K95","v":4.1852421190000003E-2},1.385641238558721E-2,{"$f":"M107-M110","v":1.4826374999999998E-2},1.0611567720239997E-2,1.0671996153394408E-2,null,null,null,{"$f":"S107-S110-S95","v":4.1852421190000003E-2}]
[]
[null,"Dry matter digestability","%",{"$f":"IF(D37=0, 0,(D37-D98)/D37)","v":0.94934508834107512},0.85144146612263372,0.84114439837582111,0.83215073222059421,0.80553296175480993,0,0,{"$f":"IF(K37=0, 0,(K37-K98)/K37)","v":0.82605552674586646},0.80788472610314355,{"$f":"IF(M37=0, 0,(M37-M98)/M37)","v":0.80788472610314355},0.80856904688979114,0.7982119625763362]
[]
[null,"TS excreted","kg. day-1",{"$f":"D112*D$8","v":18.620236503086293},{"$f":"E112*E$8","v":333.33380656283026},{"$f":"F112*F$8","v":416.54390760164648},611.8649285672401,877.04263513085903,0,0,144.99759054120739,333.2092027009603,{"$f":"M112*M$8","v":0},43.48871730300084,4.1113648237958316,{"$f":"SUM(D121:O121)","v":2783.2123897346269}]
[null,"FS excreted","kg. day-1",{"$f":"D113*D$8","v":8.4088927087195593},61.189674741305893,{"$f":"F113*F$8","v":90.030000143837142},124.09719218631365,170.3598753546471,0,0,41.523278212795788,85.526695072348986,{"$f":"M113*M$8","v":0},10.468646290799068,1.0142360456184911,592.61849075638565]
[null,"VS excreted","kg. day-1",10.211343794366735,272.1441318215243,{"$f":"F114*F$8","v":326.5139074578093},487.76773638092641,706.68275977621192,0,0,103.47431232841159,247.68250762861135,{"$f":"M114*M$8","v":0},33.020071012201768,3.0971287781773391,2190.5938989782403]
[null,"N excreted","kg. day-1",5.3005948102364684,32.129487577792716,{"$f":"F115*F$8","v":46.373741423215066},53.724395402122923,76.422803794073246,0,0,18.044784431237918,34.044765540944212,{"$f":"M115*M$8","v":0},3.9890714016569859,0.4177081710287372,270.44735255230825]
[null,"P excreted","kg. day-1",1.0111553080402593,6.8153361656214884,{"$f":"F116*F$8","v":9.6650897913551024},13.7019887784676,17.516693415350503,0,0,4.1549543398038287,9.7981788755663075,{"$f":"M116*M$8","v":0},1.107383164286964,0.1149230072511452,63.885702845743197]
[null,"K excreted","kg. day-1",1.2397791187652649,10.532537774017459,{"$f":"F117*F$8","v":15.636803723689265},17.783279990982162,22.808125478463797,0,0,6.2377379899726924,11.791235091544367,{"$f":"M117*M$8","v":0},1.0880828388694015,0.10671996153394409,87.224301967838329]
[]
[null,"TS excreted","t. yr-1",{"$f":"D121*365/1000","v":6.7963863236264972},{"$f":"E121*365/1000","v":121.66683939543304},{"$f":"F121*365/1000","v":152.03852627460097},223.33069892704262,320.12056182276353,0,0,52.924120547540696,121.62135898585052,{"$f":"M121*365/1000","v":0},15.873381815595307,1.5006481606854787,{"$f":"SUM(D128:O128)","v":1015.8725222531386}]
[null,"FS excreted","t. yr-1",{"$f":"D122*365/1000","v":3.0692458386826393},22.334231280576653,{"$f":"F122*365/1000","v":32.860950052500556},45.295475148004478,62.18135450444619,0,0,15.155996547670462,31.21724370140738,{"$f":"M122*365/1000","v":0},3.8210558961416599,0.37019615665074929,216.30574912608077]
[null,"VS excreted","t. yr-1",3.7271404849438587,99.33260811485637,{"$f":"F123*365/1000","v":119.1775762221004},178.03522377903815,257.93920731831736,0,0,37.768123999870227,90.404115284443137,{"$f":"M123*365/1000","v":0},12.052325919453645,1.1304520040347288,799.5667731270579]
[null,"N excreted","t. yr-1",1.9347171057363108,11.72726296589434,{"$f":"F124*365/1000","v":16.926415619473502},19.609404321774864,27.894323384836735,0,0,6.5863463174018397,12.426339422444636,{"$f":"M124*365/1000","v":0},1.4560110616047999,0.15246348242548907,98.713283681592515]
[null,"P excreted","t. yr-1",0.36907168743469465,2.4875977004518433,{"$f":"F125*365/1000","v":3.5277577738446126},5.0012259041406741,6.3935930966029337,0,0,1.5165583340283975,3.5763352895817024,{"$f":"M125*365/1000","v":0},0.40419485496474189,4.1946897646668001E-2,23.318281538696269]
[null,"K excreted","t. yr-1",0.45251937834932171,3.8443762875163729,{"$f":"F126*365/1000","v":5.7074333591465818},6.490897196708489,8.3249657996392852,0,0,2.2767743663400331,4.3038008084136941,{"$f":"M126*365/1000","v":0},0.39715023618733153,3.8952785959889588E-2,31.836870218260998]
[]
[null,"TS excreted (conv sheds)","kg. day-1",{"$f":"IF(D7=\"Deep litter\", 0, D121)","v":18.620236503086293},{"$f":"IF(E7=\"Deep litter\", 0, E121)","v":333.33380656283026},{"$f":"IF(F7=\"Deep litter\", 0, F121)","v":416.54390760164648},611.8649285672401,877.04263513085903,0,0,144.99759054120739,333.2092027009603,{"$f":"IF(M7=\"Deep litter\", 0, M121)","v":0},43.48871730300084,4.1113648237958316,{"$f":"SUM(D135:O135)","v":2783.2123897346269}]
[]
[null,"Manure (conv sheds, following shed losses)"]
[null,"TS","kg. day-1",{"$f":"IF(D$7=\"Deep litter\", 0, D121*(1-D22))","v":18.247831773024565},{"$f":"IF(E$7=\"Deep litter\", 0, E121*(1-E22))","v":326.66713043157364},408.21302944961354,599.62762999589529,859.50178242824188,0,0,142.09763873038324,326.54501864694112,{"$f":"IF(M$7=\"Deep litter\", 0, M121*(1-M22))","v":0},42.61894295694082,4.0291375273199153,{"$f":"SUM(D138:O138)","v":2727.5481419399339}]
[null,"FS","kg. day-1",{"$f":"IF(D$7=\"Deep litter\", 0, D122*(1-D23))","v":8.4088927087195593},61.189674741305893,90.030000143837142,124.09719218631365,170.3598753546471,0,0,41.523278212795788,85.526695072348986,{"$f":"IF(M$7=\"Deep litter\", 0, M122*(1-M23))","v":0},10.468646290799068,1.0142360456184911,592.61849075638565]
[null,"VS","kg. day-1",9.9050034805357328,263.97980786687856,316.71849023407503,473.13470428949859,685.48227698292555,0,0,100.37008295855924,240.25203239975301,{"$f":"IF(M$7=\"Deep litter\", 0, M123*(1-M24))","v":0},32.029468881835712,3.0042149148320187,2124.8760820088933]
[null,"N","kg. day-1",4.7705353292128221,28.916538820013447,41.73636728089356,48.351955861910632,68.780523414665922,0,0,16.240305988114127,30.640288986849793,{"$f":"IF(M$7=\"Deep litter\", 0, M124*(1-M25))","v":0},3.5901642614912874,0.37593735392586347,243.40261729707746]
[null,"P","kg. day-1",1.0111553080402593,6.8153361656214884,9.6650897913551024,13.7019887784676,17.516693415350503,0,0,4.1549543398038287,9.7981788755663075,{"$f":"IF(M$7=\"Deep litter\", 0, M125*(1-M26))","v":0},1.107383164286964,0.1149230072511452,63.885702845743197]
[null,"K","kg. day-1",1.2397791187652649,10.532537774017459,15.636803723689265,17.783279990982162,22.808125478463797,0,0,6.2377379899726924,11.791235091544367,{"$f":"IF(M$7=\"Deep litter\", 0, M126*(1-M27))","v":0},1.0880828388694015,0.10671996153394409,87.224301967838329]
[]
[null,"Waste feed (conv sheds, following shed losses)"]
[null,"TS","kg. day-1",{"$f":"IF(D$7=\"Deep litter\", 0, D72*(1-D22))","v":18.959902744416819},{"$f":"IF(E$7=\"Deep litter\", 0, E72*(1-E22))","v":115.73220612834251},{"$f":"IF(F$7=\"Deep litter\", 0, F72*(1-F22))","v":135.24796146409003},188.02196378139095,232.6200693211554,0,0,42.995462581591909,89.459726861767294,{"$f":"IF(M$7=\"Deep litter\", 0, M72*(1-M22))","v":0},11.717552592449602,1.0509040702631594,{"$f":"SUM(D146:O146)","v":835.80574954546762}]
[null,"FS","kg. day-1",{"$f":"IF(D$7=\"Deep litter\", 0, D73*(1-D23))","v":1.0347949333356381},5.9680880229593187,{"$f":"IF(F$7=\"Deep litter\", 0, F73*(1-F23))","v":7.1566297927755214},8.9235976523850393,11.332713920964277,0,0,2.4883581537327184,5.0263292689833232,{"$f":"IF(M$7=\"Deep litter\", 0, M73*(1-M23))","v":0},0.64663766489822294,5.8778376315789554E-2,42.635927786349853]
[null,"VS","kg. day-1",17.762683263730064,108.76221986721133,{"$f":"IF(F$7=\"Deep litter\", 0, F74*(1-F24))","v":126.92594932566828},177.44748259142054,219.2536626410735,0,0,40.143025962454928,83.671333115121129,{"$f":"IF(M$7=\"Deep litter\", 0, M74*(1-M24))","v":0},10.970747194310064,0.9831655343157909,785.92026949530566]
[null,"N","kg. day-1",0.72159068340341592,3.7048271010369747,{"$f":"IF(F$7=\"Deep litter\", 0, F75*(1-F25))","v":4.117876054296401},4.4453748100377748,5.5000952756725292,0,0,1.1051573406826001,2.0296900670451201,{"$f":"IF(M$7=\"Deep litter\", 0, M75*(1-M25))","v":0},0.2649532799075911,2.4074422484210562E-2,21.913639034566618]
[null,"P","kg. day-1",0.14511516069714439,0.78505034197852708,{"$f":"IF(F$7=\"Deep litter\", 0, F76*(1-F26))","v":0.88392822247611214},1.0923555517533019,1.2891319604205049,0,0,0.26244110854025904,0.59714739031565589,{"$f":"IF(M$7=\"Deep litter\", 0, M76*(1-M26))","v":0},7.3126540480080202E-2,6.8861273684210599E-3,5.135182404030008]
[null,"K","kg. day-1",0.11426297804604514,0.78172992724921464,{"$f":"IF(F$7=\"Deep litter\", 0, F77*(1-F27))","v":1.0231172889153239},1.1339345035210309,1.3962680450458589,0,0,0.34536487155819157,0.66403332876005228,{"$f":"IF(M$7=\"Deep litter\", 0, M77*(1-M27))","v":0},6.5183899725324582E-2,6.0635323684210584E-3,5.5299583751894632]
[]
[null,"Manure + waste feed from conventional sheds (following shed losses)"]
[null,"TS","kg. pig-1. day-1",{"$f":"IF(D$7=\"Deep litter\", 0, (D112+D58)*(1-D22))","v":2.2375365725867749E-2},0.1495921839857578,0.30626753663821399,0.44871235344457622,0.62893889505746836,0,0,1.2418916036430121,0.48886594689843754,{"$f":"IF(M$7=\"Deep litter\", 0, (M112+M58)*(1-M22))","v":0.48886594689843754},0.52991866207723759,0.50800415975830737]
[null,"FS","kg. pig-1. day-1",{"$f":"IF(D$7=\"Deep litter\", 0, (D113+D59)*(1-D23))","v":5.6790870912280765E-3},2.2708615436956521E-2,5.4769542326879694E-2,7.5779981526221799E-2,0.10463441982786652,0,0,0.2952983189473683,0.10641294472496829,{"$f":"IF(M$7=\"Deep litter\", 0, (M113+M59)*(1-M23))","v":0.11813332631578949},0.10840221370289996,0.10730144219342806]
[null,"VS","kg. pig-1. day-1",{"$f":"IF(D$7=\"Deep litter\", 0, (D114+D60)*(1-D24))","v":1.6638331188949296E-2},0.12603837615491242,0.2500159016358528,0.37062707388001276,0.5210257639973207,0,0,0.942779870961585,0.3806569624856424,{"$f":"IF(M$7=\"Deep litter\", 0, (M114+M60)*(1-M24))","v":0.36928819234254584},0.41936118149892215,0.39873804491478099]
[null,"N","kg. pig-1. day-1",{"$f":"IF(D$7=\"Deep litter\", 0, (D115+D61)*(1-D25))","v":3.3027629802947372E-3},1.1030535015433047E-2,2.5841166864739834E-2,3.007786036908721E-2,4.2777250696387215E-2,0,0,0.11638027088336843,3.8391966480584593E-2,{"$f":"IF(M$7=\"Deep litter\", 0, (M115+M61)*(1-M25))","v":4.7703607578947357E-2},3.7597174956409227E-2,4.0001177641007406E-2]
[null,"P","kg. pig-1. day-1",{"$f":"IF(D$7=\"Deep litter\", 0, (D116+D62)*(1-D26))","v":6.9533861578947431E-4},2.569982192217391E-3,5.9449009497744339E-3,8.4281197051691761E-3,1.0830032393853384E-2,0,0,2.9638740063157896E-2,1.2216016940081283E-2,{"$f":"IF(M$7=\"Deep litter\", 0, (M116+M62)*(1-M26))","v":1.4034696842105262E-2},1.1512964113607891E-2,1.2180913461956626E-2]
[null,"K","kg. pig-1. day-1",{"$f":"IF(D$7=\"Deep litter\", 0, (D117+D63)*(1-D27))","v":8.1427121315789507E-4},3.8257878702826096E-3,9.3887014053007523E-3,1.0776858013392858E-2,1.3938998193129696E-2,0,0,4.4169664410526319E-2,1.4636747911903E-2,{"$f":"IF(M$7=\"Deep litter\", 0, (M117+M63)*(1-M27))","v":1.5606710526315789E-2},1.1247276088661049E-2,1.1278349390236513E-2]
[]
[null,"TS","kg. pig-1. yr-1",{"$f":"D154*365","v":8.167008489941729},{"$f":"E154*365","v":54.601147154801595},111.78765087294811,163.78000900727031,229.56269669597594,0,0,453.29043532969939,178.43607061792972,{"$f":"M154*365","v":178.43607061792972},{"$f":"N154*365","v":193.42031165819171},185.42151831178219]
[null,"FS","kg. pig-1. yr-1",{"$f":"D155*365","v":2.0728667882982479},8.2886446344891294,19.990882949311089,27.659693257070955,38.19156323717128,0,0,107.78388641578942,38.840724824613424,{"$f":"M155*365","v":43.118664105263164},39.566808001558485,39.165026400601242]
[null,"VS","kg. pig-1. yr-1",6.0729908839664928,46.004007296543037,91.255804097086269,135.27888196620466,190.17440385902205,0,0,344.11465290097851,138.93979130725947,{"$f":"M156*365","v":134.79019020502923},153.06683124710659,145.53938639389506]
[null,"N","kg. pig-1. yr-1",1.205508487807579,4.0261452806330622,9.4320259056300397,10.978419034716831,15.613696504181334,0,0,42.478798872429479,14.013067765413377,{"$f":"M157*365","v":17.411816766315784},13.722968859089368,14.600429838967703]
[null,"P","kg. pig-1. yr-1",0.25379859476315814,0.93804350015934768,2.1698888466676682,3.0762636923867492,3.952961823756485,0,0,10.818140123052633,4.4588461831296682,{"$f":"M158*365","v":5.1226643473684206},4.2022319014668801,4.4460334136141686]
[null,"K","kg. pig-1. yr-1",0.29720899280263169,1.3964125726531524,3.4268760129347746,3.9335531748883934,5.0877343404923385,0,0,16.121927509842106,5.342412987844595,{"$f":"M159*365","v":5.6964493421052627},4.105255772361283,4.1165975274363271]
[]
[null,"TS","kg. day-1",{"$f":"D8*D154","v":37.207734517441388},442.39933655991615,543.46099091370354,787.64959377728633,1092.1218517493974,0,0,185.09310131197515,416.00474550870837,{"$f":"M8*M154","v":0},54.336495549390428,5.0800415975830742,{"$f":"SUM(D168:O168)","v":3563.3538914854021}]
[null,"FS","kg. day-1",{"$f":"D8*D155","v":9.4436876420551989},67.157762764265215,97.186629936612661,133.02078983869868,181.69258927561137,0,0,44.011636366528499,90.553024341332318,{"$f":"M8*M155","v":0},11.11528395569729,1.0730144219342805,635.25441854273538]
[null,"VS","kg. day-1",{"$f":"D8*D156","v":27.667686744265797},372.7420277340899,443.64443955974326,650.58218688091915,904.73593962399912,0,0,140.51310892101418,323.92336551487409,{"$f":"M8*M156","v":0},43.000216076145776,3.98738044914781,2910.7963515041988]
[null,"N","kg. day-1",{"$f":"D157*D8","v":5.4921260126162386},32.621365921050426,45.854243335189956,52.797330671948409,74.280618690338457,0,0,17.345463328796725,32.669979053894913,{"$f":"M157*M8","v":0},3.8551175413988781,0.40001177641007407,265.31625633164407]
[null,"P","kg. day-1",{"$f":"D158*D8","v":1.1562704687374037},7.6003865076000157,10.549018013831214,14.794344330220902,18.805825375771008,0,0,4.4173954483440871,10.395326265881963,{"$f":"M158*M8","v":0},1.1805097047670443,0.12180913461956626,69.020885249773201]
[null,"K","kg. day-1",{"$f":"D159*D8","v":1.35404209681131},11.314267701266672,16.659921012604588,18.917214494503195,24.204393523509658,0,0,6.5831028615308842,12.455268420304419,{"$f":"M159*M8","v":0},1.1532667385947259,0.11278349390236514,92.754260343027823]
[]
[null,"TS","t. yr-1",{"$f":"D168*365/1000","v":13.580823098866107},{"$f":"E168*365/1000","v":161.47575784436938},198.3632616835018,287.49210172870954,398.62447588853001,0,0,67.558981978870932,151.84173211067858,{"$f":"M168*365/1000","v":0},19.832820875527503,1.8542151831178222,1300.6241703921714]
[null,"FS","t. yr-1",{"$f":"D169*365/1000","v":3.4469459893501475},24.5125834089568,35.473119926863617,48.552588291125012,66.317795085598149,0,0,16.064247273782904,33.051853884586293,{"$f":"M169*365/1000","v":0},4.0570786438295112,0.39165026400601238,231.86786276809846]
[null,"VS","t. yr-1",10.098705661657016,136.05084012294282,161.93022043930628,237.46249821153549,330.2286179627597,0,0,51.28728475617018,118.23202841292904,{"$f":"M170*365/1000","v":0},15.695078867793208,1.4553938639389508,1062.4406682990327]
[null,"N","t. yr-1",2.0046259946049272,11.906798561183404,16.736798817344333,19.271025695261169,27.112425821973538,0,0,6.3310941150108047,11.924542354671642,{"$f":"M171*365/1000","v":0},1.4071179026105907,0.14600429838967705,96.840433561050105]
[null,"P","t. yr-1",0.4220387210891523,2.7741410752740059,3.850391575048393,5.3999356805306284,6.8641262621564172,0,0,1.6123493386455918,3.7942940870469166,{"$f":"M172*365/1000","v":0},0.43088604223997118,4.4460334136141685E-2,25.192623116167223]
[null,"K","t. yr-1",0.49422536533612815,4.129707710962335,6.080871169600675,6.9047832904936657,8.8346036360810256,0,0,2.4028325444587728,4.5461729734111129,{"$f":"M173*365/1000","v":0},0.42094235958707499,4.1165975274363276E-2,33.855305025205148]
[null,null,null,null,null,null,null,null,null,null,null,null,null,null,null,null,null,"="]
[null,"Deep litter bedding"]
[null,"TS","kg. day-1",{"$f":"'6. Deep litter'!H$16","v":0},{"$f":"'6. Deep litter'!H$17","v":0},{"$f":"'6. Deep litter'!H$18","v":0},{"$f":"'6. Deep litter'!H$19","v":0},{"$f":"'6. Deep litter'!H$20","v":0},{"$f":"'6. Deep litter'!H$21","v":0},{"$f":"'6. Deep litter'!H$22","v":0},{"$f":"'6. Deep litter'!H$15","v":0},{"$f":"'6. Deep litter'!H$13","v":0},{"$f":"'6. Deep litter'!H$14","v":0},{"$f":"'6. Deep litter'!H$11","v":0},{"$f":"'6. Deep litter'!H$12","v":0},{"$f":"SUM(D183:O183)","v":0}]
[null,"FS","kg. day-1",{"$f":"D183-D185","v":0},{"$f":"E183-E185","v":0},0,0,0,0,0,0,0,{"$f":"M183-M185","v":0},0,0,0]
[null,"VS","kg. day-1",{"$f":"'6. Deep litter'!I$16","v":0},{"$f":"'6. Deep litter'!I$17","v":0},{"$f":"'6. Deep litter'!I$18","v":0},{"$f":"'6. Deep litter'!I$19","v":0},{"$f":"'6. Deep litter'!I$20","v":0},{"$f":"'6. Deep litter'!I$21","v":0},{"$f":"'6. Deep litter'!I$22","v":0},{"$f":"'6. Deep litter'!I$15","v":0},{"$f":"'6. Deep litter'!I$13","v":0},{"$f":"'6. Deep litter'!I$14","v":0},{"$f":"'6. Deep litter'!I$11","v":0},{"$f":"'6. Deep litter'!I$12","v":0},0]
[null,"N","kg. day-1",{"$f":"'6. Deep litter'!J$16","v":0},{"$f":"'6. Deep litter'!J$17","v":0},{"$f":"'6. Deep litter'!J$18","v":0},{"$f":"'6. Deep litter'!J$19","v":0},{"$f":"'6. Deep litter'!J$20","v":0},{"$f":"'6. Deep litter'!J$21","v":0},{"$f":"'6. Deep litter'!J$22","v":0},{"$f":"'6. Deep litter'!J$15","v":0},{"$f":"'6. Deep litter'!J$13","v":0},{"$f":"'6. Deep litter'!J$14","v":0},{"$f":"'6. Deep litter'!J$11","v":0},{"$f":"'6. Deep litter'!J$12","v":0},0]
[null,"P","kg. day-1",{"$f":"'6. Deep litter'!K$16","v":0},{"$f":"'6. Deep litter'!K$17","v":0},{"$f":"'6. Deep litter'!K$18","v":0},{"$f":"'6. Deep litter'!K$19","v":0},{"$f":"'6. Deep litter'!K$20","v":0},{"$f":"'6. Deep litter'!K$21","v":0},{"$f":"'6. Deep litter'!K$22","v":0},{"$f":"'6. Deep litter'!K$15","v":0},{"$f":"'6. Deep litter'!K$13","v":0},{"$f":"'6. Deep litter'!K$14","v":0},{"$f":"'6. Deep litter'!K$11","v":0},{"$f":"'6. Deep litter'!K$12","v":0},0]
[null,"K","kg. day-1",{"$f":"'6. Deep litter'!L$16","v":0},{"$f":"'6. Deep litter'!L$17","v":0},{"$f":"'6. Deep litter'!L$18","v":0},{"$f":"'6. Deep litter'!L$19","v":0},{"$f":"'6. Deep litter'!L$20","v":0},{"$f":"'6. Deep litter'!L$21","v":0},{"$f":"'6. Deep litter'!L$22","v":0},{"$f":"'6. Deep litter'!L$15","v":0},{"$f":"'6. Deep litter'!L$13","v":0},{"$f":"'6. Deep litter'!L$14","v":0},{"$f":"'6. Deep litter'!L$11","v":0},{"$f":"'6. Deep litter'!L$12","v":0},0]
[]
[null,"TS","t. yr-1",{"$f":"D183*365.25/1000","v":0},{"$f":"E183*365.25/1000","v":0},0,0,0,0,0,0,0,{"$f":"M183*365.25/1000","v":0},0,0,0]
[null,"FS","t. yr-1",{"$f":"D184*365.25/1000","v":0},0,0,0,0,0,0,0,0,{"$f":"M184*365.25/1000","v":0},0,0,0]
[null,"VS","t. yr-1",0,0,0,0,0,0,0,0,0,{"$f":"M185*365.25/1000","v":0},0,0,0]
[null,"N","t. yr-1",0,0,0,0,0,0,0,0,0,{"$f":"M186*365.25/1000","v":0},0,0,0]
[null,"P","t. yr-1",0,0,0,0,0,0,0,0,0,{"$f":"M187*365.25/1000","v":0},0,0,0]
[null,"K","t. yr-1",0,0,0,0,0,0,0,0,0,{"$f":"M188*365.25/1000","v":0},0,0,0]
[]
[null,"Manure + waste feed + litter deposited in deep litter sheds"]
[null,"TS","kg. day-1",{"$f":"IF(D$7=\"Deep litter\", D72+D121+D183,0)","v":0},0,0,0,0,0,0,0,0,{"$f":"IF(M$7=\"Deep litter\", M72+M121+M183,0)","v":0},0,0,{"$f":"SUM(D198:O198)","v":0}]
[null,"FS","kg. day-1",{"$f":"IF(D$7=\"Deep litter\", D73+D122+D184,0)","v":0},0,0,0,0,0,0,0,0,{"$f":"IF(M$7=\"Deep litter\", M73+M122+M184,0)","v":0},0,0,0]
[null,"VS","kg. day-1",{"$f":"IF(D$7=\"Deep litter\", D74+D123+D185,0)","v":0},0,0,0,0,0,0,0,0,{"$f":"IF(M$7=\"Deep litter\", M74+M123+M185,0)","v":0},0,0,0]
[null,"N","kg. day-1",{"$f":"IF(D$7=\"Deep litter\", D75+D124+D186,0)","v":0},0,0,0,0,0,0,0,0,{"$f":"IF(M$7=\"Deep litter\", M75+M124+M186,0)","v":0},0,0,0]
[null,"P","kg. day-1",{"$f":"IF(D$7=\"Deep litter\", D76+D125+D187,0)","v":0},0,0,0,0,0,0,0,0,{"$f":"IF(M$7=\"Deep litter\", M76+M125+M187,0)","v":0},0,0,0]
[null,"K","kg. day-1",{"$f":"IF(D$7=\"Deep litter\", D77+D126+D188,0)","v":0},0,0,0,0,0,0,0,0,{"$f":"IF(M$7=\"Deep litter\", M77+M126+M188,0)","v":0},0,0,0]
[]
[null,"TS","t. yr-1",{"$f":"D198*365/1000","v":0},{"$f":"E198*365/1000","v":0},{"$f":"F198*365/1000","v":0},{"$f":"G198*365/1000","v":0},0,0,0,0,0,{"$f":"M198*365/1000","v":0},0,0,0]
[null,"FS","t. yr-1",{"$f":"D199*365/1000","v":0},0,{"$f":"F199*365/1000","v":0},0,0,{"$f":"I199*365/1000","v":0},0,0,0,{"$f":"M199*365/1000","v":0},0,0,0]
[null,"VS","t. yr-1",0,0,0,0,0,{"$f":"I200*365/1000","v":0},0,0,0,{"$f":"M200*365/1000","v":0},0,0,0]
[null,"N","t. yr-1",0,0,0,0,0,{"$f":"I201*365/1000","v":0},0,0,0,{"$f":"M201*365/1000","v":0},0,0,0]
[null,"P","t. yr-1",0,0,0,0,0,{"$f":"I202*365/1000","v":0},0,0,0,{"$f":"M202*365/1000","v":0},0,0,0]
[null,"K","t. yr-1",0,0,0,0,0,{"$f":"I203*365/1000","v":0},0,0,0,{"$f":"M203*365/1000","v":0},0,0,0]
[]
[null,"Manure + waste feed + litter removed from deep litter sheds (following shed losses)"]
[null,"TS","t. yr-1",{"$f":"D205*(1-D22)","v":0},0,0,0,0,0,0,0,0,{"$f":"M205*(1-M22)","v":0},0,0,{"$f":"SUM(D213:O213)","v":0}]
[null,"FS","t. yr-1",{"$f":"D206*(1-D23)","v":0},0,0,0,0,0,0,0,0,{"$f":"M206*(1-M23)","v":0},0,0,0]
[null,"VS","t. yr-1",{"$f":"D207*(1-D24)","v":0},0,0,0,0,0,0,0,0,{"$f":"M207*(1-M24)","v":0},0,0,0]
[null,"N","t. yr-1",{"$f":"D208*(1-D25)","v":0},0,0,0,0,0,0,0,0,{"$f":"M208*(1-M25)","v":0},0,0,0]
[null,"P","t. yr-1",{"$f":"D209*(1-D26)","v":0},0,0,0,0,0,0,0,0,{"$f":"M209*(1-M26)","v":0},0,0,0]
[null,"K","t. yr-1",{"$f":"D210*(1-D27)","v":0},0,0,0,0,0,0,0,0,{"$f":"M210*(1-M27)","v":0},0,0,0]
[]
[null,"Total manure","t wet. year-1",{"$f":"D213/(1-'7. Assumptions'!$D$38)","v":0},{"$f":"E213/(1-'7. Assumptions'!$D$38)","v":0},{"$f":"F213/(1-'7. Assumptions'!$D$38)","v":0},{"$f":"G213/(1-'7. Assumptions'!$D$38)","v":0},{"$f":"H213/(1-'7. Assumptions'!$D$38)","v":0},{"$f":"I213/(1-'7. Assumptions'!$D$38)","v":0},{"$f":"J213/(1-'7. Assumptions'!$D$38)","v":0},{"$f":"K213/(1-'7. Assumptions'!$D$38)","v":0},{"$f":"L213/(1-'7. Assumptions'!$D$38)","v":0},{"$f":"M213/(1-'7. Assumptions'!$D$38)","v":0},{"$f":"N213/(1-'7. Assumptions'!$D$38)","v":0},{"$f":"O213/(1-'7. Assumptions'!$D$38)","v":0},0]
[]
[null,"N concentration","%",{"$f":"IF(D$213=0, 0, D216/D$213)","v":0},0,0,{"$f":"IF(G$213=0, 0, G216/G$213)","v":0},0,0,0,0,0,{"$f":"IF(M$213=0, 0, M216/M$213)","v":0},0,0,{"$f":"IF(P$213=0, 0, P216/P$213)","v":0}]
[null,"P concentration","%",0,0,0,{"$f":"IF(G$213=0, 0, G217/G$213)","v":0},{"$f":"IF(H$213=0, 0, H217/H$213)","v":0},{"$f":"IF(I$213=0, 0, I217/I$213)","v":0},0,0,0,{"$f":"IF(M$213=0, 0, M217/M$213)","v":0},0,0,{"$f":"IF(P$213=0, 0, P217/P$213)","v":0}]
[null,"K concentration","%",0,0,0,{"$f":"IF(G$213=0, 0, G218/G$213)","v":0},{"$f":"IF(H$213=0, 0, H218/H$213)","v":0},{"$f":"IF(I$213=0, 0, I218/I$213)","v":0},0,0,0,{"$f":"IF(M$213=0, 0, M218/M$213)","v":0},0,0,{"$f":"IF(P$213=0, 0, P218/P$213)","v":0}]
[]
[]
[null,"NEGIP pig class (Table 5.1)",null,{"$f":"IF(D12=0, \"\", IF(D12<='7. Assumptions'!$E61,'7. Assumptions'!$B61,IF(D12<='7. Assumptions'!$E62,'7. Assumptions'!$B62,IF(D12<='7. Assumptions'!$E63,'7. Assumptions'!$B63,IF(D12<='7. Assumptions'!$E64,'7. Assumptions'!$B64,'7. Assumptions'!$B65)))))","v":"Sucker"},{"$f":"IF(E12=0, \"\", IF(E12<='7. Assumptions'!$E61,'7. Assumptions'!$B61,IF(E12<='7. Assumptions'!$E62,'7. Assumptions'!$B62,IF(E12<='7. Assumptions'!$E63,'7. Assumptions'!$B63,IF(E12<='7. Assumptions'!$E64,'7. Assumptions'!$B64,'7. Assumptions'!$B65)))))","v":"Grower"},{"$f":"IF(F12=0, \"\", IF(F12<='7. Assumptions'!$E61,'7. Assumptions'!$B61,IF(F12<='7. Assumptions'!$E62,'7. Assumptions'!$B62,IF(F12<='7. Assumptions'!$E63,'7. Assumptions'!$B63,IF(F12<='7. Assumptions'!$E64,'7. Assumptions'!$B64,'7. Assumptions'!$B65)))))","v":"Finisher"},{"$f":"IF(G12=0, \"\", IF(G12<='7. Assumptions'!$E61,'7. Assumptions'!$B61,IF(G12<='7. Assumptions'!$E62,'7. Assumptions'!$B62,IF(G12<='7. Assumptions'!$E63,'7. Assumptions'!$B63,IF(G12<='7. Assumptions'!$E64,'7. Assumptions'!$B64,'7. Assumptions'!$B65)))))","v":"Finisher"},{"$f":"IF(H12=0, \"\", IF(H12<='7. Assumptions'!$E61,'7. Assumptions'!$B61,IF(H12<='7. Assumptions'!$E62,'7. Assumptions'!$B62,IF(H12<='7. Assumptions'!$E63,'7. Assumptions'!$B63,IF(H12<='7. Assumptions'!$E64,'7. Assumptions'!$B64,'7. Assumptions'!$B65)))))","v":"Heavy finisher"},{"$f":"IF(I12=0, \"\", IF(I12<='7. Assumptions'!$E61,'7. Assumptions'!$B61,IF(I12<='7. Assumptions'!$E62,'7. Assumptions'!$B62,IF(I12<='7. Assumptions'!$E63,'7. Assumptions'!$B63,IF(I12<='7. Assumptions'!$E64,'7. Assumptions'!$B64,'7. Assumptions'!$B65)))))","v":""},{"$f":"IF(J12=0, \"\", IF(J12<='7. Assumptions'!$E61,'7. Assumptions'!$B61,IF(J12<='7. Assumptions'!$E62,'7. Assumptions'!$B62,IF(J12<='7. Assumptions'!$E63,'7. Assumptions'!$B63,IF(J12<='7. Assumptions'!$E64,'7. Assumptions'!$B64,'7. Assumptions'!$B65)))))","v":""},{"$f":"K5","v":"Lac sow"},{"$f":"L5","v":"Dry sow 1"},{"$f":"M5","v":"Dry sow 2"},{"$f":"N5","v":"Gilt"},{"$f":"O5","v":"Boar"}]
[null,"From PigBal 5 with Standard Diet (Diet A): manure + waste feed"]
[null,"TS","t. yr-1",{"$f":"IF(D$227=\"\", \"\", VLOOKUP(D$227,'7. Assumptions'!$B$44:$K$52,4,FALSE)*D$8/1000)","v":13.580823098866107},{"$f":"IF(E$227=\"\", \"\", VLOOKUP(E$227,'7. Assumptions'!$B$44:$K$52,4,FALSE)*E$8/1000)","v":286.88461833281571},{"$f":"IF(F$227=\"\", \"\", VLOOKUP(F$227,'7. Assumptions'!$B$44:$K$52,4,FALSE)*F$8/1000)","v":321.188036248988},{"$f":"IF(G$227=\"\", \"\", VLOOKUP(G$227,'7. Assumptions'!$B$44:$K$52,4,FALSE)*G$8/1000)","v":317.72908816630655},{"$f":"IF(H$227=\"\", \"\", VLOOKUP(H$227,'7. Assumptions'!$B$44:$K$52,4,FALSE)*H8/1000)","v":376.57946825740271},{"$f":"IF(I$227=\"\", \"\", VLOOKUP(I$227,'7. Assumptions'!$B$44:$K$52,4,FALSE)*I8/1000)","v":""},{"$f":"IF(J$227=\"\", \"\", VLOOKUP(J$227,'7. Assumptions'!$B$44:$K$52,4,FALSE)*J8/1000)","v":""},{"$f":"IF(K$227=\"\", \"\", VLOOKUP(K$227,'7. Assumptions'!$B$44:$K$51,4,FALSE)*K8/1000)","v":67.558981978870932},{"$f":"IF(L$227=\"\", \"\", VLOOKUP(L$227,'7. Assumptions'!$B$44:$K$51,4,FALSE)*L8/1000)","v":151.84173211067858},{"$f":"IF(L$227=\"\", \"\", VLOOKUP(L$227,'7. Assumptions'!$B$44:$K$51,4,FALSE)*M8/1000)","v":0},{"$f":"IF(N$227=\"\", \"\", VLOOKUP(N$227,'7. Assumptions'!$B$44:$K$51,4,FALSE)*N8/1000)","v":19.832820875527503},{"$f":"IF(O$227=\"\", \"\", VLOOKUP(O$227,'7. Assumptions'!$B$44:$K$51,4,FALSE)*O8/1000)","v":1.854215183117822},{"$f":"SUM(D229:O229)","v":1557.0497842525738}]
[null,"FS","t. yr-1",{"$f":"IF(D$227=\"\", \"\", VLOOKUP(D$227,'7. Assumptions'!$B$44:$K$52,5,FALSE)*D$8/1000)","v":3.4469459893501475},{"$f":"IF(E$227=\"\", \"\", VLOOKUP(E$227,'7. Assumptions'!$B$44:$K$52,5,FALSE)*E$8/1000)","v":50.244465919486522},{"$f":"IF(F$227=\"\", \"\", VLOOKUP(F$227,'7. Assumptions'!$B$44:$K$52,5,FALSE)*F$8/1000)","v":56.007080007974373},{"$f":"IF(G$227=\"\", \"\", VLOOKUP(G$227,'7. Assumptions'!$B$44:$K$52,5,FALSE)*G$8/1000)","v":55.403926838657718},{"$f":"IF(H$227=\"\", \"\", VLOOKUP(H$227,'7. Assumptions'!$B$44:$K$52,5,FALSE)*H$8/1000)","v":70.577872673193482},{"$f":"IF(I$227=\"\", \"\", VLOOKUP(I$227,'7. Assumptions'!$B$44:$K$52,5,FALSE)*I$8/1000)","v":""},{"$f":"IF(J$227=\"\", \"\", VLOOKUP(J$227,'7. Assumptions'!$B$44:$K$52,5,FALSE)*J$8/1000)","v":""},{"$f":"IF(K$227=\"\", \"\", VLOOKUP(K$227,'7. Assumptions'!$B$44:$K$51,5,FALSE)*K$8/1000)","v":16.064247273782904},{"$f":"IF(L$227=\"\", \"\", VLOOKUP(L$227,'7. Assumptions'!$B$44:$K$51,5,FALSE)*L$8/1000)","v":33.051853884586293},{"$f":"IF(L$227=\"\", \"\", VLOOKUP(L$227,'7. Assumptions'!$B$44:$K$51,5,FALSE)*M$8/1000)","v":0},{"$f":"IF(N$227=\"\", \"\", VLOOKUP(N$227,'7. Assumptions'!$B$44:$K$51,5,FALSE)*N$8/1000)","v":4.0570786438295112},{"$f":"IF(O$227=\"\", \"\", VLOOKUP(O$227,'7. Assumptions'!$B$44:$K$51,5,FALSE)*O$8/1000)","v":0.39165026400601244},289.24512149486696]
[null,"VS","t. yr-1",{"$f":"IF(D$227=\"\", \"\", VLOOKUP(D$227,'7. Assumptions'!$B$44:$K$52,6,FALSE)*D$8/1000)","v":10.098705661657016},{"$f":"IF(E$227=\"\", \"\", VLOOKUP(E$227,'7. Assumptions'!$B$44:$K$52,6,FALSE)*E$8/1000)","v":235.22009232629316},{"$f":"IF(F$227=\"\", \"\", VLOOKUP(F$227,'7. Assumptions'!$B$44:$K$52,6,FALSE)*F$8/1000)","v":263.58373969993664},{"$f":"IF(G$227=\"\", \"\", VLOOKUP(G$227,'7. Assumptions'!$B$44:$K$52,6,FALSE)*G$8/1000)","v":260.74514558009116},{"$f":"IF(H$227=\"\", \"\", VLOOKUP(H$227,'7. Assumptions'!$B$44:$K$52,6,FALSE)*H$8/1000)","v":306.00159732066066},{"$f":"IF(I$227=\"\", \"\", VLOOKUP(I$227,'7. Assumptions'!$B$44:$K$52,6,FALSE)*I$8/1000)","v":""},{"$f":"IF(J$227=\"\", \"\", VLOOKUP(J$227,'7. Assumptions'!$B$44:$K$52,6,FALSE)*J$8/1000)","v":""},{"$f":"IF(K$227=\"\", \"\", VLOOKUP(K$227,'7. Assumptions'!$B$44:$K$51,6,FALSE)*K$8/1000)","v":51.287284756170173},{"$f":"IF(L$227=\"\", \"\", VLOOKUP(L$227,'7. Assumptions'!$B$44:$K$51,6,FALSE)*L$8/1000)","v":118.23202841292905},{"$f":"IF(L$227=\"\", \"\", VLOOKUP(L$227,'7. Assumptions'!$B$44:$K$51,6,FALSE)*M$8/1000)","v":0},{"$f":"IF(N$227=\"\", \"\", VLOOKUP(N$227,'7. Assumptions'!$B$44:$K$51,6,FALSE)*N$8/1000)","v":15.69507886779321},{"$f":"IF(O$227=\"\", \"\", VLOOKUP(O$227,'7. Assumptions'!$B$44:$K$51,6,FALSE)*O$8/1000)","v":1.4553938639389505},1262.3190664894703]
[null,"N","t. yr-1",{"$f":"IF(D$227=\"\", \"\", VLOOKUP(D$227,'7. Assumptions'!$B$44:$K$52,8,FALSE)*D$8/1000)","v":2.0046259946049267},{"$f":"IF(E$227=\"\", \"\", VLOOKUP(E$227,'7. Assumptions'!$B$44:$K$52,8,FALSE)*E$8/1000)","v":23.364507412599995},{"$f":"IF(F$227=\"\", \"\", VLOOKUP(F$227,'7. Assumptions'!$B$44:$K$52,8,FALSE)*F$8/1000)","v":22.931034580201327},{"$f":"IF(G$227=\"\", \"\", VLOOKUP(G$227,'7. Assumptions'!$B$44:$K$52,8,FALSE)*G$8/1000)","v":22.684084977029929},{"$f":"IF(H$227=\"\", \"\", VLOOKUP(H$227,'7. Assumptions'!$B$44:$K$52,8,FALSE)*H$8/1000)","v":38.759594858687286},{"$f":"IF(I$227=\"\", \"\", VLOOKUP(I$227,'7. Assumptions'!$B$44:$K$52,8,FALSE)*I$8/1000)","v":""},{"$f":"IF(J$227=\"\", \"\", VLOOKUP(J$227,'7. Assumptions'!$B$44:$K$52,8,FALSE)*J$8/1000)","v":""},{"$f":"IF(K$227=\"\", \"\", VLOOKUP(K$227,'7. Assumptions'!$B$44:$K$51,8,FALSE)*K$8/1000)","v":6.3310941150108055},{"$f":"IF(L$227=\"\", \"\", VLOOKUP(L$227,'7. Assumptions'!$B$44:$K$51,8,FALSE)*L$8/1000)","v":11.924542354671642},{"$f":"IF(L$227=\"\", \"\", VLOOKUP(L$227,'7. Assumptions'!$B$44:$K$51,8,FALSE)*M$8/1000)","v":0},{"$f":"IF(N$227=\"\", \"\", VLOOKUP(N$227,'7. Assumptions'!$B$44:$K$51,8,FALSE)*N$8/1000)","v":1.4071179026105907},{"$f":"IF(O$227=\"\", \"\", VLOOKUP(O$227,'7. Assumptions'!$B$44:$K$51,8,FALSE)*O$8/1000)","v":0.14600429838967702},129.55260649380617]
[null,"P","t. yr-1",{"$f":"IF(D$227=\"\", \"\", VLOOKUP(D$227,'7. Assumptions'!$B$44:$K$52,9,FALSE)*D$8/1000)","v":0.42203872108915236},{"$f":"IF(E$227=\"\", \"\", VLOOKUP(E$227,'7. Assumptions'!$B$44:$K$52,9,FALSE)*E$8/1000)","v":5.4043589727131804},{"$f":"IF(F$227=\"\", \"\", VLOOKUP(F$227,'7. Assumptions'!$B$44:$K$52,9,FALSE)*F$8/1000)","v":6.3065383911081661},{"$f":"IF(G$227=\"\", \"\", VLOOKUP(G$227,'7. Assumptions'!$B$44:$K$52,9,FALSE)*G$8/1000)","v":6.2386218238193099},{"$f":"IF(H$227=\"\", \"\", VLOOKUP(H$227,'7. Assumptions'!$B$44:$K$52,9,FALSE)*H$8/1000)","v":11.666882108978704},{"$f":"IF(I$227=\"\", \"\", VLOOKUP(I$227,'7. Assumptions'!$B$44:$K$52,9,FALSE)*I$8/1000)","v":""},{"$f":"IF(J$227=\"\", \"\", VLOOKUP(J$227,'7. Assumptions'!$B$44:$K$52,9,FALSE)*J$8/1000)","v":""},{"$f":"IF(K$227=\"\", \"\", VLOOKUP(K$227,'7. Assumptions'!$B$44:$K$51,9,FALSE)*K$8/1000)","v":1.612349338645592},{"$f":"IF(L$227=\"\", \"\", VLOOKUP(L$227,'7. Assumptions'!$B$44:$K$51,9,FALSE)*L$8/1000)","v":3.7942940870469166},{"$f":"IF(L$227=\"\", \"\", VLOOKUP(L$227,'7. Assumptions'!$B$44:$K$51,9,FALSE)*M$8/1000)","v":0},{"$f":"IF(N$227=\"\", \"\", VLOOKUP(N$227,'7. Assumptions'!$B$44:$K$51,9,FALSE)*N$8/1000)","v":0.43088604223997118},{"$f":"IF(O$227=\"\", \"\", VLOOKUP(O$227,'7. Assumptions'!$B$44:$K$51,9,FALSE)*O$8/1000)","v":4.4460334136141685E-2},35.920429819777134]
[null,"K","t. yr-1",{"$f":"IF(D$227=\"\", \"\", VLOOKUP(D$227,'7. Assumptions'!$B$44:$K$52,10,FALSE)*D$8/1000)","v":0.4942253653361281},{"$f":"IF(E$227=\"\", \"\", VLOOKUP(E$227,'7. Assumptions'!$B$44:$K$52,10,FALSE)*E$8/1000)","v":8.7068848989568401},{"$f":"IF(F$227=\"\", \"\", VLOOKUP(F$227,'7. Assumptions'!$B$44:$K$52,10,FALSE)*F$8/1000)","v":7.860039400479172},{"$f":"IF(G$227=\"\", \"\", VLOOKUP(G$227,'7. Assumptions'!$B$44:$K$52,10,FALSE)*G$8/1000)","v":7.7753928223201658},{"$f":"IF(H$227=\"\", \"\", VLOOKUP(H$227,'7. Assumptions'!$B$44:$K$52,10,FALSE)*H$8/1000)","v":8.4970229927426626},{"$f":"IF(I$227=\"\", \"\", VLOOKUP(I$227,'7. Assumptions'!$B$44:$K$52,10,FALSE)*I$8/1000)","v":""},{"$f":"IF(J$227=\"\", \"\", VLOOKUP(J$227,'7. Assumptions'!$B$44:$K$52,10,FALSE)*J$8/1000)","v":""},{"$f":"IF(K$227=\"\", \"\", VLOOKUP(K$227,'7. Assumptions'!$B$44:$K$51,10,FALSE)*K$8/1000)","v":2.4028325444587728},{"$f":"IF(L$227=\"\", \"\", VLOOKUP(L$227,'7. Assumptions'!$B$44:$K$51,10,FALSE)*L$8/1000)","v":4.5461729734111129},{"$f":"IF(L$227=\"\", \"\", VLOOKUP(L$227,'7. Assumptions'!$B$44:$K$51,10,FALSE)*M$8/1000)","v":0},{"$f":"IF(N$227=\"\", \"\", VLOOKUP(N$227,'7. Assumptions'!$B$44:$K$51,10,FALSE)*N$8/1000)","v":0.42094235958707499},{"$f":"IF(O$227=\"\", \"\", VLOOKUP(O$227,'7. Assumptions'!$B$44:$K$51,10,FALSE)*O$8/1000)","v":4.1165975274363269E-2},40.744679332566285]
[]
[]
[]
[null,"Entered pig class",null,{"$f":"D5","v":"Sucker"},"Weaner","Porker","Grower","Finisher","Unallocated","Unallocated","Lac sow","Dry sow 1",{"$f":"M5","v":"Dry sow 2"},"Gilt","Boar","Total"]
[null,"NEGIP pig class (Table 5.1)",null,{"$f":"D227","v":"Sucker"},{"$f":"E227","v":"Grower"},"Finisher","Finisher","Heavy finisher","","","Lac sow","Dry sow 1",{"$f":"M227","v":"Dry sow 2"},"Gilt","Boar"]
[]
[null,"No of pigs","pigs",{"$f":"D8","v":1662.8883287671231},2957.369327544784,1774.4648906608736,1755.3552687614488,1736.4514427901718,0,0,149.04126959954959,850.95873040045035,{"$f":"M8","v":0},102.53742590682847,10,{"$f":"SUM(D241:O241)","v":10999.066684431231}]
[]
[null,"SPU factor (standard)","SPU. pig-1",{"$f":"'5. Herd details'!M14","v":0.1},{"$f":"'5. Herd details'!M15","v":1},{"$f":"'5. Herd details'!M16","v":1.6},{"$f":"'5. Herd details'!M17","v":1.6},{"$f":"'5. Herd details'!M18","v":1.8},{"$f":"'5. Herd details'!M19","v":0},{"$f":"'5. Herd details'!M20","v":0},{"$f":"'5. Herd details'!M13","v":2.5},{"$f":"'5. Herd details'!M11","v":1.6},{"$f":"'5. Herd details'!M12","v":1.6},{"$f":"'5. Herd details'!M9","v":1.8},{"$f":"'5. Herd details'!M10","v":1.6}]
[null,"SPU factor (live weight regression)","SPU. pig-1",{"$f":"'5. Herd details'!O14","v":0.10190116277360001},{"$f":"'5. Herd details'!O15","v":0.58518671150000001},{"$f":"'5. Herd details'!O16","v":1.1694195027624998},{"$f":"'5. Herd details'!O17","v":1.5369069908874999},{"$f":"'5. Herd details'!O18","v":1.7436350415125002},{"$f":"'5. Herd details'!O19","v":0},{"$f":"'5. Herd details'!O20","v":0},{"$f":"'5. Herd details'!M13","v":2.5},{"$f":"'5. Herd details'!M11","v":1.6},{"$f":"'5. Herd details'!M12","v":1.6},{"$f":"'5. Herd details'!M9","v":1.8},{"$f":"'5. Herd details'!M10","v":1.6}]
[]
[null,"No of SPUs (standard)","SPU",{"$f":"D241*D243","v":166.28883287671232},2957.369327544784,2839.1438250573979,2808.5684300183184,3125.6125970223093,0,0,372.60317399887401,1361.5339686407206,{"$f":"M241*M243","v":0},184.56736663229125,16,{"$f":"SUM(D246:O246)","v":13831.687521791408}]
[null,"No of SPUs (live weight regression)","SPU",{"$f":"D244*D241","v":169.4502542640183},1730.6132314768986,2075.0938501061523,2697.8177840506769,3027.7375835338821,0,0,372.60317399887401,1361.5339686407206,{"$f":"M244*M241","v":0},184.56736663229125,16,{"$f":"SUM(D247:O247)","v":11635.417212703514}]
[]
[null,"Manure + waste feed (prior to shed losses)"]
[null,"TS","t. yr-1",{"$f":"D128+D79/1000","v":13.857982753945008},164.77118147384633,202.41149151377735,293.35928747827495,406.75966927401021,0,0,68.937736713133603,154.94054297008017,{"$f":"M128+M79/1000","v":0},20.237572321966841,1.8920563093039002,{"$f":"SUM(D250:O250)","v":1327.1675208083382},null,{"$f":"P247*'7. Assumptions'!E50/1000","v":1128.7133450392403}]
[null,"FS","t. yr-1",{"$f":"D129+D80/1000","v":3.4469459893501471},24.512583408956804,35.473119926863617,48.552588291125019,66.317795085598149,0,0,16.064247273782904,33.051853884586293,{"$f":"M129+M80/1000","v":0},4.0570786438295112,0.39165026400601249,231.86786276809846,null,{"$f":"P247*'7. Assumptions'!F50/1000","v":197.6808639210571}]
[null,"VS","t. yr-1",{"$f":"D130+D81/1000","v":10.411036764594863},140.2585980648895,166.93837158691372,244.80669918715,340.44187418841204,0,0,52.873489439350692,121.88868908549387,{"$f":"M130+M81/1000","v":0},16.180493678137331,1.5004060452978871,1095.29965804024,null,{"$f":"P247*'7. Assumptions'!G50/1000","v":925.44542392316953}]
[null,"N","t. yr-1",{"$f":"D131+D82/1000","v":2.227362216227696},13.229776179092669,18.5964431303826,21.412250772512404,30.124917579970592,0,0,7.0345490166786719,13.249491505190713,{"$f":"M131+M82/1000","v":0},1.5634643362339895,0.16222699821075223,107.60048173450009,null,{"$f":"P247*'7. Assumptions'!I50/1000","v":91.924870249668913}]
[null,"P","t. yr-1",{"$f":"D132+D83/1000","v":0.42203872108915236},2.7741410752740054,3.8503915750483935,5.3999356805306293,6.8641262621564181,0,0,1.612349338645592,3.7942940870469166,{"$f":"M132+M83/1000","v":0},0.43088604223997118,4.4460334136141685E-2,25.192623116167223,null,{"$f":"P247*'7. Assumptions'!J50/1000","v":21.262806383043273}]
[null,"K","t. yr-1",{"$f":"D133+D84/1000","v":0.49422536533612821},4.1297077109623359,6.080871169600675,6.9047832904936648,8.8346036360810238,0,0,2.4028325444587728,4.5461729734111129,{"$f":"M133+M84/1000","v":0},0.42094235958707499,4.1165975274363276E-2,33.855305025205148,null,{"$f":"P247*'7. Assumptions'!K50/1000","v":34.256201103721146}]
[]
[null,"Manure + waste feed (prior to shed losses) per standard SPU"]
[null,"TS","kg. SPU-1. yr-1",{"$f":"IF(D$246=0, 0, D250*1000/D$246)","v":83.336821325936},{"$f":"IF(E$246=0, 0, E250*1000/E$246)","v":55.715456280409789},71.293144689380185,104.45153635667748,130.13758316098409,0,0,185.01650421620383,113.79851442470006,{"$f":"IF(M$246=0, 0, M250*1000/M$246)","v":0},109.64870275407692,118.25351933149376,95.95123651524267]
[null,"FS","kg. SPU-1. yr-1",{"$f":"IF(D$246=0, 0, D251*1000/D$246)","v":20.728667882982474},8.2886446344891311,12.494301843319429,17.287308285669347,21.217535131761821,0,0,43.11355456631577,24.275453015383391,{"$f":"IF(M$246=0, 0, M251*1000/M$246)","v":0},21.981560000865827,24.478141500375781,16.763526677623219]
[null,"VS","kg. SPU-1. yr-1",62.608153442953544,47.426811645920651,58.798842846060744,87.164228071008154,108.92004802922226,0,0,141.90294964988803,89.523061409316668,{"$f":"IF(M$246=0, 0, M252*1000/M$246)","v":0},87.66714275321111,93.77537783111795,79.187709837619465]
[null,"N","kg. SPU-1. yr-1",13.394538753417541,4.4734947562589573,6.5500179900208622,7.6239021074422411,9.6380842618403264,0,0,18.87946616552421,9.7312970593148442,{"$f":"IF(M$246=0, 0, M253*1000/M$246)","v":0},8.4709684315366474,10.139187388172015,7.7792736110455625]
[null,"P","kg. SPU-1. yr-1",2.5379859476315811,0.93804350015934757,1.3561805291672928,1.9226648077417183,2.1960899020869364,0,0,4.3272560492210532,2.7867788644560427,{"$f":"IF(M$246=0, 0, M254*1000/M$246)","v":0},2.3345732785927114,2.7787708835088551,1.8213701745703119]
[null,"K","kg. SPU-1. yr-1",2.9720899280263171,1.3964125726531527,2.1417975080842337,2.4584707343052452,2.8265190780512985,0,0,6.4487710039368418,3.3390081174028721,{"$f":"IF(M$246=0, 0, M255*1000/M$246)","v":0},2.280697651311824,2.5728734546477048,2.4476626566257469]
[]
[null,"Manure + waste feed (prior to shed losses) per live weight regression SPU"]
[null,"TS","kg. SPU-1. yr-1",{"$f":"IF(D$247=0, 0, D250*1000/D$247)","v":81.782012155337696},{"$f":"IF(E$247=0, 0, E250*1000/E$247)","v":95.20970860325113},97.54329497117584,108.73947425678486,134.34442650715221,0,0,185.01650421620383,113.79851442470006,{"$f":"IF(M$247=0, 0, M250*1000/M$247)","v":0},109.64870275407692,118.25351933149376,114.06273591627988]
[null,"FS","kg. SPU-1. yr-1",{"$f":"IF(D$247=0, 0, D251*1000/D$247)","v":20.341934595031674},14.164102621611105,17.094706306921481,17.996985777973872,21.903415753816439,0,0,43.11355456631577,24.275453015383391,{"$f":"IF(M$247=0, 0, M251*1000/M$247)","v":0},21.981560000865827,24.478141500375781,19.927765247209681]
[null,"VS","kg. SPU-1. yr-1",61.440077560306037,81.045605981640023,80.448588664254345,90.742488478811012,112.44101075333575,0,0,141.90294964988803,89.523061409316668,{"$f":"IF(M$247=0, 0, M252*1000/M$247)","v":0},87.66714275321111,93.77537783111795,94.134970669070199]
[null,"N","kg. SPU-1. yr-1",13.144637792972981,7.6445597077762022,8.9617359375968899,7.936878057183935,9.9496461462851471,0,0,18.87946616552421,9.7312970593148442,{"$f":"IF(M$247=0, 0, M253*1000/M$247)","v":0},8.4709684315366474,10.139187388172015,9.2476685423039413]
[null,"P","kg. SPU-1. yr-1",2.4906349236371117,1.6029815471285656,1.8555264740683535,2.0015939224860544,2.2670809714443023,0,0,4.3272560492210532,2.7867788644560427,{"$f":"IF(M$247=0, 0, M254*1000/M$247)","v":0},2.3345732785927114,2.7787708835088551,2.1651671491987403]
[null,"K","kg. SPU-1. yr-1",2.9166398568283167,2.3862684254633022,2.9304077833827153,2.5593957202425952,2.9178894776506841,0,0,6.4487710039368418,3.3390081174028721,{"$f":"IF(M$247=0, 0, M255*1000/M$247)","v":0},2.280697651311824,2.5728734546477048,2.9096769291815359]
[]
[null,"Manure + waste feed (prior to shed losses) per pig per year"]
[null,"TS","kg. pig-1. yr-1",{"$f":"IF(D$241=0, 0, D250*1000/D$241)","v":8.3336821325936015},{"$f":"IF(E$241=0, 0, E250*1000/E$241)","v":55.715456280409789},114.06903150300829,167.12245817068398,234.24764968977138,0,0,462.54126054050965,182.07762307952009,{"$f":"IF(M$241=0, 0, M250*1000/M$241)","v":0},197.36766495733846,189.20563093039002,{"$f":"P250*1000/P$241","v":120.66183057939764}]
[null,"FS","kg. pig-1. yr-1",{"$f":"IF(D$241=0, 0, D251*1000/D$241)","v":2.0728667882982479},8.2886446344891311,19.990882949311086,27.659693257070959,38.19156323717128,0,0,107.78388641578942,38.840724824613424,{"$f":"IF(M$241=0, 0, M251*1000/M$241)","v":0},39.566808001558485,39.165026400601249,21.080685245439849]
[null,"VS","kg. pig-1. yr-1",6.2608153442953549,47.426811645920651,94.07814855369719,139.46276491361306,196.05608645260006,0,0,354.75737412472012,143.23689825490669,{"$f":"IF(M$241=0, 0, M252*1000/M$241)","v":0},157.80085695578001,150.04060452978871,99.581145333957821]
[null,"N","kg. pig-1. yr-1",1.3394538753417542,4.4734947562589573,10.480028784033379,12.198243371907587,17.348551671312588,0,0,47.198665413810531,15.57007529490375,{"$f":"IF(M$241=0, 0, M253*1000/M$241)","v":0},15.247743176765965,16.222699821075224,9.7826920066594898]
[null,"P","kg. pig-1. yr-1",0.25379859476315814,0.93804350015934757,2.1698888466676682,3.0762636923867497,3.9529618237564859,0,0,10.818140123052633,4.4588461831296682,{"$f":"IF(M$241=0, 0, M254*1000/M$241)","v":0},4.2022319014668801,4.4460334136141686,2.2904328011599784]
[null,"K","kg. pig-1. yr-1",0.29720899280263174,1.3964125726531527,3.4268760129347742,3.933553174888393,5.0877343404923376,0,0,16.121927509842106,5.342412987844595,{"$f":"IF(M$241=0, 0, M255*1000/M$241)","v":0},4.105255772361283,4.116597527436328,3.0780161623282156]

{"sheet":"15. Output summary","index":20,"n_rows":23,"n_cols":9,"rows_kept":23,"cut":false,"hidden":false,"merged":[[4,3,4,8],[1,0,1,9],[19,3,19,8]]}
["Menu"]
["15. Output summary"]
[]
[]
[null,null,null,"Annual waste output (t. yr-1)"]
[null,null,null,"TS","FS","VS","N","P","K"]
[null,"Feed ingested",null,{"$f":"'14. DM DAMP'!P50/1000","v":5914.6049725487883},{"$f":"'14. DM DAMP'!P51/1000","v":295.68015919833584},{"$f":"'14. DM DAMP'!P52/1000","v":5618.9248133504525},{"$f":"'14. DM DAMP'!P53/1000","v":168.85676300524366},{"$f":"'14. DM DAMP'!P54/1000","v":35.612489971948051},{"$f":"'14. DM DAMP'!P55/1000","v":38.350261331938881}]
[null,"Feed wasted (before shed losses)",null,{"$f":"'14. DM DAMP'!P79/1000","v":311.2949985551997},{"$f":"'14. DM DAMP'!P80/1000","v":15.562113642017696},{"$f":"'14. DM DAMP'!P81/1000","v":295.73288491318198},{"$f":"'14. DM DAMP'!P82/1000","v":8.8871980529075731},{"$f":"'14. DM DAMP'!P83/1000","v":1.8743415774709526},{"$f":"'14. DM DAMP'!P84/1000","v":2.0184348069441542}]
[null,"Manure excreted (before shed losses)",null,{"$f":"'14. DM DAMP'!P128","v":1015.8725222531386},{"$f":"'14. DM DAMP'!P129","v":216.30574912608077},{"$f":"'14. DM DAMP'!P130","v":799.5667731270579},{"$f":"'14. DM DAMP'!P131","v":98.713283681592515},{"$f":"'14. DM DAMP'!P132","v":23.318281538696269},{"$f":"'14. DM DAMP'!P133","v":31.836870218260998}]
[null,"Manure excreted + waste feed (before shed losses)",null,{"$f":"D8+D9","v":1327.1675208083384},231.86786276809846,1095.2996580402398,107.60048173450009,25.192623116167223,33.855305025205155]
[null,"Manure (after shed losses)",null,{"$f":"'14. DM DAMP'!P138*365/1000","v":995.55507180807592},{"$f":"'14. DM DAMP'!P139*365/1000","v":216.30574912608077},{"$f":"'14. DM DAMP'!P140*365/1000","v":775.5797699332461},{"$f":"'14. DM DAMP'!P141*365/1000","v":88.84195531343326},{"$f":"'14. DM DAMP'!P142*365/1000","v":23.318281538696269},{"$f":"'14. DM DAMP'!P143*365/1000","v":31.836870218260987}]
[null,"Waste feed (after shed losses)",null,{"$f":"'14. DM DAMP'!P146*365/1000","v":305.06909858409568},{"$f":"'14. DM DAMP'!P147*365/1000","v":15.562113642017698},{"$f":"'14. DM DAMP'!P148*365/1000","v":286.86089836578657},{"$f":"'14. DM DAMP'!P149*365/1000","v":7.9984782476168155},{"$f":"'14. DM DAMP'!P150*365/1000","v":1.8743415774709529},{"$f":"'14. DM DAMP'!P151*365/1000","v":2.0184348069441542}]
[null,"Recycled effluent used for shed cleaning",null,{"$f":"'9. Water'!M38*365/1000","v":0},{"$f":"D13-F13","v":0},{"$f":"'9. Water'!N38*365/1000","v":0},{"$f":"'9. Water'!P38*365/1000","v":0},{"$f":"'9. Water'!Q38*365/1000","v":0},{"$f":"'9. Water'!R38*365/1000","v":0}]
[null,"Effluent discharged from conventional sheds",null,{"$f":"D11+D12+D13","v":1300.6241703921717},231.86786276809846,1062.4406682990327,96.840433561050077,25.192623116167223,33.855305025205141]
[null,"Separated solids",null,{"$f":"'10. Effluent pre-treatment'!D18","v":0},null,{"$f":"'10. Effluent pre-treatment'!E18","v":0},{"$f":"'10. Effluent pre-treatment'!F18","v":0},{"$f":"'10. Effluent pre-treatment'!G18","v":0},{"$f":"'10. Effluent pre-treatment'!H18","v":0}]
[null,"Effluent discharged to primary pond",null,{"$f":"'10. Effluent pre-treatment'!D21","v":1300.6241703921717},null,{"$f":"'10. Effluent pre-treatment'!E21","v":1062.4406682990325},{"$f":"'10. Effluent pre-treatment'!F21","v":96.840433561050091},{"$f":"'10. Effluent pre-treatment'!G21","v":25.192623116167219},{"$f":"'10. Effluent pre-treatment'!H21","v":33.855305025205155}]
[null,"Dry matter digestibility",null,{"$f":"(D7-D9)/D7","v":0.82824338616559079}]
[null,"Deep litter added to sheds",null,{"$f":"'14. DM DAMP'!P190","v":0},{"$f":"'14. DM DAMP'!P191","v":0},{"$f":"'14. DM DAMP'!P192","v":0},{"$f":"'14. DM DAMP'!P193","v":0},{"$f":"'14. DM DAMP'!P194","v":0},{"$f":"'14. DM DAMP'!P195","v":0}]
[null,"Spent litter removed from deep litter sheds",null,{"$f":"'14. DM DAMP'!P213","v":0},{"$f":"'14. DM DAMP'!P214","v":0},{"$f":"'14. DM DAMP'!P215","v":0},{"$f":"'14. DM DAMP'!P216","v":0},{"$f":"'14. DM DAMP'!P217","v":0},{"$f":"'14. DM DAMP'!P218","v":0}]
[null,null,null,"(kg. SPU-1. yr-1)"]
[null,"Total piggery manure excreted + waste feed (exc.shed losses)",null,{"$f":"D10*1000/'5. Herd details'!$S22","v":114.06273591627988},{"$f":"E10*1000/'5. Herd details'!$S22","v":19.927765247209681},{"$f":"F10*1000/'5. Herd details'!$S22","v":94.134970669070171},{"$f":"G10*1000/'5. Herd details'!$S22","v":9.2476685423039395},{"$f":"H10*1000/'5. Herd details'!$S22","v":2.1651671491987399},{"$f":"I10*1000/'5. Herd details'!$S22","v":2.9096769291815359}]
[null,"Effluent discharged from conventional sheds only",null,{"$f":"D14*1000/('5. Herd details'!$I$89+'5. Herd details'!$J$89)","v":111.78148119795428},{"$f":"E14*1000/('5. Herd details'!$I$89+'5. Herd details'!$J$89)","v":19.927765247209681},{"$f":"F14*1000/('5. Herd details'!$I$89+'5. Herd details'!$J$89)","v":91.310921548998067},{"$f":"G14*1000/('5. Herd details'!$I$89+'5. Herd details'!$J$89)","v":8.3229016880735447},{"$f":"H14*1000/('5. Herd details'!$I$89+'5. Herd details'!$J$89)","v":2.1651671491987399},{"$f":"I14*1000/('5. Herd details'!$I$89+'5. Herd details'!$J$89)","v":2.909676929181535}]
[null,"PigBal 5 Prediction with Typical Diet Australian (Diet A)",null,114,20,94,9.1999999999999993,2.2000000000000002,2.9]

{"sheet":"16. Nutrient and solids flow","index":21,"n_rows":84,"n_cols":9,"rows_kept":84,"cut":false,"hidden":false,"merged":[[1,0,1,9],[5,4,5,8]]}
["Menu"]
["16. Solids and Nutrient Mass Flows"]
[]
[]
[null,"Conventional sheds"]
[null,null,null,null,"Solids and nutrient flow"]
[null,null,"Units",null,"TS","VS","N","P","K"]
[null,"Shed"]
[null,"Feed ingested","kg/yr",null,{"$f":"'14. DM DAMP'!P50","v":5914604.9725487884},{"$f":"'14. DM DAMP'!P52","v":5618924.8133504521},{"$f":"'14. DM DAMP'!P53","v":168856.76300524367},{"$f":"'14. DM DAMP'!P54","v":35612.489971948053},{"$f":"'14. DM DAMP'!P55","v":38350.261331938884}]
[null,"Feed wasted (before shed losses)","kg/yr",null,{"$f":"'14. DM DAMP'!P79","v":311294.99855519971},{"$f":"'14. DM DAMP'!P81","v":295732.884913182},{"$f":"'14. DM DAMP'!P82","v":8887.1980529075736},{"$f":"'14. DM DAMP'!P83","v":1874.3415774709526},{"$f":"'14. DM DAMP'!P84","v":2018.4348069441544}]
[null,"Manure excreted (before shed losses)","kg/yr",null,{"$f":"'14. DM DAMP'!P128*1000","v":1015872.5222531386},{"$f":"'14. DM DAMP'!P130*1000","v":799566.77312705794},{"$f":"'14. DM DAMP'!P131*1000","v":98713.283681592511},{"$f":"'14. DM DAMP'!P132*1000","v":23318.281538696268},{"$f":"'14. DM DAMP'!P133*1000","v":31836.870218261}]
[null,"Manure excreted + waste feed (before shed losses)","kg/yr",null,{"$f":"E10+E11","v":1327167.5208083382},1095299.6580402399,107600.48173450009,25192.623116167222,33855.305025205154]
[null,"Dry matter digestibility",null,null,{"$f":"(E9-E11)/E9","v":0.82824338616559079}]
[null,"Shed loss rates","%",null,{"$f":"'7. Assumptions'!E34","v":0.02},{"$f":"'7. Assumptions'!G34","v":0.03},{"$f":"'7. Assumptions'!I34","v":0.1},{"$f":"'7. Assumptions'!J34","v":0},{"$f":"'7. Assumptions'!K34","v":0}]
[null,"Manure (after shed losses)","kg/yr",null,{"$f":"'14. DM DAMP'!P138*365","v":995555.07180807588},{"$f":"'14. DM DAMP'!P140*365","v":775579.76993324608},{"$f":"'14. DM DAMP'!P141*365","v":88841.955313433267},{"$f":"'14. DM DAMP'!P142*365","v":23318.281538696268},{"$f":"'14. DM DAMP'!P143*365","v":31836.870218260989}]
[null,"Waste feed (after shed losses)","kg/yr",null,{"$f":"'14. DM DAMP'!P146*365","v":305069.09858409566},{"$f":"'14. DM DAMP'!P148*365","v":286860.89836578659},{"$f":"'14. DM DAMP'!P149*365","v":7998.4782476168157},{"$f":"'14. DM DAMP'!P150*365","v":1874.3415774709529},{"$f":"'14. DM DAMP'!P151*365","v":2018.4348069441542}]
[null,"Annual effluent volume","ML/yr",{"$f":"'9. Water'!J41","v":65.04011690433731}]
[null,"Effluent discharged from conventional sheds",null,null,{"$f":"E15+E16","v":1300624.1703921715},{"$f":"F15+F16","v":1062440.6682990326},96840.433561050086,25192.623116167222,33855.30502520514]
[null,"Shed effluent  outflow concentrations","%,mg/L",null,{"$f":"E18/($D$17*1000000)","v":1.9997260649226127E-2},{"$f":"F18/($D$17*1000000)","v":1.6335159265806639E-2},{"$f":"G18/($D$17)","v":1488.9338791239491},{"$f":"H18/($D$17)","v":387.33975760254532},520.52958445631953]
[]
[null,"Separated solids"]
[null,"Separated solids removal rates","%",null,{"$f":"'10. Effluent pre-treatment'!D15","v":0},{"$f":"'10. Effluent pre-treatment'!E15","v":0},{"$f":"'10. Effluent pre-treatment'!F15","v":0},{"$f":"'10. Effluent pre-treatment'!G15","v":0},{"$f":"'10. Effluent pre-treatment'!H15","v":0}]
[null,"Separated solids","kg/yr",null,{"$f":"'10. Effluent pre-treatment'!D18*1000","v":0},{"$f":"'10. Effluent pre-treatment'!E18*1000","v":0},{"$f":"'10. Effluent pre-treatment'!F18*1000","v":0},{"$f":"'10. Effluent pre-treatment'!G18*1000","v":0},{"$f":"'10. Effluent pre-treatment'!H18*1000","v":0}]
[null,"Storage / drying / composting loss rates","%",null,{"$f":"IF(E22=0, 0, F24*F23/E23)","v":0},{"$f":"IF(F22=0, 0, '10. Effluent pre-treatment'!E15)","v":0},{"$f":"IF(G22=0, 0, '10. Effluent pre-treatment'!F15)","v":0},{"$f":"IF(H22=0, 0, '10. Effluent pre-treatment'!G15)","v":0},{"$f":"IF(I22=0, 0, '10. Effluent pre-treatment'!H15)","v":0}]
[null,"Screened solids (prior to spreading)","kg/yr",null,{"$f":"E23*(1-E24)","v":0},{"$f":"F23*(1-F24)","v":0},{"$f":"G23*(1-G24)","v":0},0,0]
[null,"Assumed moisture content","%",0.3]
[null,"Total wet mass","kg/yr",{"$f":"E25/(1-D26)","v":0}]
[null,"Concentrations prior to spreading","% wet",null,{"$f":"IF(E22=0, 0, E25/$D27)","v":0},{"$f":"IF(F22=0, 0, F25/$D27)","v":0},0,0,0]
[null,"Spreading loss rates","%",null,{"$f":"IF(E23=0, 0, F29*F25/E25)","v":0},0.2,0.2,0,0]
[null,"Available for plant uptake","kg/yr",null,{"$f":"E25*(1-E29)","v":0},{"$f":"F25*(1-F29)","v":0},{"$f":"G25*(1-G29)","v":0},{"$f":"H25*(1-H29)","v":0},{"$f":"I25*(1-I29)","v":0}]
[null,"Effluent discharged to primary pond",null,null,{"$f":"'10. Effluent pre-treatment'!D21*1000","v":1300624.1703921717},{"$f":"'10. Effluent pre-treatment'!E21*1000","v":1062440.6682990326},{"$f":"'10. Effluent pre-treatment'!F21*1000","v":96840.433561050086},{"$f":"'10. Effluent pre-treatment'!G21*1000","v":25192.623116167219},{"$f":"'10. Effluent pre-treatment'!H21*1000","v":33855.305025205154}]
[]
[null,"Fresh effluent (collected in a sump)"]
[null,"Fresh effluent irrigation loss rate","%",null,{"$f":"IF(E31=0,\"0\",(F34*(F31/E31)))","v":8.1686984794283768E-2},0.1,0.2,0,0]
[null,"Irrigation losses","kg/yr",null,{"$f":"E34*E31","v":106244.06682990327},{"$f":"F34*F31","v":106244.06682990327},19368.086712210017,0,0]
[null,"Fresh effluent applied to soil","kg/yr",null,{"$f":"E31-E35","v":1194380.1035622684},{"$f":"F31-F35","v":956196.60146912932},77472.346848840069,25192.623116167219,33855.305025205154]
[null,"Concentration at application","%, mg/L",null,{"$f":"(E36/$D$17)/1000000","v":1.8363744722645466E-2},{"$f":"(F36/$D$17)/1000000","v":1.4701643339225976E-2},{"$f":"(G36/$D$17)","v":1191.1471032991592},{"$f":"(H36/$D$17)","v":387.33975760254526},520.52958445631975]
[null,"Soil surface loss rate following irrigation","%",null,0,0,0.2,0,0]
[null,"Loss from soil surface","kg/yr",null,{"$f":"E38*E36","v":0},{"$f":"F38*F36","v":0},{"$f":"G38*G36","v":15494.469369768014},{"$f":"H38*H36","v":0},{"$f":"I38*I36","v":0}]
[null,"Available for plant uptake","kg/yr",null,{"$f":"E36-E39","v":1194380.1035622684},{"$f":"F36-F39","v":956196.60146912932},{"$f":"G36-G39","v":61977.877479072056},{"$f":"H36-H39","v":25192.623116167219},{"$f":"I36-I39","v":33855.305025205154}]
[]
[null,"Primary anaerobic pond sludge"]
[null,"Effluent discharged into primary pond","kg/yr",null,{"$f":"E31","v":1300624.1703921717},{"$f":"F31","v":1062440.6682990326},96840.433561050086,25192.623116167219,33855.305025205154]
[null,"Effluent partitioned to sludge rates","%",null,0.13100000000000001,6.9000000000000006E-2,0.23499999999999999,0.85,0.05]
[null,"Effluent partitioned to sludge","kg/yr",null,{"$f":"E43*E44","v":170381.76632137451},{"$f":"F43*F44","v":73308.406112633253},{"$f":"G43*G44","v":22757.501886846771},{"$f":"H43*H44","v":21413.729648742134},{"$f":"I43*I44","v":1692.7652512602579}]
[null,"Primary pond sludge volume accumulation rate","m3/yr",{"$f":"E43*'11. Pond design'!C23","v":1781.8551134372751}]
[null,"Storage / removal / drying / composting loss rates","%",null,{"$f":"IF(E45=0,\"0\",(F47*F45/E45))","v":4.3025969090118923E-2},0.1,0.6,0,0]
[null,"Sludge (prior to spreading)","kg/yr",null,{"$f":"E45*(1-E47)","v":163050.92571011119},{"$f":"F45*(1-F47)","v":65977.565501369929},{"$f":"G45*(1-G47)","v":9103.0007547387086},{"$f":"H45*(1-H47)","v":21413.729648742134},{"$f":"I45*(1-I47)","v":1692.7652512602579}]
[null,"Assumed moisture content","%",0.4]
[null,"Total wet mass","kg/yr",{"$f":"E48/(1-D49)","v":271751.5428501853}]
[null,"Concentrations prior to spreading","% wet",null,{"$f":"E48/$D50","v":0.6},{"$f":"F48/$D50","v":0.2427863511256784},{"$f":"G48/$D50","v":3.3497512688482244E-2},{"$f":"H48/$D50","v":7.8798925754571966E-2},{"$f":"I48/$D50","v":6.229091594131141E-3}]
[null,"Spreading loss rates","%",null,{"$f":"F52*F48/E48","v":4.046439185427974E-2},0.1,0.2,0,0]
[null,"Available for plant uptake","kg/yr",null,{"$f":"E48*(1-E52)","v":156453.1691599742},{"$f":"F48*(1-F52)","v":59379.808951232939},{"$f":"G48*(1-G52)","v":7282.4006037909676},{"$f":"H48*(1-H52)","v":21413.729648742134},{"$f":"I48*(1-I52)","v":1692.7652512602579}]
[]
[null,"Pond supernatant"]
[null,"Evaporative pond loss rate","%",0.2]
[null,"Irrigation volume","ML/yr",{"$f":"D17*(1-D56)","v":52.032093523469854}]
[null,"Gaseous pond loss rate","%",null,{"$f":"IF(E53=0,\"0\",(F58*F43/E43))","v":0.57180889355998632},0.7,0.6,0,0]
[null,"Gaseous loss from pond(s)","kg/yr",null,{"$f":"F59","v":692392.58353047946},{"$f":"F58*(F43-F45)","v":692392.58353047946},{"$f":"G58*(G43-G45)","v":44449.759004521984},{"$f":"(H43*H58)","v":0},{"$f":"(I43*I58)","v":0}]
[null,"Pond supernatant","kg/yr",null,{"$f":"E43-E45-E59","v":437849.82054031768},{"$f":"F43-F45-F59","v":296739.67865591985},{"$f":"G43-G45-G59","v":29633.172669681328},{"$f":"H43-H45-H59","v":3778.893467425085},{"$f":"I43-I45-I59","v":32162.539773944896}]
[null,"Supernatant nutrient concentrations prior to irrigation","%, mg/L",null,{"$f":"(E60/$D$57)/1000000","v":8.4149952633141498E-3},{"$f":"(F60/$D$57)/1000000","v":5.7030124786747426E-3},{"$f":"G60/$D$57","v":569.51720876491049},{"$f":"H60/$D$57","v":72.626204550477269},618.12888154187954]
[null,"Typical supernatant nutrient concentrations","%, mg/L",null,null,null,584,70,491]
[null,"Irrigation loss rate","%",null,{"$f":"IF(E60=0,\"0\",(F63*F60/E60))","v":6.7772022445900665E-2},0.1,0.2,0,0]
[null,"Irrigation losses","kg/yr",null,{"$f":"E60*E63","v":29673.967865591989},{"$f":"F60*F63","v":29673.967865591985},{"$f":"G60*G63","v":5926.6345339362661},{"$f":"H60*H63","v":0},{"$f":"I60*I63","v":0}]
[null,"Effluent applied to soil","kg/yr",null,{"$f":"E60-E64","v":408175.8526747257},{"$f":"F60-F64","v":267065.71079032787},{"$f":"G60-G64","v":23706.538135745061},{"$f":"H60-H64","v":3778.893467425085},{"$f":"I60-I64","v":32162.539773944896}]
[null,"Soil surface loss rate following irrigation","%",null,0,0,0.2,0,0]
[null,"Loss from soil surface","kg/yr",null,{"$f":"E66*E65","v":0},{"$f":"F66*F65","v":0},{"$f":"G66*G65","v":4741.3076271490127},{"$f":"H66*H65","v":0},{"$f":"I66*I65","v":0}]
[null,"Available for plant uptake","kg/yr",null,{"$f":"E65-E67","v":408175.8526747257},{"$f":"F65-F67","v":267065.71079032787},{"$f":"G65-G67","v":18965.230508596047},{"$f":"H65-H67","v":3778.893467425085},{"$f":"I65-I67","v":32162.539773944896}]
[]
[null,"Deep litter sheds / shelters"]
[null,"Deep litter added to sheds","kg/yr",null,{"$f":"'14. DM DAMP'!P190*1000","v":0},{"$f":"'14. DM DAMP'!P192*1000","v":0},{"$f":"'14. DM DAMP'!P193*1000","v":0},{"$f":"'14. DM DAMP'!P194*1000","v":0},{"$f":"'14. DM DAMP'!P195*1000","v":0}]
[null,"Manure and waste feed added to deep litter sheds",null,null,{"$f":"'14. DM DAMP'!P205*1000-'14. DM DAMP'!P190*1000","v":0},{"$f":"'14. DM DAMP'!P207*1000-'14. DM DAMP'!P192*1000","v":0},{"$f":"'14. DM DAMP'!P208*1000-'14. DM DAMP'!P193*1000","v":0},{"$f":"'14. DM DAMP'!P209*1000-'14. DM DAMP'!P194*1000","v":0},{"$f":"'14. DM DAMP'!P210*1000-'14. DM DAMP'!P195*1000","v":0}]
[null,"Deep litter shed losses","%",null,{"$f":"'7. Assumptions'!E36","v":0.2},{"$f":"'7. Assumptions'!G36","v":0.25},{"$f":"'7. Assumptions'!I36","v":0.17},{"$f":"'7. Assumptions'!J36","v":0},{"$f":"'7. Assumptions'!K36","v":0}]
[null,"Spent litter removed from deep litter sheds","kg/yr",null,{"$f":"'14. DM DAMP'!P213*1000","v":0},{"$f":"'14. DM DAMP'!P215*1000","v":0},{"$f":"'14. DM DAMP'!P216*1000","v":0},{"$f":"'14. DM DAMP'!P217*1000","v":0},{"$f":"'14. DM DAMP'!P218*1000","v":0}]
[null,"Stockpile / composting loss rates","%",null,{"$f":"IF(E74=0,\"0\",(F75*F74/E74))","v":"0"},0.1,0.3,0,0]
[null,"Stockpile / composting losses","kg/yr",null,{"$f":"E74*E75","v":0},0,{"$f":"G74*G75","v":0},{"$f":"H74*H75","v":0},0]
[null,"Spent deep litter prior to land application","kg/yr",null,{"$f":"E74-E76","v":0},{"$f":"F74-F76","v":0},{"$f":"G74-G76","v":0},{"$f":"H74-H76","v":0},{"$f":"I74-I76","v":0}]
[null,"Composition prior to land application","% DM",null,{"$f":"IF(E71=0, 0, E77/$E77)","v":0},{"$f":"IF(F71=0, 0, F77/$E77)","v":0},0,0,{"$f":"IF(I71=0, 0, I77/$E77)","v":0}]
[null,"Ranges of deep litter nutrient concentrations","% dry basis",null,null,null,"0.1 - 1.6%","0.2 - 2.5%","0.6 - 2.8%"]
[null,"Application loss rates","%",null,{"$f":"IF(E71=0, 0, F80*F77/E77)","v":0},0.1,0.2,0,0]
[null,"Application losses","kg/yr",null,{"$f":"E80*E77","v":0},{"$f":"F80*F77","v":0},{"$f":"G80*G77","v":0},{"$f":"H80*H77","v":0},{"$f":"I80*I77","v":0}]
[null,"Available for plant uptake","kg/yr",null,{"$f":"E77-E81","v":0},{"$f":"F77-F81","v":0},{"$f":"G77-G81","v":0},{"$f":"H77-H81","v":0},{"$f":"I77-I81","v":0}]
[null,"Spent deep litter moisture content","% wet",0.4]
[null,"Wet mass applied to land","kg wet/yr",{"$f":"E82/(1-D83)","v":0}]

{"sheet":"17. GHG Input","index":22,"n_rows":48,"n_cols":17,"rows_kept":48,"cut":false,"hidden":false,"merged":[[1,0,1,6]]}
["Menu"]
["17. GHG input",null,null,null,null,null,null,null,null,"Swickers data",null,"No pigs","kg/pig","Total","Avg"]
[null,null,null,null,null,null,null,null,null,"Bdouble",null,342,100,{"$f":"L3*M3","v":34200},{"$f":"AVERAGE(N3:N4)","v":36300}]
[null,null,null,null,null,null,null,null,null,null,null,320,120,{"$f":"L4*M4","v":38400}]
[null,"Location",null,null,null,null,null,null,null,"Truck type","Length","Capacity","Truck loads",null,"Fuel usage","Fuel usage","Fuel usage"]
[null,"State/region where elecricity for piggery is purchased","Queensland",null,null,null,null,null,null,null,null,"(t of pigs)",null,null,"(l/100 km)","l/trip","L"]
[null,null,null,null,null,null,null,null,null,"Body truck",7.5,{"$f":"(7.5/18.8)*L9","v":14.481382978723403},{"$f":"$L$11/L7","v":176.95513142238454},null,25,{"$f":"O7*1.5*($C$21/100)","v":150},{"$f":"M7*P7","v":26543.26971335768}]
[null,"Energy & fuel inputs","Value","Units",null,null,null,null,null,"Semi-trailer",12.5,{"$f":"((12.5/18.8)*L9)","v":24.135638297872337},{"$f":"$L$11/L8","v":106.17307885343074},null,35,{"$f":"O8*1.5*($C$21/100)","v":210},{"$f":"M8*P8","v":22296.346559220456}]
[null,"Grid electricity",2500000,"kWh yr-1",null,null,null,null,null,"B-double",18.8,{"$f":"O3/1000","v":36.299999999999997},{"$f":"$L$11/L9","v":70.593802429142769},null,50,300,21178.14072874283]
[null,"Liquefied petroleum gas (LPG)",25000,"L yr-1"]
[null,"Natural gas",0,"GJ",null,null,null,null,null,"Mass of pigs to abattoir",null,{"$f":"'5. Herd details'!H42/1000","v":2562.5550281778824},"t.yr-1"]
[null,"Stationary engine fuel use"]
[null,"Diesel consumption - stationary use",50000,"L yr-1","e.g., in generators, for feedmilling"]
[null,"Petrol consumption - stationary use",null,"L yr-1","e.g., in generators"]
[null,"Transport fuel use - on farm"]
[null,"Diesel consumption - transport on farm",2500,"L yr-1","For transport associated with pig production on-farm only"]
[null,"Petrol consumption - transport on-farm",1000,"L yr-1","For transport associated with pig production on-farm only"]
[null,"Transport of pigs to processing"]
[null,"Diesel consumption - transport of pigs to processing",23000,"L yr-1","If unknown, leave blank and estimate provided below by"]
[null,"Typical truck type to transport pigs to processing","Semi-trailer",null,"entering truck type and distance (one-way) to processing plant"]
[null,"Distance to processing plant (one-way)",400,"km"]
[null,"Diesel consumption - transport of pigs to processing",{"$f":"IF(C19>0,C19, IF(C20=\"Body truck\",Q7, IF(C20=\"Semi-trailer\",Q8, IF(C20=\"B-double\",Q9))))","v":23000},"L yr-1"]
[]
[]
[null,"Secondary manure management"]
[null,"Solid manure (screenings/sludge/spent deep litter)"]
[null,"% of manure stockpiled on-farm",0.5]
[null,"% of manure composted on-farm",0.5]
[null,"% of solid manure direct land applied (no treatment)",0]
[null,"% of solid manure sold directly off-farm",0]
[null,null,{"$f":"IF(B34=\"\",\"\",SUM(C27:C30))","v":1},null,{"$f":"IF(OR(C31=100%,C31=\"\"),\"\",\"ERROR. Percentages do not sum to 100%.\")","v":""}]
[]
[null,"Effluent"]
[null,"Is effluent (liquid only) land applied on-farm","Yes",null,null,null,null,null,null,"Yes"]
[null,"Is average annual rainfall > 600mm","Yes","DELETE/HIDE AS L&R is SCOPE 3",null,null,null,null,null,"No"]
[]
[]
[]
[]
["Only for Scope 3"]
[null,"Cereal Grain Region"]
[null,"Enter the percentage of cereal grain from each production region"]
[null,"Region","%"]
[null,"Northern regions",1]
[null,"Central regions",0]
[null,"Southern regions",0]
[null,"Western regions (WA)",0]
[null,"MUST EQUAL 100",{"$f":"SUM(C44:C47)","v":1}]

{"sheet":"18. GHG Output - Scope 1 & 2","index":23,"n_rows":21,"n_cols":6,"rows_kept":21,"cut":false,"hidden":false,"merged":[[1,1,1,7]]}
["Menu"]
[null,"18. GHG Output - Scope 1 & 2"]
[]
[]
[null,"Total Piggery emissions - t CO2-e","Scope 1 emissions","Scope 2 emissions","Total","Contribution Analysis"]
[null,"Enteric methane",{"$f":"'Enteric Emissions'!B31","v":382.07817538921864},null,{"$f":"SUM(C6:D6)","v":382.07817538921864},{"$f":"E6/$E$10","v":4.0085635015041761E-2}]
[null,"Manure methane",{"$f":"'Waste Input & MMS Emissions'!I208+'Waste Input & MMS Emissions'!I209","v":7083.6268168483002},null,{"$f":"SUM(C7:D7)","v":7083.6268168483002},{"$f":"E7/$E$10","v":0.74317691366088812}]
[null,"Manure nitrous oxide",{"$f":"'Waste Input & MMS Emissions'!I212+'Waste Input & MMS Emissions'!I214+'Waste Input & MMS Emissions'!I216","v":44.804867955511213},null,{"$f":"SUM(C8:D8)","v":44.804867955511213},{"$f":"E8/$E$10","v":4.7006913753505188E-3}]
[null,"Services",{"$f":"'Energy emissions'!H61","v":246.03866699999998},{"$f":"'Energy emissions'!I61","v":1775},{"$f":"SUM(C9:D9)","v":2021.038667},{"$f":"E9/$E$10","v":0.21203675994871957}]
[null,"Total ",{"$f":"SUM(C6:C9)","v":7756.5485271930302},{"$f":"SUM(D6:D9)","v":1775},{"$f":"SUM(E6:E9)","v":9531.5485271930302},{"$f":"SUM(F6:F9)","v":1}]
[null,"kg CO2-e/kg LWT",{"$f":"(C$10*1000)/'5. Herd details'!$H$42","v":3.0268807662282136},{"$f":"(D$10*1000)/'5. Herd details'!$H$42","v":0.69266805219091143},{"$f":"(E$10*1000)/'5. Herd details'!$H$42","v":3.719548818419125}]
[null,"kg CO2-e/kg HSCW",{"$f":"(C$10*1000)/'5. Herd details'!$I$42","v":3.9827378503002806},{"$f":"(D$10*1000)/'5. Herd details'!$I$42","v":0.9114053318301466},{"$f":"SUM(C12:D12)","v":4.8941431821304269}]
[null,"Contribution Analysis",{"$f":"C12/$E12","v":0.81377632449375736},{"$f":"D12/$E12","v":0.18622367550624269},1]
[]
[]
[null,"kg CO2-e/kg LW Sold","Scope 1 emissions","Scope 2 emissions","Total"]
[null,"Piggery Enteric methane",{"$f":"(C6*1000)/'5. Herd details'!$H$42","v":0.14910047635577889},null,{"$f":"SUM(C17:D17)","v":0.14910047635577889}]
[null,"Piggery Manure methane",{"$f":"(C7*1000)/'5. Herd details'!$H$42","v":2.7642828110837288},null,{"$f":"SUM(C18:D18)","v":2.7642828110837288}]
[null,"Piggery Manure nitrous oxide",{"$f":"(C8*1000)/'5. Herd details'!$H$42","v":1.7484451050937991E-2},null,1.7484451050937991E-2]
[null,"Piggery Services",{"$f":"(C9*1000)/'5. Herd details'!$H$42","v":9.6013027737768042E-2},{"$f":"(D9*1000)/'5. Herd details'!$H$42","v":0.69266805219091143},0.78868107992867942]
[null,"Total ",{"$f":"SUM(C17:C20)","v":3.026880766228214},{"$f":"SUM(D17:D20)","v":0.69266805219091143},{"$f":"SUM(E17:E20)","v":3.719548818419125}]

{"sheet":"19. CAP Methane Potential","index":24,"n_rows":31,"n_cols":6,"rows_kept":31,"cut":false,"hidden":false,"merged":[[1,0,1,6]]}
["Menu"]
["19. Covered Pond Methane Abatement and Potential"]
[]
[]
[null,"Parameter","Symbol","Value","Units"]
[null,"Quantity of Volatile Solids entering the project lagoon","VS",{"$f":"D7/365","v":2910.7963515041988},"kg VS. day-1"]
[null,null,"VS",{"$f":"'15. Output summary'!F16*1000","v":1062440.6682990326},"kg VS. yr-1"]
[]
[null,"Max methane producing capacity of Volatile Solids","Bo",{"$f":"'Waste Input & MMS Emissions'!G173","v":0.45},"m3 CH4. kg VS-1","Commonwealth of Australia (2024a)"]
[null,"Methane conversion factor for uncovered ponds","MCFUC",{"$f":"'Waste Input & MMS Emissions'!K189","v":0.78},null,"Commonwealth of Australia (2024b)"]
[null,"Methane conversion factor for uncovered ponds","MCFCAP",{"$f":"(1-'Waste Input & MMS Emissions'!E91)","v":0.9},null,"Commonwealth of Australia (2024b)"]
[null,"Density of methane at standard conditions","    r",0.6784,"kg CH4. m-3"]
[]
[null,"Methane abatement potential for an uncovered anaerobic lagoon"]
[null,"Estimated mass of methane released from an uncovered lagoon","MUC",{"$f":"D6*D9*D10*D12","v":693.11416994601734},"kg CH4. day-1","MUC = VS x Bo x MCFUC x methane density"]
[null,null,"MUC",{"$f":"D7*D9*D10*D12","v":252986.67203029638},"kg CH4. yr-1"]
[]
[null,"Global warming potential of methane (CH4)","GWPCH4",{"$f":"'GWP Factors'!B5","v":28},null,"DCCEEW (2024)"]
[null,"Carbon dioxide emission from an uncovered lagoon","EUC",28,"t CO2-e. day-1"]
[null,null,"EUC",{"$f":"D18*D16/1000","v":7083.6268168482984},"t CO2-e. yr-1"]
[null,"Methane potential from Covered Anaerobic Pond (CAP)"]
[null,"Estimated maximum methane available for capture in CAP","MCAP",{"$f":"D6*D9*D11*D12","v":799.74711916848162},"kg CH4. day-1","MUC = VS x Bo x MCFCAP x methane density"]
[null,null,"MCAP",{"$f":"D7*D9*D11*D12","v":291907.69849649578},"kg CH4. yr-1"]
[]
[null,"Reference:"]
[null,"Commonwealth of Australia (2024a) National Inventory Report 2022 - Volume 1. Australia"]
[null,"Section 3.B.3 - pg 238 (NIR 2022) - Methane from MMS"]
[]
[null,"Commonwealth of Australia (2024b) National Inventory Report 2022 - Volume 2."]
[]
[null,"DCCEEW (2024) Australian National Greenhouse Accounts Factors 2024. Canberra, Australia."]

{"sheet":"20. References","index":25,"n_rows":73,"n_cols":2,"rows_kept":73,"cut":false,"hidden":false,"merged":[[1,0,1,2]]}
["Menu"]
["20. References"]
[]
[]
[null,"ASABE (2011) Design of Anaerobic Lagoons for Animal Waste Management ASAE  ANSI/ASAE EP403.4 (R2020). St. Joseph, Michigan."]
[]
[null,"Barth CL (1985b) Livestock waste characterization - a new approach. In ‘Agricultural waste utilization and management. Proceedings of the 5th International Symposium on Agricultural Wastes, 16-17 December 1985, Chicago, Illinois, USA.,’ Chicago, Illinois, USA, December 16, 1985. pp. 286–294. (American Society of Agricultural Engineers: Chicago, Illinois, USA)"]
[]
[null,"Barth, C.L. (1985b), 'The rational design standard for anaerobic livestock waste lagoons', in  Proceedings of the 5th International Symposium on Agricultural Wastes, St Joseph, MI, USA, sponsored by Agricultural Waste Utilization and Management, American Society of Agricultural Engineers, pp. 638-647."]
[]
[null,"Campbell, R. (2013) Pork CRC benchmarking project results, ‘Aussie pork producers coming off the bench’, Australian Pork Newspaper, February 2013.\nhttp://porkcrc.com.au/aussie-pork-producers-holding-their-own/"]
[]
[null,"Casey, K.D., McGahan, E.J., Atzeni, M.A., Gardner, E.A. and Frizzo, R.E. (1996) PigBal version 1.0 - A nutrient mass balance model for intensive piggeries, Department of Primary Industries (Queensland)."]
[null,"Commonwealth of Australia (2024a) National Inventory Report 2022 - Volume 1. Australia"]
[]
[null,"Commonwealth of Australia (2024b) National Inventory Report 2022 - Volume 2."]
[]
[null,"Csapó J., Martin T.G., Csapó-Kiss Z.S., Házas Z. (1996) Protein, fats, vitamin and mineral concentrations in porcine colostrum and milk from parturition to 60 days, International Dairy Journal, Volume 6, Issues 8–9, August–September 1996, Pages 881-902"]
[]
[null,"National Greenhouse and Energy Reporting (Measurement) Determination 2008. (National Greenhouse and Energy Reporting Act 2007: Australia)."]
[]
[null,"Eliasson C. and Isberg, S. (2011) Production and composition of sow milk - Literature Review, Swedish University of Agricultural Sciences, The Faculty of Veterinary Medicine and Animal Science, Department of Animal Nutrition and Management\nhttp://stud.epsilon.slu.se/3754/1/eliasson_et_al_111231.pdf"]
[]
[null,"Field, R.A., Riley, M.L., MeUo, F.C., Corbfidge, M.H. and Kotula, A.W. (1974) Bone composition in cattle, pigs, sheep and poultry, Journal of Animal Science, vol. 39, no. 3, 1974."]
[]
[null,"Froese C, Small D, Eng P (2001) Water consumption and waste production during different production stages in hog operations. DGH Engineering Ltd. Presented to: Manitoba Livestock Manure Management Initiative Inc."]
[]
[]
[null,"Hurley, W. (1997) General Milk Composition, University of Illinois Extension.\nhttp://www.livestocktrail.illinois.edu/porknet/paperDisplay.cfm?ContentID=477"]
[]
[null,"Kruger I, Taylor G, Ferrier M (1995) Australian pig housing series: effluent at work. NSW Agriculture: Tamworth."]
[]
[null,"Lewis A.J., Speer V.C. and Haught D.G. (1978) Relationship between yield and composition of sows' milk and weight gains of nursing pigs, Journal of animal science, Vol. 47, No. 3, 1978"]
[]
[null,"Li YZ, Chénard L, Lemay SP, Gonyou HW (2005) Water intake and wastage at nipple drinkers by growing-finishing pigs. Journal of animal science 83(6), 1413–1422."]
[]
[null,"Mahan DC, Shields Jr RG (1998) Macro and micromineral composition of pigs from birth to 145 kilograms of body weight. Journal of animal science 76(2), 506–512."]
[null,"Mahan, D.C. and Shields, R.G. Jr (1998) Macro- and micromineral composition of pigs from birth to 145 kilograms of body weight, Journal of Animal Science 1998, 76: 506 - 512."]
[]
[null,"McGahan E.J., Copley, MA., Willis, S., and Skerman, A.G.  (2025a) PigBal 5 - A model for estimating piggery waste production, Department of Primary Industries, Queensland and Australian Pork Limited."]
[]
[]
[null,"McGahan E.J., Copley, MA., Willis, S., and Skerman, A.G. (2025b) PigBal 5 User Manual, Department of Primary Industries, Queensland and Australian Pork Limited."]
[]
[null,"Mroz Z, Jongbloed AW, Lenis NP, Vreman K (1995) Water in pig nutrition: physiology, allowances and environmental implications. Nutrition Research Reviews 8(1). https://doi.org/10.1079/nrr19950010"]
[]
[null,"National Research Council (1998) ‘Nutrient Requirements of Swine: 10th Revised Edition’ (The National Academies Press: Washington, DC)."]
[]
[null,"Payne H., Moore K., Morgan J, Kruger I. (2008) Solids Separation in Sedimentation and Evaporation Pond Systems (SEPS). Final Report Project No. 2130. Canberra, Australia."]
[]
[null,"Richards C (2012) Australian Pig Industry Diary [Preprint]. Chris Richards and Associates"]
[]
[null,"Sinclair SE (1997) Effects of ration modification on production and characteristics of manure from feedlot cattle - (1) Phosphorus levels, Report to the Cattle and Beef Industry"]
[]
[null,"Skerman, A.G., Collman, G.D., Knight, R., Willis, S., McGahan E.J., Batstone, D. (2013a). Validation and development of the PigBal model – Stage 2, Final report prepared for Australian Pork Limited, APL Project No. 2010/1011.334."]
[]
[null,"Skerman, A.G., Willis, S., McGahan E.J. and Marquardt, B. (2013b) PigBal 4 - A model for estimating piggery waste production, Department of Agriculture, Fisheries and Forestry, Queensland and Australian Pork Limited."]
[]
[null,"Skerman, A.G., Willis, S., McGahan E.J. and Marquardt, B. (2013c) PigBal 4 User Manual, Department of Agriculture, Fisheries and Forestry, Queensland and Australian Pork Limited."]
[]
[null,"Taylor, G., Kruger, I. and Ferrier, M. (1994) Australian Pig Housing Series, ‘Plan it – Build it’, NSW Agriculture, Tamworth, NSW."]
[]
[null,"Tucker, R.W., McGahan, E.J., Galloway, J.L. and O’Keefe, M.F. (2010) National Environmental Guidelines for Piggeries – Second Edition, APL Project 2231, Australian Pork Limited, Deakin, ACT, Australia."]
[]
[null,"Tucker R (2018) ‘National Environmental Guidelines for Indoor Piggeries - Third Edition’ (Australian Pork Limited (APL): Canberra, Australia)."]
[]
[null,"Tucker R, Price J, Tait S (2025) ‘National Environmental Guidelines for Indoor Piggeries (NEGIP) - Siting and Design.’ Fourth Edition. (APL: Kingston, ACT)."]
[]
[null,"Wiedemann, S., McGahan, E. & Murphy, C. (2012) Energy, Water and Greenhouse Gas Emissions in Australian Pork Supply Chains: A Life Cycle Assessment, Pork Co-operative Research Centre, Adelaide, SA."]
[]
[null,"Willis, S. (2010) Validation and Development of the PigBal Model – Library of feed ingredients. Final report prepared for Australian Pork Limited. APL Project No. 4446."]
[]
[null,"Willis S (2025) Personal communication [Preprint]."]

{"sheet":"Standard diet data","index":26,"n_rows":922,"n_cols":37,"rows_kept":922,"cut":false,"hidden":false,"merged":[[310,0,310,22],[315,25,315,28],[1,0,1,22],[6,25,6,28],[156,0,156,22],[161,25,161,28],[464,0,464,22],[469,25,469,28],[772,0,772,22],[777,25,777,28],[618,0,618,22],[623,25,623,28]]}
[]
["Diet A input"]
[]
[]
[]
[null,"National Guidelines pig class:",null,null,null,{"$f":"IF('14. DM DAMP'!E12=0, \"Unallocated\", IF('14. DM DAMP'!E12<=$AI20, $AE20, IF('14. DM DAMP'!E12<=$AI21, $AE21, IF('14. DM DAMP'!E12<=$AI22, $AE22,$AE23))))","v":"Weaner"},{"$f":"IF('14. DM DAMP'!F12=0, \"Unallocated\", IF('14. DM DAMP'!F12<=$AI20, $AE20, IF('14. DM DAMP'!F12<=$AI21, $AE21, IF('14. DM DAMP'!F12<=$AI22, $AE22,$AE23))))","v":"Grower"},{"$f":"IF('14. DM DAMP'!G12=0, \"Unallocated\", IF('14. DM DAMP'!G12<=$AI20, $AE20, IF('14. DM DAMP'!G12<=$AI21, $AE21, IF('14. DM DAMP'!G12<=$AI22, $AE22,$AE23))))","v":"Finisher"},{"$f":"IF('14. DM DAMP'!H12=0, \"Unallocated\", IF('14. DM DAMP'!H12<=$AI20, $AE20, IF('14. DM DAMP'!H12<=$AI21, $AE21, IF('14. DM DAMP'!H12<=$AI22, $AE22,$AE23))))","v":"Finisher"},{"$f":"IF('14. DM DAMP'!I12=0, \"Unallocated\", IF('14. DM DAMP'!I12<=$AI20, $AE20, IF('14. DM DAMP'!I12<=$AI21, $AE21, IF('14. DM DAMP'!I12<=$AI22, $AE22,$AE23))))","v":"Unallocated"},{"$f":"IF('14. DM DAMP'!J12=0, \"Unallocated\", IF('14. DM DAMP'!J12<=$AI20, $AE20, IF('14. DM DAMP'!J12<=$AI21, $AE21, IF('14. DM DAMP'!J12<=$AI22, $AE22,$AE23))))","v":"Unallocated"}]
[null,"Standard diet description:",null,null,null,{"$f":"IF('14. DM DAMP'!E12=0, \"Unallocated\", IF('14. DM DAMP'!E12<='Standard diet data'!$AI10, 'Standard diet data'!$AE10, IF('14. DM DAMP'!E12<='Standard diet data'!$AI11, 'Standard diet data'!$AE11, IF('14. DM DAMP'!E12<='Standard diet data'!$AI12, 'Standard diet data'!$AE12,'Standard diet data'!$AE13))))","v":"Weaner"},{"$f":"IF('14. DM DAMP'!F12=0, \"Unallocated\", IF('14. DM DAMP'!F12<='Standard diet data'!$AI10, 'Standard diet data'!$AE10, IF('14. DM DAMP'!F12<='Standard diet data'!$AI11, 'Standard diet data'!$AE11, IF('14. DM DAMP'!F12<='Standard diet data'!$AI12, 'Standard diet data'!$AE12,'Standard diet data'!$AE13))))","v":"Porker"},{"$f":"IF('14. DM DAMP'!G12=0, \"Unallocated\", IF('14. DM DAMP'!G12<='Standard diet data'!$AI10, 'Standard diet data'!$AE10, IF('14. DM DAMP'!G12<='Standard diet data'!$AI11, 'Standard diet data'!$AE11, IF('14. DM DAMP'!G12<='Standard diet data'!$AI12, 'Standard diet data'!$AE12,'Standard diet data'!$AE13))))","v":"Grower"},{"$f":"IF('14. DM DAMP'!H12=0, \"Unallocated\", IF('14. DM DAMP'!H12<='Standard diet data'!$AI10, 'Standard diet data'!$AE10, IF('14. DM DAMP'!H12<='Standard diet data'!$AI11, 'Standard diet data'!$AE11, IF('14. DM DAMP'!H12<='Standard diet data'!$AI12, 'Standard diet data'!$AE12,'Standard diet data'!$AE13))))","v":"Finisher"},{"$f":"IF('14. DM DAMP'!I12=0, \"Unallocated\", IF('14. DM DAMP'!I12<='Standard diet data'!$AI10, 'Standard diet data'!$AE10, IF('14. DM DAMP'!I12<='Standard diet data'!$AI11, 'Standard diet data'!$AE11, IF('14. DM DAMP'!I12<='Standard diet data'!$AI12, 'Standard diet data'!$AE12,'Standard diet data'!$AE13))))","v":"Unallocated"},{"$f":"IF('14. DM DAMP'!J12=0, \"Unallocated\", IF('14. DM DAMP'!J12<='Standard diet data'!$AI10, 'Standard diet data'!$AE10, IF('14. DM DAMP'!J12<='Standard diet data'!$AI11, 'Standard diet data'!$AE11, IF('14. DM DAMP'!J12<='Standard diet data'!$AI12, 'Standard diet data'!$AE12,'Standard diet data'!$AE13))))","v":"Unallocated"},null,null,null,null,null,null,null,null,null,null,null,null,null,null,"Standard diet description",null,null,null,null,"Standard diet descriptions"]
[null,"Ingredient","Default crude protein","Alternate crude protein","Sucker",{"$f":"'3. Herd Input'!M17","v":"Weaner"},{"$f":"'3. Herd Input'!M18","v":"Porker"},{"$f":"'3. Herd Input'!M19","v":"Grower"},{"$f":"'3. Herd Input'!M20","v":"Finisher"},{"$f":"'3. Herd Input'!M21","v":"Unallocated"},{"$f":"'3. Herd Input'!M22","v":"Unallocated"},"Lac sow","Dry sow","Gilts","Boars",null,"DM\n","Ash","N","Total P","K","DMD",null,null,"Ingredient","Weaner","Porker","Grower","Finisher",null,null,"Pig age (weeks)",null,"Pig live weight (kg)"]
[null,null,"(%)","(%)","(% fed weight)","(% fed weight)","(% fed weight)","(% fed weight)","(% fed weight)","(% fed weight)","(% fed weight)","(% fed weight)","(% fed weight)","(% fed weight)","(% fed weight)",null,"(%) Ing DM","(%) Ing Ash","(%)","(%)","(%)","(%) Ing DM",null,null,null,"(% fed weight)","(% fed weight)","(% fed weight)","(% fed weight)",null,"Creep",2,6,2,19]
[null,"Cereal Grains",null,null,null,null,null,null,null,null,null,null,null,null,null,null,null,null,null,null,null,null,null,null,"Cereal Grains",null,null,null,null,null,"Weaner",6,10,19,35,null,{"$f":"IF(AE10=\"Weaner\", 1, 2)","v":1}]
[null,"Barley",{"$f":"'12. Diet ingredient data'!I9","v":0.1},null,1.4999999999999999E-2,{"$f":"IF(F$316=$Z$317, $Z11, IF(F$316=$AA$317, $AA11, IF(F$316=$AB$317, $AB11, IF(F$316=$AC$317, $AC11, 0))))","v":0.15},0.2,0.4,0.7,0,0,0.3,0.7,0.7,0.85914999999999997,null,{"$f":"'12. Diet ingredient data'!C9","v":0.88},{"$f":"'12. Diet ingredient data'!E9","v":2.1999999999999999E-2},{"$f":"(IF(D11=\"\", C11, D11))/6.25","v":1.6E-2},{"$f":"'12. Diet ingredient data'!K9","v":2.8E-3},{"$f":"'12. Diet ingredient data'!N9","v":4.6999999999999993E-3},{"$f":"'12. Diet ingredient data'!H9","v":0.81402629931120851},null,null,"Barley",0.15,0.2,0.4,0.7,null,"Porker",10,14,35,60]
[null,"Groats",{"$f":"'12. Diet ingredient data'!I10","v":0.11},null,null,null,null,null,null,null,null,null,null,null,null,null,{"$f":"'12. Diet ingredient data'!C10","v":0.9},{"$f":"'12. Diet ingredient data'!E10","v":2.1400000000000002E-2},1.7600000000000001E-2,{"$f":"'12. Diet ingredient data'!K10","v":3.0000000000000001E-3},{"$f":"'12. Diet ingredient data'!N10","v":3.4999999999999996E-3},{"$f":"'12. Diet ingredient data'!H10","v":0.93399750933997516},null,null,"Groats",null,null,null,null,null,"Grower",14,18,60,85,"   "]
[null,"Oats 9",{"$f":"'12. Diet ingredient data'!I11","v":0.09},null,null,null,null,null,null,null,null,null,null,null,null,null,{"$f":"'12. Diet ingredient data'!C11","v":0.88},{"$f":"'12. Diet ingredient data'!E11","v":2.64E-2},1.44E-2,{"$f":"'12. Diet ingredient data'!K11","v":3.2000000000000002E-3},{"$f":"'12. Diet ingredient data'!N11","v":3.5999999999999999E-3},{"$f":"'12. Diet ingredient data'!H11","v":0.69970845481049571},null,null,"Oats 9",null,null,null,null,null,"Finisher",18,null,85,100]
[null,"Maize 8",{"$f":"'12. Diet ingredient data'!I12","v":0.08},null,null,{"$f":"IF(F$316=$Z$317, $Z14, IF(F$316=$AA$317, $AA14, IF(F$316=$AB$317, $AB14, IF(F$316=$AC$317, $AC14, 0))))","v":5.2499999999999998E-2},0,0,0,0,0,null,null,null,null,null,{"$f":"'12. Diet ingredient data'!C12","v":0.88},{"$f":"'12. Diet ingredient data'!E12","v":1.21E-2},1.2800000000000001E-2,{"$f":"'12. Diet ingredient data'!K12","v":2.5999999999999999E-3},{"$f":"'12. Diet ingredient data'!N12","v":3.3E-3},{"$f":"'12. Diet ingredient data'!H12","v":0.89894606323620585},null,null,"Maize 8",5.2499999999999998E-2]
[null,"Sorghum 11",{"$f":"'12. Diet ingredient data'!I13","v":0.11},null,null,null,null,null,null,null,null,null,null,null,null,null,{"$f":"'12. Diet ingredient data'!C13","v":0.88},{"$f":"'12. Diet ingredient data'!E13","v":0.02},1.7600000000000001E-2,{"$f":"'12. Diet ingredient data'!K13","v":2.8000000000000004E-3},{"$f":"'12. Diet ingredient data'!N13","v":3.4999999999999996E-3},{"$f":"'12. Diet ingredient data'!H13","v":0.87223587223587218},null,null,"Sorghum 11"]
[null,"Triticale 11",{"$f":"'12. Diet ingredient data'!I14","v":0.11},null,null,null,null,null,null,null,null,null,null,null,null,null,{"$f":"'12. Diet ingredient data'!C14","v":0.88},{"$f":"'12. Diet ingredient data'!E14","v":1.9199999999999998E-2},1.7600000000000001E-2,{"$f":"'12. Diet ingredient data'!K14","v":3.4999999999999996E-3},{"$f":"'12. Diet ingredient data'!N14","v":5.0000000000000001E-3},{"$f":"'12. Diet ingredient data'!H14","v":0.88888888888888884},null,null,"Triticale 11",null,null,null,null,null,"National Guidelines Class / SPU standard"]
[null,"Wheat 10",{"$f":"'12. Diet ingredient data'!I15","v":0.1},null,5.1862499999999999E-2,{"$f":"IF(F$316=$Z$317, $Z17, IF(F$316=$AA$317, $AA17, IF(F$316=$AB$317, $AB17, IF(F$316=$AC$317, $AC17, 0))))","v":0.54032500000000006},0.54079999999999995,0.45774999999999999,0.12855,0,0,0.50739299999999998,0.16470000000000001,0.16899600000000001,null,null,{"$f":"'12. Diet ingredient data'!C15","v":0.88},{"$f":"'12. Diet ingredient data'!E15","v":1.4999999999999999E-2},1.6E-2,{"$f":"'12. Diet ingredient data'!K15","v":3.4000000000000002E-3},{"$f":"'12. Diet ingredient data'!N15","v":4.0999999999999995E-3},{"$f":"'12. Diet ingredient data'!H15","v":0.88216761184625081},null,null,"Wheat 10",0.54032500000000006,0.54079999999999995,0.45774999999999999,0.12855,null,"Pig class",null,"End age (weeks)",null,"End live weight (kg)","SPU factor standard"]
[null,"Wheat 12",{"$f":"'12. Diet ingredient data'!I16","v":0.12},null,null,null,null,null,null,null,null,null,null,null,null,null,{"$f":"'12. Diet ingredient data'!C16","v":0.88},{"$f":"'12. Diet ingredient data'!E16","v":1.4999999999999999E-2},1.9199999999999998E-2,{"$f":"'12. Diet ingredient data'!K16","v":3.4000000000000002E-3},{"$f":"'12. Diet ingredient data'!N16","v":4.0999999999999995E-3},{"$f":"'12. Diet ingredient data'!H16","v":0.88216761184625081},null,null,"Wheat 12",null,null,null,null,null,"Birth",null,0,null,1.4]
[null,"Wheat Extruded",{"$f":"'12. Diet ingredient data'!I17","v":0.12},null,null,null,null,null,null,null,null,null,null,null,null,null,{"$f":"'12. Diet ingredient data'!C17","v":0.88},{"$f":"'12. Diet ingredient data'!E17","v":1.4999999999999999E-2},1.9199999999999998E-2,{"$f":"'12. Diet ingredient data'!K17","v":3.4000000000000002E-3},{"$f":"'12. Diet ingredient data'!N17","v":4.0999999999999995E-3},{"$f":"'12. Diet ingredient data'!H17","v":0.88235294117647056},null,null,"Wheat Extruded",null,null,null,null,null,"Sucker",null,4,null,8,0.1]
[null,"Cereal by-products",null,null,null,null,null,null,null,null,null,null,null,null,null,null,null,null,null,null,null,null,null,null,"Cereal by-products",null,null,null,null,null,"Weaner",null,10,null,35.1,0.5]
[null,"Hominy Meal",{"$f":"'12. Diet ingredient data'!I19","v":0.13400000000000001},null,null,null,null,null,null,null,null,null,null,null,null,null,{"$f":"'12. Diet ingredient data'!C19","v":0.89},{"$f":"'12. Diet ingredient data'!E19","v":4.6500000000000007E-2},{"$f":"(IF(D21=\"\", C21, D21))/6.25","v":2.1440000000000001E-2},{"$f":"'12. Diet ingredient data'!K19","v":7.7000000000000002E-3},{"$f":"'12. Diet ingredient data'!N19","v":0},{"$f":"'12. Diet ingredient data'!H19","v":0.85983510011778563},null,null,"Hominy Meal",null,null,null,null,null,"Grower",null,16,null,60.1,1]
[null,"Millrun",{"$f":"'12. Diet ingredient data'!I20","v":0.15},null,null,null,null,null,null,null,null,null,null,null,null,null,{"$f":"'12. Diet ingredient data'!C20","v":0.87},{"$f":"'12. Diet ingredient data'!E20","v":0.05},2.4E-2,{"$f":"'12. Diet ingredient data'!K20","v":9.4999999999999998E-3},{"$f":"'12. Diet ingredient data'!N20","v":8.0000000000000002E-3},{"$f":"'12. Diet ingredient data'!H20","v":0.69696969696969702},null,null,"Millrun",null,null,null,null,null,"Finisher",null,24,null,110.1,1.6]
[null,"Rice Hulls",{"$f":"'12. Diet ingredient data'!I21","v":0.02},null,null,null,null,null,null,null,null,null,null,null,null,null,{"$f":"'12. Diet ingredient data'!C21","v":0.89},{"$f":"'12. Diet ingredient data'!E21","v":0.05},3.2000000000000002E-3,{"$f":"'12. Diet ingredient data'!K21","v":7.000000000000001E-4},{"$f":"'12. Diet ingredient data'!N21","v":8.0000000000000002E-3},{"$f":"'12. Diet ingredient data'!H21","v":0.15625},null,null,"Rice Hulls",null,null,null,null,null,"Heavy finisher",null,30,null,130,1.8]
[null,"Rice bran",{"$f":"'12. Diet ingredient data'!I22","v":0.155},null,null,null,null,null,null,null,null,null,null,null,null,null,{"$f":"'12. Diet ingredient data'!C22","v":0.9},{"$f":"'12. Diet ingredient data'!E22","v":0.13},2.4799999999999999E-2,{"$f":"'12. Diet ingredient data'!K22","v":1.7000000000000001E-2},{"$f":"'12. Diet ingredient data'!N22","v":1.15E-2},{"$f":"'12. Diet ingredient data'!H22","v":0.48125000000000001},null,null,"Rice bran"]
[null,"Soya hulls",{"$f":"'12. Diet ingredient data'!I23","v":0.12},null,null,null,null,null,null,null,null,null,null,null,null,null,{"$f":"'12. Diet ingredient data'!C23","v":0.89},{"$f":"'12. Diet ingredient data'!E23","v":4.4999999999999998E-2},1.9199999999999998E-2,{"$f":"'12. Diet ingredient data'!K23","v":1.1000000000000001E-3},{"$f":"'12. Diet ingredient data'!N23","v":1.2E-2},{"$f":"'12. Diet ingredient data'!H23","v":0.51509550215650024},null,null,"Soya hulls"]
[null,"Wheat Bran",{"$f":"'12. Diet ingredient data'!I24","v":0.15},null,null,null,null,null,null,null,null,null,null,null,null,null,{"$f":"'12. Diet ingredient data'!C24","v":0.87},{"$f":"'12. Diet ingredient data'!E24","v":5.0499999999999996E-2},2.4E-2,{"$f":"'12. Diet ingredient data'!K24","v":9.8999999999999991E-3},{"$f":"'12. Diet ingredient data'!N24","v":4.0000000000000001E-3},{"$f":"'12. Diet ingredient data'!H24","v":0.57177615571776153},null,null,"Wheat Bran"]
[null,"Wheat Pollard",{"$f":"'12. Diet ingredient data'!I25","v":0.15},null,null,null,null,null,null,null,null,null,null,null,null,null,{"$f":"'12. Diet ingredient data'!C25","v":0.87},{"$f":"'12. Diet ingredient data'!E25","v":4.7E-2},2.4E-2,{"$f":"'12. Diet ingredient data'!K25","v":9.4999999999999998E-3},{"$f":"'12. Diet ingredient data'!N25","v":1.2E-2},{"$f":"'12. Diet ingredient data'!H25","v":0.67755595886267383},null,null,"Wheat Pollard"]
[null,"Roots & Tubers",null,null,null,null,null,null,null,null,null,null,null,null,null,null,null,null,null,null,null,null,null,null,"Roots & Tubers"]
[null,"Cassava",{"$f":"'12. Diet ingredient data'!I27","v":0.03},null,null,null,null,null,null,null,null,null,null,null,null,null,{"$f":"'12. Diet ingredient data'!C27","v":0.87},{"$f":"'12. Diet ingredient data'!E27","v":5.5E-2},{"$f":"(IF(D29=\"\", C29, D29))/6.25","v":4.7999999999999996E-3},{"$f":"'12. Diet ingredient data'!K27","v":8.9999999999999998E-4},{"$f":"'12. Diet ingredient data'!N27","v":8.5000000000000006E-3},{"$f":"'12. Diet ingredient data'!H27","v":0.88275862068965527},null,null,"Cassava"]
[null,"By-products",{"$f":"'12. Diet ingredient data'!I28","v":0},null,null,null,null,null,null,null,null,null,null,null,null,null,null,null,null,null,null,null,null,null,"By-products"]
[null,"Biscuit Meal",{"$f":"'12. Diet ingredient data'!I29","v":0.1},null,null,null,null,null,null,null,null,null,null,null,null,null,{"$f":"'12. Diet ingredient data'!C29","v":0.89},{"$f":"'12. Diet ingredient data'!E29","v":0.03},{"$f":"(IF(D31=\"\", C31, D31))/6.25","v":1.6E-2},{"$f":"'12. Diet ingredient data'!K29","v":3.4999999999999996E-3},{"$f":"'12. Diet ingredient data'!N29","v":3.9000000000000003E-3},{"$f":"'12. Diet ingredient data'!H29","v":0.88823529411764701},null,null,"Biscuit Meal"]
[null,"Brewers Grains",{"$f":"'12. Diet ingredient data'!I30","v":0.22},null,null,null,null,null,null,null,null,null,null,null,null,null,{"$f":"'12. Diet ingredient data'!C30","v":0.88},{"$f":"'12. Diet ingredient data'!E30","v":4.4999999999999998E-2},3.5200000000000002E-2,{"$f":"'12. Diet ingredient data'!K30","v":5.0000000000000001E-3},{"$f":"'12. Diet ingredient data'!N30","v":3.0000000000000001E-3},{"$f":"'12. Diet ingredient data'!H30","v":0.65934065934065933},null,null,"Brewers Grains"]
[null,"Distller's Dried Grains & Solubles (DDGS)",{"$f":"'12. Diet ingredient data'!I31","v":0.26},null,null,null,null,null,null,null,null,null,null,null,null,null,{"$f":"'12. Diet ingredient data'!C31","v":0.9},{"$f":"'12. Diet ingredient data'!E31","v":0.05},4.1599999999999998E-2,{"$f":"'12. Diet ingredient data'!K31","v":8.5000000000000006E-3},{"$f":"'12. Diet ingredient data'!N31","v":1.23E-2},{"$f":"'12. Diet ingredient data'!H31","v":0.75980392156862753},null,null,"Distller's Dried Grains & Solubles (DDGS)"]
[null,"Molasses",{"$f":"'12. Diet ingredient data'!I32","v":0.04},null,null,null,null,null,null,null,null,null,null,null,null,null,{"$f":"'12. Diet ingredient data'!C32","v":0.745},{"$f":"'12. Diet ingredient data'!E32","v":0.1032},6.4000000000000003E-3,{"$f":"'12. Diet ingredient data'!K32","v":5.9999999999999995E-4},{"$f":"'12. Diet ingredient data'!N32","v":3.5000000000000003E-2},{"$f":"'12. Diet ingredient data'!H32","v":0.93466424682395655},null,null,"Molasses"]
[null,"Peanut shell",{"$f":"'12. Diet ingredient data'!I33","v":0.03},null,null,null,null,null,null,null,null,null,null,null,null,null,{"$f":"'12. Diet ingredient data'!C33","v":0.92},{"$f":"'12. Diet ingredient data'!E33","v":0.08},4.7999999999999996E-3,{"$f":"'12. Diet ingredient data'!K33","v":8.9999999999999998E-4},{"$f":"'12. Diet ingredient data'!N33","v":0.01},{"$f":"'12. Diet ingredient data'!H33","v":6.8750000000000006E-2},null,null,"Peanut shell"]
[null,"Sugar",{"$f":"'12. Diet ingredient data'!I34","v":0},null,null,null,null,null,null,null,null,null,null,null,null,null,{"$f":"'12. Diet ingredient data'!C34","v":0.99},{"$f":"'12. Diet ingredient data'!E34","v":5.0000000000000001E-3},0,{"$f":"'12. Diet ingredient data'!K34","v":4.0000000000000002E-4},{"$f":"'12. Diet ingredient data'!N34","v":0},{"$f":"'12. Diet ingredient data'!H34","v":0.755},null,null,"Sugar"]
[null,"Pulses",null,null,null,null,null,null,null,null,null,null,null,null,null,null,null,null,null,null,null,null,null,null,"Pulses"]
[null,"Faba beans",{"$f":"'12. Diet ingredient data'!I36","v":0.23},null,null,null,null,null,null,null,null,null,null,null,null,null,{"$f":"'12. Diet ingredient data'!C36","v":0.9},{"$f":"'12. Diet ingredient data'!E36","v":3.5299999999999998E-2},{"$f":"(IF(D38=\"\", C38, D38))/6.25","v":3.6799999999999999E-2},{"$f":"'12. Diet ingredient data'!K36","v":4.6999999999999993E-3},{"$f":"'12. Diet ingredient data'!N36","v":9.5999999999999992E-3},{"$f":"'12. Diet ingredient data'!H36","v":0.86309523809523803},null,null,"Faba beans"]
[null,"Lupins, albus",{"$f":"'12. Diet ingredient data'!I37","v":0.34},null,null,null,null,null,null,null,null,null,null,null,null,null,{"$f":"'12. Diet ingredient data'!C37","v":0.88},{"$f":"'12. Diet ingredient data'!E37","v":3.3000000000000002E-2},5.4400000000000004E-2,{"$f":"'12. Diet ingredient data'!K37","v":3.5999999999999999E-3},{"$f":"'12. Diet ingredient data'!N37","v":1.1000000000000001E-2},{"$f":"'12. Diet ingredient data'!H37","v":0.85561497326203206},null,null,"Lupins, albus"]
[null,"Lupins, augustifolius",{"$f":"'12. Diet ingredient data'!I38","v":0.30499999999999999},null,null,{"$f":"IF(F$316=$Z$317, $Z40, IF(F$316=$AA$317, $AA40, IF(F$316=$AB$317, $AB40, IF(F$316=$AC$317, $AC40, 0))))","v":0},0,0,7.0000000000000007E-2,0,0,0.05,0.04,0.04,0.05,null,{"$f":"'12. Diet ingredient data'!C38","v":0.88},{"$f":"'12. Diet ingredient data'!E38","v":2.7999999999999997E-2},4.8799999999999996E-2,{"$f":"'12. Diet ingredient data'!K38","v":3.0000000000000001E-3},{"$f":"'12. Diet ingredient data'!N38","v":8.5000000000000006E-3},{"$f":"'12. Diet ingredient data'!H38","v":0.80662983425414359},null,null,"Lupins, augustifolius",null,null,null,7.0000000000000007E-2]
[null,"Chick Peas",{"$f":"'12. Diet ingredient data'!I39","v":0.2},null,null,null,null,null,null,null,null,null,null,null,null,null,{"$f":"'12. Diet ingredient data'!C39","v":0.9},{"$f":"'12. Diet ingredient data'!E39","v":0.03},3.2000000000000001E-2,{"$f":"'12. Diet ingredient data'!K39","v":3.7000000000000002E-3},{"$f":"'12. Diet ingredient data'!N39","v":8.0000000000000002E-3},{"$f":"'12. Diet ingredient data'!H39","v":0.86138049058756405},null,null,"Chick Peas"]
[null,"Field Peas",{"$f":"'12. Diet ingredient data'!I40","v":0.20499999999999999},null,null,null,null,null,null,null,null,null,null,null,null,null,{"$f":"'12. Diet ingredient data'!C40","v":0.86},{"$f":"'12. Diet ingredient data'!E40","v":0.03},3.2799999999999996E-2,{"$f":"'12. Diet ingredient data'!K40","v":4.0000000000000001E-3},{"$f":"'12. Diet ingredient data'!N40","v":9.4999999999999998E-3},{"$f":"'12. Diet ingredient data'!H40","v":0.86309523809523803},null,null,"Field Peas"]
[null,"Mung Beans",{"$f":"'12. Diet ingredient data'!I41","v":0.24},null,null,null,null,null,null,null,null,null,null,null,null,null,{"$f":"'12. Diet ingredient data'!C41","v":0.9},{"$f":"'12. Diet ingredient data'!E41","v":3.7000000000000005E-2},3.8399999999999997E-2,{"$f":"'12. Diet ingredient data'!K41","v":6.9999999999999993E-3},{"$f":"'12. Diet ingredient data'!N41","v":4.0999999999999995E-3},{"$f":"'12. Diet ingredient data'!H41","v":0.90588235294117647},null,null,"Mung Beans"]
[null,"Navy Beans",{"$f":"'12. Diet ingredient data'!I42","v":0.24},null,null,null,null,null,null,null,null,null,null,null,null,null,{"$f":"'12. Diet ingredient data'!C42","v":0.9},{"$f":"'12. Diet ingredient data'!E42","v":3.7999999999999999E-2},3.8399999999999997E-2,{"$f":"'12. Diet ingredient data'!K42","v":4.3E-3},{"$f":"'12. Diet ingredient data'!N42","v":1.3500000000000002E-2},{"$f":"'12. Diet ingredient data'!H42","v":0.87804878048780499},null,null,"Navy Beans"]
[null,"Oilseed Meals",null,null,null,null,null,null,null,null,null,null,null,null,null,null,null,null,null,null,null,null,null,null,"Oilseed Meals"]
[null,"Canola Meal 37 Solvent",{"$f":"'12. Diet ingredient data'!I44","v":0.37},null,null,null,null,null,null,null,null,null,null,null,null,null,{"$f":"'12. Diet ingredient data'!C44","v":0.91},{"$f":"'12. Diet ingredient data'!E44","v":6.5000000000000002E-2},{"$f":"(IF(D46=\"\", C46, D46))/6.25","v":5.9200000000000003E-2},{"$f":"'12. Diet ingredient data'!K44","v":1.1000000000000001E-2},{"$f":"'12. Diet ingredient data'!N44","v":1.2500000000000001E-2},{"$f":"'12. Diet ingredient data'!H44","v":0.73529411764705888},null,null,"Canola Meal 37 Solvent"]
[null,"Canola meal 32 Expeller",{"$f":"'12. Diet ingredient data'!I45","v":0.32},null,null,null,null,null,null,null,null,null,null,null,null,null,{"$f":"'12. Diet ingredient data'!C45","v":0.9},{"$f":"'12. Diet ingredient data'!E45","v":6.4000000000000001E-2},5.1200000000000002E-2,{"$f":"'12. Diet ingredient data'!K45","v":9.4999999999999998E-3},{"$f":"'12. Diet ingredient data'!N45","v":1.0500000000000001E-2},{"$f":"'12. Diet ingredient data'!H45","v":0.72181243414120122},null,null,"Canola meal 32 Expeller"]
[null,"Canola meal Cold Pressed 34",{"$f":"'12. Diet ingredient data'!I46","v":0.34},null,null,{"$f":"IF(F$316=$Z$317, $Z48, IF(F$316=$AA$317, $AA48, IF(F$316=$AB$317, $AB48, IF(F$316=$AC$317, $AC48, 0))))","v":2.5000000000000001E-2},6.8000000000000005E-2,0.04,0.05,0,0,0.05,2.2599999999999999E-2,0.02,0.02,null,{"$f":"'12. Diet ingredient data'!C46","v":0.9},{"$f":"'12. Diet ingredient data'!E46","v":6.2E-2},5.4400000000000004E-2,{"$f":"'12. Diet ingredient data'!K46","v":9.5999999999999992E-3},{"$f":"'12. Diet ingredient data'!N46","v":1.23E-2},{"$f":"'12. Diet ingredient data'!H46","v":0.73684210526315785},null,null,"Canola meal Cold Pressed 34",2.5000000000000001E-2,6.8000000000000005E-2,0.04,0.05]
[null,"Copra meal",{"$f":"'12. Diet ingredient data'!I47","v":0.21},null,null,null,null,null,null,null,null,null,null,null,null,null,{"$f":"'12. Diet ingredient data'!C47","v":0.9},{"$f":"'12. Diet ingredient data'!E47","v":6.2E-2},3.3599999999999998E-2,{"$f":"'12. Diet ingredient data'!K47","v":5.7999999999999996E-3},{"$f":"'12. Diet ingredient data'!N47","v":1.2999999999999999E-2},{"$f":"'12. Diet ingredient data'!H47","v":0.72017592083562387},null,null,"Copra meal"]
[null,"Cotton seed meal 43",{"$f":"'12. Diet ingredient data'!I48","v":0.43},null,null,null,null,null,null,null,null,null,null,null,null,null,{"$f":"'12. Diet ingredient data'!C48","v":0.9},{"$f":"'12. Diet ingredient data'!E48","v":6.5000000000000002E-2},6.88E-2,{"$f":"'12. Diet ingredient data'!K48","v":1.1399999999999999E-2},{"$f":"'12. Diet ingredient data'!N48","v":1.2500000000000001E-2},{"$f":"'12. Diet ingredient data'!H48","v":0.69444444444444453},null,null,"Cotton seed meal 43"]
[null,"Palm Kernel meal",{"$f":"'12. Diet ingredient data'!I49","v":0.14800000000000002},null,null,null,null,null,null,null,null,null,null,null,null,null,{"$f":"'12. Diet ingredient data'!C49","v":0.9},{"$f":"'12. Diet ingredient data'!E49","v":4.2000000000000003E-2},2.3680000000000003E-2,{"$f":"'12. Diet ingredient data'!K49","v":5.6000000000000008E-3},{"$f":"'12. Diet ingredient data'!N49","v":6.5000000000000006E-3},{"$f":"'12. Diet ingredient data'!H49","v":0.68643602416254801},null,null,"Palm Kernel meal"]
[null,"Peanut Meal 48",{"$f":"'12. Diet ingredient data'!I50","v":0.48},null,null,null,null,null,null,null,null,null,null,null,null,null,{"$f":"'12. Diet ingredient data'!C50","v":0.9},{"$f":"'12. Diet ingredient data'!E50","v":0.05},7.6799999999999993E-2,{"$f":"'12. Diet ingredient data'!K50","v":6.0000000000000001E-3},{"$f":"'12. Diet ingredient data'!N50","v":1.1299999999999999E-2},{"$f":"'12. Diet ingredient data'!H50","v":0.80219780219780223},null,null,"Peanut Meal 48"]
[null,"Soybean Meal 46 Solvent",{"$f":"'12. Diet ingredient data'!I51","v":0.46},null,null,{"$f":"IF(F$316=$Z$317, $Z53, IF(F$316=$AA$317, $AA53, IF(F$316=$AB$317, $AB53, IF(F$316=$AC$317, $AC53, 0))))","v":0.1},0.125,4.2500000000000003E-2,0,0,0,null,null,null,null,null,{"$f":"'12. Diet ingredient data'!C51","v":0.88},{"$f":"'12. Diet ingredient data'!E51","v":6.480000000000001E-2},7.3599999999999999E-2,{"$f":"'12. Diet ingredient data'!K51","v":6.1999999999999998E-3},{"$f":"'12. Diet ingredient data'!N51","v":1.9E-2},{"$f":"'12. Diet ingredient data'!H51","v":0.87236533957845441},null,null,"Soybean Meal 46 Solvent",0.1,0.125,4.2500000000000003E-2]
[null,"Soybean Meal 48 Solvent",{"$f":"'12. Diet ingredient data'!I52","v":0.48},null,null,null,null,null,null,null,null,null,null,null,null,null,{"$f":"'12. Diet ingredient data'!C52","v":0.88500000000000001},{"$f":"'12. Diet ingredient data'!E52","v":6.5000000000000002E-2},7.6799999999999993E-2,{"$f":"'12. Diet ingredient data'!K52","v":6.5000000000000006E-3},{"$f":"'12. Diet ingredient data'!N52","v":2.1000000000000001E-2},{"$f":"'12. Diet ingredient data'!H52","v":0.85582998276852384},null,null,"Soybean Meal 48 Solvent"]
[null,"Soybean, Full fat",{"$f":"'12. Diet ingredient data'!I53","v":0.35499999999999998},null,null,null,null,null,null,null,null,null,null,null,null,null,{"$f":"'12. Diet ingredient data'!C53","v":0.875},{"$f":"'12. Diet ingredient data'!E53","v":5.2999999999999999E-2},5.6799999999999996E-2,{"$f":"'12. Diet ingredient data'!K53","v":5.5000000000000005E-3},{"$f":"'12. Diet ingredient data'!N53","v":1.7000000000000001E-2},{"$f":"'12. Diet ingredient data'!H53","v":0.85365853658536583},null,null,"Soybean, Full fat"]
[null,"Selecta Soy/X-Soy 600",{"$f":"'12. Diet ingredient data'!I54","v":0.6},null,5.0000000000000001E-3,null,null,null,null,null,null,null,null,null,null,null,{"$f":"'12. Diet ingredient data'!C54","v":0.92},{"$f":"'12. Diet ingredient data'!E54","v":6.8000000000000005E-2},9.6000000000000002E-2,{"$f":"'12. Diet ingredient data'!K54","v":8.0000000000000002E-3},{"$f":"'12. Diet ingredient data'!N54","v":2.3E-2},{"$f":"'12. Diet ingredient data'!H54","v":0.91246684350132612},null,null,"Selecta Soy/X-Soy 600"]
[null,"Soycomil 65",{"$f":"'12. Diet ingredient data'!I55","v":0.65},null,null,null,null,null,null,null,null,null,null,null,null,null,{"$f":"'12. Diet ingredient data'!C55","v":0.91},{"$f":"'12. Diet ingredient data'!E55","v":0.06},0.10400000000000001,{"$f":"'12. Diet ingredient data'!K55","v":8.0000000000000002E-3},{"$f":"'12. Diet ingredient data'!N55","v":2.2000000000000002E-2},{"$f":"'12. Diet ingredient data'!H55","v":0.93023255813953487},null,null,"Soycomil 65"]
[null,"Sunflower 30",{"$f":"'12. Diet ingredient data'!I56","v":0.3},null,null,null,null,null,null,null,null,null,null,null,null,null,{"$f":"'12. Diet ingredient data'!C56","v":0.89},{"$f":"'12. Diet ingredient data'!E56","v":6.3E-2},4.8000000000000001E-2,{"$f":"'12. Diet ingredient data'!K56","v":0.01},{"$f":"'12. Diet ingredient data'!N56","v":1.46E-2},{"$f":"'12. Diet ingredient data'!H56","v":0.48199767711962843},null,null,"Sunflower 30"]
[null,"Sunflower 36",{"$f":"'12. Diet ingredient data'!I57","v":0.36},null,null,null,null,null,null,null,null,null,null,null,null,null,{"$f":"'12. Diet ingredient data'!C57","v":0.89},{"$f":"'12. Diet ingredient data'!E57","v":7.0000000000000007E-2},5.7599999999999998E-2,{"$f":"'12. Diet ingredient data'!K57","v":1.2E-2},{"$f":"'12. Diet ingredient data'!N57","v":1.52E-2},{"$f":"'12. Diet ingredient data'!H57","v":0.76030179918746366},null,null,"Sunflower 36"]
[null,"Yeast Products",null,null,null,null,null,null,null,null,null,null,null,null,null,null,null,null,null,null,null,null,null,null,"Yeast Products"]
[null,"Brewers Yeast",{"$f":"'12. Diet ingredient data'!I59","v":0.5},null,null,null,null,null,null,null,null,null,null,null,null,null,{"$f":"'12. Diet ingredient data'!C59","v":0.9},{"$f":"'12. Diet ingredient data'!E59","v":7.0999999999999994E-2},{"$f":"(IF(D61=\"\", C61, D61))/6.25","v":0.08},{"$f":"'12. Diet ingredient data'!K59","v":1.1599999999999999E-2},{"$f":"'12. Diet ingredient data'!N59","v":1.7000000000000001E-2},{"$f":"'12. Diet ingredient data'!H59","v":0.85836909871244638},null,null,"Brewers Yeast"]
[null,"Hilyses",{"$f":"'12. Diet ingredient data'!I60","v":0.40500000000000003},null,null,null,null,null,null,null,null,null,null,null,null,null,{"$f":"'12. Diet ingredient data'!C60","v":0.94},{"$f":"'12. Diet ingredient data'!E60","v":5.5E-2},{"$f":"(IF(D62=\"\", C62, D62))/6.25","v":6.480000000000001E-2},{"$f":"'12. Diet ingredient data'!K60","v":6.8599999999999998E-3},{"$f":"'12. Diet ingredient data'!N60","v":8.1499999999999993E-3},{"$f":"'12. Diet ingredient data'!H60","v":0.7627551020408162},null,null,"Hilyses"]
[null,"Nupro",{"$f":"'12. Diet ingredient data'!I61","v":0.47},null,null,null,null,null,null,null,null,null,null,null,null,null,{"$f":"'12. Diet ingredient data'!C61","v":0.94},{"$f":"'12. Diet ingredient data'!E61","v":8.3000000000000004E-2},{"$f":"(IF(D63=\"\", C63, D63))/6.25","v":7.5199999999999989E-2},{"$f":"'12. Diet ingredient data'!K61","v":1.4999999999999999E-2},{"$f":"'12. Diet ingredient data'!N61","v":1.9E-2},{"$f":"'12. Diet ingredient data'!H61","v":0.76344086021505364},null,null,"Nupro"]
[null,"Animal & Fish products",null,null,null,null,null,null,null,null,null,null,null,null,null,null,null,null,null,null,null,null,null,null,"Animal & Fish products"]
[null,"Blood meal 85",{"$f":"'12. Diet ingredient data'!I63","v":0.85},null,null,null,null,null,null,null,null,null,null,null,null,null,{"$f":"'12. Diet ingredient data'!C63","v":0.9},{"$f":"'12. Diet ingredient data'!E63","v":3.1E-2},{"$f":"(IF(D65=\"\", C65, D65))/6.25","v":0.13600000000000001},{"$f":"'12. Diet ingredient data'!K63","v":2.0999999999999999E-3},{"$f":"'12. Diet ingredient data'!N63","v":2.5999999999999999E-3},{"$f":"'12. Diet ingredient data'!H63","v":0.92901381610290623},null,null,"Blood meal, spray/ring"]
[null,"Blood meal 90",{"$f":"'12. Diet ingredient data'!I64","v":0.9},null,1.5E-3,{"$f":"IF(F$316=$Z$317, $Z66, IF(F$316=$AA$317, $AA66, IF(F$316=$AB$317, $AB66, IF(F$316=$AC$317, $AC66, 0))))","v":2.5000000000000001E-2},5.0000000000000001E-3,0,0,0,0,1.2E-2,null,null,null,null,{"$f":"'12. Diet ingredient data'!C64","v":0.91},{"$f":"'12. Diet ingredient data'!E64","v":2.8300000000000002E-2},0.14400000000000002,{"$f":"'12. Diet ingredient data'!K64","v":2.0999999999999999E-3},{"$f":"'12. Diet ingredient data'!N64","v":2.5999999999999999E-3},{"$f":"'12. Diet ingredient data'!H64","v":0.92901381610290623},null,null,null,2.5000000000000001E-2,5.0000000000000001E-3]
[null,"Blood Plasma",{"$f":"'12. Diet ingredient data'!I65","v":0.78},null,3.0000000000000001E-3,null,null,null,null,null,null,null,null,null,null,null,{"$f":"'12. Diet ingredient data'!C65","v":0.92},{"$f":"'12. Diet ingredient data'!E65","v":0.1},0.12480000000000001,{"$f":"'12. Diet ingredient data'!K65","v":1.3000000000000001E-2},{"$f":"'12. Diet ingredient data'!N65","v":3.0000000000000001E-3},{"$f":"'12. Diet ingredient data'!H65","v":0.93789473684210523}]
[null,"Fishmeal 60",{"$f":"'12. Diet ingredient data'!I66","v":0.6},null,null,null,null,null,null,null,null,0.02,null,null,null,null,{"$f":"'12. Diet ingredient data'!C66","v":0.92},{"$f":"'12. Diet ingredient data'!E66","v":0.20749999999999999},9.6000000000000002E-2,{"$f":"'12. Diet ingredient data'!K66","v":2.8500000000000001E-2},{"$f":"'12. Diet ingredient data'!N66","v":9.3999999999999986E-3},{"$f":"'12. Diet ingredient data'!H66","v":0.80786026200873362},null,null,"Blood Plasma"]
[null,"Fishmeal 65",{"$f":"'12. Diet ingredient data'!I67","v":0.65},null,2.5000000000000001E-3,{"$f":"IF(F$316=$Z$317, $Z69, IF(F$316=$AA$317, $AA69, IF(F$316=$AB$317, $AB69, IF(F$316=$AC$317, $AC69, 0))))","v":2.5000000000000001E-2},0,0,0,0,0,null,null,null,null,null,{"$f":"'12. Diet ingredient data'!C67","v":0.92},{"$f":"'12. Diet ingredient data'!E67","v":0.16140000000000002},0.10400000000000001,{"$f":"'12. Diet ingredient data'!K67","v":2.6000000000000002E-2},{"$f":"'12. Diet ingredient data'!N67","v":1.3000000000000001E-2},{"$f":"'12. Diet ingredient data'!H67","v":0.82718651211801886},null,null,"Fishmeal 62",2.5000000000000001E-2]
[null,"Fishmeal 70",{"$f":"'12. Diet ingredient data'!I68","v":0.7},null,null,null,null,null,null,null,null,null,null,null,null,null,{"$f":"'12. Diet ingredient data'!C68","v":0.91},{"$f":"'12. Diet ingredient data'!E68","v":0.125},0.11199999999999999,{"$f":"'12. Diet ingredient data'!K68","v":0.02},{"$f":"'12. Diet ingredient data'!N68","v":1.2999999999999999E-2},{"$f":"'12. Diet ingredient data'!H68","v":0.88383838383838376},null,null,"Fishmeal 65"]
[null,"Meat & bone meal 45 ",{"$f":"'12. Diet ingredient data'!I69","v":0.45},null,null,null,null,null,null,null,null,null,null,null,null,null,{"$f":"'12. Diet ingredient data'!C69","v":0.95},{"$f":"'12. Diet ingredient data'!E69","v":0.35},7.2000000000000008E-2,{"$f":"'12. Diet ingredient data'!K69","v":0.06},{"$f":"'12. Diet ingredient data'!N69","v":5.0000000000000001E-3},{"$f":"'12. Diet ingredient data'!H69","v":0.75333333333333341},null,null,"Feather meal"]
[null,"Meat & bone meal 50",{"$f":"'12. Diet ingredient data'!I70","v":0.5},null,4.4999999999999997E-3,{"$f":"IF(F$316=$Z$317, $Z72, IF(F$316=$AA$317, $AA72, IF(F$316=$AB$317, $AB72, IF(F$316=$AC$317, $AC72, 0))))","v":0.04},3.7499999999999999E-2,3.5000000000000003E-2,3.5000000000000003E-2,0,0,3.1E-2,0.06,5.2499999999999998E-2,0.06,null,{"$f":"'12. Diet ingredient data'!C70","v":0.95},{"$f":"'12. Diet ingredient data'!E70","v":0.3},0.08,{"$f":"'12. Diet ingredient data'!K70","v":4.9000000000000002E-2},{"$f":"'12. Diet ingredient data'!N70","v":5.0000000000000001E-3},{"$f":"'12. Diet ingredient data'!H70","v":0.75},null,null,"Meat & bone meal",0.04,3.7499999999999999E-2,3.5000000000000003E-2,3.5000000000000003E-2]
[null,"Meat & bone meal 60",{"$f":"'12. Diet ingredient data'!I71","v":0.6},null,null,null,null,null,null,null,null,null,null,null,null,null,{"$f":"'12. Diet ingredient data'!C71","v":0.95},{"$f":"'12. Diet ingredient data'!E71","v":0.22},9.6000000000000002E-2,{"$f":"'12. Diet ingredient data'!K71","v":3.5999999999999997E-2},{"$f":"'12. Diet ingredient data'!N71","v":5.4999999999999997E-3},{"$f":"'12. Diet ingredient data'!H71","v":0.74971941638608297},null,null,"Milk, full cream powder"]
[null,"Milk, chocolate milk powder",{"$f":"'12. Diet ingredient data'!I72","v":0.17},null,null,null,null,null,null,null,null,null,null,null,null,null,{"$f":"'12. Diet ingredient data'!C72","v":0.97},{"$f":"'12. Diet ingredient data'!E72","v":0.06},2.7200000000000002E-2,{"$f":"'12. Diet ingredient data'!K72","v":0.01},{"$f":"'12. Diet ingredient data'!N72","v":0},{"$f":"'12. Diet ingredient data'!H72","v":0.94524495677233411},null,null,"Milk, chocolate milk powder"]
[null,"Milk, skim milk powder",{"$f":"'12. Diet ingredient data'!I73","v":0.35499999999999998},null,null,null,null,null,null,null,null,null,null,null,null,null,{"$f":"'12. Diet ingredient data'!C73","v":0.95},{"$f":"'12. Diet ingredient data'!E73","v":0.08},5.6799999999999996E-2,{"$f":"'12. Diet ingredient data'!K73","v":0.01},{"$f":"'12. Diet ingredient data'!N73","v":1.6E-2},{"$f":"'12. Diet ingredient data'!H73","v":0.94524495677233411},null,null,"Milk, skim milk powder"]
[null,"Milk, full cream  powder",{"$f":"'12. Diet ingredient data'!I74","v":0.25},null,null,null,null,null,null,null,null,null,null,null,null,null,{"$f":"'12. Diet ingredient data'!C74","v":0.95},{"$f":"'12. Diet ingredient data'!E74","v":0.06},0.04,{"$f":"'12. Diet ingredient data'!K74","v":8.0000000000000002E-3},{"$f":"'12. Diet ingredient data'!N74","v":1.3000000000000001E-2},{"$f":"'12. Diet ingredient data'!H74","v":0.9620476610767873},null,null,"Milk, whole milk powder"]
[null,"Milk, whey powder",{"$f":"'12. Diet ingredient data'!I75","v":0.125},null,0.01,null,null,null,null,null,null,null,null,null,null,null,{"$f":"'12. Diet ingredient data'!C75","v":0.95},{"$f":"'12. Diet ingredient data'!E75","v":8.6999999999999994E-2},0.02,{"$f":"'12. Diet ingredient data'!K75","v":9.0000000000000011E-3},{"$f":"'12. Diet ingredient data'!N75","v":0.05},{"$f":"'12. Diet ingredient data'!H75","v":0.875},null,null,"Milk, whey powder"]
[null,"Hay & Straw",null,null,null,null,null,null,null,null,null,null,null,null,null,null,null,null,null,null,null,null,null,null,"Hay & Straw"]
[null,"Barley straw",{"$f":"'12. Diet ingredient data'!I77","v":3.7999999999999999E-2},null,null,null,null,null,null,null,null,null,null,null,null,null,{"$f":"'12. Diet ingredient data'!C77","v":0.89},{"$f":"'12. Diet ingredient data'!E77","v":5.28E-2},{"$f":"(IF(D79=\"\", C79, D79))/6.25","v":6.0799999999999995E-3},{"$f":"'12. Diet ingredient data'!K77","v":2E-3},{"$f":"'12. Diet ingredient data'!N77","v":1.1699999999999999E-2},{"$f":"'12. Diet ingredient data'!H77","v":6.25E-2},null,null,"Barley straw"]
[null,"Cereal straw pellets",{"$f":"'12. Diet ingredient data'!I78","v":3.5000000000000003E-2},null,null,null,null,null,null,null,null,null,null,null,null,null,{"$f":"'12. Diet ingredient data'!C78","v":0.88},{"$f":"'12. Diet ingredient data'!E78","v":0.06},{"$f":"(IF(D80=\"\", C80, D80))/6.25","v":5.6000000000000008E-3},{"$f":"'12. Diet ingredient data'!K78","v":8.0000000000000004E-4},{"$f":"'12. Diet ingredient data'!N78","v":8.0000000000000002E-3},{"$f":"'12. Diet ingredient data'!H78","v":0.12492192379762647},null,null,"Cereal straw pellets"]
[null,"Lucerne meal/crumbles",{"$f":"'12. Diet ingredient data'!I79","v":0.16500000000000001},null,null,null,null,null,null,null,null,null,null,null,null,null,{"$f":"'12. Diet ingredient data'!C79","v":0.9},{"$f":"'12. Diet ingredient data'!E79","v":0.1},{"$f":"(IF(D81=\"\", C81, D81))/6.25","v":2.64E-2},{"$f":"'12. Diet ingredient data'!K79","v":2.3E-3},{"$f":"'12. Diet ingredient data'!N79","v":1.9E-2},{"$f":"'12. Diet ingredient data'!H79","v":0.44867854947756608},null,null,"Lucerne meal/crumbles"]
[null,"Oat straw",{"$f":"'12. Diet ingredient data'!I80","v":5.2000000000000005E-2},null,null,null,null,null,null,null,null,null,null,null,null,null,{"$f":"'12. Diet ingredient data'!C80","v":0.87},{"$f":"'12. Diet ingredient data'!E80","v":8.8000000000000009E-2},{"$f":"(IF(D82=\"\", C82, D82))/6.25","v":8.320000000000001E-3},{"$f":"'12. Diet ingredient data'!K80","v":2.2000000000000001E-3},{"$f":"'12. Diet ingredient data'!N80","v":2.2700000000000001E-2},{"$f":"'12. Diet ingredient data'!H80","v":6.25E-2},null,null,"Oat straw"]
[null,"Wheat straw",{"$f":"'12. Diet ingredient data'!I81","v":3.7999999999999999E-2},null,null,null,null,null,null,null,null,null,null,null,null,null,{"$f":"'12. Diet ingredient data'!C81","v":0.9},{"$f":"'12. Diet ingredient data'!E81","v":5.8499999999999996E-2},{"$f":"(IF(D83=\"\", C83, D83))/6.25","v":6.0799999999999995E-3},{"$f":"'12. Diet ingredient data'!K81","v":7.000000000000001E-4},{"$f":"'12. Diet ingredient data'!N81","v":1.3300000000000001E-2},{"$f":"'12. Diet ingredient data'!H81","v":0.14792899408284024},null,null,"Wheat straw"]
[null,"Fats",null,null,null,null,null,null,null,null,null,null,null,null,null,null,null,null,null,null,null,null,null,null,"Fats"]
[null,"Tallow",{"$f":"'12. Diet ingredient data'!I83","v":5.0000000000000001E-3},null,null,null,null,null,null,null,null,null,null,null,null,null,{"$f":"'12. Diet ingredient data'!C83","v":0.99},{"$f":"'12. Diet ingredient data'!E83","v":0},{"$f":"(IF(D85=\"\", C85, D85))/6.25","v":8.0000000000000004E-4},{"$f":"'12. Diet ingredient data'!K83","v":0},{"$f":"'12. Diet ingredient data'!N83","v":0},{"$f":"'12. Diet ingredient data'!H83","v":0.91626368032578265},null,null,"Tallow"]
[null,"Vegetable oil",{"$f":"'12. Diet ingredient data'!I84","v":0},null,1.3500000000000001E-3,{"$f":"IF(F$316=$Z$317, $Z86, IF(F$316=$AA$317, $AA86, IF(F$316=$AB$317, $AB86, IF(F$316=$AC$317, $AC86, 0))))","v":2.1000000000000001E-2},5.0000000000000001E-3,5.0000000000000001E-3,0,0,0,5.0000000000000001E-3,null,null,null,null,{"$f":"'12. Diet ingredient data'!C84","v":0.995},{"$f":"'12. Diet ingredient data'!E84","v":0},{"$f":"(IF(D86=\"\", C86, D86))/6.25","v":0},{"$f":"'12. Diet ingredient data'!K84","v":0},{"$f":"'12. Diet ingredient data'!N84","v":0},{"$f":"'12. Diet ingredient data'!H84","v":0.94295389424329257},null,null,"Vegetable oil",2.1000000000000001E-2,5.0000000000000001E-3,5.0000000000000001E-3]
[null,"Minerals",null,null,null,null,null,null,null,null,null,null,null,null,null,null,null,null,null,null,null,null,null,null,"Minerals"]
[null,"Bentonite",{"$f":"'12. Diet ingredient data'!I86","v":0},null,null,null,null,null,null,null,null,null,null,null,null,null,{"$f":"'12. Diet ingredient data'!C86","v":0.99},{"$f":"'12. Diet ingredient data'!E86","v":0.99},{"$f":"(IF(D88=\"\", C88, D88))/6.25","v":0},{"$f":"'12. Diet ingredient data'!K86","v":0},{"$f":"'12. Diet ingredient data'!N86","v":0},{"$f":"'12. Diet ingredient data'!H86","v":0},null,null,"Bentonite"]
[null,"Choline Chloride",{"$f":"'12. Diet ingredient data'!I87","v":0},null,null,{"$f":"IF(F$316=$Z$317, $Z89, IF(F$316=$AA$317, $AA89, IF(F$316=$AB$317, $AB89, IF(F$316=$AC$317, $AC89, 0))))","v":0},0,5.7499999999999999E-4,6.9999999999999999E-4,0,0,null,null,null,null,null,{"$f":"'12. Diet ingredient data'!C87","v":0.95},{"$f":"'12. Diet ingredient data'!E87","v":0.05},0,{"$f":"'12. Diet ingredient data'!K87","v":0},{"$f":"'12. Diet ingredient data'!N87","v":0},{"$f":"'12. Diet ingredient data'!H87","v":0},null,null,"Choline Chloride",null,null,5.7499999999999999E-4,6.9999999999999999E-4]
[null,"Copper Sulphate",{"$f":"'12. Diet ingredient data'!I88","v":0},null,null,null,null,null,null,null,null,null,null,null,null,null,{"$f":"'12. Diet ingredient data'!C88","v":0.98499999999999999},{"$f":"'12. Diet ingredient data'!E88","v":1},0,{"$f":"'12. Diet ingredient data'!K88","v":0},{"$f":"'12. Diet ingredient data'!N88","v":0},{"$f":"'12. Diet ingredient data'!H88","v":0},null,null,"Copper Sulphate"]
[null,"Dicalcium phosphate (DCP)",{"$f":"'12. Diet ingredient data'!I89","v":0},null,null,null,null,null,null,null,null,null,null,null,null,null,{"$f":"'12. Diet ingredient data'!C89","v":1},{"$f":"'12. Diet ingredient data'!E89","v":0.78},0,{"$f":"'12. Diet ingredient data'!K89","v":0.182},{"$f":"'12. Diet ingredient data'!N89","v":0},{"$f":"'12. Diet ingredient data'!H89","v":0},null,null,"Dicalcium phosphate (DCP)"]
[null,"Ferrous Sulphate",{"$f":"'12. Diet ingredient data'!I90","v":0},null,null,null,null,null,null,null,null,null,null,null,null,null,{"$f":"'12. Diet ingredient data'!C90","v":0.98499999999999999},{"$f":"'12. Diet ingredient data'!E90","v":0.99},0,{"$f":"'12. Diet ingredient data'!K90","v":0},{"$f":"'12. Diet ingredient data'!N90","v":0},{"$f":"'12. Diet ingredient data'!H90","v":0},null,null,"Ferrous Sulphate"]
[null,"Kynofos",{"$f":"'12. Diet ingredient data'!I91","v":0},null,null,null,null,null,null,null,null,null,null,null,null,null,{"$f":"'12. Diet ingredient data'!C91","v":0.98},{"$f":"'12. Diet ingredient data'!E91","v":1},0,{"$f":"'12. Diet ingredient data'!K91","v":0.21},{"$f":"'12. Diet ingredient data'!N91","v":0},{"$f":"'12. Diet ingredient data'!H91","v":0},null,null,"Kynofos"]
[null,"Limestone",{"$f":"'12. Diet ingredient data'!I92","v":0},null,null,{"$f":"IF(F$316=$Z$317, $Z94, IF(F$316=$AA$317, $AA94, IF(F$316=$AB$317, $AB94, IF(F$316=$AC$317, $AC94, 0))))","v":0},5.0000000000000001E-3,6.0000000000000001E-3,6.0000000000000001E-3,0,0,6.0000000000000001E-3,null,5.0000000000000001E-3,4.5999999999999999E-3,null,{"$f":"'12. Diet ingredient data'!C92","v":0.99},{"$f":"'12. Diet ingredient data'!E92","v":0.99},0,{"$f":"'12. Diet ingredient data'!K92","v":2.0000000000000001E-4},{"$f":"'12. Diet ingredient data'!N92","v":0},{"$f":"'12. Diet ingredient data'!H92","v":0},null,null,"Limestone",null,5.0000000000000001E-3,6.0000000000000001E-3,6.0000000000000001E-3]
[null,"Monodicalcium phosphate (MDCP)",{"$f":"'12. Diet ingredient data'!I93","v":0},null,null,null,null,null,null,null,null,null,null,null,null,null,{"$f":"'12. Diet ingredient data'!C93","v":0.995},{"$f":"'12. Diet ingredient data'!E93","v":0.82},0,{"$f":"'12. Diet ingredient data'!K93","v":0.218},{"$f":"'12. Diet ingredient data'!N93","v":0},{"$f":"'12. Diet ingredient data'!H93","v":0},null,null,"Monodicalcium phosphate (MDCP)"]
[null,"Potassium Choride",{"$f":"'12. Diet ingredient data'!I94","v":0},null,null,null,null,null,null,null,null,4.0000000000000001E-3,3.0000000000000001E-3,null,null,null,{"$f":"'12. Diet ingredient data'!C94","v":1},{"$f":"'12. Diet ingredient data'!E94","v":1},0,{"$f":"'12. Diet ingredient data'!K94","v":0},{"$f":"'12. Diet ingredient data'!N94","v":0.52100000000000002},{"$f":"'12. Diet ingredient data'!H94","v":0},null,null,"Potassium Choride"]
[null,"Potassium sulphate",{"$f":"'12. Diet ingredient data'!I95","v":0},null,null,null,null,null,null,null,null,null,null,null,null,null,{"$f":"'12. Diet ingredient data'!C95","v":1},{"$f":"'12. Diet ingredient data'!E95","v":1},0,{"$f":"'12. Diet ingredient data'!K95","v":0},{"$f":"'12. Diet ingredient data'!N95","v":0.17550000000000002},{"$f":"'12. Diet ingredient data'!H95","v":0},null,null,"Potassium sulphate"]
[null,"Sodium Bicarbonate",{"$f":"'12. Diet ingredient data'!I96","v":0},null,null,null,null,null,null,null,null,null,null,null,null,null,{"$f":"'12. Diet ingredient data'!C96","v":1},{"$f":"'12. Diet ingredient data'!E96","v":0.625},0,{"$f":"'12. Diet ingredient data'!K96","v":0},{"$f":"'12. Diet ingredient data'!N96","v":0},{"$f":"'12. Diet ingredient data'!H96","v":0},null,null,"Sodium Bicarbonate"]
[null,"Salt",{"$f":"'12. Diet ingredient data'!I97","v":0},null,3.5E-4,{"$f":"IF(F$316=$Z$317, $Z99, IF(F$316=$AA$317, $AA99, IF(F$316=$AB$317, $AB99, IF(F$316=$AC$317, $AC99, 0))))","v":2.5000000000000001E-3},2.5000000000000001E-3,2.5000000000000001E-3,2.5000000000000001E-3,0,0,4.0000000000000001E-3,4.0000000000000001E-3,4.0000000000000001E-3,4.0000000000000001E-3,null,{"$f":"'12. Diet ingredient data'!C97","v":1},{"$f":"'12. Diet ingredient data'!E97","v":1},0,{"$f":"'12. Diet ingredient data'!K97","v":0},{"$f":"'12. Diet ingredient data'!N97","v":0},{"$f":"'12. Diet ingredient data'!H97","v":0},null,null,"Salt",2.5000000000000001E-3,2.5000000000000001E-3,2.5000000000000001E-3,2.5000000000000001E-3]
[null,"HiZox/Zinco Plus",{"$f":"'12. Diet ingredient data'!I98","v":0},null,null,null,null,null,null,null,null,null,null,null,null,null,{"$f":"'12. Diet ingredient data'!C98","v":1},{"$f":"'12. Diet ingredient data'!E98","v":0.98},0,{"$f":"'12. Diet ingredient data'!K98","v":0},{"$f":"'12. Diet ingredient data'!N98","v":0},{"$f":"'12. Diet ingredient data'!H98","v":0},null,null,"HiZox/Zinco Plus"]
[null,"Zinc Oxide",{"$f":"'12. Diet ingredient data'!I99","v":0},null,2.9999999999999997E-4,{"$f":"IF(F$316=$Z$317, $Z101, IF(F$316=$AA$317, $AA101, IF(F$316=$AB$317, $AB101, IF(F$316=$AC$317, $AC101, 0))))","v":3.0000000000000001E-3},0,0,0,0,0,null,null,null,null,null,{"$f":"'12. Diet ingredient data'!C99","v":1},{"$f":"'12. Diet ingredient data'!E99","v":0.98},0,{"$f":"'12. Diet ingredient data'!K99","v":0},{"$f":"'12. Diet ingredient data'!N99","v":0},{"$f":"'12. Diet ingredient data'!H99","v":0},null,null,"Zinc Oxide",3.0000000000000001E-3]
[null,"Synthetic amino acids",null,null,null,null,null,null,null,null,null,null,null,null,null,null,null,null,null,null,null,null,null,null,"Synthetic amino acids"]
[null,"L-Isoleucine",{"$f":"'12. Diet ingredient data'!I101","v":0.625},null,1.05E-4,{"$f":"IF(F$316=$Z$317, $Z103, IF(F$316=$AA$317, $AA103, IF(F$316=$AB$317, $AB103, IF(F$316=$AC$317, $AC103, 0))))","v":8.25E-4},0,3.5E-4,0,0,0,null,null,null,null,null,{"$f":"'12. Diet ingredient data'!C101","v":0.98499999999999999},{"$f":"'12. Diet ingredient data'!E101","v":5.0000000000000001E-3},{"$f":"(IF(D103=\"\", C103, D103))/6.25","v":0.1},{"$f":"'12. Diet ingredient data'!K101","v":0},{"$f":"'12. Diet ingredient data'!N101","v":0},{"$f":"'12. Diet ingredient data'!H101","v":1},null,null,"L-Isoleucine",8.25E-4,null,3.5E-4]
[null,"L-Lysine HCL",{"$f":"'12. Diet ingredient data'!I102","v":0.95400000000000007},null,4.4999999999999999E-4,4.4999999999999997E-3,4.4999999999999997E-3,4.4999999999999997E-3,3.0000000000000001E-3,0,0,3.3E-3,5.0000000000000001E-4,3.0500000000000002E-3,1.4999999999999999E-4,null,{"$f":"'12. Diet ingredient data'!C102","v":0.995},{"$f":"'12. Diet ingredient data'!E102","v":5.0000000000000001E-3},{"$f":"(IF(D104=\"\", C104, D104))/6.25","v":0.15264},{"$f":"'12. Diet ingredient data'!K102","v":0},{"$f":"'12. Diet ingredient data'!N102","v":0},{"$f":"'12. Diet ingredient data'!H102","v":0.99950024987506236},null,null,"L-Lysine HCL",4.4999999999999997E-3,4.4999999999999997E-3,4.4999999999999997E-3,3.0000000000000001E-3]
[null,"DL-Methionie",{"$f":"'12. Diet ingredient data'!I103","v":0.58399999999999996},null,2.2000000000000001E-4,1.75E-3,8.0000000000000004E-4,7.7499999999999997E-4,4.75E-4,0,0,2.4000000000000001E-4,null,3.8099999999999999E-4,null,null,{"$f":"'12. Diet ingredient data'!C103","v":0.995},{"$f":"'12. Diet ingredient data'!E103","v":2E-3},{"$f":"(IF(D105=\"\", C105, D105))/6.25","v":9.3439999999999995E-2},{"$f":"'12. Diet ingredient data'!K103","v":0},{"$f":"'12. Diet ingredient data'!N103","v":0},{"$f":"'12. Diet ingredient data'!H103","v":1},null,null,"DL-Methionie",1.75E-3,8.0000000000000004E-4,7.7499999999999997E-4,4.75E-4]
[null,"L-Threonine",{"$f":"'12. Diet ingredient data'!I104","v":0.73099999999999998},null,1.95E-4,1.8E-3,1.25E-3,1.2750000000000001E-3,5.2499999999999997E-4,0,0,8.4999999999999995E-4,null,1.33E-3,null,null,{"$f":"'12. Diet ingredient data'!C104","v":0.995},{"$f":"'12. Diet ingredient data'!E104","v":5.0000000000000001E-3},{"$f":"(IF(D106=\"\", C106, D106))/6.25","v":0.11695999999999999},{"$f":"'12. Diet ingredient data'!K104","v":0},{"$f":"'12. Diet ingredient data'!N104","v":0},{"$f":"'12. Diet ingredient data'!H104","v":0.99767981438515085},null,null,"L-Threonine",1.8E-3,1.25E-3,1.2750000000000001E-3,5.2499999999999997E-4]
[null,"L-Tryptophan",{"$f":"'12. Diet ingredient data'!I105","v":0.85299999999999998},null,6.7500000000000001E-5,2.9999999999999997E-4,5.0000000000000002E-5,1.75E-4,1.4999999999999999E-4,0,0,1.17E-4,null,1.4300000000000001E-4,null,null,{"$f":"'12. Diet ingredient data'!C105","v":0.995},{"$f":"'12. Diet ingredient data'!E105","v":5.0000000000000001E-3},{"$f":"(IF(D107=\"\", C107, D107))/6.25","v":0.13647999999999999},{"$f":"'12. Diet ingredient data'!K105","v":0},{"$f":"'12. Diet ingredient data'!N105","v":0},{"$f":"'12. Diet ingredient data'!H105","v":1.0007278020378456},null,null,"L-Tryptophan",2.9999999999999997E-4,5.0000000000000002E-5,1.75E-4,1.4999999999999999E-4]
[null,"Micellaneous ingredients",null,null,null,null,null,null,null,null,null,null,null,null,null,null,null,null,null,null,null,null,null,null,"Micellaneous ingredients"]
[null,"Lactose",{"$f":"'12. Diet ingredient data'!I107","v":0},null,2.5000000000000001E-3,null,null,null,null,null,null,null,null,null,null,null,{"$f":"'12. Diet ingredient data'!C107","v":0.99},{"$f":"'12. Diet ingredient data'!E107","v":5.0000000000000001E-3},{"$f":"(IF(D109=\"\", C109, D109))/6.25","v":0},{"$f":"'12. Diet ingredient data'!K107","v":4.0000000000000002E-4},{"$f":"'12. Diet ingredient data'!N107","v":0},{"$f":"'12. Diet ingredient data'!H107","v":0.755},null,null,"Lactose"]
[null,"Levucell",{"$f":"'12. Diet ingredient data'!I108","v":0},null,null,null,null,null,null,null,null,null,null,null,null,null,{"$f":"'12. Diet ingredient data'!C108","v":0.95},{"$f":"'12. Diet ingredient data'!E108","v":0.06},{"$f":"(IF(D110=\"\", C110, D110))/6.25","v":0},{"$f":"'12. Diet ingredient data'!K108","v":0},{"$f":"'12. Diet ingredient data'!N108","v":0},{"$f":"'12. Diet ingredient data'!H108","v":0.86999999999999988},null,null,"Levucell"]
[null,"Vitamin/mineral premixes",null,null,null,null,null,null,null,null,null,null,null,null,null,null,null,null,null,null,null,null,null,null,"Vitamin/mineral premixes"]
[null,"Breeder premix",{"$f":"'12. Diet ingredient data'!I110","v":0},null,null,null,null,null,null,null,null,2E-3,2E-3,2E-3,2E-3,null,{"$f":"'12. Diet ingredient data'!C110","v":1},{"$f":"'12. Diet ingredient data'!E110","v":0.23},{"$f":"(IF(D112=\"\", C112, D112))/6.25","v":0},{"$f":"'12. Diet ingredient data'!K110","v":0},{"$f":"'12. Diet ingredient data'!N110","v":0},{"$f":"'12. Diet ingredient data'!H110","v":0},null,null,"Breeder premix"]
[null,"Grower premix",{"$f":"'12. Diet ingredient data'!I111","v":0.05},null,null,{"$f":"IF(F$316=$Z$317, $Z113, IF(F$316=$AA$317, $AA113, IF(F$316=$AB$317, $AB113, IF(F$316=$AC$317, $AC113, 0))))","v":0},2E-3,2E-3,2E-3,0,0,null,null,null,null,null,{"$f":"'12. Diet ingredient data'!C111","v":1},{"$f":"'12. Diet ingredient data'!E111","v":0.23},{"$f":"(IF(D113=\"\", C113, D113))/6.25","v":8.0000000000000002E-3},{"$f":"'12. Diet ingredient data'!K111","v":2.3999999999999998E-3},{"$f":"'12. Diet ingredient data'!N111","v":2.8E-3},{"$f":"'12. Diet ingredient data'!H111","v":0},null,null,"Grower premix",null,2E-3,2E-3,2E-3]
[null,"Weaner premix",{"$f":"'12. Diet ingredient data'!I112","v":0},null,2.0000000000000001E-4,2E-3,0,0,0,0,0,null,null,null,null,null,{"$f":"'12. Diet ingredient data'!C112","v":1},{"$f":"'12. Diet ingredient data'!E112","v":0.23},{"$f":"(IF(D114=\"\", C114, D114))/6.25","v":0},{"$f":"'12. Diet ingredient data'!K112","v":0},{"$f":"'12. Diet ingredient data'!N112","v":0},{"$f":"'12. Diet ingredient data'!H112","v":0},null,null,"Weaner premix",2E-3]
[null,"Enzymes",null,null,null,null,null,null,null,null,null,null,null,null,null,null,null,null,null,null,null,null,null,null,"Enzymes"]
[null,"Feedzyme ",{"$f":"'12. Diet ingredient data'!I114","v":0},null,null,null,null,null,null,null,null,null,null,null,null,null,{"$f":"'12. Diet ingredient data'!C114","v":1},{"$f":"'12. Diet ingredient data'!E114","v":0},{"$f":"(IF(D116=\"\", C116, D116))/6.25","v":0},{"$f":"'12. Diet ingredient data'!K114","v":0},{"$f":"'12. Diet ingredient data'!N114","v":0},{"$f":"'12. Diet ingredient data'!H114","v":0},null,null,"FEEDZYME (1 kg dose)"]
[null,"Axtra Phy",{"$f":"'12. Diet ingredient data'!I115","v":0},null,1.0000000000000001E-5,{"$f":"IF(F$316=$Z$317, $Z117, IF(F$316=$AA$317, $AA117, IF(F$316=$AB$317, $AB117, IF(F$316=$AC$317, $AC117, 0))))","v":1E-4},1E-4,1E-4,1E-4,0,0,1E-4,1E-4,1E-4,1E-4,null,{"$f":"'12. Diet ingredient data'!C115","v":1},{"$f":"'12. Diet ingredient data'!E115","v":0},0,{"$f":"'12. Diet ingredient data'!K115","v":0},{"$f":"'12. Diet ingredient data'!N115","v":0},{"$f":"'12. Diet ingredient data'!H115","v":0},null,null,"Kemzyme",1E-4,1E-4,1E-4,1E-4]
[null,"Axtra XB",{"$f":"'12. Diet ingredient data'!I116","v":0},null,null,null,null,null,null,null,null,null,1E-4,null,null,null,{"$f":"'12. Diet ingredient data'!C116","v":1},{"$f":"'12. Diet ingredient data'!E116","v":0},0,{"$f":"'12. Diet ingredient data'!K116","v":0},{"$f":"'12. Diet ingredient data'!N116","v":0},{"$f":"'12. Diet ingredient data'!H116","v":0},null,null,"Phyzyme (500 FTU OR 100g dose)"]
[null,"Natuphos Blue",{"$f":"'12. Diet ingredient data'!I117","v":0},null,null,null,null,null,null,null,null,null,null,null,null,null,{"$f":"'12. Diet ingredient data'!C117","v":1},{"$f":"'12. Diet ingredient data'!E117","v":0},0,{"$f":"'12. Diet ingredient data'!K117","v":0},{"$f":"'12. Diet ingredient data'!N117","v":0},{"$f":"'12. Diet ingredient data'!H117","v":0},null,null,"Phyzyme (1000 FTU OR 200g dose)"]
[null,"Ronozyme P 5000 (150g dose)",{"$f":"'12. Diet ingredient data'!I118","v":0},null,null,null,null,null,null,null,null,null,null,null,null,null,{"$f":"'12. Diet ingredient data'!C118","v":1},{"$f":"'12. Diet ingredient data'!E118","v":0},0,{"$f":"'12. Diet ingredient data'!K118","v":0},{"$f":"'12. Diet ingredient data'!N118","v":0},{"$f":"'12. Diet ingredient data'!H118","v":0},null,null,"Ronozyme P 5000 (150g dose)"]
[null,"Rovabio Excel premix",{"$f":"'12. Diet ingredient data'!I119","v":0},null,5.0000000000000002E-5,{"$f":"IF(F$316=$Z$317, $Z121, IF(F$316=$AA$317, $AA121, IF(F$316=$AB$317, $AB121, IF(F$316=$AC$317, $AC121, 0))))","v":5.0000000000000001E-4},5.0000000000000001E-4,5.0000000000000001E-4,5.0000000000000001E-4,0,0,5.0000000000000001E-4,null,null,null,null,{"$f":"'12. Diet ingredient data'!C119","v":1},{"$f":"'12. Diet ingredient data'!E119","v":0},0,{"$f":"'12. Diet ingredient data'!K119","v":0},{"$f":"'12. Diet ingredient data'!N119","v":0},{"$f":"'12. Diet ingredient data'!H119","v":0},null,null,"Rovabio Excel premix",5.0000000000000001E-4,5.0000000000000001E-4,5.0000000000000001E-4,5.0000000000000001E-4]
[null,"Rovabio T-Flex ",{"$f":"'12. Diet ingredient data'!I120","v":0},null,null,null,null,null,null,null,null,null,null,null,null,null,{"$f":"'12. Diet ingredient data'!C120","v":1},{"$f":"'12. Diet ingredient data'!E120","v":0},0,{"$f":"'12. Diet ingredient data'!K120","v":0},{"$f":"'12. Diet ingredient data'!N120","v":0},{"$f":"'12. Diet ingredient data'!H120","v":0},null,null,"Allzyme SSF"]
[null,"Toxin Binders",null,null,null,null,null,null,null,null,null,null,null,null,null,null,null,null,null,null,null,null,null,null,"Toxin Binders"]
[null,"Mycofix",{"$f":"'12. Diet ingredient data'!I122","v":0},null,2.0000000000000001E-4,null,null,null,null,null,null,2E-3,2E-3,2E-3,null,null,{"$f":"'12. Diet ingredient data'!C122","v":1},{"$f":"'12. Diet ingredient data'!E122","v":0.98},{"$f":"(IF(D124=\"\", C124, D124))/6.25","v":0},{"$f":"'12. Diet ingredient data'!K122","v":0},{"$f":"'12. Diet ingredient data'!N122","v":0},{"$f":"'12. Diet ingredient data'!H122","v":0},null,null,"Mycofix"]
[null,"Mycosorb",{"$f":"'12. Diet ingredient data'!I123","v":0},null,null,null,null,null,null,null,null,null,null,null,null,null,{"$f":"'12. Diet ingredient data'!C123","v":1},{"$f":"'12. Diet ingredient data'!E123","v":0.85},{"$f":"(IF(D125=\"\", C125, D125))/6.25","v":0},{"$f":"'12. Diet ingredient data'!K123","v":0},{"$f":"'12. Diet ingredient data'!N123","v":0},{"$f":"'12. Diet ingredient data'!H123","v":0},null,null,"Mycosorb"]
[null,"Elitox",{"$f":"'12. Diet ingredient data'!I124","v":0},null,null,{"$f":"IF(F$316=$Z$317, $Z126, IF(F$316=$AA$317, $AA126, IF(F$316=$AB$317, $AB126, IF(F$316=$AC$317, $AC126, 0))))","v":1E-3},1E-3,1E-3,0,0,0,null,null,null,null,null,{"$f":"'12. Diet ingredient data'!C124","v":1},{"$f":"'12. Diet ingredient data'!E124","v":0.85},{"$f":"(IF(D126=\"\", C126, D126))/6.25","v":0},{"$f":"'12. Diet ingredient data'!K124","v":0},{"$f":"'12. Diet ingredient data'!N124","v":0},{"$f":"'12. Diet ingredient data'!H124","v":0},null,null,"Elitox",1E-3,1E-3,1E-3]
[null,"Mastersorb ",{"$f":"'12. Diet ingredient data'!I125","v":0},null,null,0,0,0,5.0000000000000001E-4,0,0,null,null,null,null,null,{"$f":"'12. Diet ingredient data'!C125","v":1},{"$f":"'12. Diet ingredient data'!E125","v":0.85},{"$f":"(IF(D127=\"\", C127, D127))/6.25","v":0},{"$f":"'12. Diet ingredient data'!K125","v":0},{"$f":"'12. Diet ingredient data'!N125","v":0},{"$f":"'12. Diet ingredient data'!H125","v":0},null,null,"Mastersorb ",null,null,null,5.0000000000000001E-4]
[null,"Acidifiers",null,null,null,null,null,null,null,null,null,null,null,null,null,null,null,null,null,null,null,null,null,null,"Acidifiers"]
[null,"Formi Acid",{"$f":"'12. Diet ingredient data'!I127","v":0},null,null,null,null,null,null,null,null,null,null,null,null,null,{"$f":"'12. Diet ingredient data'!C127","v":1},{"$f":"'12. Diet ingredient data'!E127","v":0},{"$f":"(IF(D129=\"\", C129, D129))/6.25","v":0},{"$f":"'12. Diet ingredient data'!K127","v":0},{"$f":"'12. Diet ingredient data'!N127","v":0},{"$f":"'12. Diet ingredient data'!H127","v":0},null,null,"Formi Acid"]
[null,"Top3",{"$f":"'12. Diet ingredient data'!I128","v":0},null,null,{"$f":"IF(F$316=$Z$317, $Z130, IF(F$316=$AA$317, $AA130, IF(F$316=$AB$317, $AB130, IF(F$316=$AC$317, $AC130, 0))))","v":1.5E-3},0,0,0,0,0,null,null,null,null,null,{"$f":"'12. Diet ingredient data'!C128","v":1},{"$f":"'12. Diet ingredient data'!E128","v":0},{"$f":"(IF(D130=\"\", C130, D130))/6.25","v":0},{"$f":"'12. Diet ingredient data'!K128","v":0},{"$f":"'12. Diet ingredient data'!N128","v":0},{"$f":"'12. Diet ingredient data'!H128","v":0},null,null,"Top3",1.5E-3]
[null,"Tetracid 500",{"$f":"'12. Diet ingredient data'!I129","v":0},null,null,null,null,null,null,null,null,null,null,null,null,null,{"$f":"'12. Diet ingredient data'!C129","v":1},{"$f":"'12. Diet ingredient data'!E129","v":0},{"$f":"(IF(D131=\"\", C131, D131))/6.25","v":0},{"$f":"'12. Diet ingredient data'!K129","v":0},{"$f":"'12. Diet ingredient data'!N129","v":0},{"$f":"'12. Diet ingredient data'!H129","v":0},null,null,"Tetracid 500"]
[null,"AcidLac",{"$f":"'12. Diet ingredient data'!I130","v":0},null,null,null,null,null,null,null,null,null,null,null,null,null,{"$f":"'12. Diet ingredient data'!C130","v":1},{"$f":"'12. Diet ingredient data'!E130","v":0},{"$f":"(IF(D132=\"\", C132, D132))/6.25","v":0},{"$f":"'12. Diet ingredient data'!K130","v":0},{"$f":"'12. Diet ingredient data'!N130","v":0},{"$f":"'12. Diet ingredient data'!H130","v":0},null,null,"AcidLac"]
[null,"VevoVital ",{"$f":"'12. Diet ingredient data'!I131","v":0},null,5.0000000000000001E-4,null,null,null,null,null,null,null,null,null,null,null,{"$f":"'12. Diet ingredient data'!C131","v":1},{"$f":"'12. Diet ingredient data'!E131","v":0},{"$f":"(IF(D133=\"\", C133, D133))/6.25","v":0},{"$f":"'12. Diet ingredient data'!K131","v":0},{"$f":"'12. Diet ingredient data'!N131","v":0},{"$f":"'12. Diet ingredient data'!H131","v":0},null,null,"VevoVital "]
[null,"Other Additives",null,null,null,null,null,null,null,null,null,null,null,null,null,null,null,null,null,null,null,null,null,null,"Other Additives"]
[null,"Krave",{"$f":"'12. Diet ingredient data'!I133","v":0},null,4.0000000000000003E-5,{"$f":"IF(F$316=$Z$317, $Z135, IF(F$316=$AA$317, $AA135, IF(F$316=$AB$317, $AB135, IF(F$316=$AC$317, $AC135, 0))))","v":4.0000000000000002E-4},0,0,0,0,0,null,null,null,null,null,{"$f":"'12. Diet ingredient data'!C133","v":1},{"$f":"'12. Diet ingredient data'!E133","v":0.98},{"$f":"(IF(D135=\"\", C135, D135))/6.25","v":0},{"$f":"'12. Diet ingredient data'!K133","v":0},{"$f":"'12. Diet ingredient data'!N133","v":0},{"$f":"'12. Diet ingredient data'!H133","v":0},null,null,"Biomin® pHD",4.0000000000000002E-4]
[null,"Betaine",{"$f":"'12. Diet ingredient data'!I134","v":0},null,1E-4,1E-3,1E-3,0,0,0,0,1.5E-3,1E-3,5.0000000000000001E-4,null,null,{"$f":"'12. Diet ingredient data'!C134","v":1},{"$f":"'12. Diet ingredient data'!E134","v":0.98},{"$f":"(IF(D136=\"\", C136, D136))/6.25","v":0},{"$f":"'12. Diet ingredient data'!K134","v":0},{"$f":"'12. Diet ingredient data'!N134","v":0},{"$f":"'12. Diet ingredient data'!H134","v":0},null,null,"Biomos",1E-3,1E-3]
[null,"Biomos",{"$f":"'12. Diet ingredient data'!I135","v":0},null,null,null,null,null,null,null,null,null,null,null,null,null,{"$f":"'12. Diet ingredient data'!C135","v":1},{"$f":"'12. Diet ingredient data'!E135","v":0.98},{"$f":"(IF(D137=\"\", C137, D137))/6.25","v":0},{"$f":"'12. Diet ingredient data'!K135","v":0},{"$f":"'12. Diet ingredient data'!N135","v":0},{"$f":"'12. Diet ingredient data'!H135","v":0},null,null,"De-Oderase"]
[null,"De-Oderase",{"$f":"'12. Diet ingredient data'!I136","v":0},null,null,null,null,null,null,null,null,null,null,null,null,null,{"$f":"'12. Diet ingredient data'!C136","v":0.99},{"$f":"'12. Diet ingredient data'!E136","v":0.98},{"$f":"(IF(D138=\"\", C138, D138))/6.25","v":0},{"$f":"'12. Diet ingredient data'!K136","v":0},{"$f":"'12. Diet ingredient data'!N136","v":0},{"$f":"'12. Diet ingredient data'!H136","v":0},null,null,"Paylean"]
[null,"Bedding Materials",null,null,null,null,null,null,null,null,null,null,null,null,null,null,null,null,null,null,null,null,null,null,"Bedding Materials"]
[null,"Hardwood sawdust",{"$f":"'12. Diet ingredient data'!I138","v":1.2375000000000001E-2},null,null,null,null,null,null,null,null,null,null,null,null,null,{"$f":"'12. Diet ingredient data'!C138","v":0.9},{"$f":"'12. Diet ingredient data'!E138","v":0},{"$f":"(IF(D140=\"\", C140, D140))/6.25","v":1.98E-3},{"$f":"'12. Diet ingredient data'!K138","v":9.0000000000000006E-5},{"$f":"'12. Diet ingredient data'!N138","v":4.5000000000000004E-4},{"$f":"'12. Diet ingredient data'!H138","v":0.05},null,null,"Hardwood sawdust"]
[null,"Softwood sawdust/shavings",{"$f":"'12. Diet ingredient data'!I139","v":7.8750000000000001E-3},null,null,null,null,null,null,null,null,null,null,null,null,null,{"$f":"'12. Diet ingredient data'!C139","v":0.9},{"$f":"'12. Diet ingredient data'!E139","v":0},1.2600000000000001E-3,{"$f":"'12. Diet ingredient data'!K139","v":9.0000000000000006E-5},{"$f":"'12. Diet ingredient data'!N139","v":2.7E-4},{"$f":"'12. Diet ingredient data'!H139","v":0.16},null,null,"Softwood sawdust/shavings"]
[null,"Rice Hulls",{"$f":"'12. Diet ingredient data'!I140","v":3.0475000000000002E-2},null,null,null,null,null,null,null,null,null,null,null,null,null,{"$f":"'12. Diet ingredient data'!C140","v":0.92},{"$f":"'12. Diet ingredient data'!E140","v":0.05},4.8760000000000001E-3,{"$f":"'12. Diet ingredient data'!K140","v":7.3600000000000011E-4},{"$f":"'12. Diet ingredient data'!N140","v":1.2144E-2},{"$f":"'12. Diet ingredient data'!H140","v":0.15625},null,null,"Rice Hulls"]
[null,"Barley straw",{"$f":"'12. Diet ingredient data'!I141","v":3.9243750000000001E-2},null,null,null,null,null,null,null,null,null,null,null,null,null,{"$f":"'12. Diet ingredient data'!C141","v":0.91},{"$f":"'12. Diet ingredient data'!E141","v":0.06},6.2789999999999999E-3,{"$f":"'12. Diet ingredient data'!K141","v":6.3699999999999998E-4},{"$f":"'12. Diet ingredient data'!N141","v":2.1566999999999999E-2},{"$f":"'12. Diet ingredient data'!H141","v":0.125},null,null,"Barley straw"]
[null,"Wheat straw",{"$f":"'12. Diet ingredient data'!I142","v":3.22625E-2},null,null,null,null,null,null,null,null,null,null,null,null,null,{"$f":"'12. Diet ingredient data'!C142","v":0.89},{"$f":"'12. Diet ingredient data'!E142","v":5.8500000000000003E-2},5.1619999999999999E-3,{"$f":"'12. Diet ingredient data'!K142","v":3.6490000000000003E-3},{"$f":"'12. Diet ingredient data'!N142","v":4.5390000000000005E-3},{"$f":"'12. Diet ingredient data'!H142","v":0.14792899408284024},null,null,"Wheat straw"]
[null,"Shredded paper",{"$f":"'12. Diet ingredient data'!I143","v":0},null,null,null,null,null,null,null,null,null,null,null,null,null,{"$f":"'12. Diet ingredient data'!C143","v":0.9},{"$f":"'12. Diet ingredient data'!E143","v":0},0,{"$f":"'12. Diet ingredient data'!K143","v":9.0000000000000006E-5},{"$f":"'12. Diet ingredient data'!N143","v":0},{"$f":"'12. Diet ingredient data'!H143","v":0.1},null,null,"Shredded paper"]
[null,"Additional ingredients",null,null,null,null,null,null,null,null,null,null,null,null,null,null,null,null,null,null,null,null,null,null,"Additional ingredients"]
[null,{"$f":"IF('12. Diet ingredient data'!B145=\"\", \"\", '12. Diet ingredient data'!B145)","v":"Sow milk"},{"$f":"IF('12. Diet ingredient data'!I145=\"\",0,'12. Diet ingredient data'!I145)","v":5.6300000000000003E-2},null,0.9,null,null,null,null,null,null,null,null,null,null,null,{"$f":"'12. Diet ingredient data'!C145","v":0.2},{"$f":"'12. Diet ingredient data'!E145","v":0.01},{"$f":"(IF(D147=\"\", C147, D147))/6.25","v":9.0080000000000004E-3},{"$f":"'12. Diet ingredient data'!K145","v":1.5E-3},{"$f":"'12. Diet ingredient data'!N145","v":6.9999999999999999E-4},{"$f":"'12. Diet ingredient data'!H145","v":1},null,null,{"$f":"IF('12. Diet ingredient data'!Y145=\"\", \"\", '12. Diet ingredient data'!Y145)","v":""}]
[null,{"$f":"IF('12. Diet ingredient data'!B146=\"\", \"\", '12. Diet ingredient data'!B146)","v":"Milk fat"},{"$f":"IF('12. Diet ingredient data'!I146=\"\",0,'12. Diet ingredient data'!I146)","v":0},null,null,null,null,null,null,null,null,null,null,null,null,null,{"$f":"'12. Diet ingredient data'!C146","v":0.99},{"$f":"'12. Diet ingredient data'!E146","v":0},{"$f":"(IF(D148=\"\", C148, D148))/6.25","v":0},{"$f":"'12. Diet ingredient data'!K146","v":0},{"$f":"'12. Diet ingredient data'!N146","v":0},{"$f":"'12. Diet ingredient data'!H146","v":1},null,null,{"$f":"IF('12. Diet ingredient data'!Y146=\"\", \"\", '12. Diet ingredient data'!Y146)","v":""}]
[]
[]
[null,"Totals:",null,null,{"$f":"SUM(E11:E148)","v":1},0.99999999999999989,0.99999999999999978,0.99999999999999989,0.99999999999999989,0,0,1.0000000000000002,1,1,1,null,null,null,null,null,null,null,null,null,null,{"$f":"SUM(Z11:Z148)","v":0.99999999999999989},{"$f":"SUM(AA11:AA148)","v":0.99999999999999978},{"$f":"SUM(AB11:AB148)","v":0.99999999999999989},{"$f":"SUM(AC11:AC148)","v":0.99999999999999989}]
[]
[]
[]
[]
[]
["Diet B input"]
[]
[]
[]
[null,"National Guidelines pig class:",null,null,null,{"$f":"'Standard diet data'!F6","v":"Weaner"},{"$f":"'Standard diet data'!G6","v":"Grower"},{"$f":"'Standard diet data'!H6","v":"Finisher"},{"$f":"'Standard diet data'!I6","v":"Finisher"},{"$f":"'Standard diet data'!J6","v":"Unallocated"},{"$f":"'Standard diet data'!K6","v":"Unallocated"}]
[null,"Standard diet description:",null,null,null,{"$f":"'Standard diet data'!F7","v":"Weaner"},{"$f":"'Standard diet data'!G7","v":"Porker"},{"$f":"'Standard diet data'!H7","v":"Grower"},{"$f":"'Standard diet data'!I7","v":"Finisher"},{"$f":"'Standard diet data'!J7","v":"Unallocated"},{"$f":"'Standard diet data'!K7","v":"Unallocated"},null,null,null,null,null,null,null,null,null,null,null,null,null,null,"Standard diet description"]
[null,"Ingredient","Default crude protein","Alternate crude protein","Sucker",{"$f":"'3. Herd Input'!M17","v":"Weaner"},{"$f":"'3. Herd Input'!M18","v":"Porker"},{"$f":"'3. Herd Input'!M19","v":"Grower"},{"$f":"'3. Herd Input'!M20","v":"Finisher"},{"$f":"'3. Herd Input'!M21","v":"Unallocated"},{"$f":"'3. Herd Input'!M22","v":"Unallocated"},"Lac sow","Dry sow","Gilts","Boars",null,"DM\n","Ash","N","Total P","K","DMD",null,null,"Ingredient","Weaner","Porker","Grower","Finisher"]
[null,null,"(%)","(%)","(% fed weight)","(% fed weight)","(% fed weight)","(% fed weight)","(% fed weight)","(% fed weight)","(% fed weight)","(% fed weight)","(% fed weight)","(% fed weight)","(% fed weight)",null,"(%) Ing DM","(%) Ing Ash","(%)","(%)","(%)","(%) Ing DM",null,null,null,"(% fed weight)","(% fed weight)","(% fed weight)","(% fed weight)"]
[null,"Cereal Grains",null,null,null,null,null,null,null,null,null,null,null,null,null,null,null,null,null,null,null,null,null,null,"Cereal Grains"]
[null,"Barley",{"$f":"'12. Diet ingredient data'!I9","v":0.1},null,1.4999999999999999E-2,{"$f":"IF(F$316=$Z$317, $Z166, IF(F$316=$AA$317, $AA166, IF(F$316=$AB$317, $AB166, IF(F$316=$AC$317, $AC166, 0))))","v":0.15},0.15,0.152,0.44550000000000001,0,0,0.3,0.6,0.6,0.76375000000000004,null,{"$f":"'12. Diet ingredient data'!C9","v":0.88},{"$f":"'12. Diet ingredient data'!E9","v":2.1999999999999999E-2},{"$f":"(IF(D166=\"\", C166, D166))/6.25","v":1.6E-2},{"$f":"'12. Diet ingredient data'!K9","v":2.8E-3},{"$f":"'12. Diet ingredient data'!N9","v":4.6999999999999993E-3},{"$f":"'12. Diet ingredient data'!H9","v":0.81402629931120851},null,null,"Barley",0.15,0.15,0.152,0.44550000000000001]
[null,"Groats",{"$f":"'12. Diet ingredient data'!I10","v":0.11},null,null,null,null,null,null,null,null,null,null,null,null,null,{"$f":"'12. Diet ingredient data'!C10","v":0.9},{"$f":"'12. Diet ingredient data'!E10","v":2.1400000000000002E-2},1.7600000000000001E-2,{"$f":"'12. Diet ingredient data'!K10","v":3.0000000000000001E-3},{"$f":"'12. Diet ingredient data'!N10","v":3.4999999999999996E-3},{"$f":"'12. Diet ingredient data'!H10","v":0.93399750933997516},null,null,"Groats"]
[null,"Oats 9",{"$f":"'12. Diet ingredient data'!I11","v":0.09},null,null,null,null,null,null,null,null,null,null,null,null,null,{"$f":"'12. Diet ingredient data'!C11","v":0.88},{"$f":"'12. Diet ingredient data'!E11","v":2.64E-2},1.44E-2,{"$f":"'12. Diet ingredient data'!K11","v":3.2000000000000002E-3},{"$f":"'12. Diet ingredient data'!N11","v":3.5999999999999999E-3},{"$f":"'12. Diet ingredient data'!H11","v":0.69970845481049571},null,null,"Oats 9"]
[null,"Maize 8",{"$f":"'12. Diet ingredient data'!I12","v":0.08},null,null,null,null,null,null,null,null,null,null,null,null,null,{"$f":"'12. Diet ingredient data'!C12","v":0.88},{"$f":"'12. Diet ingredient data'!E12","v":1.21E-2},1.2800000000000001E-2,{"$f":"'12. Diet ingredient data'!K12","v":2.5999999999999999E-3},{"$f":"'12. Diet ingredient data'!N12","v":3.3E-3},{"$f":"'12. Diet ingredient data'!H12","v":0.89894606323620585},null,null,"Maize 8"]
[null,"Sorghum 11",{"$f":"'12. Diet ingredient data'!I13","v":0.11},null,null,null,null,null,null,null,null,null,null,null,null,null,{"$f":"'12. Diet ingredient data'!C13","v":0.88},{"$f":"'12. Diet ingredient data'!E13","v":0.02},1.7600000000000001E-2,{"$f":"'12. Diet ingredient data'!K13","v":2.8000000000000004E-3},{"$f":"'12. Diet ingredient data'!N13","v":3.4999999999999996E-3},{"$f":"'12. Diet ingredient data'!H13","v":0.87223587223587218},null,null,"Sorghum 11"]
[null,"Triticale 11",{"$f":"'12. Diet ingredient data'!I14","v":0.11},null,null,null,null,null,null,null,null,null,null,null,null,null,{"$f":"'12. Diet ingredient data'!C14","v":0.88},{"$f":"'12. Diet ingredient data'!E14","v":1.9199999999999998E-2},1.7600000000000001E-2,{"$f":"'12. Diet ingredient data'!K14","v":3.4999999999999996E-3},{"$f":"'12. Diet ingredient data'!N14","v":5.0000000000000001E-3},{"$f":"'12. Diet ingredient data'!H14","v":0.88888888888888884},null,null,"Triticale 11"]
[null,"Wheat 10",{"$f":"'12. Diet ingredient data'!I15","v":0.1},null,5.1862499999999999E-2,{"$f":"IF(F$316=$Z$317, $Z172, IF(F$316=$AA$317, $AA172, IF(F$316=$AB$317, $AB172, IF(F$316=$AC$317, $AC172, 0))))","v":0.60292500000000004},0.65207499999999996,0.65657500000000002,0.31801000000000001,0,0,0.4153,0.14080000000000001,0.14935000000000001,null,null,{"$f":"'12. Diet ingredient data'!C15","v":0.88},{"$f":"'12. Diet ingredient data'!E15","v":1.4999999999999999E-2},1.6E-2,{"$f":"'12. Diet ingredient data'!K15","v":3.4000000000000002E-3},{"$f":"'12. Diet ingredient data'!N15","v":4.0999999999999995E-3},{"$f":"'12. Diet ingredient data'!H15","v":0.88216761184625081},null,null,"Wheat 10",0.60292500000000004,0.65207499999999996,0.65657500000000002,0.31801000000000001]
[null,"Wheat 12",{"$f":"'12. Diet ingredient data'!I16","v":0.12},null,null,null,null,null,null,null,null,null,null,null,null,null,{"$f":"'12. Diet ingredient data'!C16","v":0.88},{"$f":"'12. Diet ingredient data'!E16","v":1.4999999999999999E-2},1.9199999999999998E-2,{"$f":"'12. Diet ingredient data'!K16","v":3.4000000000000002E-3},{"$f":"'12. Diet ingredient data'!N16","v":4.0999999999999995E-3},{"$f":"'12. Diet ingredient data'!H16","v":0.88216761184625081},null,null,"Wheat 12"]
[null,"Wheat Extruded",{"$f":"'12. Diet ingredient data'!I17","v":0.12},null,null,null,null,null,null,null,null,null,null,null,null,null,{"$f":"'12. Diet ingredient data'!C17","v":0.88},{"$f":"'12. Diet ingredient data'!E17","v":1.4999999999999999E-2},1.9199999999999998E-2,{"$f":"'12. Diet ingredient data'!K17","v":3.4000000000000002E-3},{"$f":"'12. Diet ingredient data'!N17","v":4.0999999999999995E-3},{"$f":"'12. Diet ingredient data'!H17","v":0.88235294117647056},null,null,"Wheat Extruded"]
[null,"Cereal by-products",null,null,null,null,null,null,null,null,null,null,null,null,null,null,null,null,null,null,null,null,null,null,"Cereal by-products"]
[null,"Hominy Meal",{"$f":"'12. Diet ingredient data'!I19","v":0.13400000000000001},null,null,null,null,null,null,null,null,null,null,null,null,null,{"$f":"'12. Diet ingredient data'!C19","v":0.89},{"$f":"'12. Diet ingredient data'!E19","v":4.6500000000000007E-2},{"$f":"(IF(D176=\"\", C176, D176))/6.25","v":2.1440000000000001E-2},{"$f":"'12. Diet ingredient data'!K19","v":7.7000000000000002E-3},{"$f":"'12. Diet ingredient data'!N19","v":0},{"$f":"'12. Diet ingredient data'!H19","v":0.85983510011778563},null,null,"Hominy Meal"]
[null,"Millrun",{"$f":"'12. Diet ingredient data'!I20","v":0.15},null,null,{"$f":"IF(F$316=$Z$317, $Z177, IF(F$316=$AA$317, $AA177, IF(F$316=$AB$317, $AB177, IF(F$316=$AC$317, $AC177, 0))))","v":0},0,0,0.1,0,0,0.1,0.1,0.1,0.1,null,{"$f":"'12. Diet ingredient data'!C20","v":0.87},{"$f":"'12. Diet ingredient data'!E20","v":0.05},2.4E-2,{"$f":"'12. Diet ingredient data'!K20","v":9.4999999999999998E-3},{"$f":"'12. Diet ingredient data'!N20","v":8.0000000000000002E-3},{"$f":"'12. Diet ingredient data'!H20","v":0.69696969696969702},null,null,"Millrun",null,null,null,0.1]
[null,"Rice Hulls",{"$f":"'12. Diet ingredient data'!I21","v":0.02},null,null,null,null,null,null,null,null,null,null,null,null,null,{"$f":"'12. Diet ingredient data'!C21","v":0.89},{"$f":"'12. Diet ingredient data'!E21","v":0.05},3.2000000000000002E-3,{"$f":"'12. Diet ingredient data'!K21","v":7.000000000000001E-4},{"$f":"'12. Diet ingredient data'!N21","v":8.0000000000000002E-3},{"$f":"'12. Diet ingredient data'!H21","v":0.15625},null,null,"Rice Hulls"]
[null,"Rice bran",{"$f":"'12. Diet ingredient data'!I22","v":0.155},null,null,null,null,null,null,null,null,null,null,null,null,null,{"$f":"'12. Diet ingredient data'!C22","v":0.9},{"$f":"'12. Diet ingredient data'!E22","v":0.13},2.4799999999999999E-2,{"$f":"'12. Diet ingredient data'!K22","v":1.7000000000000001E-2},{"$f":"'12. Diet ingredient data'!N22","v":1.15E-2},{"$f":"'12. Diet ingredient data'!H22","v":0.48125000000000001},null,null,"Rice bran"]
[null,"Soya hulls",{"$f":"'12. Diet ingredient data'!I23","v":0.12},null,null,null,null,null,null,null,null,null,null,null,null,null,{"$f":"'12. Diet ingredient data'!C23","v":0.89},{"$f":"'12. Diet ingredient data'!E23","v":4.4999999999999998E-2},1.9199999999999998E-2,{"$f":"'12. Diet ingredient data'!K23","v":1.1000000000000001E-3},{"$f":"'12. Diet ingredient data'!N23","v":1.2E-2},{"$f":"'12. Diet ingredient data'!H23","v":0.51509550215650024},null,null,"Soya hulls"]
[null,"Wheat Bran",{"$f":"'12. Diet ingredient data'!I24","v":0.15},null,null,null,null,null,null,null,null,null,null,null,null,null,{"$f":"'12. Diet ingredient data'!C24","v":0.87},{"$f":"'12. Diet ingredient data'!E24","v":5.0499999999999996E-2},2.4E-2,{"$f":"'12. Diet ingredient data'!K24","v":9.8999999999999991E-3},{"$f":"'12. Diet ingredient data'!N24","v":4.0000000000000001E-3},{"$f":"'12. Diet ingredient data'!H24","v":0.57177615571776153},null,null,"Wheat Bran"]
[null,"Wheat Pollard",{"$f":"'12. Diet ingredient data'!I25","v":0.15},null,null,null,null,null,null,null,null,null,null,null,null,null,{"$f":"'12. Diet ingredient data'!C25","v":0.87},{"$f":"'12. Diet ingredient data'!E25","v":4.7E-2},2.4E-2,{"$f":"'12. Diet ingredient data'!K25","v":9.4999999999999998E-3},{"$f":"'12. Diet ingredient data'!N25","v":1.2E-2},{"$f":"'12. Diet ingredient data'!H25","v":0.67755595886267383},null,null,"Wheat Pollard"]
[null,"Roots & Tubers",null,null,null,null,null,null,null,null,null,null,null,null,null,null,null,null,null,null,null,null,null,null,"Roots & Tubers"]
[null,"Cassava",{"$f":"'12. Diet ingredient data'!I27","v":0.03},null,null,null,null,null,null,null,null,null,null,null,null,null,{"$f":"'12. Diet ingredient data'!C27","v":0.87},{"$f":"'12. Diet ingredient data'!E27","v":5.5E-2},{"$f":"(IF(D184=\"\", C184, D184))/6.25","v":4.7999999999999996E-3},{"$f":"'12. Diet ingredient data'!K27","v":8.9999999999999998E-4},{"$f":"'12. Diet ingredient data'!N27","v":8.5000000000000006E-3},{"$f":"'12. Diet ingredient data'!H27","v":0.88275862068965527},null,null,"Cassava"]
[null,"By-products",null,null,null,null,null,null,null,null,null,null,null,null,null,null,null,null,null,null,null,null,null,null,"By-products"]
[null,"Biscuit Meal",{"$f":"'12. Diet ingredient data'!I29","v":0.1},null,null,null,null,null,null,null,null,null,null,null,null,null,{"$f":"'12. Diet ingredient data'!C29","v":0.89},{"$f":"'12. Diet ingredient data'!E29","v":0.03},{"$f":"(IF(D186=\"\", C186, D186))/6.25","v":1.6E-2},{"$f":"'12. Diet ingredient data'!K29","v":3.4999999999999996E-3},{"$f":"'12. Diet ingredient data'!N29","v":3.9000000000000003E-3},{"$f":"'12. Diet ingredient data'!H29","v":0.88823529411764701},null,null,"Biscuit Meal"]
[null,"Brewers Grains",{"$f":"'12. Diet ingredient data'!I30","v":0.22},null,null,null,null,null,null,null,null,null,null,null,null,null,{"$f":"'12. Diet ingredient data'!C30","v":0.88},{"$f":"'12. Diet ingredient data'!E30","v":4.4999999999999998E-2},3.5200000000000002E-2,{"$f":"'12. Diet ingredient data'!K30","v":5.0000000000000001E-3},{"$f":"'12. Diet ingredient data'!N30","v":3.0000000000000001E-3},{"$f":"'12. Diet ingredient data'!H30","v":0.65934065934065933},null,null,"Brewers Grains"]
[null,"Distller's Dried Grains & Solubles (DDGS)",{"$f":"'12. Diet ingredient data'!I31","v":0.26},null,null,null,null,null,null,null,null,null,null,null,null,null,{"$f":"'12. Diet ingredient data'!C31","v":0.9},{"$f":"'12. Diet ingredient data'!E31","v":0.05},4.1599999999999998E-2,{"$f":"'12. Diet ingredient data'!K31","v":8.5000000000000006E-3},{"$f":"'12. Diet ingredient data'!N31","v":1.23E-2},{"$f":"'12. Diet ingredient data'!H31","v":0.75980392156862753},null,null,"Distller's Dried Grains & Solubles (DDGS)"]
[null,"Molasses",{"$f":"'12. Diet ingredient data'!I32","v":0.04},null,null,null,null,null,null,null,null,null,null,null,0.01,null,{"$f":"'12. Diet ingredient data'!C32","v":0.745},{"$f":"'12. Diet ingredient data'!E32","v":0.1032},6.4000000000000003E-3,{"$f":"'12. Diet ingredient data'!K32","v":5.9999999999999995E-4},{"$f":"'12. Diet ingredient data'!N32","v":3.5000000000000003E-2},{"$f":"'12. Diet ingredient data'!H32","v":0.93466424682395655},null,null,"Molasses"]
[null,"Peanut shell",{"$f":"'12. Diet ingredient data'!I33","v":0.03},null,null,null,null,null,null,null,null,null,null,null,null,null,{"$f":"'12. Diet ingredient data'!C33","v":0.92},{"$f":"'12. Diet ingredient data'!E33","v":0.08},4.7999999999999996E-3,{"$f":"'12. Diet ingredient data'!K33","v":8.9999999999999998E-4},{"$f":"'12. Diet ingredient data'!N33","v":0.01},{"$f":"'12. Diet ingredient data'!H33","v":6.8750000000000006E-2},null,null,"Peanut shell"]
[null,"Sugar",{"$f":"'12. Diet ingredient data'!I34","v":0},null,null,null,null,null,null,null,null,null,null,null,null,null,{"$f":"'12. Diet ingredient data'!C34","v":0.99},{"$f":"'12. Diet ingredient data'!E34","v":5.0000000000000001E-3},0,{"$f":"'12. Diet ingredient data'!K34","v":4.0000000000000002E-4},{"$f":"'12. Diet ingredient data'!N34","v":0},{"$f":"'12. Diet ingredient data'!H34","v":0.755},null,null,"Sugar"]
[null,"Pulses",null,null,null,null,null,null,null,null,null,null,null,null,null,null,null,null,null,null,null,null,null,null,"Pulses"]
[null,"Faba beans",{"$f":"'12. Diet ingredient data'!I36","v":0.23},null,null,null,null,null,null,null,null,null,null,null,null,null,{"$f":"'12. Diet ingredient data'!C36","v":0.9},{"$f":"'12. Diet ingredient data'!E36","v":3.5299999999999998E-2},{"$f":"(IF(D193=\"\", C193, D193))/6.25","v":3.6799999999999999E-2},{"$f":"'12. Diet ingredient data'!K36","v":4.6999999999999993E-3},{"$f":"'12. Diet ingredient data'!N36","v":9.5999999999999992E-3},{"$f":"'12. Diet ingredient data'!H36","v":0.86309523809523803},null,null,"Faba beans"]
[null,"Lupins, albus",{"$f":"'12. Diet ingredient data'!I37","v":0.34},null,null,null,null,null,null,null,null,null,null,null,null,null,{"$f":"'12. Diet ingredient data'!C37","v":0.88},{"$f":"'12. Diet ingredient data'!E37","v":3.3000000000000002E-2},5.4400000000000004E-2,{"$f":"'12. Diet ingredient data'!K37","v":3.5999999999999999E-3},{"$f":"'12. Diet ingredient data'!N37","v":1.1000000000000001E-2},{"$f":"'12. Diet ingredient data'!H37","v":0.85561497326203206},null,null,"Lupins, albus"]
[null,"Lupins, augustifolius",{"$f":"'12. Diet ingredient data'!I38","v":0.30499999999999999},null,null,null,null,null,null,null,null,null,null,null,null,null,{"$f":"'12. Diet ingredient data'!C38","v":0.88},{"$f":"'12. Diet ingredient data'!E38","v":2.7999999999999997E-2},4.8799999999999996E-2,{"$f":"'12. Diet ingredient data'!K38","v":3.0000000000000001E-3},{"$f":"'12. Diet ingredient data'!N38","v":8.5000000000000006E-3},{"$f":"'12. Diet ingredient data'!H38","v":0.80662983425414359},null,null,"Lupins, augustifolius"]
[null,"Chick Peas",{"$f":"'12. Diet ingredient data'!I39","v":0.2},null,null,{"$f":"IF(F$316=$Z$317, $Z196, IF(F$316=$AA$317, $AA196, IF(F$316=$AB$317, $AB196, IF(F$316=$AC$317, $AC196, 0))))","v":0},0,0.05,0.05,0,0,0.05,0.05,0.05,null,null,{"$f":"'12. Diet ingredient data'!C39","v":0.9},{"$f":"'12. Diet ingredient data'!E39","v":0.03},3.2000000000000001E-2,{"$f":"'12. Diet ingredient data'!K39","v":3.7000000000000002E-3},{"$f":"'12. Diet ingredient data'!N39","v":8.0000000000000002E-3},{"$f":"'12. Diet ingredient data'!H39","v":0.86138049058756405},null,null,"Chick Peas",null,null,0.05,0.05]
[null,"Field Peas",{"$f":"'12. Diet ingredient data'!I40","v":0.20499999999999999},null,null,null,null,null,null,null,null,null,null,null,null,null,{"$f":"'12. Diet ingredient data'!C40","v":0.86},{"$f":"'12. Diet ingredient data'!E40","v":0.03},3.2799999999999996E-2,{"$f":"'12. Diet ingredient data'!K40","v":4.0000000000000001E-3},{"$f":"'12. Diet ingredient data'!N40","v":9.4999999999999998E-3},{"$f":"'12. Diet ingredient data'!H40","v":0.86309523809523803},null,null,"Field Peas"]
[null,"Mung Beans",{"$f":"'12. Diet ingredient data'!I41","v":0.24},null,null,null,null,null,null,null,null,null,null,null,null,null,{"$f":"'12. Diet ingredient data'!C41","v":0.9},{"$f":"'12. Diet ingredient data'!E41","v":3.7000000000000005E-2},3.8399999999999997E-2,{"$f":"'12. Diet ingredient data'!K41","v":6.9999999999999993E-3},{"$f":"'12. Diet ingredient data'!N41","v":4.0999999999999995E-3},{"$f":"'12. Diet ingredient data'!H41","v":0.90588235294117647},null,null,"Mung Beans"]
[null,"Navy Beans",{"$f":"'12. Diet ingredient data'!I42","v":0.24},null,null,null,null,null,null,null,null,null,null,null,null,null,{"$f":"'12. Diet ingredient data'!C42","v":0.9},{"$f":"'12. Diet ingredient data'!E42","v":3.7999999999999999E-2},3.8399999999999997E-2,{"$f":"'12. Diet ingredient data'!K42","v":4.3E-3},{"$f":"'12. Diet ingredient data'!N42","v":1.3500000000000002E-2},{"$f":"'12. Diet ingredient data'!H42","v":0.87804878048780499},null,null,"Navy Beans"]
[null,"Oilseed Meals",null,null,null,null,null,null,null,null,null,null,null,null,null,null,null,null,null,null,null,null,null,null,"Oilseed Meals"]
[null,"Canola Meal 37 Solvent",{"$f":"'12. Diet ingredient data'!I44","v":0.37},null,null,{"$f":"IF(F$316=$Z$317, $Z201, IF(F$316=$AA$317, $AA201, IF(F$316=$AB$317, $AB201, IF(F$316=$AC$317, $AC201, 0))))","v":0},9.2499999999999999E-2,0.09,0.03,0,0,null,6.7500000000000004E-2,5.5E-2,7.4999999999999997E-2,null,{"$f":"'12. Diet ingredient data'!C44","v":0.91},{"$f":"'12. Diet ingredient data'!E44","v":6.5000000000000002E-2},{"$f":"(IF(D201=\"\", C201, D201))/6.25","v":5.9200000000000003E-2},{"$f":"'12. Diet ingredient data'!K44","v":1.1000000000000001E-2},{"$f":"'12. Diet ingredient data'!N44","v":1.2500000000000001E-2},{"$f":"'12. Diet ingredient data'!H44","v":0.73529411764705888},null,null,"Canola Meal 37 Solvent",null,9.2499999999999999E-2,0.09,0.03]
[null,"Canola meal 32 Expeller",{"$f":"'12. Diet ingredient data'!I45","v":0.32},null,null,null,null,null,null,null,null,null,null,null,null,null,{"$f":"'12. Diet ingredient data'!C45","v":0.9},{"$f":"'12. Diet ingredient data'!E45","v":6.4000000000000001E-2},5.1200000000000002E-2,{"$f":"'12. Diet ingredient data'!K45","v":9.4999999999999998E-3},{"$f":"'12. Diet ingredient data'!N45","v":1.0500000000000001E-2},{"$f":"'12. Diet ingredient data'!H45","v":0.72181243414120122},null,null,"Canola meal 32 Expeller"]
[null,"Canola meal Cold Pressed 34",{"$f":"'12. Diet ingredient data'!I46","v":0.34},null,null,null,null,null,null,null,null,null,null,null,null,null,{"$f":"'12. Diet ingredient data'!C46","v":0.9},{"$f":"'12. Diet ingredient data'!E46","v":6.2E-2},5.4400000000000004E-2,{"$f":"'12. Diet ingredient data'!K46","v":9.5999999999999992E-3},{"$f":"'12. Diet ingredient data'!N46","v":1.23E-2},{"$f":"'12. Diet ingredient data'!H46","v":0.73684210526315785},null,null,"Canola meal Cold Pressed 34"]
[null,"Copra meal",{"$f":"'12. Diet ingredient data'!I47","v":0.21},null,null,null,null,null,null,null,null,null,null,null,null,null,{"$f":"'12. Diet ingredient data'!C47","v":0.9},{"$f":"'12. Diet ingredient data'!E47","v":6.2E-2},3.3599999999999998E-2,{"$f":"'12. Diet ingredient data'!K47","v":5.7999999999999996E-3},{"$f":"'12. Diet ingredient data'!N47","v":1.2999999999999999E-2},{"$f":"'12. Diet ingredient data'!H47","v":0.72017592083562387},null,null,"Copra meal"]
[null,"Cotton seed meal 43",{"$f":"'12. Diet ingredient data'!I48","v":0.43},null,null,null,null,null,null,null,null,null,null,null,null,null,{"$f":"'12. Diet ingredient data'!C48","v":0.9},{"$f":"'12. Diet ingredient data'!E48","v":6.5000000000000002E-2},6.88E-2,{"$f":"'12. Diet ingredient data'!K48","v":1.1399999999999999E-2},{"$f":"'12. Diet ingredient data'!N48","v":1.2500000000000001E-2},{"$f":"'12. Diet ingredient data'!H48","v":0.69444444444444453},null,null,"Cotton seed meal 43"]
[null,"Palm Kernel meal",{"$f":"'12. Diet ingredient data'!I49","v":0.14800000000000002},null,null,null,null,null,null,null,null,null,null,null,null,null,{"$f":"'12. Diet ingredient data'!C49","v":0.9},{"$f":"'12. Diet ingredient data'!E49","v":4.2000000000000003E-2},2.3680000000000003E-2,{"$f":"'12. Diet ingredient data'!K49","v":5.6000000000000008E-3},{"$f":"'12. Diet ingredient data'!N49","v":6.5000000000000006E-3},{"$f":"'12. Diet ingredient data'!H49","v":0.68643602416254801},null,null,"Palm Kernel meal"]
[null,"Peanut Meal 48",{"$f":"'12. Diet ingredient data'!I50","v":0.48},null,null,null,null,null,null,null,null,null,null,null,null,null,{"$f":"'12. Diet ingredient data'!C50","v":0.9},{"$f":"'12. Diet ingredient data'!E50","v":0.05},7.6799999999999993E-2,{"$f":"'12. Diet ingredient data'!K50","v":6.0000000000000001E-3},{"$f":"'12. Diet ingredient data'!N50","v":1.1299999999999999E-2},{"$f":"'12. Diet ingredient data'!H50","v":0.80219780219780223},null,null,"Peanut Meal 48"]
[null,"Soybean Meal 46 Solvent",{"$f":"'12. Diet ingredient data'!I51","v":0.46},null,null,{"$f":"IF(F$316=$Z$317, $Z208, IF(F$316=$AA$317, $AA208, IF(F$316=$AB$317, $AB208, IF(F$316=$AC$317, $AC208, 0))))","v":0.1},2.5000000000000001E-2,0,0,0,0,0.05,null,null,null,null,{"$f":"'12. Diet ingredient data'!C51","v":0.88},{"$f":"'12. Diet ingredient data'!E51","v":6.480000000000001E-2},7.3599999999999999E-2,{"$f":"'12. Diet ingredient data'!K51","v":6.1999999999999998E-3},{"$f":"'12. Diet ingredient data'!N51","v":1.9E-2},{"$f":"'12. Diet ingredient data'!H51","v":0.87236533957845441},null,null,"Soybean Meal 46 Solvent",0.1,2.5000000000000001E-2]
[null,"Soybean Meal 48 Solvent",{"$f":"'12. Diet ingredient data'!I52","v":0.48},null,null,null,null,null,null,null,null,null,null,null,null,null,{"$f":"'12. Diet ingredient data'!C52","v":0.88500000000000001},{"$f":"'12. Diet ingredient data'!E52","v":6.5000000000000002E-2},7.6799999999999993E-2,{"$f":"'12. Diet ingredient data'!K52","v":6.5000000000000006E-3},{"$f":"'12. Diet ingredient data'!N52","v":2.1000000000000001E-2},{"$f":"'12. Diet ingredient data'!H52","v":0.85582998276852384},null,null,"Soybean Meal 48 Solvent"]
[null,"Soybean, Full fat",{"$f":"'12. Diet ingredient data'!I53","v":0.35499999999999998},null,null,null,null,null,null,null,null,null,null,null,null,null,{"$f":"'12. Diet ingredient data'!C53","v":0.875},{"$f":"'12. Diet ingredient data'!E53","v":5.2999999999999999E-2},5.6799999999999996E-2,{"$f":"'12. Diet ingredient data'!K53","v":5.5000000000000005E-3},{"$f":"'12. Diet ingredient data'!N53","v":1.7000000000000001E-2},{"$f":"'12. Diet ingredient data'!H53","v":0.85365853658536583},null,null,"Soybean, Full fat"]
[null,"Selecta Soy/X-Soy 600",{"$f":"'12. Diet ingredient data'!I54","v":0.6},null,5.0000000000000001E-3,{"$f":"IF(F$316=$Z$317, $Z211, IF(F$316=$AA$317, $AA211, IF(F$316=$AB$317, $AB211, IF(F$316=$AC$317, $AC211, 0))))","v":1.2500000000000001E-2},0,0,0,0,0,null,null,null,null,null,{"$f":"'12. Diet ingredient data'!C54","v":0.92},{"$f":"'12. Diet ingredient data'!E54","v":6.8000000000000005E-2},9.6000000000000002E-2,{"$f":"'12. Diet ingredient data'!K54","v":8.0000000000000002E-3},{"$f":"'12. Diet ingredient data'!N54","v":2.3E-2},{"$f":"'12. Diet ingredient data'!H54","v":0.91246684350132612},null,null,"Selecta Soy/X-Soy 600",1.2500000000000001E-2]
[null,"Soycomil 65",{"$f":"'12. Diet ingredient data'!I55","v":0.65},null,null,null,null,null,null,null,null,null,null,null,null,null,{"$f":"'12. Diet ingredient data'!C55","v":0.91},{"$f":"'12. Diet ingredient data'!E55","v":0.06},0.10400000000000001,{"$f":"'12. Diet ingredient data'!K55","v":8.0000000000000002E-3},{"$f":"'12. Diet ingredient data'!N55","v":2.2000000000000002E-2},{"$f":"'12. Diet ingredient data'!H55","v":0.93023255813953487},null,null,"Soycomil 65"]
[null,"Sunflower 30",{"$f":"'12. Diet ingredient data'!I56","v":0.3},null,null,null,null,null,null,null,null,null,null,null,null,null,{"$f":"'12. Diet ingredient data'!C56","v":0.89},{"$f":"'12. Diet ingredient data'!E56","v":6.3E-2},4.8000000000000001E-2,{"$f":"'12. Diet ingredient data'!K56","v":0.01},{"$f":"'12. Diet ingredient data'!N56","v":1.46E-2},{"$f":"'12. Diet ingredient data'!H56","v":0.48199767711962843},null,null,"Sunflower 30"]
[null,"Sunflower 36",{"$f":"'12. Diet ingredient data'!I57","v":0.36},null,null,null,null,null,null,null,null,null,null,null,null,null,{"$f":"'12. Diet ingredient data'!C57","v":0.89},{"$f":"'12. Diet ingredient data'!E57","v":7.0000000000000007E-2},5.7599999999999998E-2,{"$f":"'12. Diet ingredient data'!K57","v":1.2E-2},{"$f":"'12. Diet ingredient data'!N57","v":1.52E-2},{"$f":"'12. Diet ingredient data'!H57","v":0.76030179918746366},null,null,"Sunflower 36"]
[null,"Yeast Products",null,null,null,null,null,null,null,null,null,null,null,null,null,null,null,null,null,null,null,null,null,null,"Yeast Products"]
[null,"Brewers Yeast",{"$f":"'12. Diet ingredient data'!I59","v":0.5},null,null,null,null,null,null,null,null,null,null,null,null,null,{"$f":"'12. Diet ingredient data'!C59","v":0.9},{"$f":"'12. Diet ingredient data'!E59","v":7.0999999999999994E-2},{"$f":"(IF(D216=\"\", C216, D216))/6.25","v":0.08},{"$f":"'12. Diet ingredient data'!K59","v":1.1599999999999999E-2},{"$f":"'12. Diet ingredient data'!N59","v":1.7000000000000001E-2},{"$f":"'12. Diet ingredient data'!H59","v":0.85836909871244638},null,null,"Brewers Yeast"]
[null,"Hilyses",{"$f":"'12. Diet ingredient data'!I60","v":0.40500000000000003},null,null,null,null,null,null,null,null,null,null,null,null,null,{"$f":"'12. Diet ingredient data'!C60","v":0.94},{"$f":"'12. Diet ingredient data'!E60","v":5.5E-2},{"$f":"(IF(D217=\"\", C217, D217))/6.25","v":6.480000000000001E-2},{"$f":"'12. Diet ingredient data'!K60","v":6.8599999999999998E-3},{"$f":"'12. Diet ingredient data'!N60","v":8.1499999999999993E-3},{"$f":"'12. Diet ingredient data'!H60","v":0.7627551020408162},null,null,"Hilyses"]
[null,"Nupro",{"$f":"'12. Diet ingredient data'!I61","v":0.47},null,null,null,null,null,null,null,null,null,null,null,null,null,{"$f":"'12. Diet ingredient data'!C61","v":0.94},{"$f":"'12. Diet ingredient data'!E61","v":8.3000000000000004E-2},{"$f":"(IF(D218=\"\", C218, D218))/6.25","v":7.5199999999999989E-2},{"$f":"'12. Diet ingredient data'!K61","v":1.4999999999999999E-2},{"$f":"'12. Diet ingredient data'!N61","v":1.9E-2},{"$f":"'12. Diet ingredient data'!H61","v":0.76344086021505364},null,null,"Nupro"]
[null,"Animal & Fish products",null,null,null,null,null,null,null,null,null,null,null,null,null,null,null,null,null,null,null,null,null,null,"Animal & Fish products"]
[null,"Blood meal 85",{"$f":"'12. Diet ingredient data'!I63","v":0.85},null,null,null,null,null,null,null,null,null,null,null,null,null,{"$f":"'12. Diet ingredient data'!C63","v":0.9},{"$f":"'12. Diet ingredient data'!E63","v":3.1E-2},{"$f":"(IF(D220=\"\", C220, D220))/6.25","v":0.13600000000000001},{"$f":"'12. Diet ingredient data'!K63","v":2.0999999999999999E-3},{"$f":"'12. Diet ingredient data'!N63","v":2.5999999999999999E-3},{"$f":"'12. Diet ingredient data'!H63","v":0.92901381610290623},null,null,"Blood meal, spray/ring"]
[null,"Blood meal 90",{"$f":"'12. Diet ingredient data'!I64","v":0.9},null,1.5E-3,{"$f":"IF(F$316=$Z$317, $Z221, IF(F$316=$AA$317, $AA221, IF(F$316=$AB$317, $AB221, IF(F$316=$AC$317, $AC221, 0))))","v":2.5000000000000001E-2},2.4E-2,0,0,0,0,7.0000000000000001E-3,null,null,null,null,{"$f":"'12. Diet ingredient data'!C64","v":0.91},{"$f":"'12. Diet ingredient data'!E64","v":2.8300000000000002E-2},0.14400000000000002,{"$f":"'12. Diet ingredient data'!K64","v":2.0999999999999999E-3},{"$f":"'12. Diet ingredient data'!N64","v":2.5999999999999999E-3},{"$f":"'12. Diet ingredient data'!H64","v":0.92901381610290623},null,null,null,2.5000000000000001E-2,2.4E-2]
[null,"Blood Plasma",{"$f":"'12. Diet ingredient data'!I65","v":0.78},null,3.0000000000000001E-3,null,null,null,null,null,null,null,null,null,null,null,{"$f":"'12. Diet ingredient data'!C65","v":0.92},{"$f":"'12. Diet ingredient data'!E65","v":0.1},0.12480000000000001,{"$f":"'12. Diet ingredient data'!K65","v":1.3000000000000001E-2},{"$f":"'12. Diet ingredient data'!N65","v":3.0000000000000001E-3},{"$f":"'12. Diet ingredient data'!H65","v":0.93789473684210523}]
[null,"Fishmeal 60",{"$f":"'12. Diet ingredient data'!I66","v":0.6},null,null,null,null,null,null,null,null,null,null,null,null,null,{"$f":"'12. Diet ingredient data'!C66","v":0.92},{"$f":"'12. Diet ingredient data'!E66","v":0.20749999999999999},9.6000000000000002E-2,{"$f":"'12. Diet ingredient data'!K66","v":2.8500000000000001E-2},{"$f":"'12. Diet ingredient data'!N66","v":9.3999999999999986E-3},{"$f":"'12. Diet ingredient data'!H66","v":0.80786026200873362},null,null,"Blood Plasma"]
[null,"Fishmeal 65",{"$f":"'12. Diet ingredient data'!I67","v":0.65},null,2.5000000000000001E-3,{"$f":"IF(F$316=$Z$317, $Z224, IF(F$316=$AA$317, $AA224, IF(F$316=$AB$317, $AB224, IF(F$316=$AC$317, $AC224, 0))))","v":0.02},0,0,0,0,0,0.02,null,null,null,null,{"$f":"'12. Diet ingredient data'!C67","v":0.92},{"$f":"'12. Diet ingredient data'!E67","v":0.16140000000000002},0.10400000000000001,{"$f":"'12. Diet ingredient data'!K67","v":2.6000000000000002E-2},{"$f":"'12. Diet ingredient data'!N67","v":1.3000000000000001E-2},{"$f":"'12. Diet ingredient data'!H67","v":0.82718651211801886},null,null,"Fishmeal 62",0.02]
[null,"Fishmeal 70",{"$f":"'12. Diet ingredient data'!I68","v":0.7},null,null,null,null,null,null,null,null,null,null,null,null,null,{"$f":"'12. Diet ingredient data'!C68","v":0.91},{"$f":"'12. Diet ingredient data'!E68","v":0.125},0.11199999999999999,{"$f":"'12. Diet ingredient data'!K68","v":0.02},{"$f":"'12. Diet ingredient data'!N68","v":1.2999999999999999E-2},{"$f":"'12. Diet ingredient data'!H68","v":0.88383838383838376},null,null,"Fishmeal 65"]
[null,"Meat & bone meal 45 ",{"$f":"'12. Diet ingredient data'!I69","v":0.45},null,null,{"$f":"IF(F$316=$Z$317, $Z226, IF(F$316=$AA$317, $AA226, IF(F$316=$AB$317, $AB226, IF(F$316=$AC$317, $AC226, 0))))","v":5.2499999999999998E-2},0,0,0,0,0,null,null,null,null,null,{"$f":"'12. Diet ingredient data'!C69","v":0.95},{"$f":"'12. Diet ingredient data'!E69","v":0.35},7.2000000000000008E-2,{"$f":"'12. Diet ingredient data'!K69","v":0.06},{"$f":"'12. Diet ingredient data'!N69","v":5.0000000000000001E-3},{"$f":"'12. Diet ingredient data'!H69","v":0.75333333333333341},null,null,"Feather meal",5.2499999999999998E-2]
[null,"Meat & bone meal 50",{"$f":"'12. Diet ingredient data'!I70","v":0.5},null,4.4999999999999997E-3,null,3.2500000000000001E-2,3.2500000000000001E-2,0.04,null,null,3.2500000000000001E-2,2.75E-2,2.75E-2,3.7499999999999999E-2,null,{"$f":"'12. Diet ingredient data'!C70","v":0.95},{"$f":"'12. Diet ingredient data'!E70","v":0.3},0.08,{"$f":"'12. Diet ingredient data'!K70","v":4.9000000000000002E-2},{"$f":"'12. Diet ingredient data'!N70","v":5.0000000000000001E-3},{"$f":"'12. Diet ingredient data'!H70","v":0.75},null,null,"Meat & bone meal",null,3.2500000000000001E-2,3.2500000000000001E-2,0.04]
[null,"Meat & bone meal 60",{"$f":"'12. Diet ingredient data'!I71","v":0.6},null,null,null,null,null,null,null,null,null,null,null,null,null,{"$f":"'12. Diet ingredient data'!C71","v":0.95},{"$f":"'12. Diet ingredient data'!E71","v":0.22},9.6000000000000002E-2,{"$f":"'12. Diet ingredient data'!K71","v":3.5999999999999997E-2},{"$f":"'12. Diet ingredient data'!N71","v":5.4999999999999997E-3},{"$f":"'12. Diet ingredient data'!H71","v":0.74971941638608297},null,null,"Milk, full cream powder"]
[null,"Milk, chocolate milk powder",{"$f":"'12. Diet ingredient data'!I72","v":0.17},null,null,null,null,null,null,null,null,null,null,null,null,null,{"$f":"'12. Diet ingredient data'!C72","v":0.97},{"$f":"'12. Diet ingredient data'!E72","v":0.06},2.7200000000000002E-2,{"$f":"'12. Diet ingredient data'!K72","v":0.01},{"$f":"'12. Diet ingredient data'!N72","v":0},{"$f":"'12. Diet ingredient data'!H72","v":0.94524495677233411},null,null,"Milk, chocolate milk powder"]
[null,"Milk, skim milk powder",{"$f":"'12. Diet ingredient data'!I73","v":0.35499999999999998},null,null,null,null,null,null,null,null,null,null,null,null,null,{"$f":"'12. Diet ingredient data'!C73","v":0.95},{"$f":"'12. Diet ingredient data'!E73","v":0.08},5.6799999999999996E-2,{"$f":"'12. Diet ingredient data'!K73","v":0.01},{"$f":"'12. Diet ingredient data'!N73","v":1.6E-2},{"$f":"'12. Diet ingredient data'!H73","v":0.94524495677233411},null,null,"Milk, skim milk powder"]
[null,"Milk, full cream  powder",{"$f":"'12. Diet ingredient data'!I74","v":0.25},null,null,null,null,null,null,null,null,null,null,null,null,null,{"$f":"'12. Diet ingredient data'!C74","v":0.95},{"$f":"'12. Diet ingredient data'!E74","v":0.06},0.04,{"$f":"'12. Diet ingredient data'!K74","v":8.0000000000000002E-3},{"$f":"'12. Diet ingredient data'!N74","v":1.3000000000000001E-2},{"$f":"'12. Diet ingredient data'!H74","v":0.9620476610767873},null,null,"Milk, whole milk powder"]
[null,"Milk, whey powder",{"$f":"'12. Diet ingredient data'!I75","v":0.125},null,0.01,null,null,null,null,null,null,null,null,null,null,null,{"$f":"'12. Diet ingredient data'!C75","v":0.95},{"$f":"'12. Diet ingredient data'!E75","v":8.6999999999999994E-2},0.02,{"$f":"'12. Diet ingredient data'!K75","v":9.0000000000000011E-3},{"$f":"'12. Diet ingredient data'!N75","v":0.05},{"$f":"'12. Diet ingredient data'!H75","v":0.875},null,null,"Milk, whey powder"]
[null,"Hay & Straw",null,null,null,null,null,null,null,null,null,null,null,null,null,null,null,null,null,null,null,null,null,null,"Hay & Straw"]
[null,"Barley straw",{"$f":"'12. Diet ingredient data'!I77","v":3.7999999999999999E-2},null,null,null,null,null,null,null,null,null,null,null,null,null,{"$f":"'12. Diet ingredient data'!C77","v":0.89},{"$f":"'12. Diet ingredient data'!E77","v":5.28E-2},{"$f":"(IF(D234=\"\", C234, D234))/6.25","v":6.0799999999999995E-3},{"$f":"'12. Diet ingredient data'!K77","v":2E-3},{"$f":"'12. Diet ingredient data'!N77","v":1.1699999999999999E-2},{"$f":"'12. Diet ingredient data'!H77","v":6.25E-2},null,null,"Barley straw"]
[null,"Cereal straw pellets",{"$f":"'12. Diet ingredient data'!I78","v":3.5000000000000003E-2},null,null,null,null,null,null,null,null,null,null,null,null,null,{"$f":"'12. Diet ingredient data'!C78","v":0.88},{"$f":"'12. Diet ingredient data'!E78","v":0.06},{"$f":"(IF(D235=\"\", C235, D235))/6.25","v":5.6000000000000008E-3},{"$f":"'12. Diet ingredient data'!K78","v":8.0000000000000004E-4},{"$f":"'12. Diet ingredient data'!N78","v":8.0000000000000002E-3},{"$f":"'12. Diet ingredient data'!H78","v":0.12492192379762647},null,null,"Cereal straw pellets"]
[null,"Lucerne meal/crumbles",{"$f":"'12. Diet ingredient data'!I79","v":0.16500000000000001},null,null,null,null,null,null,null,null,null,null,null,null,null,{"$f":"'12. Diet ingredient data'!C79","v":0.9},{"$f":"'12. Diet ingredient data'!E79","v":0.1},{"$f":"(IF(D236=\"\", C236, D236))/6.25","v":2.64E-2},{"$f":"'12. Diet ingredient data'!K79","v":2.3E-3},{"$f":"'12. Diet ingredient data'!N79","v":1.9E-2},{"$f":"'12. Diet ingredient data'!H79","v":0.44867854947756608},null,null,"Lucerne meal/crumbles"]
[null,"Oat straw",{"$f":"'12. Diet ingredient data'!I80","v":5.2000000000000005E-2},null,null,null,null,null,null,null,null,null,null,null,null,null,{"$f":"'12. Diet ingredient data'!C80","v":0.87},{"$f":"'12. Diet ingredient data'!E80","v":8.8000000000000009E-2},{"$f":"(IF(D237=\"\", C237, D237))/6.25","v":8.320000000000001E-3},{"$f":"'12. Diet ingredient data'!K80","v":2.2000000000000001E-3},{"$f":"'12. Diet ingredient data'!N80","v":2.2700000000000001E-2},{"$f":"'12. Diet ingredient data'!H80","v":6.25E-2},null,null,"Oat straw"]
[null,"Wheat straw",{"$f":"'12. Diet ingredient data'!I81","v":3.7999999999999999E-2},null,null,null,null,null,null,null,null,null,null,null,null,null,{"$f":"'12. Diet ingredient data'!C81","v":0.9},{"$f":"'12. Diet ingredient data'!E81","v":5.8499999999999996E-2},{"$f":"(IF(D238=\"\", C238, D238))/6.25","v":6.0799999999999995E-3},{"$f":"'12. Diet ingredient data'!K81","v":7.000000000000001E-4},{"$f":"'12. Diet ingredient data'!N81","v":1.3300000000000001E-2},{"$f":"'12. Diet ingredient data'!H81","v":0.14792899408284024},null,null,"Wheat straw"]
[null,"Fats",null,null,null,null,null,null,null,null,null,null,null,null,null,null,null,null,null,null,null,null,null,null,"Fats"]
[null,"Tallow",{"$f":"'12. Diet ingredient data'!I83","v":5.0000000000000001E-3},null,null,null,null,null,null,null,null,null,null,null,null,null,0.995,{"$f":"'12. Diet ingredient data'!E83","v":0},{"$f":"(IF(D240=\"\", C240, D240))/6.25","v":8.0000000000000004E-4},0,0,0.87,null,null,"Tallow"]
[null,"Vegetable oil",{"$f":"'12. Diet ingredient data'!I84","v":0},null,1.3500000000000001E-3,{"$f":"IF(F$316=$Z$317, $Z241, IF(F$316=$AA$317, $AA241, IF(F$316=$AB$317, $AB241, IF(F$316=$AC$317, $AC241, 0))))","v":1.8499999999999999E-2},5.0000000000000001E-3,0,0,0,0,5.0000000000000001E-3,null,null,null,null,1.9950000000000001,{"$f":"'12. Diet ingredient data'!E84","v":0},{"$f":"(IF(D241=\"\", C241, D241))/6.25","v":0},0,0,0.87,null,null,"Vegetable oil",1.8499999999999999E-2,5.0000000000000001E-3]
[null,"Minerals",null,null,null,null,null,null,null,null,null,null,null,null,null,null,null,null,null,null,null,null,null,null,"Minerals"]
[null,"Bentonite",{"$f":"'12. Diet ingredient data'!I86","v":0},null,null,null,null,null,null,null,null,null,null,null,null,null,{"$f":"'12. Diet ingredient data'!C86","v":0.99},{"$f":"'12. Diet ingredient data'!E86","v":0.99},{"$f":"(IF(D243=\"\", C243, D243))/6.25","v":0},{"$f":"'12. Diet ingredient data'!K86","v":0},{"$f":"'12. Diet ingredient data'!N86","v":0},{"$f":"'12. Diet ingredient data'!H86","v":0},null,null,"Bentonite"]
[null,"Choline Chloride",{"$f":"'12. Diet ingredient data'!I87","v":0},null,null,{"$f":"IF(F$316=$Z$317, $Z244, IF(F$316=$AA$317, $AA244, IF(F$316=$AB$317, $AB244, IF(F$316=$AC$317, $AC244, 0))))","v":0},0,0,2.9E-4,0,0,null,null,null,null,null,{"$f":"'12. Diet ingredient data'!C87","v":0.95},{"$f":"'12. Diet ingredient data'!E87","v":0.05},0,{"$f":"'12. Diet ingredient data'!K87","v":0},{"$f":"'12. Diet ingredient data'!N87","v":0},{"$f":"'12. Diet ingredient data'!H87","v":0},null,null,"Choline Chloride",null,null,null,2.9E-4]
[null,"Copper Sulphate",{"$f":"'12. Diet ingredient data'!I88","v":0},null,null,null,null,null,null,null,null,null,null,null,null,null,{"$f":"'12. Diet ingredient data'!C88","v":0.98499999999999999},{"$f":"'12. Diet ingredient data'!E88","v":1},0,{"$f":"'12. Diet ingredient data'!K88","v":0},{"$f":"'12. Diet ingredient data'!N88","v":0},{"$f":"'12. Diet ingredient data'!H88","v":0},null,null,"Copper Sulphate"]
[null,"Dicalcium phosphate (DCP)",{"$f":"'12. Diet ingredient data'!I89","v":0},null,null,null,null,null,null,null,null,null,null,null,null,null,{"$f":"'12. Diet ingredient data'!C89","v":1},{"$f":"'12. Diet ingredient data'!E89","v":0.78},0,{"$f":"'12. Diet ingredient data'!K89","v":0.182},{"$f":"'12. Diet ingredient data'!N89","v":0},{"$f":"'12. Diet ingredient data'!H89","v":0},null,null,"Dicalcium phosphate (DCP)"]
[null,"Ferrous Sulphate",{"$f":"'12. Diet ingredient data'!I90","v":0},null,null,null,null,null,null,null,null,null,null,null,null,null,{"$f":"'12. Diet ingredient data'!C90","v":0.98499999999999999},{"$f":"'12. Diet ingredient data'!E90","v":0.99},0,{"$f":"'12. Diet ingredient data'!K90","v":0},{"$f":"'12. Diet ingredient data'!N90","v":0},{"$f":"'12. Diet ingredient data'!H90","v":0},null,null,"Ferrous Sulphate"]
[null,"Kynofos",{"$f":"'12. Diet ingredient data'!I91","v":0},null,null,null,null,null,null,null,null,null,null,null,null,null,{"$f":"'12. Diet ingredient data'!C91","v":0.98},{"$f":"'12. Diet ingredient data'!E91","v":1},0,{"$f":"'12. Diet ingredient data'!K91","v":0.21},{"$f":"'12. Diet ingredient data'!N91","v":0},{"$f":"'12. Diet ingredient data'!H91","v":0},null,null,"Kynofos"]
[null,"Limestone",{"$f":"'12. Diet ingredient data'!I92","v":0},null,null,{"$f":"IF(F$316=$Z$317, $Z249, IF(F$316=$AA$317, $AA249, IF(F$316=$AB$317, $AB249, IF(F$316=$AC$317, $AC249, 0))))","v":0},5.0000000000000001E-3,6.0000000000000001E-3,6.0000000000000001E-3,0,0,6.0000000000000001E-3,5.0000000000000001E-3,5.0000000000000001E-3,6.0000000000000001E-3,null,{"$f":"'12. Diet ingredient data'!C92","v":0.99},{"$f":"'12. Diet ingredient data'!E92","v":0.99},0,{"$f":"'12. Diet ingredient data'!K92","v":2.0000000000000001E-4},{"$f":"'12. Diet ingredient data'!N92","v":0},{"$f":"'12. Diet ingredient data'!H92","v":0},null,null,"Limestone",null,5.0000000000000001E-3,6.0000000000000001E-3,6.0000000000000001E-3]
[null,"Monodicalcium phosphate (MDCP)",{"$f":"'12. Diet ingredient data'!I93","v":0},null,null,null,null,null,null,null,null,null,null,null,null,null,{"$f":"'12. Diet ingredient data'!C93","v":0.995},{"$f":"'12. Diet ingredient data'!E93","v":0.82},0,{"$f":"'12. Diet ingredient data'!K93","v":0.218},{"$f":"'12. Diet ingredient data'!N93","v":0},{"$f":"'12. Diet ingredient data'!H93","v":0},null,null,"Monodicalcium phosphate (MDCP)"]
[null,"Potassium Choride",{"$f":"'12. Diet ingredient data'!I94","v":0},null,null,null,null,null,null,null,null,null,null,null,null,null,{"$f":"'12. Diet ingredient data'!C94","v":1},{"$f":"'12. Diet ingredient data'!E94","v":1},0,{"$f":"'12. Diet ingredient data'!K94","v":0},{"$f":"'12. Diet ingredient data'!N94","v":0.52100000000000002},{"$f":"'12. Diet ingredient data'!H94","v":0},null,null,"Potassium Choride"]
[null,"Potassium sulphate",{"$f":"'12. Diet ingredient data'!I95","v":0},null,null,null,null,null,null,null,null,null,null,null,null,null,{"$f":"'12. Diet ingredient data'!C95","v":1},{"$f":"'12. Diet ingredient data'!E95","v":1},0,{"$f":"'12. Diet ingredient data'!K95","v":0},{"$f":"'12. Diet ingredient data'!N95","v":0.17550000000000002},{"$f":"'12. Diet ingredient data'!H95","v":0},null,null,"Potassium sulphate"]
[null,"Sodium Bicarbonate",{"$f":"'12. Diet ingredient data'!I96","v":0},null,null,null,null,null,null,null,null,null,null,null,null,null,{"$f":"'12. Diet ingredient data'!C96","v":1},{"$f":"'12. Diet ingredient data'!E96","v":0.625},0,{"$f":"'12. Diet ingredient data'!K96","v":0},{"$f":"'12. Diet ingredient data'!N96","v":0},{"$f":"'12. Diet ingredient data'!H96","v":0},null,null,"Sodium Bicarbonate"]
[null,"Salt",{"$f":"'12. Diet ingredient data'!I97","v":0},null,3.5E-4,{"$f":"IF(F$316=$Z$317, $Z254, IF(F$316=$AA$317, $AA254, IF(F$316=$AB$317, $AB254, IF(F$316=$AC$317, $AC254, 0))))","v":2.5000000000000001E-3},2.5000000000000001E-3,2.5000000000000001E-3,2.5000000000000001E-3,0,0,4.0000000000000001E-3,4.0000000000000001E-3,4.0000000000000001E-3,4.0000000000000001E-3,null,{"$f":"'12. Diet ingredient data'!C97","v":1},{"$f":"'12. Diet ingredient data'!E97","v":1},0,{"$f":"'12. Diet ingredient data'!K97","v":0},{"$f":"'12. Diet ingredient data'!N97","v":0},{"$f":"'12. Diet ingredient data'!H97","v":0},null,null,"Salt",2.5000000000000001E-3,2.5000000000000001E-3,2.5000000000000001E-3,2.5000000000000001E-3]
[null,"HiZox/Zinco Plus",{"$f":"'12. Diet ingredient data'!I98","v":0},null,null,null,null,null,null,null,null,null,null,null,null,null,{"$f":"'12. Diet ingredient data'!C98","v":1},{"$f":"'12. Diet ingredient data'!E98","v":0.98},0,{"$f":"'12. Diet ingredient data'!K98","v":0},{"$f":"'12. Diet ingredient data'!N98","v":0},{"$f":"'12. Diet ingredient data'!H98","v":0},null,null,"HiZox/Zinco Plus"]
[null,"Zinc Oxide",{"$f":"'12. Diet ingredient data'!I99","v":0},null,2.9999999999999997E-4,null,null,null,null,null,null,null,null,null,null,null,{"$f":"'12. Diet ingredient data'!C99","v":1},{"$f":"'12. Diet ingredient data'!E99","v":0.98},0,{"$f":"'12. Diet ingredient data'!K99","v":0},{"$f":"'12. Diet ingredient data'!N99","v":0},{"$f":"'12. Diet ingredient data'!H99","v":0},null,null,"Zinc Oxide"]
[null,"Synthetic amino acids",null,null,null,null,null,null,null,null,null,null,null,null,null,null,null,null,null,null,null,null,null,null,"Synthetic amino acids"]
[null,"L-Isoleucine",null,null,1.05E-4,{"$f":"IF(F$316=$Z$317, $Z258, IF(F$316=$AA$317, $AA258, IF(F$316=$AB$317, $AB258, IF(F$316=$AC$317, $AC258, 0))))","v":7.2499999999999995E-4},2.2499999999999999E-4,2.2499999999999999E-4,0,0,0,null,null,null,null,null,{"$f":"'12. Diet ingredient data'!C101","v":0.98499999999999999},{"$f":"'12. Diet ingredient data'!E101","v":5.0000000000000001E-3},{"$f":"(IF(D258=\"\", C258, D258))/6.25","v":0},{"$f":"'12. Diet ingredient data'!K101","v":0},{"$f":"'12. Diet ingredient data'!N101","v":0},{"$f":"'12. Diet ingredient data'!H101","v":1},null,null,"L-Isoleucine",7.2499999999999995E-4,2.2499999999999999E-4,2.2499999999999999E-4]
[null,"L-Lysine HCL",{"$f":"'12. Diet ingredient data'!I102","v":0.95400000000000007},null,4.4999999999999999E-4,4.4999999999999997E-3,4.4999999999999997E-3,4.4999999999999997E-3,3.2499999999999999E-3,0,0,2.8E-3,1E-4,2.65E-3,null,null,{"$f":"'12. Diet ingredient data'!C102","v":0.995},{"$f":"'12. Diet ingredient data'!E102","v":5.0000000000000001E-3},{"$f":"(IF(D259=\"\", C259, D259))/6.25","v":0.15264},{"$f":"'12. Diet ingredient data'!K102","v":0},{"$f":"'12. Diet ingredient data'!N102","v":0},{"$f":"'12. Diet ingredient data'!H102","v":0.99950024987506236},null,null,"L-Lysine HCL",4.4999999999999997E-3,4.4999999999999997E-3,4.4999999999999997E-3,3.2499999999999999E-3]
[null,"DL-Methionie",{"$f":"'12. Diet ingredient data'!I103","v":0.58399999999999996},null,2.2000000000000001E-4,1.825E-3,6.7500000000000004E-4,6.7500000000000004E-4,4.75E-4,0,0,1.75E-4,null,6.9999999999999999E-4,1.4999999999999999E-4,null,{"$f":"'12. Diet ingredient data'!C103","v":0.995},{"$f":"'12. Diet ingredient data'!E103","v":2E-3},{"$f":"(IF(D260=\"\", C260, D260))/6.25","v":9.3439999999999995E-2},{"$f":"'12. Diet ingredient data'!K103","v":0},{"$f":"'12. Diet ingredient data'!N103","v":0},{"$f":"'12. Diet ingredient data'!H103","v":1},null,null,"DL-Methionie",1.825E-3,6.7500000000000004E-4,6.7500000000000004E-4,4.75E-4]
[null,"L-Threonine",{"$f":"'12. Diet ingredient data'!I104","v":0.73099999999999998},null,1.95E-4,1.825E-3,1.25E-3,1.25E-3,7.7499999999999997E-4,0,0,7.5000000000000002E-4,null,1.175E-3,null,null,{"$f":"'12. Diet ingredient data'!C104","v":0.995},{"$f":"'12. Diet ingredient data'!E104","v":5.0000000000000001E-3},{"$f":"(IF(D261=\"\", C261, D261))/6.25","v":0.11695999999999999},{"$f":"'12. Diet ingredient data'!K104","v":0},{"$f":"'12. Diet ingredient data'!N104","v":0},{"$f":"'12. Diet ingredient data'!H104","v":0.99767981438515085},null,null,"L-Threonine",1.825E-3,1.25E-3,1.25E-3,7.7499999999999997E-4]
[null,"L-Tryptophan",{"$f":"'12. Diet ingredient data'!I105","v":0.85299999999999998},null,6.7500000000000001E-5,2.9999999999999997E-4,1.75E-4,1.75E-4,1E-4,0,0,2.5000000000000001E-5,null,2.5000000000000001E-5,null,null,{"$f":"'12. Diet ingredient data'!C105","v":0.995},{"$f":"'12. Diet ingredient data'!E105","v":5.0000000000000001E-3},{"$f":"(IF(D262=\"\", C262, D262))/6.25","v":0.13647999999999999},{"$f":"'12. Diet ingredient data'!K105","v":0},{"$f":"'12. Diet ingredient data'!N105","v":0},{"$f":"'12. Diet ingredient data'!H105","v":1.0007278020378456},null,null,"L-Tryptophan",2.9999999999999997E-4,1.75E-4,1.75E-4,1E-4]
[null,"Micellaneous ingredients",null,null,null,null,null,null,null,null,null,null,null,null,null,null,null,null,null,null,null,null,null,null,"Micellaneous ingredients"]
[null,"Lactose",{"$f":"'12. Diet ingredient data'!I107","v":0},null,2.5000000000000001E-3,null,null,null,null,null,null,null,null,null,null,null,{"$f":"'12. Diet ingredient data'!C107","v":0.99},{"$f":"'12. Diet ingredient data'!E107","v":5.0000000000000001E-3},{"$f":"(IF(D264=\"\", C264, D264))/6.25","v":0},{"$f":"'12. Diet ingredient data'!K107","v":4.0000000000000002E-4},{"$f":"'12. Diet ingredient data'!N107","v":0},{"$f":"'12. Diet ingredient data'!H107","v":0.755},null,null,"Lactose"]
[null,"Levucell",{"$f":"'12. Diet ingredient data'!I108","v":0},null,null,null,null,null,null,null,null,null,null,null,null,null,{"$f":"'12. Diet ingredient data'!C108","v":0.95},{"$f":"'12. Diet ingredient data'!E108","v":0.06},{"$f":"(IF(D265=\"\", C265, D265))/6.25","v":0},{"$f":"'12. Diet ingredient data'!K108","v":0},{"$f":"'12. Diet ingredient data'!N108","v":0},{"$f":"'12. Diet ingredient data'!H108","v":0.86999999999999988},null,null,"Levucell"]
[null,"Vitamin/mineral premixes",null,null,null,null,null,null,null,null,null,null,null,null,null,null,null,null,null,null,null,null,null,null,"Vitamin/mineral premixes"]
[null,"Breeder premix",{"$f":"'12. Diet ingredient data'!I110","v":0},null,null,null,null,null,null,null,null,2E-3,2E-3,2E-3,2E-3,null,{"$f":"'12. Diet ingredient data'!C110","v":1},{"$f":"'12. Diet ingredient data'!E110","v":0.23},{"$f":"(IF(D267=\"\", C267, D267))/6.25","v":0},{"$f":"'12. Diet ingredient data'!K110","v":0},{"$f":"'12. Diet ingredient data'!N110","v":0},{"$f":"'12. Diet ingredient data'!H110","v":0},null,null,"Breeder premix"]
[null,"Grower premix",{"$f":"'12. Diet ingredient data'!I111","v":0.05},null,null,{"$f":"IF(F$316=$Z$317, $Z268, IF(F$316=$AA$317, $AA268, IF(F$316=$AB$317, $AB268, IF(F$316=$AC$317, $AC268, 0))))","v":0},2E-3,2E-3,2E-3,0,0,null,null,null,null,null,{"$f":"'12. Diet ingredient data'!C111","v":1},{"$f":"'12. Diet ingredient data'!E111","v":0.23},{"$f":"(IF(D268=\"\", C268, D268))/6.25","v":8.0000000000000002E-3},{"$f":"'12. Diet ingredient data'!K111","v":2.3999999999999998E-3},{"$f":"'12. Diet ingredient data'!N111","v":2.8E-3},{"$f":"'12. Diet ingredient data'!H111","v":0},null,null,"Grower premix",null,2E-3,2E-3,2E-3]
[null,"Weaner premix",{"$f":"'12. Diet ingredient data'!I112","v":0},null,2.0000000000000001E-4,2E-3,0,0,0,0,0,null,null,null,null,null,{"$f":"'12. Diet ingredient data'!C112","v":1},{"$f":"'12. Diet ingredient data'!E112","v":0.23},{"$f":"(IF(D269=\"\", C269, D269))/6.25","v":0},{"$f":"'12. Diet ingredient data'!K112","v":0},{"$f":"'12. Diet ingredient data'!N112","v":0},{"$f":"'12. Diet ingredient data'!H112","v":0},null,null,"Weaner premix",2E-3]
[null,"Enzymes",null,null,null,null,null,null,null,null,null,null,null,null,null,null,null,null,null,null,null,null,null,null,"Enzymes"]
[null,"Feedzyme ",{"$f":"'12. Diet ingredient data'!I114","v":0},null,null,null,null,null,null,null,null,null,null,null,null,null,{"$f":"'12. Diet ingredient data'!C114","v":1},{"$f":"'12. Diet ingredient data'!E114","v":0},{"$f":"(IF(D271=\"\", C271, D271))/6.25","v":0},{"$f":"'12. Diet ingredient data'!K114","v":0},{"$f":"'12. Diet ingredient data'!N114","v":0},{"$f":"'12. Diet ingredient data'!H114","v":0},null,null,"FEEDZYME (1 kg dose)"]
[null,"Axtra Phy",{"$f":"'12. Diet ingredient data'!I115","v":0},null,1.0000000000000001E-5,{"$f":"IF(F$316=$Z$317, $Z272, IF(F$316=$AA$317, $AA272, IF(F$316=$AB$317, $AB272, IF(F$316=$AC$317, $AC272, 0))))","v":1E-4},1E-4,1E-4,1E-4,0,0,1E-4,1E-4,1E-4,1E-4,null,{"$f":"'12. Diet ingredient data'!C115","v":1},{"$f":"'12. Diet ingredient data'!E115","v":0},0,{"$f":"'12. Diet ingredient data'!K115","v":0},{"$f":"'12. Diet ingredient data'!N115","v":0},{"$f":"'12. Diet ingredient data'!H115","v":0},null,null,"Kemzyme",1E-4,1E-4,1E-4,1E-4]
[null,"Axtra XB",{"$f":"'12. Diet ingredient data'!I116","v":0},null,null,null,null,null,null,null,null,null,null,null,null,null,{"$f":"'12. Diet ingredient data'!C116","v":1},{"$f":"'12. Diet ingredient data'!E116","v":0},0,{"$f":"'12. Diet ingredient data'!K116","v":0},{"$f":"'12. Diet ingredient data'!N116","v":0},{"$f":"'12. Diet ingredient data'!H116","v":0},null,null,"Phyzyme (500 FTU OR 100g dose)"]
[null,"Natuphos Blue",{"$f":"'12. Diet ingredient data'!I117","v":0},null,null,null,null,null,null,null,null,null,null,null,null,null,{"$f":"'12. Diet ingredient data'!C117","v":1},{"$f":"'12. Diet ingredient data'!E117","v":0},0,{"$f":"'12. Diet ingredient data'!K117","v":0},{"$f":"'12. Diet ingredient data'!N117","v":0},{"$f":"'12. Diet ingredient data'!H117","v":0},null,null,"Phyzyme (1000 FTU OR 200g dose)"]
[null,"Ronozyme P 5000 (150g dose)",{"$f":"'12. Diet ingredient data'!I118","v":0},null,null,null,null,null,null,null,null,null,null,null,null,null,{"$f":"'12. Diet ingredient data'!C118","v":1},{"$f":"'12. Diet ingredient data'!E118","v":0},0,{"$f":"'12. Diet ingredient data'!K118","v":0},{"$f":"'12. Diet ingredient data'!N118","v":0},{"$f":"'12. Diet ingredient data'!H118","v":0},null,null,"Ronozyme P 5000 (150g dose)"]
[null,"Rovabio Excel premix",{"$f":"'12. Diet ingredient data'!I119","v":0},null,5.0000000000000002E-5,{"$f":"IF(F$316=$Z$317, $Z276, IF(F$316=$AA$317, $AA276, IF(F$316=$AB$317, $AB276, IF(F$316=$AC$317, $AC276, 0))))","v":5.0000000000000001E-4},5.0000000000000001E-4,5.0000000000000001E-4,5.0000000000000001E-4,0,0,5.0000000000000001E-4,null,null,null,null,{"$f":"'12. Diet ingredient data'!C119","v":1},{"$f":"'12. Diet ingredient data'!E119","v":0},0,{"$f":"'12. Diet ingredient data'!K119","v":0},{"$f":"'12. Diet ingredient data'!N119","v":0},{"$f":"'12. Diet ingredient data'!H119","v":0},null,null,"Rovabio Excel premix",5.0000000000000001E-4,5.0000000000000001E-4,5.0000000000000001E-4,5.0000000000000001E-4]
[null,"Rovabio T-Flex ",{"$f":"'12. Diet ingredient data'!I120","v":0},null,null,null,null,null,null,null,null,null,null,null,null,null,{"$f":"'12. Diet ingredient data'!C120","v":1},{"$f":"'12. Diet ingredient data'!E120","v":0},0,{"$f":"'12. Diet ingredient data'!K120","v":0},{"$f":"'12. Diet ingredient data'!N120","v":0},{"$f":"'12. Diet ingredient data'!H120","v":0},null,null,"Allzyme SSF"]
[null,"Toxin Binders",null,null,null,null,null,null,null,null,null,null,null,null,null,null,null,null,null,null,null,null,null,null,"Toxin Binders"]
[null,"Mycofix",{"$f":"'12. Diet ingredient data'!I122","v":0},null,2.0000000000000001E-4,{"$f":"IF(F$316=$Z$317, $Z279, IF(F$316=$AA$317, $AA279, IF(F$316=$AB$317, $AB279, IF(F$316=$AC$317, $AC279, 0))))","v":1.5E-3},0,0,0,0,0,2E-3,2E-3,1.5E-3,1.5E-3,null,{"$f":"'12. Diet ingredient data'!C122","v":1},{"$f":"'12. Diet ingredient data'!E122","v":0.98},{"$f":"(IF(D279=\"\", C279, D279))/6.25","v":0},{"$f":"'12. Diet ingredient data'!K122","v":0},{"$f":"'12. Diet ingredient data'!N122","v":0},{"$f":"'12. Diet ingredient data'!H122","v":0},null,null,"Mycofix",1.5E-3]
[null,"Mycosorb",{"$f":"'12. Diet ingredient data'!I123","v":0},null,null,null,null,null,null,null,null,null,null,null,null,null,{"$f":"'12. Diet ingredient data'!C123","v":1},{"$f":"'12. Diet ingredient data'!E123","v":0.85},{"$f":"(IF(D280=\"\", C280, D280))/6.25","v":0},{"$f":"'12. Diet ingredient data'!K123","v":0},{"$f":"'12. Diet ingredient data'!N123","v":0},{"$f":"'12. Diet ingredient data'!H123","v":0},null,null,"Mycosorb"]
[null,"Elitox",{"$f":"'12. Diet ingredient data'!I124","v":0},null,null,{"$f":"IF(F$316=$Z$317, $Z281, IF(F$316=$AA$317, $AA281, IF(F$316=$AB$317, $AB281, IF(F$316=$AC$317, $AC281, 0))))","v":0},1E-3,1E-3,0,0,0,null,null,null,null,null,{"$f":"'12. Diet ingredient data'!C124","v":1},{"$f":"'12. Diet ingredient data'!E124","v":0.85},{"$f":"(IF(D281=\"\", C281, D281))/6.25","v":0},{"$f":"'12. Diet ingredient data'!K124","v":0},{"$f":"'12. Diet ingredient data'!N124","v":0},{"$f":"'12. Diet ingredient data'!H124","v":0},null,null,"Elitox",null,1E-3,1E-3]
[null,"Mastersorb ",{"$f":"'12. Diet ingredient data'!I125","v":0},null,null,0,0,0,5.0000000000000001E-4,0,0,null,null,null,null,null,{"$f":"'12. Diet ingredient data'!C125","v":1},{"$f":"'12. Diet ingredient data'!E125","v":0.85},{"$f":"(IF(D282=\"\", C282, D282))/6.25","v":0},{"$f":"'12. Diet ingredient data'!K125","v":0},{"$f":"'12. Diet ingredient data'!N125","v":0},{"$f":"'12. Diet ingredient data'!H125","v":0},null,null,"Mastersorb ",null,null,null,5.0000000000000001E-4]
[null,"Acidifiers",null,null,null,null,null,null,null,null,null,null,null,null,null,null,null,null,null,null,null,null,null,null,"Acidifiers"]
[null,"Formi Acid",{"$f":"'12. Diet ingredient data'!I127","v":0},null,null,null,null,null,null,null,null,3.5E-4,null,null,null,null,{"$f":"'12. Diet ingredient data'!C127","v":1},{"$f":"'12. Diet ingredient data'!E127","v":0},{"$f":"(IF(D284=\"\", C284, D284))/6.25","v":0},{"$f":"'12. Diet ingredient data'!K127","v":0},{"$f":"'12. Diet ingredient data'!N127","v":0},{"$f":"'12. Diet ingredient data'!H127","v":0},null,null,"Formi Acid"]
[null,"Top3",{"$f":"'12. Diet ingredient data'!I128","v":0},null,null,{"$f":"IF(F$316=$Z$317, $Z285, IF(F$316=$AA$317, $AA285, IF(F$316=$AB$317, $AB285, IF(F$316=$AC$317, $AC285, 0))))","v":1.5E-3},0,0,0,0,0,null,null,null,null,null,{"$f":"'12. Diet ingredient data'!C128","v":1},{"$f":"'12. Diet ingredient data'!E128","v":0},{"$f":"(IF(D285=\"\", C285, D285))/6.25","v":0},{"$f":"'12. Diet ingredient data'!K128","v":0},{"$f":"'12. Diet ingredient data'!N128","v":0},{"$f":"'12. Diet ingredient data'!H128","v":0},null,null,"Top3",1.5E-3]
[null,"Tetracid 500",{"$f":"'12. Diet ingredient data'!I129","v":0},null,null,null,null,null,null,null,null,null,null,null,null,null,{"$f":"'12. Diet ingredient data'!C129","v":1},{"$f":"'12. Diet ingredient data'!E129","v":0},{"$f":"(IF(D286=\"\", C286, D286))/6.25","v":0},{"$f":"'12. Diet ingredient data'!K129","v":0},{"$f":"'12. Diet ingredient data'!N129","v":0},{"$f":"'12. Diet ingredient data'!H129","v":0},null,null,"Tetracid 500"]
[null,"AcidLac",{"$f":"'12. Diet ingredient data'!I130","v":0},null,null,null,null,null,null,null,null,null,null,null,null,null,{"$f":"'12. Diet ingredient data'!C130","v":1},{"$f":"'12. Diet ingredient data'!E130","v":0},{"$f":"(IF(D287=\"\", C287, D287))/6.25","v":0},{"$f":"'12. Diet ingredient data'!K130","v":0},{"$f":"'12. Diet ingredient data'!N130","v":0},{"$f":"'12. Diet ingredient data'!H130","v":0},null,null,"AcidLac"]
[null,"VevoVital ",{"$f":"'12. Diet ingredient data'!I131","v":0},null,5.0000000000000001E-4,null,null,null,null,null,null,null,null,null,null,null,{"$f":"'12. Diet ingredient data'!C131","v":1},{"$f":"'12. Diet ingredient data'!E131","v":0},{"$f":"(IF(D288=\"\", C288, D288))/6.25","v":0},{"$f":"'12. Diet ingredient data'!K131","v":0},{"$f":"'12. Diet ingredient data'!N131","v":0},{"$f":"'12. Diet ingredient data'!H131","v":0},null,null,"VevoVital "]
[null,"Other Additives",null,null,null,null,null,null,null,null,null,null,null,null,null,null,null,null,null,null,null,null,null,null,"Other Additives"]
[null,"Krave",{"$f":"'12. Diet ingredient data'!I133","v":0},null,4.0000000000000003E-5,{"$f":"IF(F$316=$Z$317, $Z290, IF(F$316=$AA$317, $AA290, IF(F$316=$AB$317, $AB290, IF(F$316=$AC$317, $AC290, 0))))","v":2.9999999999999997E-4},0,0,0,0,0,null,null,null,null,null,{"$f":"'12. Diet ingredient data'!C133","v":1},{"$f":"'12. Diet ingredient data'!E133","v":0.98},{"$f":"(IF(D290=\"\", C290, D290))/6.25","v":0},{"$f":"'12. Diet ingredient data'!K133","v":0},{"$f":"'12. Diet ingredient data'!N133","v":0},{"$f":"'12. Diet ingredient data'!H133","v":0},null,null,"Biomin® pHD",2.9999999999999997E-4]
[null,"Betaine",{"$f":"'12. Diet ingredient data'!I134","v":0},null,1E-4,1E-3,1E-3,0,0,0,0,1.5E-3,1E-3,1E-3,null,null,{"$f":"'12. Diet ingredient data'!C134","v":1},{"$f":"'12. Diet ingredient data'!E134","v":0.98},{"$f":"(IF(D291=\"\", C291, D291))/6.25","v":0},{"$f":"'12. Diet ingredient data'!K134","v":0},{"$f":"'12. Diet ingredient data'!N134","v":0},{"$f":"'12. Diet ingredient data'!H134","v":0},null,null,"Biomos",1E-3,1E-3]
[null,"Biomos",{"$f":"'12. Diet ingredient data'!I135","v":0},null,null,null,null,null,null,null,null,null,null,null,null,null,{"$f":"'12. Diet ingredient data'!C135","v":1},{"$f":"'12. Diet ingredient data'!E135","v":0.98},{"$f":"(IF(D292=\"\", C292, D292))/6.25","v":0},{"$f":"'12. Diet ingredient data'!K135","v":0},{"$f":"'12. Diet ingredient data'!N135","v":0},{"$f":"'12. Diet ingredient data'!H135","v":0},null,null,"De-Oderase"]
[null,"De-Oderase",{"$f":"'12. Diet ingredient data'!I136","v":0},null,null,null,null,null,null,null,null,null,null,null,null,null,{"$f":"'12. Diet ingredient data'!C136","v":0.99},{"$f":"'12. Diet ingredient data'!E136","v":0.98},{"$f":"(IF(D293=\"\", C293, D293))/6.25","v":0},{"$f":"'12. Diet ingredient data'!K136","v":0},{"$f":"'12. Diet ingredient data'!N136","v":0},{"$f":"'12. Diet ingredient data'!H136","v":0},null,null,"Paylean"]
[null,"Bedding Materials",null,null,null,null,null,null,null,null,null,null,null,null,null,null,null,null,null,null,null,null,null,null,"Bedding Materials"]
[null,"Hardwood sawdust",{"$f":"'12. Diet ingredient data'!I138","v":1.2375000000000001E-2},null,null,null,null,null,null,null,null,null,null,null,null,null,{"$f":"'12. Diet ingredient data'!C138","v":0.9},{"$f":"'12. Diet ingredient data'!E138","v":0},{"$f":"(IF(D295=\"\", C295, D295))/6.25","v":1.98E-3},{"$f":"'12. Diet ingredient data'!K138","v":9.0000000000000006E-5},{"$f":"'12. Diet ingredient data'!N138","v":4.5000000000000004E-4},{"$f":"'12. Diet ingredient data'!H138","v":0.05},null,null,"Hardwood sawdust"]
[null,"Softwood sawdust/shavings",{"$f":"'12. Diet ingredient data'!I139","v":7.8750000000000001E-3},null,null,null,null,null,null,null,null,null,null,null,null,null,{"$f":"'12. Diet ingredient data'!C139","v":0.9},{"$f":"'12. Diet ingredient data'!E139","v":0},1.2600000000000001E-3,{"$f":"'12. Diet ingredient data'!K139","v":9.0000000000000006E-5},{"$f":"'12. Diet ingredient data'!N139","v":2.7E-4},{"$f":"'12. Diet ingredient data'!H139","v":0.16},null,null,"Softwood sawdust/shavings"]
[null,"Rice Hulls",{"$f":"'12. Diet ingredient data'!I140","v":3.0475000000000002E-2},null,null,null,null,null,null,null,null,null,null,null,null,null,{"$f":"'12. Diet ingredient data'!C140","v":0.92},{"$f":"'12. Diet ingredient data'!E140","v":0.05},4.8760000000000001E-3,{"$f":"'12. Diet ingredient data'!K140","v":7.3600000000000011E-4},{"$f":"'12. Diet ingredient data'!N140","v":1.2144E-2},{"$f":"'12. Diet ingredient data'!H140","v":0.15625},null,null,"Rice Hulls"]
[null,"Barley straw",{"$f":"'12. Diet ingredient data'!I141","v":3.9243750000000001E-2},null,null,null,null,null,null,null,null,null,null,null,null,null,{"$f":"'12. Diet ingredient data'!C141","v":0.91},{"$f":"'12. Diet ingredient data'!E141","v":0.06},6.2789999999999999E-3,{"$f":"'12. Diet ingredient data'!K141","v":6.3699999999999998E-4},{"$f":"'12. Diet ingredient data'!N141","v":2.1566999999999999E-2},{"$f":"'12. Diet ingredient data'!H141","v":0.125},null,null,"Barley straw"]
[null,"Wheat straw",{"$f":"'12. Diet ingredient data'!I142","v":3.22625E-2},null,null,null,null,null,null,null,null,null,null,null,null,null,{"$f":"'12. Diet ingredient data'!C142","v":0.89},{"$f":"'12. Diet ingredient data'!E142","v":5.8500000000000003E-2},5.1619999999999999E-3,{"$f":"'12. Diet ingredient data'!K142","v":3.6490000000000003E-3},{"$f":"'12. Diet ingredient data'!N142","v":4.5390000000000005E-3},{"$f":"'12. Diet ingredient data'!H142","v":0.14792899408284024},null,null,"Wheat straw"]
[null,"Shredded paper",{"$f":"'12. Diet ingredient data'!I143","v":0},null,null,null,null,null,null,null,null,null,null,null,null,null,{"$f":"'12. Diet ingredient data'!C143","v":0.9},{"$f":"'12. Diet ingredient data'!E143","v":0},0,{"$f":"'12. Diet ingredient data'!K143","v":9.0000000000000006E-5},{"$f":"'12. Diet ingredient data'!N143","v":0},{"$f":"'12. Diet ingredient data'!H143","v":0.1},null,null,"Shredded paper"]
[null,"Additional ingredients",null,null,null,null,null,null,null,null,null,null,null,null,null,null,null,null,null,null,null,null,null,null,"Additional ingredients"]
[null,{"$f":"IF('12. Diet ingredient data'!B145=\"\", \"\", '12. Diet ingredient data'!B145)","v":"Sow milk"},{"$f":"IF('12. Diet ingredient data'!I145=\"\",0,'12. Diet ingredient data'!I145)","v":5.6300000000000003E-2},null,0.9,null,null,null,null,null,null,null,null,null,null,null,{"$f":"'12. Diet ingredient data'!C145","v":0.2},{"$f":"'12. Diet ingredient data'!E145","v":0.01},{"$f":"(IF(D302=\"\", C302, D302))/6.25","v":9.0080000000000004E-3},{"$f":"'12. Diet ingredient data'!K145","v":1.5E-3},{"$f":"'12. Diet ingredient data'!N145","v":6.9999999999999999E-4},{"$f":"'12. Diet ingredient data'!H145","v":1},null,null,{"$f":"IF('12. Diet ingredient data'!Y145=\"\", \"\", '12. Diet ingredient data'!Y145)","v":""}]
[null,{"$f":"IF('12. Diet ingredient data'!B146=\"\", \"\", '12. Diet ingredient data'!B146)","v":"Milk fat"},{"$f":"IF('12. Diet ingredient data'!I146=\"\",0,'12. Diet ingredient data'!I146)","v":0},null,null,null,null,null,null,null,null,null,null,null,null,null,{"$f":"'12. Diet ingredient data'!C146","v":0.99},{"$f":"'12. Diet ingredient data'!E146","v":0},{"$f":"(IF(D303=\"\", C303, D303))/6.25","v":0},{"$f":"'12. Diet ingredient data'!K146","v":0},{"$f":"'12. Diet ingredient data'!N146","v":0},{"$f":"'12. Diet ingredient data'!H146","v":1},null,null,{"$f":"IF('12. Diet ingredient data'!Y146=\"\", \"\", '12. Diet ingredient data'!Y146)","v":""}]
[]
[]
[null,"Totals:",null,null,{"$f":"SUM(E166:E303)","v":1},0.99999999999999956,0.99999999999999989,0.99999999999999989,0.99999999999999989,0,0,1.0000000000000002,1,1,0.99999999999999989,null,null,null,null,null,null,null,null,null,null,{"$f":"SUM(Z166:Z303)","v":0.99999999999999956},{"$f":"SUM(AA166:AA303)","v":0.99999999999999989},{"$f":"SUM(AB166:AB303)","v":0.99999999999999989},{"$f":"SUM(AC166:AC303)","v":0.99999999999999989}]
[]
[]
[]
[]
["Diet C input"]
[]
[]
[]
[null,"National Guidelines pig class:",null,null,null,{"$f":"'Standard diet data'!F6","v":"Weaner"},{"$f":"'Standard diet data'!G6","v":"Grower"},{"$f":"'Standard diet data'!H6","v":"Finisher"},{"$f":"'Standard diet data'!I6","v":"Finisher"},{"$f":"'Standard diet data'!J6","v":"Unallocated"},{"$f":"'Standard diet data'!K6","v":"Unallocated"}]
[null,"Standard diet description:",null,null,null,{"$f":"'Standard diet data'!F7","v":"Weaner"},{"$f":"'Standard diet data'!G7","v":"Porker"},{"$f":"'Standard diet data'!H7","v":"Grower"},{"$f":"'Standard diet data'!I7","v":"Finisher"},{"$f":"'Standard diet data'!J7","v":"Unallocated"},{"$f":"'Standard diet data'!K7","v":"Unallocated"},null,null,null,null,null,null,null,null,null,null,null,null,null,null,"Standard diet description"]
[null,"Ingredient","Default crude protein","Alternate crude protein","Sucker",{"$f":"'3. Herd Input'!M17","v":"Weaner"},{"$f":"'3. Herd Input'!M18","v":"Porker"},{"$f":"'3. Herd Input'!M19","v":"Grower"},{"$f":"'3. Herd Input'!M20","v":"Finisher"},{"$f":"'3. Herd Input'!M21","v":"Unallocated"},{"$f":"'3. Herd Input'!M22","v":"Unallocated"},"Lac sow","Dry sow","Gilts","Boars",null,"DM\n","Ash","N","Total P","K","DMD",null,null,"Ingredient","Weaner","Porker","Grower","Finisher"]
[null,null,"(%)","(%)","(% fed weight)","(% fed weight)","(% fed weight)","(% fed weight)","(% fed weight)","(% fed weight)","(% fed weight)","(% fed weight)","(% fed weight)","(% fed weight)","(% fed weight)",null,"(%) Ing DM","(%) Ing Ash","(%)","(%)","(%)","(%) Ing DM",null,null,null,"(% fed weight)","(% fed weight)","(% fed weight)","(% fed weight)"]
[null,"Cereal Grains",null,null,null,null,null,null,null,null,null,null,null,null,null,null,null,null,null,null,null,null,null,null,"Cereal Grains"]
[null,"Barley",{"$f":"'12. Diet ingredient data'!I9","v":0.1},null,1.4999999999999999E-2,{"$f":"IF(F$316=$Z$317, $Z320, IF(F$316=$AA$317, $AA320, IF(F$316=$AB$317, $AB320, IF(F$316=$AC$317, $AC320, 0))))","v":0.15},0.12,0.15,0.5,0,0,0.4,0.60045000000000004,0.65652500000000003,0.75760000000000005,null,{"$f":"'12. Diet ingredient data'!C9","v":0.88},{"$f":"'12. Diet ingredient data'!E9","v":2.1999999999999999E-2},{"$f":"(IF(D320=\"\", C320, D320))/6.25","v":1.6E-2},{"$f":"'12. Diet ingredient data'!K9","v":2.8E-3},{"$f":"'12. Diet ingredient data'!N9","v":4.6999999999999993E-3},{"$f":"'12. Diet ingredient data'!H9","v":0.81402629931120851},null,null,"Barley",0.15,0.12,0.15,0.5]
[null,"Groats",{"$f":"'12. Diet ingredient data'!I10","v":0.11},null,null,null,null,null,null,null,null,null,null,null,null,null,{"$f":"'12. Diet ingredient data'!C10","v":0.9},{"$f":"'12. Diet ingredient data'!E10","v":2.1400000000000002E-2},1.7600000000000001E-2,{"$f":"'12. Diet ingredient data'!K10","v":3.0000000000000001E-3},{"$f":"'12. Diet ingredient data'!N10","v":3.4999999999999996E-3},{"$f":"'12. Diet ingredient data'!H10","v":0.93399750933997516},null,null,"Groats"]
[null,"Oats 9",{"$f":"'12. Diet ingredient data'!I11","v":0.09},null,null,null,null,null,null,null,null,null,null,null,null,null,{"$f":"'12. Diet ingredient data'!C11","v":0.88},{"$f":"'12. Diet ingredient data'!E11","v":2.64E-2},1.44E-2,{"$f":"'12. Diet ingredient data'!K11","v":3.2000000000000002E-3},{"$f":"'12. Diet ingredient data'!N11","v":3.5999999999999999E-3},{"$f":"'12. Diet ingredient data'!H11","v":0.69970845481049571},null,null,"Oats 9"]
[null,"Maize 8",{"$f":"'12. Diet ingredient data'!I12","v":0.08},null,null,null,null,null,null,null,null,null,null,null,null,null,{"$f":"'12. Diet ingredient data'!C12","v":0.88},{"$f":"'12. Diet ingredient data'!E12","v":1.21E-2},1.2800000000000001E-2,{"$f":"'12. Diet ingredient data'!K12","v":2.5999999999999999E-3},{"$f":"'12. Diet ingredient data'!N12","v":3.3E-3},{"$f":"'12. Diet ingredient data'!H12","v":0.89894606323620585},null,null,"Maize 8"]
[null,"Sorghum 11",{"$f":"'12. Diet ingredient data'!I13","v":0.11},null,null,null,null,null,null,null,null,null,null,null,null,null,{"$f":"'12. Diet ingredient data'!C13","v":0.88},{"$f":"'12. Diet ingredient data'!E13","v":0.02},1.7600000000000001E-2,{"$f":"'12. Diet ingredient data'!K13","v":2.8000000000000004E-3},{"$f":"'12. Diet ingredient data'!N13","v":3.4999999999999996E-3},{"$f":"'12. Diet ingredient data'!H13","v":0.87223587223587218},null,null,"Sorghum 11"]
[null,"Triticale 11",{"$f":"'12. Diet ingredient data'!I14","v":0.11},null,null,{"$f":"IF(F$316=$Z$317, $Z325, IF(F$316=$AA$317, $AA325, IF(F$316=$AB$317, $AB325, IF(F$316=$AC$317, $AC325, 0))))","v":0},0.2,0.2,0.2,0,0,null,0.25,0.2,0.1,null,{"$f":"'12. Diet ingredient data'!C14","v":0.88},{"$f":"'12. Diet ingredient data'!E14","v":1.9199999999999998E-2},1.7600000000000001E-2,{"$f":"'12. Diet ingredient data'!K14","v":3.4999999999999996E-3},{"$f":"'12. Diet ingredient data'!N14","v":5.0000000000000001E-3},{"$f":"'12. Diet ingredient data'!H14","v":0.88888888888888884},null,null,"Triticale 11",null,0.2,0.2,0.2]
[null,"Wheat 10",{"$f":"'12. Diet ingredient data'!I15","v":0.1},null,5.1862499999999999E-2,0.60292500000000004,0.44074999999999998,0.46684999999999999,0.1686,0,0,0.41967500000000002,null,null,null,null,{"$f":"'12. Diet ingredient data'!C15","v":0.88},{"$f":"'12. Diet ingredient data'!E15","v":1.4999999999999999E-2},1.6E-2,{"$f":"'12. Diet ingredient data'!K15","v":3.4000000000000002E-3},{"$f":"'12. Diet ingredient data'!N15","v":4.0999999999999995E-3},{"$f":"'12. Diet ingredient data'!H15","v":0.88216761184625081},null,null,"Wheat 10",0.60292500000000004,0.44074999999999998,0.46684999999999999,0.1686]
[null,"Wheat 12",{"$f":"'12. Diet ingredient data'!I16","v":0.12},null,null,null,null,null,null,null,null,null,null,null,null,null,{"$f":"'12. Diet ingredient data'!C16","v":0.88},{"$f":"'12. Diet ingredient data'!E16","v":1.4999999999999999E-2},1.9199999999999998E-2,{"$f":"'12. Diet ingredient data'!K16","v":3.4000000000000002E-3},{"$f":"'12. Diet ingredient data'!N16","v":4.0999999999999995E-3},{"$f":"'12. Diet ingredient data'!H16","v":0.88216761184625081},null,null,"Wheat 12"]
[null,"Wheat Extruded",{"$f":"'12. Diet ingredient data'!I17","v":0.12},null,null,null,null,null,null,null,null,null,null,null,null,null,{"$f":"'12. Diet ingredient data'!C17","v":0.88},{"$f":"'12. Diet ingredient data'!E17","v":1.4999999999999999E-2},1.9199999999999998E-2,{"$f":"'12. Diet ingredient data'!K17","v":3.4000000000000002E-3},{"$f":"'12. Diet ingredient data'!N17","v":4.0999999999999995E-3},{"$f":"'12. Diet ingredient data'!H17","v":0.88235294117647056},null,null,"Wheat Extruded"]
[null,"Cereal by-products",null,null,null,null,null,null,null,null,null,null,null,null,null,null,null,null,null,null,null,null,null,null,"Cereal by-products"]
[null,"Hominy Meal",{"$f":"'12. Diet ingredient data'!I19","v":0.13400000000000001},null,null,null,null,null,null,null,null,null,null,null,null,null,{"$f":"'12. Diet ingredient data'!C19","v":0.89},{"$f":"'12. Diet ingredient data'!E19","v":4.6500000000000007E-2},{"$f":"(IF(D330=\"\", C330, D330))/6.25","v":2.1440000000000001E-2},{"$f":"'12. Diet ingredient data'!K19","v":7.7000000000000002E-3},{"$f":"'12. Diet ingredient data'!N19","v":0},{"$f":"'12. Diet ingredient data'!H19","v":0.85983510011778563},null,null,"Hominy Meal"]
[null,"Millrun",{"$f":"'12. Diet ingredient data'!I20","v":0.15},null,null,null,null,null,null,null,null,null,null,null,null,null,{"$f":"'12. Diet ingredient data'!C20","v":0.87},{"$f":"'12. Diet ingredient data'!E20","v":0.05},2.4E-2,{"$f":"'12. Diet ingredient data'!K20","v":9.4999999999999998E-3},{"$f":"'12. Diet ingredient data'!N20","v":8.0000000000000002E-3},{"$f":"'12. Diet ingredient data'!H20","v":0.69696969696969702},null,null,"Millrun"]
[null,"Rice Hulls",{"$f":"'12. Diet ingredient data'!I21","v":0.02},null,null,null,null,null,null,null,null,null,null,null,null,null,{"$f":"'12. Diet ingredient data'!C21","v":0.89},{"$f":"'12. Diet ingredient data'!E21","v":0.05},3.2000000000000002E-3,{"$f":"'12. Diet ingredient data'!K21","v":7.000000000000001E-4},{"$f":"'12. Diet ingredient data'!N21","v":8.0000000000000002E-3},{"$f":"'12. Diet ingredient data'!H21","v":0.15625},null,null,"Rice Hulls"]
[null,"Rice bran",{"$f":"'12. Diet ingredient data'!I22","v":0.155},null,null,null,null,null,null,null,null,null,null,null,null,null,{"$f":"'12. Diet ingredient data'!C22","v":0.9},{"$f":"'12. Diet ingredient data'!E22","v":0.13},2.4799999999999999E-2,{"$f":"'12. Diet ingredient data'!K22","v":1.7000000000000001E-2},{"$f":"'12. Diet ingredient data'!N22","v":1.15E-2},{"$f":"'12. Diet ingredient data'!H22","v":0.48125000000000001},null,null,"Rice bran"]
[null,"Soya hulls",{"$f":"'12. Diet ingredient data'!I23","v":0.12},null,null,null,null,null,null,null,null,null,null,null,null,null,{"$f":"'12. Diet ingredient data'!C23","v":0.89},{"$f":"'12. Diet ingredient data'!E23","v":4.4999999999999998E-2},1.9199999999999998E-2,{"$f":"'12. Diet ingredient data'!K23","v":1.1000000000000001E-3},{"$f":"'12. Diet ingredient data'!N23","v":1.2E-2},{"$f":"'12. Diet ingredient data'!H23","v":0.51509550215650024},null,null,"Soya hulls"]
[null,"Wheat Bran",{"$f":"'12. Diet ingredient data'!I24","v":0.15},null,null,null,null,null,null,null,null,null,null,null,null,null,{"$f":"'12. Diet ingredient data'!C24","v":0.87},{"$f":"'12. Diet ingredient data'!E24","v":5.0499999999999996E-2},2.4E-2,{"$f":"'12. Diet ingredient data'!K24","v":9.8999999999999991E-3},{"$f":"'12. Diet ingredient data'!N24","v":4.0000000000000001E-3},{"$f":"'12. Diet ingredient data'!H24","v":0.57177615571776153},null,null,"Wheat Bran"]
[null,"Wheat Pollard",{"$f":"'12. Diet ingredient data'!I25","v":0.15},null,null,null,null,null,null,null,null,null,null,null,null,null,{"$f":"'12. Diet ingredient data'!C25","v":0.87},{"$f":"'12. Diet ingredient data'!E25","v":4.7E-2},2.4E-2,{"$f":"'12. Diet ingredient data'!K25","v":9.4999999999999998E-3},{"$f":"'12. Diet ingredient data'!N25","v":1.2E-2},{"$f":"'12. Diet ingredient data'!H25","v":0.67755595886267383},null,null,"Wheat Pollard"]
[null,"Roots & Tubers",null,null,null,null,null,null,null,null,null,null,null,null,null,null,null,null,null,null,null,null,null,null,"Roots & Tubers"]
[null,"Cassava",{"$f":"'12. Diet ingredient data'!I27","v":0.03},null,null,null,null,null,null,null,null,null,null,null,null,null,{"$f":"'12. Diet ingredient data'!C27","v":0.87},{"$f":"'12. Diet ingredient data'!E27","v":5.5E-2},{"$f":"(IF(D338=\"\", C338, D338))/6.25","v":4.7999999999999996E-3},{"$f":"'12. Diet ingredient data'!K27","v":8.9999999999999998E-4},{"$f":"'12. Diet ingredient data'!N27","v":8.5000000000000006E-3},{"$f":"'12. Diet ingredient data'!H27","v":0.88275862068965527},null,null,"Cassava"]
[null,"By-products",null,null,null,null,null,null,null,null,null,null,null,null,null,null,null,null,null,null,null,null,null,null,"By-products"]
[null,"Biscuit Meal",{"$f":"'12. Diet ingredient data'!I29","v":0.1},null,null,null,null,null,null,null,null,null,null,null,null,null,{"$f":"'12. Diet ingredient data'!C29","v":0.89},{"$f":"'12. Diet ingredient data'!E29","v":0.03},{"$f":"(IF(D340=\"\", C340, D340))/6.25","v":1.6E-2},{"$f":"'12. Diet ingredient data'!K29","v":3.4999999999999996E-3},{"$f":"'12. Diet ingredient data'!N29","v":3.9000000000000003E-3},{"$f":"'12. Diet ingredient data'!H29","v":0.88823529411764701},null,null,"Biscuit Meal"]
[null,"Brewers Grains",{"$f":"'12. Diet ingredient data'!I30","v":0.22},null,null,null,null,null,null,null,null,null,null,null,null,null,{"$f":"'12. Diet ingredient data'!C30","v":0.88},{"$f":"'12. Diet ingredient data'!E30","v":4.4999999999999998E-2},3.5200000000000002E-2,{"$f":"'12. Diet ingredient data'!K30","v":5.0000000000000001E-3},{"$f":"'12. Diet ingredient data'!N30","v":3.0000000000000001E-3},{"$f":"'12. Diet ingredient data'!H30","v":0.65934065934065933},null,null,"Brewers Grains"]
[null,"Distller's Dried Grains & Solubles (DDGS)",{"$f":"'12. Diet ingredient data'!I31","v":0.26},null,null,null,null,null,null,null,null,null,null,null,null,null,{"$f":"'12. Diet ingredient data'!C31","v":0.9},{"$f":"'12. Diet ingredient data'!E31","v":0.05},4.1599999999999998E-2,{"$f":"'12. Diet ingredient data'!K31","v":8.5000000000000006E-3},{"$f":"'12. Diet ingredient data'!N31","v":1.23E-2},{"$f":"'12. Diet ingredient data'!H31","v":0.75980392156862753},null,null,"Distller's Dried Grains & Solubles (DDGS)"]
[null,"Molasses",{"$f":"'12. Diet ingredient data'!I32","v":0.04},null,null,null,null,null,null,null,null,null,null,null,null,null,{"$f":"'12. Diet ingredient data'!C32","v":0.745},{"$f":"'12. Diet ingredient data'!E32","v":0.1032},6.4000000000000003E-3,{"$f":"'12. Diet ingredient data'!K32","v":5.9999999999999995E-4},{"$f":"'12. Diet ingredient data'!N32","v":3.5000000000000003E-2},{"$f":"'12. Diet ingredient data'!H32","v":0.93466424682395655},null,null,"Molasses"]
[null,"Peanut shell",{"$f":"'12. Diet ingredient data'!I33","v":0.03},null,null,null,null,null,null,null,null,null,null,null,null,null,{"$f":"'12. Diet ingredient data'!C33","v":0.92},{"$f":"'12. Diet ingredient data'!E33","v":0.08},4.7999999999999996E-3,{"$f":"'12. Diet ingredient data'!K33","v":8.9999999999999998E-4},{"$f":"'12. Diet ingredient data'!N33","v":0.01},{"$f":"'12. Diet ingredient data'!H33","v":6.8750000000000006E-2},null,null,"Peanut shell"]
[null,"Sugar",{"$f":"'12. Diet ingredient data'!I34","v":0},null,null,null,null,null,null,null,null,null,null,null,null,null,{"$f":"'12. Diet ingredient data'!C34","v":0.99},{"$f":"'12. Diet ingredient data'!E34","v":5.0000000000000001E-3},0,{"$f":"'12. Diet ingredient data'!K34","v":4.0000000000000002E-4},{"$f":"'12. Diet ingredient data'!N34","v":0},{"$f":"'12. Diet ingredient data'!H34","v":0.755},null,null,"Sugar"]
[null,"Legumes",null,null,null,null,null,null,null,null,null,null,null,null,null,null,null,null,null,null,null,null,null,null,"Pulses"]
[null,"Faba beans",{"$f":"'12. Diet ingredient data'!I36","v":0.23},null,null,null,null,null,null,null,null,null,null,null,null,null,{"$f":"'12. Diet ingredient data'!C36","v":0.9},{"$f":"'12. Diet ingredient data'!E36","v":3.5299999999999998E-2},{"$f":"(IF(D347=\"\", C347, D347))/6.25","v":3.6799999999999999E-2},{"$f":"'12. Diet ingredient data'!K36","v":4.6999999999999993E-3},{"$f":"'12. Diet ingredient data'!N36","v":9.5999999999999992E-3},{"$f":"'12. Diet ingredient data'!H36","v":0.86309523809523803},null,null,"Faba beans"]
[null,"Lupins, albus",{"$f":"'12. Diet ingredient data'!I37","v":0.34},null,null,null,null,null,null,null,null,null,null,null,null,null,{"$f":"'12. Diet ingredient data'!C37","v":0.88},{"$f":"'12. Diet ingredient data'!E37","v":3.3000000000000002E-2},5.4400000000000004E-2,{"$f":"'12. Diet ingredient data'!K37","v":3.5999999999999999E-3},{"$f":"'12. Diet ingredient data'!N37","v":1.1000000000000001E-2},{"$f":"'12. Diet ingredient data'!H37","v":0.85561497326203206},null,null,"Lupins, albus"]
[null,"Lupins, augustifolius",{"$f":"'12. Diet ingredient data'!I38","v":0.30499999999999999},null,null,null,null,null,null,null,null,null,null,null,null,null,{"$f":"'12. Diet ingredient data'!C38","v":0.88},{"$f":"'12. Diet ingredient data'!E38","v":2.7999999999999997E-2},4.8799999999999996E-2,{"$f":"'12. Diet ingredient data'!K38","v":3.0000000000000001E-3},{"$f":"'12. Diet ingredient data'!N38","v":8.5000000000000006E-3},{"$f":"'12. Diet ingredient data'!H38","v":0.80662983425414359},null,null,"Lupins, augustifolius"]
[null,"Chick Peas",{"$f":"'12. Diet ingredient data'!I39","v":0.2},null,null,null,null,null,null,null,null,null,null,null,null,null,{"$f":"'12. Diet ingredient data'!C39","v":0.9},{"$f":"'12. Diet ingredient data'!E39","v":0.03},3.2000000000000001E-2,{"$f":"'12. Diet ingredient data'!K39","v":3.7000000000000002E-3},{"$f":"'12. Diet ingredient data'!N39","v":8.0000000000000002E-3},{"$f":"'12. Diet ingredient data'!H39","v":0.86138049058756405},null,null,"Chick Peas"]
[null,"Field Peas",{"$f":"'12. Diet ingredient data'!I40","v":0.20499999999999999},null,null,null,null,null,null,null,null,null,null,null,null,null,{"$f":"'12. Diet ingredient data'!C40","v":0.86},{"$f":"'12. Diet ingredient data'!E40","v":0.03},3.2799999999999996E-2,{"$f":"'12. Diet ingredient data'!K40","v":4.0000000000000001E-3},{"$f":"'12. Diet ingredient data'!N40","v":9.4999999999999998E-3},{"$f":"'12. Diet ingredient data'!H40","v":0.86309523809523803},null,null,"Field Peas"]
[null,"Mung Beans",{"$f":"'12. Diet ingredient data'!I41","v":0.24},null,null,null,null,null,null,null,null,null,null,null,null,null,{"$f":"'12. Diet ingredient data'!C41","v":0.9},{"$f":"'12. Diet ingredient data'!E41","v":3.7000000000000005E-2},3.8399999999999997E-2,{"$f":"'12. Diet ingredient data'!K41","v":6.9999999999999993E-3},{"$f":"'12. Diet ingredient data'!N41","v":4.0999999999999995E-3},{"$f":"'12. Diet ingredient data'!H41","v":0.90588235294117647},null,null,"Mung Beans"]
[null,"Navy Beans",{"$f":"'12. Diet ingredient data'!I42","v":0.24},null,null,null,null,null,null,null,null,null,null,null,null,null,{"$f":"'12. Diet ingredient data'!C42","v":0.9},{"$f":"'12. Diet ingredient data'!E42","v":3.7999999999999999E-2},3.8399999999999997E-2,{"$f":"'12. Diet ingredient data'!K42","v":4.3E-3},{"$f":"'12. Diet ingredient data'!N42","v":1.3500000000000002E-2},{"$f":"'12. Diet ingredient data'!H42","v":0.87804878048780499},null,null,"Navy Beans"]
[null,"Oilseed Meals",null,null,null,null,null,null,null,null,null,null,null,null,null,null,null,null,null,null,null,null,null,null,"Oilseed Meals"]
[null,"Canola Meal 37 Solvent",{"$f":"'12. Diet ingredient data'!I44","v":0.37},null,null,{"$f":"IF(F$316=$Z$317, $Z355, IF(F$316=$AA$317, $AA355, IF(F$316=$AB$317, $AB355, IF(F$316=$AC$317, $AC355, 0))))","v":0},0.1075,0.12,7.7499999999999999E-2,0,0,0.05,0.10249999999999999,0.09,0.09,null,{"$f":"'12. Diet ingredient data'!C44","v":0.91},{"$f":"'12. Diet ingredient data'!E44","v":6.5000000000000002E-2},{"$f":"(IF(D355=\"\", C355, D355))/6.25","v":5.9200000000000003E-2},{"$f":"'12. Diet ingredient data'!K44","v":1.1000000000000001E-2},{"$f":"'12. Diet ingredient data'!N44","v":1.2500000000000001E-2},{"$f":"'12. Diet ingredient data'!H44","v":0.73529411764705888},null,null,"Canola Meal 37 Solvent",null,0.1075,0.12,7.7499999999999999E-2]
[null,"Canola meal 32 Expeller",{"$f":"'12. Diet ingredient data'!I45","v":0.32},null,null,null,null,null,null,null,null,null,null,null,null,null,{"$f":"'12. Diet ingredient data'!C45","v":0.9},{"$f":"'12. Diet ingredient data'!E45","v":6.4000000000000001E-2},5.1200000000000002E-2,{"$f":"'12. Diet ingredient data'!K45","v":9.4999999999999998E-3},{"$f":"'12. Diet ingredient data'!N45","v":1.0500000000000001E-2},{"$f":"'12. Diet ingredient data'!H45","v":0.72181243414120122},null,null,"Canola meal 32 Expeller"]
[null,"Canola meal Cold Pressed 34",{"$f":"'12. Diet ingredient data'!I46","v":0.34},null,null,null,null,null,null,null,null,null,null,null,null,null,{"$f":"'12. Diet ingredient data'!C46","v":0.9},{"$f":"'12. Diet ingredient data'!E46","v":6.2E-2},5.4400000000000004E-2,{"$f":"'12. Diet ingredient data'!K46","v":9.5999999999999992E-3},{"$f":"'12. Diet ingredient data'!N46","v":1.23E-2},{"$f":"'12. Diet ingredient data'!H46","v":0.73684210526315785},null,null,"Canola meal Cold Pressed 34"]
[null,"Copra meal",{"$f":"'12. Diet ingredient data'!I47","v":0.21},null,null,null,null,null,null,null,null,null,null,null,null,null,{"$f":"'12. Diet ingredient data'!C47","v":0.9},{"$f":"'12. Diet ingredient data'!E47","v":6.2E-2},3.3599999999999998E-2,{"$f":"'12. Diet ingredient data'!K47","v":5.7999999999999996E-3},{"$f":"'12. Diet ingredient data'!N47","v":1.2999999999999999E-2},{"$f":"'12. Diet ingredient data'!H47","v":0.72017592083562387},null,null,"Copra meal"]
[null,"Cotton seed meal 43",{"$f":"'12. Diet ingredient data'!I48","v":0.43},null,null,null,null,null,null,null,null,null,null,null,null,null,{"$f":"'12. Diet ingredient data'!C48","v":0.9},{"$f":"'12. Diet ingredient data'!E48","v":6.5000000000000002E-2},6.88E-2,{"$f":"'12. Diet ingredient data'!K48","v":1.1399999999999999E-2},{"$f":"'12. Diet ingredient data'!N48","v":1.2500000000000001E-2},{"$f":"'12. Diet ingredient data'!H48","v":0.69444444444444453},null,null,"Cotton seed meal 43"]
[null,"Palm Kernel meal",{"$f":"'12. Diet ingredient data'!I49","v":0.14800000000000002},null,null,null,null,null,null,null,null,null,null,null,null,null,{"$f":"'12. Diet ingredient data'!C49","v":0.9},{"$f":"'12. Diet ingredient data'!E49","v":4.2000000000000003E-2},2.3680000000000003E-2,{"$f":"'12. Diet ingredient data'!K49","v":5.6000000000000008E-3},{"$f":"'12. Diet ingredient data'!N49","v":6.5000000000000006E-3},{"$f":"'12. Diet ingredient data'!H49","v":0.68643602416254801},null,null,"Palm Kernel meal"]
[null,"Peanut Meal 48",{"$f":"'12. Diet ingredient data'!I50","v":0.48},null,null,null,null,null,null,null,null,null,null,null,null,null,{"$f":"'12. Diet ingredient data'!C50","v":0.9},{"$f":"'12. Diet ingredient data'!E50","v":0.05},7.6799999999999993E-2,{"$f":"'12. Diet ingredient data'!K50","v":6.0000000000000001E-3},{"$f":"'12. Diet ingredient data'!N50","v":1.1299999999999999E-2},{"$f":"'12. Diet ingredient data'!H50","v":0.80219780219780223},null,null,"Peanut Meal 48"]
[null,"Soybean Meal 46 Solvent",{"$f":"'12. Diet ingredient data'!I51","v":0.46},null,null,{"$f":"IF(F$316=$Z$317, $Z362, IF(F$316=$AA$317, $AA362, IF(F$316=$AB$317, $AB362, IF(F$316=$AC$317, $AC362, 0))))","v":0.1},0.05,1.4999999999999999E-2,0,0,0,0.05,null,null,null,null,{"$f":"'12. Diet ingredient data'!C51","v":0.88},{"$f":"'12. Diet ingredient data'!E51","v":6.480000000000001E-2},7.3599999999999999E-2,{"$f":"'12. Diet ingredient data'!K51","v":6.1999999999999998E-3},{"$f":"'12. Diet ingredient data'!N51","v":1.9E-2},{"$f":"'12. Diet ingredient data'!H51","v":0.87236533957845441},null,null,"Soybean Meal 46 Solvent",0.1,0.05,1.4999999999999999E-2]
[null,"Soybean Meal 48 Solvent",{"$f":"'12. Diet ingredient data'!I52","v":0.48},null,null,null,null,null,null,null,null,null,null,null,null,null,{"$f":"'12. Diet ingredient data'!C52","v":0.88500000000000001},{"$f":"'12. Diet ingredient data'!E52","v":6.5000000000000002E-2},7.6799999999999993E-2,{"$f":"'12. Diet ingredient data'!K52","v":6.5000000000000006E-3},{"$f":"'12. Diet ingredient data'!N52","v":2.1000000000000001E-2},{"$f":"'12. Diet ingredient data'!H52","v":0.85582998276852384},null,null,"Soybean Meal 48 Solvent"]
[null,"Soybean, Full fat",{"$f":"'12. Diet ingredient data'!I53","v":0.35499999999999998},null,null,null,null,null,null,null,null,null,null,null,null,null,{"$f":"'12. Diet ingredient data'!C53","v":0.875},{"$f":"'12. Diet ingredient data'!E53","v":5.2999999999999999E-2},5.6799999999999996E-2,{"$f":"'12. Diet ingredient data'!K53","v":5.5000000000000005E-3},{"$f":"'12. Diet ingredient data'!N53","v":1.7000000000000001E-2},{"$f":"'12. Diet ingredient data'!H53","v":0.85365853658536583},null,null,"Soybean, Full fat"]
[null,"Selecta Soy/X-Soy 600",{"$f":"'12. Diet ingredient data'!I54","v":0.6},null,5.0000000000000001E-3,{"$f":"IF(F$316=$Z$317, $Z365, IF(F$316=$AA$317, $AA365, IF(F$316=$AB$317, $AB365, IF(F$316=$AC$317, $AC365, 0))))","v":1.2500000000000001E-2},0,0,0,0,0,null,null,null,null,null,{"$f":"'12. Diet ingredient data'!C54","v":0.92},{"$f":"'12. Diet ingredient data'!E54","v":6.8000000000000005E-2},9.6000000000000002E-2,{"$f":"'12. Diet ingredient data'!K54","v":8.0000000000000002E-3},{"$f":"'12. Diet ingredient data'!N54","v":2.3E-2},{"$f":"'12. Diet ingredient data'!H54","v":0.91246684350132612},null,null,"Selecta Soy/X-Soy 600",1.2500000000000001E-2]
[null,"Soycomil 65",{"$f":"'12. Diet ingredient data'!I55","v":0.65},null,null,null,null,null,null,null,null,null,null,null,null,null,{"$f":"'12. Diet ingredient data'!C55","v":0.91},{"$f":"'12. Diet ingredient data'!E55","v":0.06},0.10400000000000001,{"$f":"'12. Diet ingredient data'!K55","v":8.0000000000000002E-3},{"$f":"'12. Diet ingredient data'!N55","v":2.2000000000000002E-2},{"$f":"'12. Diet ingredient data'!H55","v":0.93023255813953487},null,null,"Soycomil 65"]
[null,"Sunflower 30",{"$f":"'12. Diet ingredient data'!I56","v":0.3},null,null,null,null,null,null,null,null,null,null,null,null,null,{"$f":"'12. Diet ingredient data'!C56","v":0.89},{"$f":"'12. Diet ingredient data'!E56","v":6.3E-2},4.8000000000000001E-2,{"$f":"'12. Diet ingredient data'!K56","v":0.01},{"$f":"'12. Diet ingredient data'!N56","v":1.46E-2},{"$f":"'12. Diet ingredient data'!H56","v":0.48199767711962843},null,null,"Sunflower 30"]
[null,"Sunflower 36",{"$f":"'12. Diet ingredient data'!I57","v":0.36},null,null,null,null,null,null,null,null,null,null,null,null,null,{"$f":"'12. Diet ingredient data'!C57","v":0.89},{"$f":"'12. Diet ingredient data'!E57","v":7.0000000000000007E-2},5.7599999999999998E-2,{"$f":"'12. Diet ingredient data'!K57","v":1.2E-2},{"$f":"'12. Diet ingredient data'!N57","v":1.52E-2},{"$f":"'12. Diet ingredient data'!H57","v":0.76030179918746366},null,null,"Sunflower 36"]
[null,"Yeast Products",null,null,null,null,null,null,null,null,null,null,null,null,null,null,null,null,null,null,null,null,null,null,"Yeast Products"]
[null,"Brewers Yeast",{"$f":"'12. Diet ingredient data'!I59","v":0.5},null,null,null,null,null,null,null,null,null,null,null,null,null,{"$f":"'12. Diet ingredient data'!C59","v":0.9},{"$f":"'12. Diet ingredient data'!E59","v":7.0999999999999994E-2},{"$f":"(IF(D370=\"\", C370, D370))/6.25","v":0.08},{"$f":"'12. Diet ingredient data'!K59","v":1.1599999999999999E-2},{"$f":"'12. Diet ingredient data'!N59","v":1.7000000000000001E-2},{"$f":"'12. Diet ingredient data'!H59","v":0.85836909871244638},null,null,"Brewers Yeast"]
[null,"Hilyses",{"$f":"'12. Diet ingredient data'!I60","v":0.40500000000000003},null,null,null,null,null,null,null,null,null,null,null,null,null,{"$f":"'12. Diet ingredient data'!C60","v":0.94},{"$f":"'12. Diet ingredient data'!E60","v":5.5E-2},{"$f":"(IF(D371=\"\", C371, D371))/6.25","v":6.480000000000001E-2},{"$f":"'12. Diet ingredient data'!K60","v":6.8599999999999998E-3},{"$f":"'12. Diet ingredient data'!N60","v":8.1499999999999993E-3},{"$f":"'12. Diet ingredient data'!H60","v":0.7627551020408162},null,null,"Hilyses"]
[null,"Nupro",{"$f":"'12. Diet ingredient data'!I61","v":0.47},null,null,null,null,null,null,null,null,null,null,null,null,null,{"$f":"'12. Diet ingredient data'!C61","v":0.94},{"$f":"'12. Diet ingredient data'!E61","v":8.3000000000000004E-2},{"$f":"(IF(D372=\"\", C372, D372))/6.25","v":7.5199999999999989E-2},{"$f":"'12. Diet ingredient data'!K61","v":1.4999999999999999E-2},{"$f":"'12. Diet ingredient data'!N61","v":1.9E-2},{"$f":"'12. Diet ingredient data'!H61","v":0.76344086021505364},null,null,"Nupro"]
[null,"Animal & Fish products",null,null,null,null,null,null,null,null,null,null,null,null,null,null,null,null,null,null,null,null,null,null,"Animal & Fish products"]
[null,"Blood meal 85",{"$f":"'12. Diet ingredient data'!I63","v":0.85},null,null,null,null,null,null,null,null,null,null,null,null,null,{"$f":"'12. Diet ingredient data'!C63","v":0.9},{"$f":"'12. Diet ingredient data'!E63","v":3.1E-2},{"$f":"(IF(D374=\"\", C374, D374))/6.25","v":0.13600000000000001},{"$f":"'12. Diet ingredient data'!K63","v":2.0999999999999999E-3},{"$f":"'12. Diet ingredient data'!N63","v":2.5999999999999999E-3},{"$f":"'12. Diet ingredient data'!H63","v":0.92901381610290623},null,null,"Blood meal 85"]
[null,"Blood meal 90",{"$f":"'12. Diet ingredient data'!I64","v":0.9},null,1.5E-3,{"$f":"IF(F$316=$Z$317, $Z375, IF(F$316=$AA$317, $AA375, IF(F$316=$AB$317, $AB375, IF(F$316=$AC$317, $AC375, 0))))","v":2.5000000000000001E-2},1.7500000000000002E-2,0,0,0,0,6.4999999999999997E-3,null,null,null,null,{"$f":"'12. Diet ingredient data'!C64","v":0.91},{"$f":"'12. Diet ingredient data'!E64","v":2.8300000000000002E-2},0.14400000000000002,{"$f":"'12. Diet ingredient data'!K64","v":2.0999999999999999E-3},{"$f":"'12. Diet ingredient data'!N64","v":2.5999999999999999E-3},{"$f":"'12. Diet ingredient data'!H64","v":0.92901381610290623},null,null,"Blood meal 90",2.5000000000000001E-2,1.7500000000000002E-2]
[null,"Blood Plasma",{"$f":"'12. Diet ingredient data'!I65","v":0.78},null,3.0000000000000001E-3,null,null,null,null,null,null,null,null,null,null,null,{"$f":"'12. Diet ingredient data'!C65","v":0.92},{"$f":"'12. Diet ingredient data'!E65","v":0.1},0.12480000000000001,{"$f":"'12. Diet ingredient data'!K65","v":1.3000000000000001E-2},{"$f":"'12. Diet ingredient data'!N65","v":3.0000000000000001E-3},{"$f":"'12. Diet ingredient data'!H65","v":0.93789473684210523},null,null,"Blood Plasma"]
[null,"Fishmeal 60",{"$f":"'12. Diet ingredient data'!I66","v":0.6},null,null,null,null,null,null,null,null,null,null,null,null,null,{"$f":"'12. Diet ingredient data'!C66","v":0.92},{"$f":"'12. Diet ingredient data'!E66","v":0.20749999999999999},9.6000000000000002E-2,{"$f":"'12. Diet ingredient data'!K66","v":2.8500000000000001E-2},{"$f":"'12. Diet ingredient data'!N66","v":9.3999999999999986E-3},{"$f":"'12. Diet ingredient data'!H66","v":0.80786026200873362},null,null,"Fishmeal 60"]
[null,"Fishmeal 65",{"$f":"'12. Diet ingredient data'!I67","v":0.65},null,2.5000000000000001E-3,{"$f":"IF(F$316=$Z$317, $Z378, IF(F$316=$AA$317, $AA378, IF(F$316=$AB$317, $AB378, IF(F$316=$AC$317, $AC378, 0))))","v":0.02},0,0,0,0,0,0.02,null,null,null,null,{"$f":"'12. Diet ingredient data'!C67","v":0.92},{"$f":"'12. Diet ingredient data'!E67","v":0.16140000000000002},0.10400000000000001,{"$f":"'12. Diet ingredient data'!K67","v":2.6000000000000002E-2},{"$f":"'12. Diet ingredient data'!N67","v":1.3000000000000001E-2},{"$f":"'12. Diet ingredient data'!H67","v":0.82718651211801886},null,null,"Fishmeal 65",0.02]
[null,"Fishmeal 70",{"$f":"'12. Diet ingredient data'!I68","v":0.7},null,null,null,null,null,null,null,null,null,null,null,null,null,{"$f":"'12. Diet ingredient data'!C68","v":0.91},{"$f":"'12. Diet ingredient data'!E68","v":0.125},0.11199999999999999,{"$f":"'12. Diet ingredient data'!K68","v":0.02},{"$f":"'12. Diet ingredient data'!N68","v":1.2999999999999999E-2},{"$f":"'12. Diet ingredient data'!H68","v":0.88383838383838376},null,null,"Fishmeal 70"]
[null,"Meat & bone meal 45 ",{"$f":"'12. Diet ingredient data'!I69","v":0.45},null,null,{"$f":"IF(F$316=$Z$317, $Z380, IF(F$316=$AA$317, $AA380, IF(F$316=$AB$317, $AB380, IF(F$316=$AC$317, $AC380, 0))))","v":5.2499999999999998E-2},0,0,0,0,0,null,null,null,null,null,{"$f":"'12. Diet ingredient data'!C69","v":0.95},{"$f":"'12. Diet ingredient data'!E69","v":0.35},7.2000000000000008E-2,{"$f":"'12. Diet ingredient data'!K69","v":0.06},{"$f":"'12. Diet ingredient data'!N69","v":5.0000000000000001E-3},{"$f":"'12. Diet ingredient data'!H69","v":0.75333333333333341},null,null,"Meat & bone meal 45 ",5.2499999999999998E-2]
[null,"Meat & bone meal 50",{"$f":"'12. Diet ingredient data'!I70","v":0.5},null,4.4999999999999997E-3,0,0.05,0.03,3.7499999999999999E-2,0,0,0.03,3.2500000000000001E-2,3.5000000000000003E-2,3.7499999999999999E-2,null,{"$f":"'12. Diet ingredient data'!C70","v":0.95},{"$f":"'12. Diet ingredient data'!E70","v":0.3},0.08,{"$f":"'12. Diet ingredient data'!K70","v":4.9000000000000002E-2},{"$f":"'12. Diet ingredient data'!N70","v":5.0000000000000001E-3},{"$f":"'12. Diet ingredient data'!H70","v":0.75},null,null,"Meat & bone meal 50",null,0.05,0.03,3.7499999999999999E-2]
[null,"Meat & bone meal 60",{"$f":"'12. Diet ingredient data'!I71","v":0.6},null,null,null,null,null,null,null,null,null,null,null,null,null,{"$f":"'12. Diet ingredient data'!C71","v":0.95},{"$f":"'12. Diet ingredient data'!E71","v":0.22},9.6000000000000002E-2,{"$f":"'12. Diet ingredient data'!K71","v":3.5999999999999997E-2},{"$f":"'12. Diet ingredient data'!N71","v":5.4999999999999997E-3},{"$f":"'12. Diet ingredient data'!H71","v":0.74971941638608297},null,null,"Meat & bone meal 60"]
[null,"Milk, chocolate milk powder",{"$f":"'12. Diet ingredient data'!I72","v":0.17},null,null,null,null,null,null,null,null,null,null,null,null,null,{"$f":"'12. Diet ingredient data'!C72","v":0.97},{"$f":"'12. Diet ingredient data'!E72","v":0.06},2.7200000000000002E-2,{"$f":"'12. Diet ingredient data'!K72","v":0.01},{"$f":"'12. Diet ingredient data'!N72","v":0},{"$f":"'12. Diet ingredient data'!H72","v":0.94524495677233411},null,null,"Milk, chocolate milk powder"]
[null,"Milk, skim milk powder",{"$f":"'12. Diet ingredient data'!I73","v":0.35499999999999998},null,null,null,null,null,null,null,null,null,null,null,null,null,{"$f":"'12. Diet ingredient data'!C73","v":0.95},{"$f":"'12. Diet ingredient data'!E73","v":0.08},5.6799999999999996E-2,{"$f":"'12. Diet ingredient data'!K73","v":0.01},{"$f":"'12. Diet ingredient data'!N73","v":1.6E-2},{"$f":"'12. Diet ingredient data'!H73","v":0.94524495677233411},null,null,"Milk, skim milk powder"]
[null,"Milk, full cream  powder",{"$f":"'12. Diet ingredient data'!I74","v":0.25},null,null,null,null,null,null,null,null,null,null,null,null,null,{"$f":"'12. Diet ingredient data'!C74","v":0.95},{"$f":"'12. Diet ingredient data'!E74","v":0.06},0.04,{"$f":"'12. Diet ingredient data'!K74","v":8.0000000000000002E-3},{"$f":"'12. Diet ingredient data'!N74","v":1.3000000000000001E-2},{"$f":"'12. Diet ingredient data'!H74","v":0.9620476610767873},null,null,"Milk, full cream  powder"]
[null,"Milk, whey powder",{"$f":"'12. Diet ingredient data'!I75","v":0.125},null,0.01,null,null,null,null,null,null,null,null,null,null,null,{"$f":"'12. Diet ingredient data'!C75","v":0.95},{"$f":"'12. Diet ingredient data'!E75","v":8.6999999999999994E-2},0.02,{"$f":"'12. Diet ingredient data'!K75","v":9.0000000000000011E-3},{"$f":"'12. Diet ingredient data'!N75","v":0.05},{"$f":"'12. Diet ingredient data'!H75","v":0.875},null,null,"Milk, whey powder"]
[null,"Hay & Straw",null,null,null,null,null,null,null,null,null,null,null,null,null,null,null,null,null,null,null,null,null,null,"Hay & Straw"]
[null,"Barley straw",{"$f":"'12. Diet ingredient data'!I77","v":3.7999999999999999E-2},null,null,null,null,null,null,null,null,null,null,null,null,null,{"$f":"'12. Diet ingredient data'!C77","v":0.89},{"$f":"'12. Diet ingredient data'!E77","v":5.28E-2},{"$f":"(IF(D388=\"\", C388, D388))/6.25","v":6.0799999999999995E-3},{"$f":"'12. Diet ingredient data'!K77","v":2E-3},{"$f":"'12. Diet ingredient data'!N77","v":1.1699999999999999E-2},{"$f":"'12. Diet ingredient data'!H77","v":6.25E-2},null,null,"Barley straw"]
[null,"Cereal straw pellets",{"$f":"'12. Diet ingredient data'!I78","v":3.5000000000000003E-2},null,null,null,null,null,null,null,null,null,null,null,null,null,{"$f":"'12. Diet ingredient data'!C78","v":0.88},{"$f":"'12. Diet ingredient data'!E78","v":0.06},{"$f":"(IF(D389=\"\", C389, D389))/6.25","v":5.6000000000000008E-3},{"$f":"'12. Diet ingredient data'!K78","v":8.0000000000000004E-4},{"$f":"'12. Diet ingredient data'!N78","v":8.0000000000000002E-3},{"$f":"'12. Diet ingredient data'!H78","v":0.12492192379762647},null,null,"Cereal straw pellets"]
[null,"Lucerne meal/crumbles",{"$f":"'12. Diet ingredient data'!I79","v":0.16500000000000001},null,null,null,null,null,null,null,null,null,null,null,null,null,{"$f":"'12. Diet ingredient data'!C79","v":0.9},{"$f":"'12. Diet ingredient data'!E79","v":0.1},{"$f":"(IF(D390=\"\", C390, D390))/6.25","v":2.64E-2},{"$f":"'12. Diet ingredient data'!K79","v":2.3E-3},{"$f":"'12. Diet ingredient data'!N79","v":1.9E-2},{"$f":"'12. Diet ingredient data'!H79","v":0.44867854947756608},null,null,"Lucerne meal/crumbles"]
[null,"Oat straw",{"$f":"'12. Diet ingredient data'!I80","v":5.2000000000000005E-2},null,null,null,null,null,null,null,null,null,null,null,null,null,{"$f":"'12. Diet ingredient data'!C80","v":0.87},{"$f":"'12. Diet ingredient data'!E80","v":8.8000000000000009E-2},{"$f":"(IF(D391=\"\", C391, D391))/6.25","v":8.320000000000001E-3},{"$f":"'12. Diet ingredient data'!K80","v":2.2000000000000001E-3},{"$f":"'12. Diet ingredient data'!N80","v":2.2700000000000001E-2},{"$f":"'12. Diet ingredient data'!H80","v":6.25E-2},null,null,"Oat straw"]
[null,"Wheat straw",{"$f":"'12. Diet ingredient data'!I81","v":3.7999999999999999E-2},null,null,null,null,null,null,null,null,null,null,null,null,null,{"$f":"'12. Diet ingredient data'!C81","v":0.9},{"$f":"'12. Diet ingredient data'!E81","v":5.8499999999999996E-2},{"$f":"(IF(D392=\"\", C392, D392))/6.25","v":6.0799999999999995E-3},{"$f":"'12. Diet ingredient data'!K81","v":7.000000000000001E-4},{"$f":"'12. Diet ingredient data'!N81","v":1.3300000000000001E-2},{"$f":"'12. Diet ingredient data'!H81","v":0.14792899408284024},null,null,"Wheat straw"]
[null,"Fats",null,null,null,null,null,null,null,null,null,null,null,null,null,null,null,null,null,null,null,null,null,null,"Fats"]
[null,"Tallow",{"$f":"'12. Diet ingredient data'!I83","v":5.0000000000000001E-3},null,null,null,null,null,null,null,null,null,null,null,null,null,0.995,{"$f":"'12. Diet ingredient data'!E83","v":0},{"$f":"(IF(D394=\"\", C394, D394))/6.25","v":8.0000000000000004E-4},0,0,0.87,null,null,"Tallow"]
[null,"Vegetable oil",{"$f":"'12. Diet ingredient data'!I84","v":0},null,1.3500000000000001E-3,{"$f":"IF(F$316=$Z$317, $Z395, IF(F$316=$AA$317, $AA395, IF(F$316=$AB$317, $AB395, IF(F$316=$AC$317, $AC395, 0))))","v":1.8499999999999999E-2},0,0,0,0,0,5.0000000000000001E-3,null,null,null,null,1.9950000000000001,{"$f":"'12. Diet ingredient data'!E84","v":0},{"$f":"(IF(D395=\"\", C395, D395))/6.25","v":0},0,0,0.87,null,null,"Vegetable oil",1.8499999999999999E-2]
[null,"Minerals",null,null,null,null,null,null,null,null,null,null,null,null,null,null,null,null,null,null,null,null,null,null,"Minerals"]
[null,"Bentonite",{"$f":"'12. Diet ingredient data'!I86","v":0},null,null,{"$f":"IF(F$316=$Z$317, $Z397, IF(F$316=$AA$317, $AA397, IF(F$316=$AB$317, $AB397, IF(F$316=$AC$317, $AC397, 0))))","v":0},0,0,0,0,0,null,null,null,null,null,{"$f":"'12. Diet ingredient data'!C86","v":0.99},{"$f":"'12. Diet ingredient data'!E86","v":0.99},{"$f":"(IF(D397=\"\", C397, D397))/6.25","v":0},{"$f":"'12. Diet ingredient data'!K86","v":0},{"$f":"'12. Diet ingredient data'!N86","v":0},{"$f":"'12. Diet ingredient data'!H86","v":0},null,null,"Bentonite"]
[null,"Choline Chloride",{"$f":"'12. Diet ingredient data'!I87","v":0},null,null,null,null,null,null,null,null,null,null,null,5.0000000000000001E-4,null,{"$f":"'12. Diet ingredient data'!C87","v":0.95},{"$f":"'12. Diet ingredient data'!E87","v":0.05},0,{"$f":"'12. Diet ingredient data'!K87","v":0},{"$f":"'12. Diet ingredient data'!N87","v":0},{"$f":"'12. Diet ingredient data'!H87","v":0},null,null,"Choline Chloride"]
[null,"Copper Sulphate",{"$f":"'12. Diet ingredient data'!I88","v":0},null,null,null,null,null,null,null,null,null,null,null,null,null,{"$f":"'12. Diet ingredient data'!C88","v":0.98499999999999999},{"$f":"'12. Diet ingredient data'!E88","v":1},0,{"$f":"'12. Diet ingredient data'!K88","v":0},{"$f":"'12. Diet ingredient data'!N88","v":0},{"$f":"'12. Diet ingredient data'!H88","v":0},null,null,"Copper Sulphate"]
[null,"Dicalcium phosphate (DCP)",{"$f":"'12. Diet ingredient data'!I89","v":0},null,null,null,null,null,null,null,null,null,null,null,null,null,{"$f":"'12. Diet ingredient data'!C89","v":1},{"$f":"'12. Diet ingredient data'!E89","v":0.78},0,{"$f":"'12. Diet ingredient data'!K89","v":0.182},{"$f":"'12. Diet ingredient data'!N89","v":0},{"$f":"'12. Diet ingredient data'!H89","v":0},null,null,"Dicalcium phosphate (DCP)"]
[null,"Ferrous Sulphate",{"$f":"'12. Diet ingredient data'!I90","v":0},null,null,null,null,null,null,null,null,null,null,null,null,null,{"$f":"'12. Diet ingredient data'!C90","v":0.98499999999999999},{"$f":"'12. Diet ingredient data'!E90","v":0.99},0,{"$f":"'12. Diet ingredient data'!K90","v":0},{"$f":"'12. Diet ingredient data'!N90","v":0},{"$f":"'12. Diet ingredient data'!H90","v":0},null,null,"Ferrous Sulphate"]
[null,"Kynofos",{"$f":"'12. Diet ingredient data'!I91","v":0},null,null,null,null,null,null,null,null,null,null,null,null,null,{"$f":"'12. Diet ingredient data'!C91","v":0.98},{"$f":"'12. Diet ingredient data'!E91","v":1},0,{"$f":"'12. Diet ingredient data'!K91","v":0.21},{"$f":"'12. Diet ingredient data'!N91","v":0},{"$f":"'12. Diet ingredient data'!H91","v":0},null,null,"Kynofos"]
[null,"Limestone",{"$f":"'12. Diet ingredient data'!I92","v":0},null,null,{"$f":"IF(F$316=$Z$317, $Z403, IF(F$316=$AA$317, $AA403, IF(F$316=$AB$317, $AB403, IF(F$316=$AC$317, $AC403, 0))))","v":0},0,6.0000000000000001E-3,6.0000000000000001E-3,0,0,6.0000000000000001E-3,5.0000000000000001E-3,5.0000000000000001E-3,6.0000000000000001E-3,null,{"$f":"'12. Diet ingredient data'!C92","v":0.99},{"$f":"'12. Diet ingredient data'!E92","v":0.99},0,{"$f":"'12. Diet ingredient data'!K92","v":2.0000000000000001E-4},{"$f":"'12. Diet ingredient data'!N92","v":0},{"$f":"'12. Diet ingredient data'!H92","v":0},null,null,"Limestone",null,null,6.0000000000000001E-3,6.0000000000000001E-3]
[null,"Monodicalcium phosphate (MDCP)",{"$f":"'12. Diet ingredient data'!I93","v":0},null,null,null,null,null,null,null,null,null,null,null,null,null,{"$f":"'12. Diet ingredient data'!C93","v":0.995},{"$f":"'12. Diet ingredient data'!E93","v":0.82},0,{"$f":"'12. Diet ingredient data'!K93","v":0.218},{"$f":"'12. Diet ingredient data'!N93","v":0},{"$f":"'12. Diet ingredient data'!H93","v":0},null,null,"Monodicalcium phosphate (MDCP)"]
[null,"Potassium Choride",{"$f":"'12. Diet ingredient data'!I94","v":0},null,null,null,null,null,null,null,null,null,null,null,null,null,{"$f":"'12. Diet ingredient data'!C94","v":1},{"$f":"'12. Diet ingredient data'!E94","v":1},0,{"$f":"'12. Diet ingredient data'!K94","v":0},{"$f":"'12. Diet ingredient data'!N94","v":0.52100000000000002},{"$f":"'12. Diet ingredient data'!H94","v":0},null,null,"Potassium Choride"]
[null,"Potassium sulphate",{"$f":"'12. Diet ingredient data'!I95","v":0},null,null,null,null,null,null,null,null,null,null,null,null,null,{"$f":"'12. Diet ingredient data'!C95","v":1},{"$f":"'12. Diet ingredient data'!E95","v":1},0,{"$f":"'12. Diet ingredient data'!K95","v":0},{"$f":"'12. Diet ingredient data'!N95","v":0.17550000000000002},{"$f":"'12. Diet ingredient data'!H95","v":0},null,null,"Potassium sulphate"]
[null,"Sodium Bicarbonate",{"$f":"'12. Diet ingredient data'!I96","v":0},null,null,null,null,null,null,null,null,null,null,null,null,null,{"$f":"'12. Diet ingredient data'!C96","v":1},{"$f":"'12. Diet ingredient data'!E96","v":0.625},0,{"$f":"'12. Diet ingredient data'!K96","v":0},{"$f":"'12. Diet ingredient data'!N96","v":0},{"$f":"'12. Diet ingredient data'!H96","v":0},null,null,"Sodium Bicarbonate"]
[null,"Salt",{"$f":"'12. Diet ingredient data'!I97","v":0},null,3.5E-4,{"$f":"IF(F$316=$Z$317, $Z408, IF(F$316=$AA$317, $AA408, IF(F$316=$AB$317, $AB408, IF(F$316=$AC$317, $AC408, 0))))","v":2.5000000000000001E-3},2.5000000000000001E-3,2.5000000000000001E-3,2.5000000000000001E-3,0,0,4.0000000000000001E-3,4.0000000000000001E-3,4.0000000000000001E-3,4.0000000000000001E-3,null,{"$f":"'12. Diet ingredient data'!C97","v":1},{"$f":"'12. Diet ingredient data'!E97","v":1},0,{"$f":"'12. Diet ingredient data'!K97","v":0},{"$f":"'12. Diet ingredient data'!N97","v":0},{"$f":"'12. Diet ingredient data'!H97","v":0},null,null,"Salt",2.5000000000000001E-3,2.5000000000000001E-3,2.5000000000000001E-3,2.5000000000000001E-3]
[null,"HiZox/Zinco Plus",{"$f":"'12. Diet ingredient data'!I98","v":0},null,null,null,null,null,null,null,null,null,null,null,null,null,{"$f":"'12. Diet ingredient data'!C98","v":1},{"$f":"'12. Diet ingredient data'!E98","v":0.98},0,{"$f":"'12. Diet ingredient data'!K98","v":0},{"$f":"'12. Diet ingredient data'!N98","v":0},{"$f":"'12. Diet ingredient data'!H98","v":0},null,null,"HiZox/Zinco Plus"]
[null,"Zinc Oxide",{"$f":"'12. Diet ingredient data'!I99","v":0},null,2.9999999999999997E-4,null,null,null,null,null,null,null,null,null,null,null,{"$f":"'12. Diet ingredient data'!C99","v":1},{"$f":"'12. Diet ingredient data'!E99","v":0.98},0,{"$f":"'12. Diet ingredient data'!K99","v":0},{"$f":"'12. Diet ingredient data'!N99","v":0},{"$f":"'12. Diet ingredient data'!H99","v":0},null,null,"Zinc Oxide"]
[null,"Synthetic amino acids",null,null,null,null,null,null,null,null,null,null,null,null,null,null,null,null,null,null,null,null,null,null,"Synthetic amino acids"]
[null,"L-Isoleucine",{"$f":"'12. Diet ingredient data'!I101","v":0.625},null,1.05E-4,{"$f":"IF(F$316=$Z$317, $Z412, IF(F$316=$AA$317, $AA412, IF(F$316=$AB$317, $AB412, IF(F$316=$AC$317, $AC412, 0))))","v":7.2499999999999995E-4},5.9999999999999995E-4,2.5000000000000001E-5,0,0,0,null,null,null,null,null,{"$f":"'12. Diet ingredient data'!C101","v":0.98499999999999999},{"$f":"'12. Diet ingredient data'!E101","v":5.0000000000000001E-3},{"$f":"(IF(D412=\"\", C412, D412))/6.25","v":0.1},{"$f":"'12. Diet ingredient data'!K101","v":0},{"$f":"'12. Diet ingredient data'!N101","v":0},{"$f":"'12. Diet ingredient data'!H101","v":1},null,null,"L-Isoleucine",7.2499999999999995E-4,5.9999999999999995E-4,2.5000000000000001E-5]
[null,"L-Lysine HCL",{"$f":"'12. Diet ingredient data'!I102","v":0.95400000000000007},null,4.4999999999999999E-4,4.4999999999999997E-3,4.4999999999999997E-3,4.4999999999999997E-3,3.6749999999999999E-3,0,0,2.8500000000000001E-3,4.4999999999999999E-4,3.0500000000000002E-3,2.9999999999999997E-4,null,{"$f":"'12. Diet ingredient data'!C102","v":0.995},{"$f":"'12. Diet ingredient data'!E102","v":5.0000000000000001E-3},{"$f":"(IF(D413=\"\", C413, D413))/6.25","v":0.15264},{"$f":"'12. Diet ingredient data'!K102","v":0},{"$f":"'12. Diet ingredient data'!N102","v":0},{"$f":"'12. Diet ingredient data'!H102","v":0.99950024987506236},null,null,"L-Lysine HCL",4.4999999999999997E-3,4.4999999999999997E-3,4.4999999999999997E-3,3.6749999999999999E-3]
[null,"DL-Methionie",{"$f":"'12. Diet ingredient data'!I103","v":0.58399999999999996},null,2.2000000000000001E-4,1.825E-3,6.9999999999999999E-4,4.75E-4,3.5E-4,0,0,null,null,6.7500000000000004E-4,null,null,{"$f":"'12. Diet ingredient data'!C103","v":0.995},{"$f":"'12. Diet ingredient data'!E103","v":2E-3},{"$f":"(IF(D414=\"\", C414, D414))/6.25","v":9.3439999999999995E-2},{"$f":"'12. Diet ingredient data'!K103","v":0},{"$f":"'12. Diet ingredient data'!N103","v":0},{"$f":"'12. Diet ingredient data'!H103","v":1},null,null,"DL-Methionie",1.825E-3,6.9999999999999999E-4,4.75E-4,3.5E-4]
[null,"L-Threonine",{"$f":"'12. Diet ingredient data'!I104","v":0.73099999999999998},null,1.95E-4,1.825E-3,1.25E-3,9.7499999999999996E-4,6.7500000000000004E-4,0,0,5.7499999999999999E-4,null,1.1249999999999999E-3,null,null,{"$f":"'12. Diet ingredient data'!C104","v":0.995},{"$f":"'12. Diet ingredient data'!E104","v":5.0000000000000001E-3},{"$f":"(IF(D415=\"\", C415, D415))/6.25","v":0.11695999999999999},{"$f":"'12. Diet ingredient data'!K104","v":0},{"$f":"'12. Diet ingredient data'!N104","v":0},{"$f":"'12. Diet ingredient data'!H104","v":0.99767981438515085},null,null,"L-Threonine",1.825E-3,1.25E-3,9.7499999999999996E-4,6.7500000000000004E-4]
[null,"L-Tryptophan",{"$f":"'12. Diet ingredient data'!I105","v":0.85299999999999998},null,6.7500000000000001E-5,2.9999999999999997E-4,1E-4,7.4999999999999993E-5,1E-4,0,0,null,null,2.5000000000000001E-5,null,null,{"$f":"'12. Diet ingredient data'!C105","v":0.995},{"$f":"'12. Diet ingredient data'!E105","v":5.0000000000000001E-3},{"$f":"(IF(D416=\"\", C416, D416))/6.25","v":0.13647999999999999},{"$f":"'12. Diet ingredient data'!K105","v":0},{"$f":"'12. Diet ingredient data'!N105","v":0},{"$f":"'12. Diet ingredient data'!H105","v":1.0007278020378456},null,null,"L-Tryptophan",2.9999999999999997E-4,1E-4,7.4999999999999993E-5,1E-4]
[null,"Micellaneous ingredients",null,null,null,null,null,null,null,null,null,null,null,null,null,null,null,null,null,null,null,null,null,null,"Micellaneous ingredients"]
[null,"Lactose",{"$f":"'12. Diet ingredient data'!I107","v":0},null,2.5000000000000001E-3,null,null,null,null,null,null,null,null,null,null,null,{"$f":"'12. Diet ingredient data'!C107","v":0.99},{"$f":"'12. Diet ingredient data'!E107","v":5.0000000000000001E-3},{"$f":"(IF(D418=\"\", C418, D418))/6.25","v":0},{"$f":"'12. Diet ingredient data'!K107","v":4.0000000000000002E-4},{"$f":"'12. Diet ingredient data'!N107","v":0},{"$f":"'12. Diet ingredient data'!H107","v":0.755},null,null,"Lactose"]
[null,"Levucell",{"$f":"'12. Diet ingredient data'!I108","v":0},null,null,null,null,null,null,null,null,null,null,null,null,null,{"$f":"'12. Diet ingredient data'!C108","v":0.95},{"$f":"'12. Diet ingredient data'!E108","v":0.06},{"$f":"(IF(D419=\"\", C419, D419))/6.25","v":0},{"$f":"'12. Diet ingredient data'!K108","v":0},{"$f":"'12. Diet ingredient data'!N108","v":0},{"$f":"'12. Diet ingredient data'!H108","v":0.86999999999999988},null,null,"Levucell"]
[null,"Vitamin/mineral premixes",null,null,null,null,null,null,null,null,null,null,null,null,null,null,null,null,null,null,null,null,null,null,"Vitamin/mineral premixes"]
[null,"Breeder premix",{"$f":"'12. Diet ingredient data'!I110","v":0},null,null,null,null,null,null,null,null,2E-3,2E-3,2E-3,2E-3,null,{"$f":"'12. Diet ingredient data'!C110","v":1},{"$f":"'12. Diet ingredient data'!E110","v":0.23},{"$f":"(IF(D421=\"\", C421, D421))/6.25","v":0},{"$f":"'12. Diet ingredient data'!K110","v":0},{"$f":"'12. Diet ingredient data'!N110","v":0},{"$f":"'12. Diet ingredient data'!H110","v":0},null,null,"Breeder premix"]
[null,"Grower premix",{"$f":"'12. Diet ingredient data'!I111","v":0.05},null,null,{"$f":"IF(F$316=$Z$317, $Z422, IF(F$316=$AA$317, $AA422, IF(F$316=$AB$317, $AB422, IF(F$316=$AC$317, $AC422, 0))))","v":0},2E-3,2E-3,2E-3,0,0,null,null,null,null,null,{"$f":"'12. Diet ingredient data'!C111","v":1},{"$f":"'12. Diet ingredient data'!E111","v":0.23},{"$f":"(IF(D422=\"\", C422, D422))/6.25","v":8.0000000000000002E-3},{"$f":"'12. Diet ingredient data'!K111","v":2.3999999999999998E-3},{"$f":"'12. Diet ingredient data'!N111","v":2.8E-3},{"$f":"'12. Diet ingredient data'!H111","v":0},null,null,"Grower premix",null,2E-3,2E-3,2E-3]
[null,"Weaner premix",{"$f":"'12. Diet ingredient data'!I112","v":0},null,2.0000000000000001E-4,2E-3,0,0,0,0,0,null,null,null,null,null,{"$f":"'12. Diet ingredient data'!C112","v":1},{"$f":"'12. Diet ingredient data'!E112","v":0.23},{"$f":"(IF(D423=\"\", C423, D423))/6.25","v":0},{"$f":"'12. Diet ingredient data'!K112","v":0},{"$f":"'12. Diet ingredient data'!N112","v":0},{"$f":"'12. Diet ingredient data'!H112","v":0},null,null,"Weaner premix",2E-3]
[null,"Enzymes",null,null,null,null,null,null,null,null,null,null,null,null,null,null,null,null,null,null,null,null,null,null,"Enzymes"]
[null,"Feedzyme ",{"$f":"'12. Diet ingredient data'!I114","v":0},null,null,null,null,null,null,null,null,null,null,null,null,null,{"$f":"'12. Diet ingredient data'!C114","v":1},{"$f":"'12. Diet ingredient data'!E114","v":0},{"$f":"(IF(D425=\"\", C425, D425))/6.25","v":0},{"$f":"'12. Diet ingredient data'!K114","v":0},{"$f":"'12. Diet ingredient data'!N114","v":0},{"$f":"'12. Diet ingredient data'!H114","v":0},null,null,"FEEDZYME (1 kg dose)"]
[null,"Axtra Phy",{"$f":"'12. Diet ingredient data'!I115","v":0},null,1.0000000000000001E-5,{"$f":"IF(F$316=$Z$317, $Z426, IF(F$316=$AA$317, $AA426, IF(F$316=$AB$317, $AB426, IF(F$316=$AC$317, $AC426, 0))))","v":1E-4},1E-4,1E-4,1E-4,0,0,1E-4,1E-4,null,null,null,{"$f":"'12. Diet ingredient data'!C115","v":1},{"$f":"'12. Diet ingredient data'!E115","v":0},0,{"$f":"'12. Diet ingredient data'!K115","v":0},{"$f":"'12. Diet ingredient data'!N115","v":0},{"$f":"'12. Diet ingredient data'!H115","v":0},null,null,"Kemzyme",1E-4,1E-4,1E-4,1E-4]
[null,"Axtra XB",{"$f":"'12. Diet ingredient data'!I116","v":0},null,null,null,null,null,null,null,null,null,null,1E-4,1E-4,null,{"$f":"'12. Diet ingredient data'!C116","v":1},{"$f":"'12. Diet ingredient data'!E116","v":0},0,{"$f":"'12. Diet ingredient data'!K116","v":0},{"$f":"'12. Diet ingredient data'!N116","v":0},{"$f":"'12. Diet ingredient data'!H116","v":0},null,null,"Phyzyme (500 FTU OR 100g dose)"]
[null,"Natuphos Blue",{"$f":"'12. Diet ingredient data'!I117","v":0},null,null,null,null,null,null,null,null,null,null,null,null,null,{"$f":"'12. Diet ingredient data'!C117","v":1},{"$f":"'12. Diet ingredient data'!E117","v":0},0,{"$f":"'12. Diet ingredient data'!K117","v":0},{"$f":"'12. Diet ingredient data'!N117","v":0},{"$f":"'12. Diet ingredient data'!H117","v":0},null,null,"Phyzyme (1000 FTU OR 200g dose)"]
[null,"Ronozyme P 5000 (150g dose)",{"$f":"'12. Diet ingredient data'!I118","v":0},null,null,null,null,null,null,null,null,null,null,null,null,null,{"$f":"'12. Diet ingredient data'!C118","v":1},{"$f":"'12. Diet ingredient data'!E118","v":0},0,{"$f":"'12. Diet ingredient data'!K118","v":0},{"$f":"'12. Diet ingredient data'!N118","v":0},{"$f":"'12. Diet ingredient data'!H118","v":0},null,null,"Ronozyme P 5000 (150g dose)"]
[null,"Rovabio Excel premix",{"$f":"'12. Diet ingredient data'!I119","v":0},null,5.0000000000000002E-5,{"$f":"IF(F$316=$Z$317, $Z430, IF(F$316=$AA$317, $AA430, IF(F$316=$AB$317, $AB430, IF(F$316=$AC$317, $AC430, 0))))","v":5.0000000000000001E-4},5.0000000000000001E-4,5.0000000000000001E-4,5.0000000000000001E-4,0,0,5.0000000000000001E-4,null,null,null,null,{"$f":"'12. Diet ingredient data'!C119","v":1},{"$f":"'12. Diet ingredient data'!E119","v":0},0,{"$f":"'12. Diet ingredient data'!K119","v":0},{"$f":"'12. Diet ingredient data'!N119","v":0},{"$f":"'12. Diet ingredient data'!H119","v":0},null,null,"Rovabio Excel premix",5.0000000000000001E-4,5.0000000000000001E-4,5.0000000000000001E-4,5.0000000000000001E-4]
[null,"Rovabio T-Flex ",{"$f":"'12. Diet ingredient data'!I120","v":0},null,null,null,null,null,null,null,null,null,null,null,null,null,{"$f":"'12. Diet ingredient data'!C120","v":1},{"$f":"'12. Diet ingredient data'!E120","v":0},0,{"$f":"'12. Diet ingredient data'!K120","v":0},{"$f":"'12. Diet ingredient data'!N120","v":0},{"$f":"'12. Diet ingredient data'!H120","v":0},null,null,"Allzyme SSF"]
[null,"Toxin Binders",null,null,null,null,null,null,null,null,null,null,null,null,null,null,null,null,null,null,null,null,null,null,"Toxin Binders"]
[null,"Mycofix",{"$f":"'12. Diet ingredient data'!I122","v":0},null,2.0000000000000001E-4,{"$f":"IF(F$316=$Z$317, $Z433, IF(F$316=$AA$317, $AA433, IF(F$316=$AB$317, $AB433, IF(F$316=$AC$317, $AC433, 0))))","v":1.5E-3},0,0,0,0,0,null,2E-3,1.5E-3,2E-3,null,{"$f":"'12. Diet ingredient data'!C122","v":1},{"$f":"'12. Diet ingredient data'!E122","v":0.98},{"$f":"(IF(D433=\"\", C433, D433))/6.25","v":0},{"$f":"'12. Diet ingredient data'!K122","v":0},{"$f":"'12. Diet ingredient data'!N122","v":0},{"$f":"'12. Diet ingredient data'!H122","v":0},null,null,"Mycofix",1.5E-3]
[null,"Mycosorb",{"$f":"'12. Diet ingredient data'!I123","v":0},null,null,null,null,null,null,null,null,null,null,null,null,null,{"$f":"'12. Diet ingredient data'!C123","v":1},{"$f":"'12. Diet ingredient data'!E123","v":0.85},{"$f":"(IF(D434=\"\", C434, D434))/6.25","v":0},{"$f":"'12. Diet ingredient data'!K123","v":0},{"$f":"'12. Diet ingredient data'!N123","v":0},{"$f":"'12. Diet ingredient data'!H123","v":0},null,null,"Mycosorb"]
[null,"Elitox",{"$f":"'12. Diet ingredient data'!I124","v":0},null,null,{"$f":"IF(F$316=$Z$317, $Z435, IF(F$316=$AA$317, $AA435, IF(F$316=$AB$317, $AB435, IF(F$316=$AC$317, $AC435, 0))))","v":0},1E-3,1E-3,5.0000000000000001E-4,0,0,1.5E-3,null,null,null,null,{"$f":"'12. Diet ingredient data'!C124","v":1},{"$f":"'12. Diet ingredient data'!E124","v":0.85},{"$f":"(IF(D435=\"\", C435, D435))/6.25","v":0},{"$f":"'12. Diet ingredient data'!K124","v":0},{"$f":"'12. Diet ingredient data'!N124","v":0},{"$f":"'12. Diet ingredient data'!H124","v":0},null,null,"Elitox",null,1E-3,1E-3,5.0000000000000001E-4]
[null,"Mastersorb ",{"$f":"'12. Diet ingredient data'!I125","v":0},null,null,null,null,null,null,null,null,null,null,null,null,null,{"$f":"'12. Diet ingredient data'!C125","v":1},{"$f":"'12. Diet ingredient data'!E125","v":0.85},{"$f":"(IF(D436=\"\", C436, D436))/6.25","v":0},{"$f":"'12. Diet ingredient data'!K125","v":0},{"$f":"'12. Diet ingredient data'!N125","v":0},{"$f":"'12. Diet ingredient data'!H125","v":0},null,null,"Mastersorb "]
[null,"Acidifiers",null,null,null,null,null,null,null,null,null,null,null,null,null,null,null,null,null,null,null,null,null,null,"Acidifiers"]
[null,"Formi Acid",{"$f":"'12. Diet ingredient data'!I127","v":0},null,null,null,null,null,null,null,null,null,null,null,null,null,{"$f":"'12. Diet ingredient data'!C127","v":1},{"$f":"'12. Diet ingredient data'!E127","v":0},{"$f":"(IF(D438=\"\", C438, D438))/6.25","v":0},{"$f":"'12. Diet ingredient data'!K127","v":0},{"$f":"'12. Diet ingredient data'!N127","v":0},{"$f":"'12. Diet ingredient data'!H127","v":0},null,null,"Formi Acid"]
[null,"Top3",{"$f":"'12. Diet ingredient data'!I128","v":0},null,null,{"$f":"IF(F$316=$Z$317, $Z439, IF(F$316=$AA$317, $AA439, IF(F$316=$AB$317, $AB439, IF(F$316=$AC$317, $AC439, 0))))","v":1.5E-3},0,0,0,0,0,null,null,null,null,null,{"$f":"'12. Diet ingredient data'!C128","v":1},{"$f":"'12. Diet ingredient data'!E128","v":0},{"$f":"(IF(D439=\"\", C439, D439))/6.25","v":0},{"$f":"'12. Diet ingredient data'!K128","v":0},{"$f":"'12. Diet ingredient data'!N128","v":0},{"$f":"'12. Diet ingredient data'!H128","v":0},null,null,"Top3",1.5E-3]
[null,"Tetracid 500",{"$f":"'12. Diet ingredient data'!I129","v":0},null,null,null,null,null,null,null,null,null,null,null,null,null,{"$f":"'12. Diet ingredient data'!C129","v":1},{"$f":"'12. Diet ingredient data'!E129","v":0},{"$f":"(IF(D440=\"\", C440, D440))/6.25","v":0},{"$f":"'12. Diet ingredient data'!K129","v":0},{"$f":"'12. Diet ingredient data'!N129","v":0},{"$f":"'12. Diet ingredient data'!H129","v":0},null,null,"Tetracid 500"]
[null,"AcidLac",{"$f":"'12. Diet ingredient data'!I130","v":0},null,null,null,null,null,null,null,null,null,null,null,null,null,{"$f":"'12. Diet ingredient data'!C130","v":1},{"$f":"'12. Diet ingredient data'!E130","v":0},{"$f":"(IF(D441=\"\", C441, D441))/6.25","v":0},{"$f":"'12. Diet ingredient data'!K130","v":0},{"$f":"'12. Diet ingredient data'!N130","v":0},{"$f":"'12. Diet ingredient data'!H130","v":0},null,null,"AcidLac"]
[null,"VevoVital ",{"$f":"'12. Diet ingredient data'!I131","v":0},null,5.0000000000000001E-4,null,null,null,null,null,null,null,null,null,null,null,{"$f":"'12. Diet ingredient data'!C131","v":1},{"$f":"'12. Diet ingredient data'!E131","v":0},{"$f":"(IF(D442=\"\", C442, D442))/6.25","v":0},{"$f":"'12. Diet ingredient data'!K131","v":0},{"$f":"'12. Diet ingredient data'!N131","v":0},{"$f":"'12. Diet ingredient data'!H131","v":0},null,null,"VevoVital "]
[null,"Other Additives",null,null,null,null,null,null,null,null,null,null,null,null,null,null,null,null,null,null,null,null,null,null,"Other Additives"]
[null,"Krave",{"$f":"'12. Diet ingredient data'!I133","v":0},null,4.0000000000000003E-5,{"$f":"IF(F$316=$Z$317, $Z444, IF(F$316=$AA$317, $AA444, IF(F$316=$AB$317, $AB444, IF(F$316=$AC$317, $AC444, 0))))","v":2.9999999999999997E-4},null,null,null,null,null,2.9999999999999997E-4,null,null,null,null,{"$f":"'12. Diet ingredient data'!C133","v":1},{"$f":"'12. Diet ingredient data'!E133","v":0.98},{"$f":"(IF(D444=\"\", C444, D444))/6.25","v":0},{"$f":"'12. Diet ingredient data'!K133","v":0},{"$f":"'12. Diet ingredient data'!N133","v":0},{"$f":"'12. Diet ingredient data'!H133","v":0},null,null,"Biomin® pHD",2.9999999999999997E-4]
[null,"Betaine",{"$f":"'12. Diet ingredient data'!I134","v":0},null,1E-4,{"$f":"IF(F$316=$Z$317, $Z445, IF(F$316=$AA$317, $AA445, IF(F$316=$AB$317, $AB445, IF(F$316=$AC$317, $AC445, 0))))","v":1E-3},{"$f":"IF(G$316=$Z$317, $Z445, IF(G$316=$AA$317, $AA445, IF(G$316=$AB$317, $AB445, IF(G$316=$AC$317, $AC445, 0))))","v":1E-3},{"$f":"IF(H$316=$Z$317, $Z445, IF(H$316=$AA$317, $AA445, IF(H$316=$AB$317, $AB445, IF(H$316=$AC$317, $AC445, 0))))","v":0},{"$f":"IF(I$316=$Z$317, $Z445, IF(I$316=$AA$317, $AA445, IF(I$316=$AB$317, $AB445, IF(I$316=$AC$317, $AC445, 0))))","v":0},{"$f":"IF(J$316=$Z$317, $Z445, IF(J$316=$AA$317, $AA445, IF(J$316=$AB$317, $AB445, IF(J$316=$AC$317, $AC445, 0))))","v":0},{"$f":"IF(K$316=$Z$317, $Z445, IF(K$316=$AA$317, $AA445, IF(K$316=$AB$317, $AB445, IF(K$316=$AC$317, $AC445, 0))))","v":0},1E-3,1E-3,1E-3,null,null,{"$f":"'12. Diet ingredient data'!C134","v":1},{"$f":"'12. Diet ingredient data'!E134","v":0.98},{"$f":"(IF(D445=\"\", C445, D445))/6.25","v":0},{"$f":"'12. Diet ingredient data'!K134","v":0},{"$f":"'12. Diet ingredient data'!N134","v":0},{"$f":"'12. Diet ingredient data'!H134","v":0},null,null,"Biomos",1E-3,1E-3]
[null,"Biomos",{"$f":"'12. Diet ingredient data'!I135","v":0},null,null,null,null,null,null,null,null,null,null,null,null,null,{"$f":"'12. Diet ingredient data'!C135","v":1},{"$f":"'12. Diet ingredient data'!E135","v":0.98},{"$f":"(IF(D446=\"\", C446, D446))/6.25","v":0},{"$f":"'12. Diet ingredient data'!K135","v":0},{"$f":"'12. Diet ingredient data'!N135","v":0},{"$f":"'12. Diet ingredient data'!H135","v":0},null,null,"De-Oderase"]
[null,"De-Oderase",{"$f":"'12. Diet ingredient data'!I136","v":0},null,null,null,null,null,null,null,null,null,null,null,null,null,{"$f":"'12. Diet ingredient data'!C136","v":0.99},{"$f":"'12. Diet ingredient data'!E136","v":0.98},{"$f":"(IF(D447=\"\", C447, D447))/6.25","v":0},{"$f":"'12. Diet ingredient data'!K136","v":0},{"$f":"'12. Diet ingredient data'!N136","v":0},{"$f":"'12. Diet ingredient data'!H136","v":0},null,null,"Paylean"]
[null,"Bedding Materials",null,null,null,null,null,null,null,null,null,null,null,null,null,null,null,null,null,null,null,null,null,null,"Bedding Materials"]
[null,"Hardwood sawdust",{"$f":"'12. Diet ingredient data'!I138","v":1.2375000000000001E-2},null,null,null,null,null,null,null,null,null,null,null,null,null,{"$f":"'12. Diet ingredient data'!C138","v":0.9},{"$f":"'12. Diet ingredient data'!E138","v":0},{"$f":"(IF(D449=\"\", C449, D449))/6.25","v":1.98E-3},{"$f":"'12. Diet ingredient data'!K138","v":9.0000000000000006E-5},{"$f":"'12. Diet ingredient data'!N138","v":4.5000000000000004E-4},{"$f":"'12. Diet ingredient data'!H138","v":0.05},null,null,"Hardwood sawdust"]
[null,"Softwood sawdust/shavings",{"$f":"'12. Diet ingredient data'!I139","v":7.8750000000000001E-3},null,null,null,null,null,null,null,null,null,null,null,null,null,{"$f":"'12. Diet ingredient data'!C139","v":0.9},{"$f":"'12. Diet ingredient data'!E139","v":0},1.2600000000000001E-3,{"$f":"'12. Diet ingredient data'!K139","v":9.0000000000000006E-5},{"$f":"'12. Diet ingredient data'!N139","v":2.7E-4},{"$f":"'12. Diet ingredient data'!H139","v":0.16},null,null,"Softwood sawdust/shavings"]
[null,"Rice Hulls",{"$f":"'12. Diet ingredient data'!I140","v":3.0475000000000002E-2},null,null,null,null,null,null,null,null,null,null,null,null,null,{"$f":"'12. Diet ingredient data'!C140","v":0.92},{"$f":"'12. Diet ingredient data'!E140","v":0.05},4.8760000000000001E-3,{"$f":"'12. Diet ingredient data'!K140","v":7.3600000000000011E-4},{"$f":"'12. Diet ingredient data'!N140","v":1.2144E-2},{"$f":"'12. Diet ingredient data'!H140","v":0.15625},null,null,"Rice Hulls"]
[null,"Barley straw",{"$f":"'12. Diet ingredient data'!I141","v":3.9243750000000001E-2},null,null,null,null,null,null,null,null,null,null,null,null,null,{"$f":"'12. Diet ingredient data'!C141","v":0.91},{"$f":"'12. Diet ingredient data'!E141","v":0.06},6.2789999999999999E-3,{"$f":"'12. Diet ingredient data'!K141","v":6.3699999999999998E-4},{"$f":"'12. Diet ingredient data'!N141","v":2.1566999999999999E-2},{"$f":"'12. Diet ingredient data'!H141","v":0.125},null,null,"Barley straw"]
[null,"Wheat straw",{"$f":"'12. Diet ingredient data'!I142","v":3.22625E-2},null,null,null,null,null,null,null,null,null,null,null,null,null,{"$f":"'12. Diet ingredient data'!C142","v":0.89},{"$f":"'12. Diet ingredient data'!E142","v":5.8500000000000003E-2},5.1619999999999999E-3,{"$f":"'12. Diet ingredient data'!K142","v":3.6490000000000003E-3},{"$f":"'12. Diet ingredient data'!N142","v":4.5390000000000005E-3},{"$f":"'12. Diet ingredient data'!H142","v":0.14792899408284024},null,null,"Wheat straw"]
[null,"Shredded paper",{"$f":"'12. Diet ingredient data'!I143","v":0},null,null,null,null,null,null,null,null,null,null,null,null,null,{"$f":"'12. Diet ingredient data'!C143","v":0.9},{"$f":"'12. Diet ingredient data'!E143","v":0},0,{"$f":"'12. Diet ingredient data'!K143","v":9.0000000000000006E-5},{"$f":"'12. Diet ingredient data'!N143","v":0},{"$f":"'12. Diet ingredient data'!H143","v":0.1},null,null,"Shredded paper"]
[null,"Additional ingredients",null,null,null,null,null,null,null,null,null,null,null,null,null,null,null,null,null,null,null,null,null,null,"Additional ingredients"]
[null,{"$f":"IF('12. Diet ingredient data'!B145=\"\", \"\", '12. Diet ingredient data'!B145)","v":"Sow milk"},{"$f":"IF('12. Diet ingredient data'!I145=\"\",0,'12. Diet ingredient data'!I145)","v":5.6300000000000003E-2},null,0.9,null,null,null,null,null,null,null,null,null,null,null,{"$f":"'12. Diet ingredient data'!C145","v":0.2},{"$f":"'12. Diet ingredient data'!E145","v":0.01},{"$f":"(IF(D456=\"\", C456, D456))/6.25","v":9.0080000000000004E-3},{"$f":"'12. Diet ingredient data'!K145","v":1.5E-3},{"$f":"'12. Diet ingredient data'!N145","v":6.9999999999999999E-4},{"$f":"'12. Diet ingredient data'!H145","v":1},null,null,{"$f":"IF('12. Diet ingredient data'!Y145=\"\", \"\", '12. Diet ingredient data'!Y145)","v":""}]
[null,{"$f":"IF('12. Diet ingredient data'!B146=\"\", \"\", '12. Diet ingredient data'!B146)","v":"Milk fat"},{"$f":"IF('12. Diet ingredient data'!I146=\"\",0,'12. Diet ingredient data'!I146)","v":0},null,null,null,null,null,null,null,null,null,null,null,null,null,{"$f":"'12. Diet ingredient data'!C146","v":0.99},{"$f":"'12. Diet ingredient data'!E146","v":0},{"$f":"(IF(D457=\"\", C457, D457))/6.25","v":0},{"$f":"'12. Diet ingredient data'!K146","v":0},{"$f":"'12. Diet ingredient data'!N146","v":0},{"$f":"'12. Diet ingredient data'!H146","v":1},null,null,{"$f":"IF('12. Diet ingredient data'!Y146=\"\", \"\", '12. Diet ingredient data'!Y146)","v":""}]
[]
[]
[null,"Totals:",null,null,{"$f":"SUM(E320:E457)","v":1},0.99999999999999956,1,0.99999999999999989,0.99999999999999967,0,0,1,1,1,0.99999999999999989,null,null,null,null,null,null,null,null,null,null,{"$f":"SUM(Z320:Z457)","v":0.99999999999999956},{"$f":"SUM(AA320:AA457)","v":1},{"$f":"SUM(AB320:AB457)","v":0.99999999999999989},{"$f":"SUM(AC320:AC457)","v":0.99999999999999967}]
[]
[]
[]
[]
["Diet D input"]
[]
[]
[]
[null,"National Guidelines pig class:",null,null,null,{"$f":"'Standard diet data'!F6","v":"Weaner"},{"$f":"'Standard diet data'!G6","v":"Grower"},{"$f":"'Standard diet data'!H6","v":"Finisher"},{"$f":"'Standard diet data'!I6","v":"Finisher"},{"$f":"'Standard diet data'!J6","v":"Unallocated"},{"$f":"'Standard diet data'!K6","v":"Unallocated"}]
[null,"Standard diet description:",null,null,null,{"$f":"'Standard diet data'!F7","v":"Weaner"},{"$f":"'Standard diet data'!G7","v":"Porker"},{"$f":"'Standard diet data'!H7","v":"Grower"},{"$f":"'Standard diet data'!I7","v":"Finisher"},{"$f":"'Standard diet data'!J7","v":"Unallocated"},{"$f":"'Standard diet data'!K7","v":"Unallocated"},null,null,null,null,null,null,null,null,null,null,null,null,null,null,"Standard diet description"]
[null,"Ingredient","Default crude protein","Alternate crude protein","Sucker",{"$f":"'3. Herd Input'!M17","v":"Weaner"},{"$f":"'3. Herd Input'!M18","v":"Porker"},{"$f":"'3. Herd Input'!M19","v":"Grower"},{"$f":"'3. Herd Input'!M20","v":"Finisher"},{"$f":"'3. Herd Input'!M21","v":"Unallocated"},{"$f":"'3. Herd Input'!M22","v":"Unallocated"},"Lac sow","Dry sow","Gilts","Boars",null,"DM\n","Ash","N","Total P","K","DMD",null,null,"Ingredient","Weaner","Porker","Grower","Finisher"]
[null,null,"(%)","(%)","(% fed weight)","(% fed weight)","(% fed weight)","(% fed weight)","(% fed weight)","(% fed weight)","(% fed weight)","(% fed weight)","(% fed weight)","(% fed weight)","(% fed weight)",null,"(%) Ing DM","(%) Ing Ash","(%)","(%)","(%)","(%) Ing DM",null,null,null,"(% fed weight)","(% fed weight)","(% fed weight)","(% fed weight)"]
[null,"Cereal Grains",null,null,null,null,null,null,null,null,null,null,null,null,null,null,null,null,null,null,null,null,null,null,"Cereal Grains"]
[null,"Barley",{"$f":"'12. Diet ingredient data'!I9","v":0.1},null,1.4999999999999999E-2,{"$f":"IF(F$470=$Z$471, $Z474, IF(F$470=$AA$471, $AA474, IF(F$470=$AB$471, $AB474, IF(F$470=$AC$471, $AC474, 0))))","v":0.15},0.2,0.315,0.5,0,0,0.3,0.60050000000000003,0.6,0.82869999999999999,null,{"$f":"'12. Diet ingredient data'!C9","v":0.88},{"$f":"'12. Diet ingredient data'!E9","v":2.1999999999999999E-2},{"$f":"(IF(D474=\"\", C474, D474))/6.25","v":1.6E-2},{"$f":"'12. Diet ingredient data'!K9","v":2.8E-3},{"$f":"'12. Diet ingredient data'!N9","v":4.6999999999999993E-3},{"$f":"'12. Diet ingredient data'!H9","v":0.81402629931120851},null,null,"Barley",0.15,0.2,0.315,0.5]
[null,"Groats",{"$f":"'12. Diet ingredient data'!I10","v":0.11},null,null,null,null,null,null,null,null,null,null,null,null,null,{"$f":"'12. Diet ingredient data'!C10","v":0.9},{"$f":"'12. Diet ingredient data'!E10","v":2.1400000000000002E-2},1.7600000000000001E-2,{"$f":"'12. Diet ingredient data'!K10","v":3.0000000000000001E-3},{"$f":"'12. Diet ingredient data'!N10","v":3.4999999999999996E-3},{"$f":"'12. Diet ingredient data'!H10","v":0.93399750933997516},null,null,"Groats"]
[null,"Oats 9",{"$f":"'12. Diet ingredient data'!I11","v":0.09},null,null,null,null,null,null,null,null,null,null,null,null,null,{"$f":"'12. Diet ingredient data'!C11","v":0.88},{"$f":"'12. Diet ingredient data'!E11","v":2.64E-2},1.44E-2,{"$f":"'12. Diet ingredient data'!K11","v":3.2000000000000002E-3},{"$f":"'12. Diet ingredient data'!N11","v":3.5999999999999999E-3},{"$f":"'12. Diet ingredient data'!H11","v":0.69970845481049571},null,null,"Oats 9"]
[null,"Maize 8",{"$f":"'12. Diet ingredient data'!I12","v":0.08},null,null,null,null,null,null,null,null,null,null,null,null,null,{"$f":"'12. Diet ingredient data'!C12","v":0.88},{"$f":"'12. Diet ingredient data'!E12","v":1.21E-2},1.2800000000000001E-2,{"$f":"'12. Diet ingredient data'!K12","v":2.5999999999999999E-3},{"$f":"'12. Diet ingredient data'!N12","v":3.3E-3},{"$f":"'12. Diet ingredient data'!H12","v":0.89894606323620585},null,null,"Maize 8"]
[null,"Sorghum 11",{"$f":"'12. Diet ingredient data'!I13","v":0.11},null,null,null,null,null,null,null,null,null,null,null,null,null,{"$f":"'12. Diet ingredient data'!C13","v":0.88},{"$f":"'12. Diet ingredient data'!E13","v":0.02},1.7600000000000001E-2,{"$f":"'12. Diet ingredient data'!K13","v":2.8000000000000004E-3},{"$f":"'12. Diet ingredient data'!N13","v":3.4999999999999996E-3},{"$f":"'12. Diet ingredient data'!H13","v":0.87223587223587218},null,null,"Sorghum 11"]
[null,"Triticale 11",{"$f":"'12. Diet ingredient data'!I14","v":0.11},null,null,null,null,null,null,null,null,null,null,null,null,null,{"$f":"'12. Diet ingredient data'!C14","v":0.88},{"$f":"'12. Diet ingredient data'!E14","v":1.9199999999999998E-2},1.7600000000000001E-2,{"$f":"'12. Diet ingredient data'!K14","v":3.4999999999999996E-3},{"$f":"'12. Diet ingredient data'!N14","v":5.0000000000000001E-3},{"$f":"'12. Diet ingredient data'!H14","v":0.88888888888888884},null,null,"Triticale 11"]
[null,"Wheat 10",{"$f":"'12. Diet ingredient data'!I15","v":0.1},null,5.1862499999999999E-2,{"$f":"IF(F$470=$Z$471, $Z480, IF(F$470=$AA$471, $AA480, IF(F$470=$AB$471, $AB480, IF(F$470=$AC$471, $AC480, 0))))","v":0.60292500000000004},0.52967500000000001,0.46027499999999999,0.28175,0,0,0.46207500000000001,0.24299999999999999,0.20269999999999999,null,null,{"$f":"'12. Diet ingredient data'!C15","v":0.88},{"$f":"'12. Diet ingredient data'!E15","v":1.4999999999999999E-2},1.6E-2,{"$f":"'12. Diet ingredient data'!K15","v":3.4000000000000002E-3},{"$f":"'12. Diet ingredient data'!N15","v":4.0999999999999995E-3},{"$f":"'12. Diet ingredient data'!H15","v":0.88216761184625081},null,null,"Wheat 10",0.60292500000000004,0.52967500000000001,0.46027499999999999,0.28175]
[null,"Wheat 12",{"$f":"'12. Diet ingredient data'!I16","v":0.12},null,null,null,null,null,null,null,null,null,null,null,null,null,{"$f":"'12. Diet ingredient data'!C16","v":0.88},{"$f":"'12. Diet ingredient data'!E16","v":1.4999999999999999E-2},1.9199999999999998E-2,{"$f":"'12. Diet ingredient data'!K16","v":3.4000000000000002E-3},{"$f":"'12. Diet ingredient data'!N16","v":4.0999999999999995E-3},{"$f":"'12. Diet ingredient data'!H16","v":0.88216761184625081},null,null,"Wheat 12"]
[null,"Wheat Extruded",{"$f":"'12. Diet ingredient data'!I17","v":0.12},null,null,null,null,null,null,null,null,null,null,null,null,null,{"$f":"'12. Diet ingredient data'!C17","v":0.88},{"$f":"'12. Diet ingredient data'!E17","v":1.4999999999999999E-2},1.9199999999999998E-2,{"$f":"'12. Diet ingredient data'!K17","v":3.4000000000000002E-3},{"$f":"'12. Diet ingredient data'!N17","v":4.0999999999999995E-3},{"$f":"'12. Diet ingredient data'!H17","v":0.88235294117647056},null,null,"Wheat Extruded"]
[null,"Cereal by-products",null,null,null,null,null,null,null,null,null,null,null,null,null,null,null,null,null,null,null,null,null,null,"Cereal by-products"]
[null,"Hominy Meal",{"$f":"'12. Diet ingredient data'!I19","v":0.13400000000000001},null,null,null,null,null,null,null,null,null,null,null,null,null,{"$f":"'12. Diet ingredient data'!C19","v":0.89},{"$f":"'12. Diet ingredient data'!E19","v":4.6500000000000007E-2},{"$f":"(IF(D484=\"\", C484, D484))/6.25","v":2.1440000000000001E-2},{"$f":"'12. Diet ingredient data'!K19","v":7.7000000000000002E-3},{"$f":"'12. Diet ingredient data'!N19","v":0},{"$f":"'12. Diet ingredient data'!H19","v":0.85983510011778563},null,null,"Hominy Meal"]
[null,"Millrun",{"$f":"'12. Diet ingredient data'!I20","v":0.15},null,null,null,null,null,null,null,null,null,null,null,null,null,{"$f":"'12. Diet ingredient data'!C20","v":0.87},{"$f":"'12. Diet ingredient data'!E20","v":0.05},2.4E-2,{"$f":"'12. Diet ingredient data'!K20","v":9.4999999999999998E-3},{"$f":"'12. Diet ingredient data'!N20","v":8.0000000000000002E-3},{"$f":"'12. Diet ingredient data'!H20","v":0.69696969696969702},null,null,"Millrun"]
[null,"Rice Hulls",{"$f":"'12. Diet ingredient data'!I21","v":0.02},null,null,null,null,null,null,null,null,null,null,null,null,null,{"$f":"'12. Diet ingredient data'!C21","v":0.89},{"$f":"'12. Diet ingredient data'!E21","v":0.05},3.2000000000000002E-3,{"$f":"'12. Diet ingredient data'!K21","v":7.000000000000001E-4},{"$f":"'12. Diet ingredient data'!N21","v":8.0000000000000002E-3},{"$f":"'12. Diet ingredient data'!H21","v":0.15625},null,null,"Rice Hulls"]
[null,"Rice bran",{"$f":"'12. Diet ingredient data'!I22","v":0.155},null,null,null,null,null,null,null,null,null,null,null,null,null,{"$f":"'12. Diet ingredient data'!C22","v":0.9},{"$f":"'12. Diet ingredient data'!E22","v":0.13},2.4799999999999999E-2,{"$f":"'12. Diet ingredient data'!K22","v":1.7000000000000001E-2},{"$f":"'12. Diet ingredient data'!N22","v":1.15E-2},{"$f":"'12. Diet ingredient data'!H22","v":0.48125000000000001},null,null,"Rice bran"]
[null,"Soya hulls",{"$f":"'12. Diet ingredient data'!I23","v":0.12},null,null,null,null,null,null,null,null,null,null,null,null,null,{"$f":"'12. Diet ingredient data'!C23","v":0.89},{"$f":"'12. Diet ingredient data'!E23","v":4.4999999999999998E-2},1.9199999999999998E-2,{"$f":"'12. Diet ingredient data'!K23","v":1.1000000000000001E-3},{"$f":"'12. Diet ingredient data'!N23","v":1.2E-2},{"$f":"'12. Diet ingredient data'!H23","v":0.51509550215650024},null,null,"Soya hulls"]
[null,"Wheat Bran",{"$f":"'12. Diet ingredient data'!I24","v":0.15},null,null,null,null,null,null,null,null,null,null,null,null,null,{"$f":"'12. Diet ingredient data'!C24","v":0.87},{"$f":"'12. Diet ingredient data'!E24","v":5.0499999999999996E-2},2.4E-2,{"$f":"'12. Diet ingredient data'!K24","v":9.8999999999999991E-3},{"$f":"'12. Diet ingredient data'!N24","v":4.0000000000000001E-3},{"$f":"'12. Diet ingredient data'!H24","v":0.57177615571776153},null,null,"Wheat Bran"]
[null,"Wheat Pollard",{"$f":"'12. Diet ingredient data'!I25","v":0.15},null,null,null,null,null,null,null,null,null,null,null,null,null,{"$f":"'12. Diet ingredient data'!C25","v":0.87},{"$f":"'12. Diet ingredient data'!E25","v":4.7E-2},2.4E-2,{"$f":"'12. Diet ingredient data'!K25","v":9.4999999999999998E-3},{"$f":"'12. Diet ingredient data'!N25","v":1.2E-2},{"$f":"'12. Diet ingredient data'!H25","v":0.67755595886267383},null,null,"Wheat Pollard"]
[null,"Roots & Tubers",null,null,null,null,null,null,null,null,null,null,null,null,null,null,null,null,null,null,null,null,null,null,"Roots & Tubers"]
[null,"Cassava",{"$f":"'12. Diet ingredient data'!I27","v":0.03},null,null,null,null,null,null,null,null,null,null,null,null,null,{"$f":"'12. Diet ingredient data'!C27","v":0.87},{"$f":"'12. Diet ingredient data'!E27","v":5.5E-2},{"$f":"(IF(D492=\"\", C492, D492))/6.25","v":4.7999999999999996E-3},{"$f":"'12. Diet ingredient data'!K27","v":8.9999999999999998E-4},{"$f":"'12. Diet ingredient data'!N27","v":8.5000000000000006E-3},{"$f":"'12. Diet ingredient data'!H27","v":0.88275862068965527},null,null,"Cassava"]
[null,"By-products",null,null,null,null,null,null,null,null,null,null,null,null,null,null,null,null,null,null,null,null,null,null,"By-products"]
[null,"Biscuit Meal",{"$f":"'12. Diet ingredient data'!I29","v":0.1},null,null,null,null,null,null,null,null,null,null,null,null,null,{"$f":"'12. Diet ingredient data'!C29","v":0.89},{"$f":"'12. Diet ingredient data'!E29","v":0.03},{"$f":"(IF(D494=\"\", C494, D494))/6.25","v":1.6E-2},{"$f":"'12. Diet ingredient data'!K29","v":3.4999999999999996E-3},{"$f":"'12. Diet ingredient data'!N29","v":3.9000000000000003E-3},{"$f":"'12. Diet ingredient data'!H29","v":0.88823529411764701},null,null,"Biscuit Meal"]
[null,"Brewers Grains",{"$f":"'12. Diet ingredient data'!I30","v":0.22},null,null,null,null,null,null,null,null,null,null,null,null,null,{"$f":"'12. Diet ingredient data'!C30","v":0.88},{"$f":"'12. Diet ingredient data'!E30","v":4.4999999999999998E-2},3.5200000000000002E-2,{"$f":"'12. Diet ingredient data'!K30","v":5.0000000000000001E-3},{"$f":"'12. Diet ingredient data'!N30","v":3.0000000000000001E-3},{"$f":"'12. Diet ingredient data'!H30","v":0.65934065934065933},null,null,"Brewers Grains"]
[null,"Distller's Dried Grains & Solubles (DDGS)",{"$f":"'12. Diet ingredient data'!I31","v":0.26},null,null,null,null,null,null,null,null,null,null,null,null,null,{"$f":"'12. Diet ingredient data'!C31","v":0.9},{"$f":"'12. Diet ingredient data'!E31","v":0.05},4.1599999999999998E-2,{"$f":"'12. Diet ingredient data'!K31","v":8.5000000000000006E-3},{"$f":"'12. Diet ingredient data'!N31","v":1.23E-2},{"$f":"'12. Diet ingredient data'!H31","v":0.75980392156862753},null,null,"Distller's Dried Grains & Solubles (DDGS)"]
[null,"Molasses",{"$f":"'12. Diet ingredient data'!I32","v":0.04},null,null,null,null,null,null,null,null,null,null,null,null,null,{"$f":"'12. Diet ingredient data'!C32","v":0.745},{"$f":"'12. Diet ingredient data'!E32","v":0.1032},6.4000000000000003E-3,{"$f":"'12. Diet ingredient data'!K32","v":5.9999999999999995E-4},{"$f":"'12. Diet ingredient data'!N32","v":3.5000000000000003E-2},{"$f":"'12. Diet ingredient data'!H32","v":0.93466424682395655},null,null,"Molasses"]
[null,"Peanut shell",{"$f":"'12. Diet ingredient data'!I33","v":0.03},null,null,null,null,null,null,null,null,null,null,null,null,null,{"$f":"'12. Diet ingredient data'!C33","v":0.92},{"$f":"'12. Diet ingredient data'!E33","v":0.08},4.7999999999999996E-3,{"$f":"'12. Diet ingredient data'!K33","v":8.9999999999999998E-4},{"$f":"'12. Diet ingredient data'!N33","v":0.01},{"$f":"'12. Diet ingredient data'!H33","v":6.8750000000000006E-2},null,null,"Peanut shell"]
[null,"Sugar",{"$f":"'12. Diet ingredient data'!I34","v":0},null,null,null,null,null,null,null,null,null,null,null,null,null,{"$f":"'12. Diet ingredient data'!C34","v":0.99},{"$f":"'12. Diet ingredient data'!E34","v":5.0000000000000001E-3},0,{"$f":"'12. Diet ingredient data'!K34","v":4.0000000000000002E-4},{"$f":"'12. Diet ingredient data'!N34","v":0},{"$f":"'12. Diet ingredient data'!H34","v":0.755},null,null,"Sugar"]
[null,"Legumes",null,null,null,null,null,null,null,null,null,null,null,null,null,null,null,null,null,null,null,null,null,null,"Pulses"]
[null,"Faba beans",{"$f":"'12. Diet ingredient data'!I36","v":0.23},null,null,null,null,null,null,null,null,null,null,null,null,null,{"$f":"'12. Diet ingredient data'!C36","v":0.9},{"$f":"'12. Diet ingredient data'!E36","v":3.5299999999999998E-2},{"$f":"(IF(D501=\"\", C501, D501))/6.25","v":3.6799999999999999E-2},{"$f":"'12. Diet ingredient data'!K36","v":4.6999999999999993E-3},{"$f":"'12. Diet ingredient data'!N36","v":9.5999999999999992E-3},{"$f":"'12. Diet ingredient data'!H36","v":0.86309523809523803},null,null,"Faba beans"]
[null,"Lupins, albus",{"$f":"'12. Diet ingredient data'!I37","v":0.34},null,null,null,null,null,null,null,null,null,null,null,null,null,{"$f":"'12. Diet ingredient data'!C37","v":0.88},{"$f":"'12. Diet ingredient data'!E37","v":3.3000000000000002E-2},5.4400000000000004E-2,{"$f":"'12. Diet ingredient data'!K37","v":3.5999999999999999E-3},{"$f":"'12. Diet ingredient data'!N37","v":1.1000000000000001E-2},{"$f":"'12. Diet ingredient data'!H37","v":0.85561497326203206},null,null,"Lupins, albus"]
[null,"Lupins, augustifolius",{"$f":"'12. Diet ingredient data'!I38","v":0.30499999999999999},null,null,{"$f":"IF(F$470=$Z$471, $Z503, IF(F$470=$AA$471, $AA503, IF(F$470=$AB$471, $AB503, IF(F$470=$AC$471, $AC503, 0))))","v":0},0.1,0.15,0.15,0,0,0.15,0.05,0.15,0.1,null,{"$f":"'12. Diet ingredient data'!C38","v":0.88},{"$f":"'12. Diet ingredient data'!E38","v":2.7999999999999997E-2},4.8799999999999996E-2,{"$f":"'12. Diet ingredient data'!K38","v":3.0000000000000001E-3},{"$f":"'12. Diet ingredient data'!N38","v":8.5000000000000006E-3},{"$f":"'12. Diet ingredient data'!H38","v":0.80662983425414359},null,null,"Lupins, augustifolius",null,0.1,0.15,0.15]
[null,"Chick Peas",{"$f":"'12. Diet ingredient data'!I39","v":0.2},null,null,null,null,null,null,null,null,null,null,null,null,null,{"$f":"'12. Diet ingredient data'!C39","v":0.9},{"$f":"'12. Diet ingredient data'!E39","v":0.03},3.2000000000000001E-2,{"$f":"'12. Diet ingredient data'!K39","v":3.7000000000000002E-3},{"$f":"'12. Diet ingredient data'!N39","v":8.0000000000000002E-3},{"$f":"'12. Diet ingredient data'!H39","v":0.86138049058756405},null,null,"Chick Peas"]
[null,"Field Peas",{"$f":"'12. Diet ingredient data'!I40","v":0.20499999999999999},null,null,null,null,null,null,null,null,null,null,null,null,null,{"$f":"'12. Diet ingredient data'!C40","v":0.86},{"$f":"'12. Diet ingredient data'!E40","v":0.03},3.2799999999999996E-2,{"$f":"'12. Diet ingredient data'!K40","v":4.0000000000000001E-3},{"$f":"'12. Diet ingredient data'!N40","v":9.4999999999999998E-3},{"$f":"'12. Diet ingredient data'!H40","v":0.86309523809523803},null,null,"Field Peas"]
[null,"Mung Beans",{"$f":"'12. Diet ingredient data'!I41","v":0.24},null,null,null,null,null,null,null,null,null,null,null,null,null,{"$f":"'12. Diet ingredient data'!C41","v":0.9},{"$f":"'12. Diet ingredient data'!E41","v":3.7000000000000005E-2},3.8399999999999997E-2,{"$f":"'12. Diet ingredient data'!K41","v":6.9999999999999993E-3},{"$f":"'12. Diet ingredient data'!N41","v":4.0999999999999995E-3},{"$f":"'12. Diet ingredient data'!H41","v":0.90588235294117647},null,null,"Mung Beans"]
[null,"Navy Beans",{"$f":"'12. Diet ingredient data'!I42","v":0.24},null,null,null,null,null,null,null,null,null,null,null,null,null,{"$f":"'12. Diet ingredient data'!C42","v":0.9},{"$f":"'12. Diet ingredient data'!E42","v":3.7999999999999999E-2},3.8399999999999997E-2,{"$f":"'12. Diet ingredient data'!K42","v":4.3E-3},{"$f":"'12. Diet ingredient data'!N42","v":1.3500000000000002E-2},{"$f":"'12. Diet ingredient data'!H42","v":0.87804878048780499},null,null,"Navy Beans"]
[null,"Oilseed Meals",null,null,null,null,null,null,null,null,null,null,null,null,null,null,null,null,null,null,null,null,null,null,"Oilseed Meals"]
[null,"Canola Meal 37 Solvent",{"$f":"'12. Diet ingredient data'!I44","v":0.37},null,null,{"$f":"IF(F$470=$Z$471, $Z509, IF(F$470=$AA$471, $AA509, IF(F$470=$AB$471, $AB509, IF(F$470=$AC$471, $AC509, 0))))","v":0},0,1.4999999999999999E-2,0.02,0,0,null,6.5000000000000002E-2,null,0.02,null,{"$f":"'12. Diet ingredient data'!C44","v":0.91},{"$f":"'12. Diet ingredient data'!E44","v":6.5000000000000002E-2},{"$f":"(IF(D509=\"\", C509, D509))/6.25","v":5.9200000000000003E-2},{"$f":"'12. Diet ingredient data'!K44","v":1.1000000000000001E-2},{"$f":"'12. Diet ingredient data'!N44","v":1.2500000000000001E-2},{"$f":"'12. Diet ingredient data'!H44","v":0.73529411764705888},null,null,"Canola Meal 37 Solvent",null,null,1.4999999999999999E-2,0.02]
[null,"Canola meal 32 Expeller",{"$f":"'12. Diet ingredient data'!I45","v":0.32},null,null,null,null,null,null,null,null,null,null,null,null,null,{"$f":"'12. Diet ingredient data'!C45","v":0.9},{"$f":"'12. Diet ingredient data'!E45","v":6.4000000000000001E-2},5.1200000000000002E-2,{"$f":"'12. Diet ingredient data'!K45","v":9.4999999999999998E-3},{"$f":"'12. Diet ingredient data'!N45","v":1.0500000000000001E-2},{"$f":"'12. Diet ingredient data'!H45","v":0.72181243414120122},null,null,"Canola meal 32 Expeller"]
[null,"Canola meal Cold Pressed 34",{"$f":"'12. Diet ingredient data'!I46","v":0.34},null,null,null,null,null,null,null,null,null,null,null,null,null,{"$f":"'12. Diet ingredient data'!C46","v":0.9},{"$f":"'12. Diet ingredient data'!E46","v":6.2E-2},5.4400000000000004E-2,{"$f":"'12. Diet ingredient data'!K46","v":9.5999999999999992E-3},{"$f":"'12. Diet ingredient data'!N46","v":1.23E-2},{"$f":"'12. Diet ingredient data'!H46","v":0.73684210526315785},null,null,"Canola meal Cold Pressed 34"]
[null,"Copra meal",{"$f":"'12. Diet ingredient data'!I47","v":0.21},null,null,null,null,null,null,null,null,null,null,null,null,null,{"$f":"'12. Diet ingredient data'!C47","v":0.9},{"$f":"'12. Diet ingredient data'!E47","v":6.2E-2},3.3599999999999998E-2,{"$f":"'12. Diet ingredient data'!K47","v":5.7999999999999996E-3},{"$f":"'12. Diet ingredient data'!N47","v":1.2999999999999999E-2},{"$f":"'12. Diet ingredient data'!H47","v":0.72017592083562387},null,null,"Copra meal"]
[null,"Cotton seed meal 43",{"$f":"'12. Diet ingredient data'!I48","v":0.43},null,null,null,null,null,null,null,null,null,null,null,null,null,{"$f":"'12. Diet ingredient data'!C48","v":0.9},{"$f":"'12. Diet ingredient data'!E48","v":6.5000000000000002E-2},6.88E-2,{"$f":"'12. Diet ingredient data'!K48","v":1.1399999999999999E-2},{"$f":"'12. Diet ingredient data'!N48","v":1.2500000000000001E-2},{"$f":"'12. Diet ingredient data'!H48","v":0.69444444444444453},null,null,"Cotton seed meal 43"]
[null,"Palm Kernel meal",{"$f":"'12. Diet ingredient data'!I49","v":0.14800000000000002},null,null,null,null,null,null,null,null,null,null,null,null,null,{"$f":"'12. Diet ingredient data'!C49","v":0.9},{"$f":"'12. Diet ingredient data'!E49","v":4.2000000000000003E-2},2.3680000000000003E-2,{"$f":"'12. Diet ingredient data'!K49","v":5.6000000000000008E-3},{"$f":"'12. Diet ingredient data'!N49","v":6.5000000000000006E-3},{"$f":"'12. Diet ingredient data'!H49","v":0.68643602416254801},null,null,"Palm Kernel meal"]
[null,"Peanut Meal 48",{"$f":"'12. Diet ingredient data'!I50","v":0.48},null,null,null,null,null,null,null,null,null,null,null,null,null,{"$f":"'12. Diet ingredient data'!C50","v":0.9},{"$f":"'12. Diet ingredient data'!E50","v":0.05},7.6799999999999993E-2,{"$f":"'12. Diet ingredient data'!K50","v":6.0000000000000001E-3},{"$f":"'12. Diet ingredient data'!N50","v":1.1299999999999999E-2},{"$f":"'12. Diet ingredient data'!H50","v":0.80219780219780223},null,null,"Peanut Meal 48"]
[null,"Soybean Meal 46 Solvent",{"$f":"'12. Diet ingredient data'!I51","v":0.46},null,null,{"$f":"IF(F$470=$Z$471, $Z516, IF(F$470=$AA$471, $AA516, IF(F$470=$AB$471, $AB516, IF(F$470=$AC$471, $AC516, 0))))","v":0.1},0.105,0,0,0,0,null,null,null,null,null,{"$f":"'12. Diet ingredient data'!C51","v":0.88},{"$f":"'12. Diet ingredient data'!E51","v":6.480000000000001E-2},7.3599999999999999E-2,{"$f":"'12. Diet ingredient data'!K51","v":6.1999999999999998E-3},{"$f":"'12. Diet ingredient data'!N51","v":1.9E-2},{"$f":"'12. Diet ingredient data'!H51","v":0.87236533957845441},null,null,"Soybean Meal 46 Solvent",0.1,0.105]
[null,"Soybean Meal 48 Solvent",{"$f":"'12. Diet ingredient data'!I52","v":0.48},null,null,null,null,null,null,null,null,null,null,null,null,null,{"$f":"'12. Diet ingredient data'!C52","v":0.88500000000000001},{"$f":"'12. Diet ingredient data'!E52","v":6.5000000000000002E-2},7.6799999999999993E-2,{"$f":"'12. Diet ingredient data'!K52","v":6.5000000000000006E-3},{"$f":"'12. Diet ingredient data'!N52","v":2.1000000000000001E-2},{"$f":"'12. Diet ingredient data'!H52","v":0.85582998276852384},null,null,"Soybean Meal 48 Solvent"]
[null,"Soybean, Full fat",{"$f":"'12. Diet ingredient data'!I53","v":0.35499999999999998},null,null,null,null,null,null,null,null,null,null,null,null,null,{"$f":"'12. Diet ingredient data'!C53","v":0.875},{"$f":"'12. Diet ingredient data'!E53","v":5.2999999999999999E-2},5.6799999999999996E-2,{"$f":"'12. Diet ingredient data'!K53","v":5.5000000000000005E-3},{"$f":"'12. Diet ingredient data'!N53","v":1.7000000000000001E-2},{"$f":"'12. Diet ingredient data'!H53","v":0.85365853658536583},null,null,"Soybean, Full fat"]
[null,"Selecta Soy/X-Soy 600",{"$f":"'12. Diet ingredient data'!I54","v":0.6},null,5.0000000000000001E-3,{"$f":"IF(F$470=$Z$471, $Z519, IF(F$470=$AA$471, $AA519, IF(F$470=$AB$471, $AB519, IF(F$470=$AC$471, $AC519, 0))))","v":1.2500000000000001E-2},0,0,0,0,0,null,null,null,null,null,{"$f":"'12. Diet ingredient data'!C54","v":0.92},{"$f":"'12. Diet ingredient data'!E54","v":6.8000000000000005E-2},9.6000000000000002E-2,{"$f":"'12. Diet ingredient data'!K54","v":8.0000000000000002E-3},{"$f":"'12. Diet ingredient data'!N54","v":2.3E-2},{"$f":"'12. Diet ingredient data'!H54","v":0.91246684350132612},null,null,"Selecta Soy/X-Soy 600",1.2500000000000001E-2]
[null,"Soycomil 65",{"$f":"'12. Diet ingredient data'!I55","v":0.65},null,null,null,null,null,null,null,null,null,null,null,null,null,{"$f":"'12. Diet ingredient data'!C55","v":0.91},{"$f":"'12. Diet ingredient data'!E55","v":0.06},0.10400000000000001,{"$f":"'12. Diet ingredient data'!K55","v":8.0000000000000002E-3},{"$f":"'12. Diet ingredient data'!N55","v":2.2000000000000002E-2},{"$f":"'12. Diet ingredient data'!H55","v":0.93023255813953487},null,null,"Soycomil 65"]
[null,"Sunflower 30",{"$f":"'12. Diet ingredient data'!I56","v":0.3},null,null,null,null,null,null,null,null,null,null,null,null,null,{"$f":"'12. Diet ingredient data'!C56","v":0.89},{"$f":"'12. Diet ingredient data'!E56","v":6.3E-2},4.8000000000000001E-2,{"$f":"'12. Diet ingredient data'!K56","v":0.01},{"$f":"'12. Diet ingredient data'!N56","v":1.46E-2},{"$f":"'12. Diet ingredient data'!H56","v":0.48199767711962843},null,null,"Sunflower 30"]
[null,"Sunflower 36",{"$f":"'12. Diet ingredient data'!I57","v":0.36},null,null,null,null,null,null,null,null,null,null,null,null,null,{"$f":"'12. Diet ingredient data'!C57","v":0.89},{"$f":"'12. Diet ingredient data'!E57","v":7.0000000000000007E-2},5.7599999999999998E-2,{"$f":"'12. Diet ingredient data'!K57","v":1.2E-2},{"$f":"'12. Diet ingredient data'!N57","v":1.52E-2},{"$f":"'12. Diet ingredient data'!H57","v":0.76030179918746366},null,null,"Sunflower 36"]
[null,"Yeast Products",null,null,null,null,null,null,null,null,null,null,null,null,null,null,null,null,null,null,null,null,null,null,"Yeast Products"]
[null,"Brewers Yeast",{"$f":"'12. Diet ingredient data'!I59","v":0.5},null,null,null,null,null,null,null,null,null,null,null,null,null,{"$f":"'12. Diet ingredient data'!C59","v":0.9},{"$f":"'12. Diet ingredient data'!E59","v":7.0999999999999994E-2},{"$f":"(IF(D524=\"\", C524, D524))/6.25","v":0.08},{"$f":"'12. Diet ingredient data'!K59","v":1.1599999999999999E-2},{"$f":"'12. Diet ingredient data'!N59","v":1.7000000000000001E-2},{"$f":"'12. Diet ingredient data'!H59","v":0.85836909871244638},null,null,"Brewers Yeast"]
[null,"Hilyses",{"$f":"'12. Diet ingredient data'!I60","v":0.40500000000000003},null,null,null,null,null,null,null,null,null,null,null,null,null,{"$f":"'12. Diet ingredient data'!C60","v":0.94},{"$f":"'12. Diet ingredient data'!E60","v":5.5E-2},{"$f":"(IF(D525=\"\", C525, D525))/6.25","v":6.480000000000001E-2},{"$f":"'12. Diet ingredient data'!K60","v":6.8599999999999998E-3},{"$f":"'12. Diet ingredient data'!N60","v":8.1499999999999993E-3},{"$f":"'12. Diet ingredient data'!H60","v":0.7627551020408162},null,null,"Hilyses"]
[null,"Nupro",{"$f":"'12. Diet ingredient data'!I61","v":0.47},null,null,{"$f":"IF(F$470=$Z$471, $Z526, IF(F$470=$AA$471, $AA526, IF(F$470=$AB$471, $AB526, IF(F$470=$AC$471, $AC526, 0))))","v":0},0,0,0,0,0,null,null,null,null,null,{"$f":"'12. Diet ingredient data'!C61","v":0.94},{"$f":"'12. Diet ingredient data'!E61","v":8.3000000000000004E-2},{"$f":"(IF(D526=\"\", C526, D526))/6.25","v":7.5199999999999989E-2},{"$f":"'12. Diet ingredient data'!K61","v":1.4999999999999999E-2},{"$f":"'12. Diet ingredient data'!N61","v":1.9E-2},{"$f":"'12. Diet ingredient data'!H61","v":0.76344086021505364},null,null,"Nupro"]
[null,"Animal & Fish products",null,null,null,null,null,null,null,null,null,null,null,null,null,null,null,null,null,null,null,null,null,null,"Animal & Fish products"]
[null,"Blood meal 85",{"$f":"'12. Diet ingredient data'!I63","v":0.85},null,null,null,null,null,null,null,null,null,null,null,null,null,{"$f":"'12. Diet ingredient data'!C63","v":0.9},{"$f":"'12. Diet ingredient data'!E63","v":3.1E-2},{"$f":"(IF(D528=\"\", C528, D528))/6.25","v":0.13600000000000001},{"$f":"'12. Diet ingredient data'!K63","v":2.0999999999999999E-3},{"$f":"'12. Diet ingredient data'!N63","v":2.5999999999999999E-3},{"$f":"'12. Diet ingredient data'!H63","v":0.92901381610290623},null,null,"Blood meal, spray/ring"]
[null,"Blood meal 90",{"$f":"'12. Diet ingredient data'!I64","v":0.9},null,1.5E-3,{"$f":"IF(F$470=$Z$471, $Z529, IF(F$470=$AA$471, $AA529, IF(F$470=$AB$471, $AB529, IF(F$470=$AC$471, $AC529, 0))))","v":2.5000000000000001E-2},7.4999999999999997E-3,0,0,0,0,8.0000000000000002E-3,null,null,null,null,{"$f":"'12. Diet ingredient data'!C64","v":0.91},{"$f":"'12. Diet ingredient data'!E64","v":2.8300000000000002E-2},0.14400000000000002,{"$f":"'12. Diet ingredient data'!K64","v":2.0999999999999999E-3},{"$f":"'12. Diet ingredient data'!N64","v":2.5999999999999999E-3},{"$f":"'12. Diet ingredient data'!H64","v":0.92901381610290623},null,null,null,2.5000000000000001E-2,7.4999999999999997E-3]
[null,"Blood Plasma",{"$f":"'12. Diet ingredient data'!I65","v":0.78},null,3.0000000000000001E-3,null,null,null,null,null,null,null,null,null,null,null,{"$f":"'12. Diet ingredient data'!C65","v":0.92},{"$f":"'12. Diet ingredient data'!E65","v":0.1},0.12480000000000001,{"$f":"'12. Diet ingredient data'!K65","v":1.3000000000000001E-2},{"$f":"'12. Diet ingredient data'!N65","v":3.0000000000000001E-3},{"$f":"'12. Diet ingredient data'!H65","v":0.93789473684210523}]
[null,"Fishmeal 60",{"$f":"'12. Diet ingredient data'!I66","v":0.6},null,null,null,null,null,null,null,null,null,null,null,null,null,{"$f":"'12. Diet ingredient data'!C66","v":0.92},{"$f":"'12. Diet ingredient data'!E66","v":0.20749999999999999},9.6000000000000002E-2,{"$f":"'12. Diet ingredient data'!K66","v":2.8500000000000001E-2},{"$f":"'12. Diet ingredient data'!N66","v":9.3999999999999986E-3},{"$f":"'12. Diet ingredient data'!H66","v":0.80786026200873362},null,null,"Blood Plasma"]
[null,"Fishmeal 65",{"$f":"'12. Diet ingredient data'!I67","v":0.65},null,2.5000000000000001E-3,{"$f":"IF(F$470=$Z$471, $Z532, IF(F$470=$AA$471, $AA532, IF(F$470=$AB$471, $AB532, IF(F$470=$AC$471, $AC532, 0))))","v":0.02},0,0,0,0,0,0.02,null,null,null,null,{"$f":"'12. Diet ingredient data'!C67","v":0.92},{"$f":"'12. Diet ingredient data'!E67","v":0.16140000000000002},0.10400000000000001,{"$f":"'12. Diet ingredient data'!K67","v":2.6000000000000002E-2},{"$f":"'12. Diet ingredient data'!N67","v":1.3000000000000001E-2},{"$f":"'12. Diet ingredient data'!H67","v":0.82718651211801886},null,null,"Fishmeal 62",0.02]
[null,"Fishmeal 70",{"$f":"'12. Diet ingredient data'!I68","v":0.7},null,null,null,null,null,null,null,null,null,null,null,null,null,{"$f":"'12. Diet ingredient data'!C68","v":0.91},{"$f":"'12. Diet ingredient data'!E68","v":0.125},0.11199999999999999,{"$f":"'12. Diet ingredient data'!K68","v":0.02},{"$f":"'12. Diet ingredient data'!N68","v":1.2999999999999999E-2},{"$f":"'12. Diet ingredient data'!H68","v":0.88383838383838376},null,null,"Fishmeal 65"]
[null,"Meat & bone meal 45 ",{"$f":"'12. Diet ingredient data'!I69","v":0.45},null,null,{"$f":"IF(F$470=$Z$471, $Z534, IF(F$470=$AA$471, $AA534, IF(F$470=$AB$471, $AB534, IF(F$470=$AC$471, $AC534, 0))))","v":5.2499999999999998E-2},0,0,0,0,0,null,null,null,null,null,{"$f":"'12. Diet ingredient data'!C69","v":0.95},{"$f":"'12. Diet ingredient data'!E69","v":0.35},7.2000000000000008E-2,{"$f":"'12. Diet ingredient data'!K69","v":0.06},{"$f":"'12. Diet ingredient data'!N69","v":5.0000000000000001E-3},{"$f":"'12. Diet ingredient data'!H69","v":0.75333333333333341},null,null,"Feather meal",5.2499999999999998E-2]
[null,"Meat & bone meal 50",{"$f":"'12. Diet ingredient data'!I70","v":0.5},null,4.4999999999999997E-3,0,3.7499999999999999E-2,3.5000000000000003E-2,3.2500000000000001E-2,0,0,3.2500000000000001E-2,0.03,0.03,3.5999999999999997E-2,null,{"$f":"'12. Diet ingredient data'!C70","v":0.95},{"$f":"'12. Diet ingredient data'!E70","v":0.3},0.08,{"$f":"'12. Diet ingredient data'!K70","v":4.9000000000000002E-2},{"$f":"'12. Diet ingredient data'!N70","v":5.0000000000000001E-3},{"$f":"'12. Diet ingredient data'!H70","v":0.75},null,null,"Meat & bone meal",null,3.7499999999999999E-2,3.5000000000000003E-2,3.2500000000000001E-2]
[null,"Meat & bone meal 60",{"$f":"'12. Diet ingredient data'!I71","v":0.6},null,null,null,null,null,null,null,null,null,null,null,null,null,{"$f":"'12. Diet ingredient data'!C71","v":0.95},{"$f":"'12. Diet ingredient data'!E71","v":0.22},9.6000000000000002E-2,{"$f":"'12. Diet ingredient data'!K71","v":3.5999999999999997E-2},{"$f":"'12. Diet ingredient data'!N71","v":5.4999999999999997E-3},{"$f":"'12. Diet ingredient data'!H71","v":0.74971941638608297},null,null,"Milk, full cream powder"]
[null,"Milk, chocolate milk powder",{"$f":"'12. Diet ingredient data'!I72","v":0.17},null,null,null,null,null,null,null,null,null,null,null,null,null,{"$f":"'12. Diet ingredient data'!C72","v":0.97},{"$f":"'12. Diet ingredient data'!E72","v":0.06},2.7200000000000002E-2,{"$f":"'12. Diet ingredient data'!K72","v":0.01},{"$f":"'12. Diet ingredient data'!N72","v":0},{"$f":"'12. Diet ingredient data'!H72","v":0.94524495677233411},null,null,"Milk, chocolate milk powder"]
[null,"Milk, skim milk powder",{"$f":"'12. Diet ingredient data'!I73","v":0.35499999999999998},null,null,null,null,null,null,null,null,null,null,null,null,null,{"$f":"'12. Diet ingredient data'!C73","v":0.95},{"$f":"'12. Diet ingredient data'!E73","v":0.08},5.6799999999999996E-2,{"$f":"'12. Diet ingredient data'!K73","v":0.01},{"$f":"'12. Diet ingredient data'!N73","v":1.6E-2},{"$f":"'12. Diet ingredient data'!H73","v":0.94524495677233411},null,null,"Milk, skim milk powder"]
[null,"Milk, full cream  powder",{"$f":"'12. Diet ingredient data'!I74","v":0.25},null,null,null,null,null,null,null,null,null,null,null,null,null,{"$f":"'12. Diet ingredient data'!C74","v":0.95},{"$f":"'12. Diet ingredient data'!E74","v":0.06},0.04,{"$f":"'12. Diet ingredient data'!K74","v":8.0000000000000002E-3},{"$f":"'12. Diet ingredient data'!N74","v":1.3000000000000001E-2},{"$f":"'12. Diet ingredient data'!H74","v":0.9620476610767873},null,null,"Milk, whole milk powder"]
[null,"Milk, whey powder",{"$f":"'12. Diet ingredient data'!I75","v":0.125},null,0.01,null,null,null,null,null,null,null,null,null,null,null,{"$f":"'12. Diet ingredient data'!C75","v":0.95},{"$f":"'12. Diet ingredient data'!E75","v":8.6999999999999994E-2},0.02,{"$f":"'12. Diet ingredient data'!K75","v":9.0000000000000011E-3},{"$f":"'12. Diet ingredient data'!N75","v":0.05},{"$f":"'12. Diet ingredient data'!H75","v":0.875},null,null,"Milk, whey powder"]
[null,"Hay & Straw",null,null,null,null,null,null,null,null,null,null,null,null,null,null,null,null,null,null,null,null,null,null,"Hay & Straw"]
[null,"Barley straw",{"$f":"'12. Diet ingredient data'!I77","v":3.7999999999999999E-2},null,null,null,null,null,null,null,null,null,null,null,null,null,{"$f":"'12. Diet ingredient data'!C77","v":0.89},{"$f":"'12. Diet ingredient data'!E77","v":5.28E-2},{"$f":"(IF(D542=\"\", C542, D542))/6.25","v":6.0799999999999995E-3},{"$f":"'12. Diet ingredient data'!K77","v":2E-3},{"$f":"'12. Diet ingredient data'!N77","v":1.1699999999999999E-2},{"$f":"'12. Diet ingredient data'!H77","v":6.25E-2},null,null,"Barley straw"]
[null,"Cereal straw pellets",{"$f":"'12. Diet ingredient data'!I78","v":3.5000000000000003E-2},null,null,null,null,null,null,null,null,null,null,null,null,null,{"$f":"'12. Diet ingredient data'!C78","v":0.88},{"$f":"'12. Diet ingredient data'!E78","v":0.06},{"$f":"(IF(D543=\"\", C543, D543))/6.25","v":5.6000000000000008E-3},{"$f":"'12. Diet ingredient data'!K78","v":8.0000000000000004E-4},{"$f":"'12. Diet ingredient data'!N78","v":8.0000000000000002E-3},{"$f":"'12. Diet ingredient data'!H78","v":0.12492192379762647},null,null,"Cereal straw pellets"]
[null,"Lucerne meal/crumbles",{"$f":"'12. Diet ingredient data'!I79","v":0.16500000000000001},null,null,null,null,null,null,null,null,null,null,null,null,null,{"$f":"'12. Diet ingredient data'!C79","v":0.9},{"$f":"'12. Diet ingredient data'!E79","v":0.1},{"$f":"(IF(D544=\"\", C544, D544))/6.25","v":2.64E-2},{"$f":"'12. Diet ingredient data'!K79","v":2.3E-3},{"$f":"'12. Diet ingredient data'!N79","v":1.9E-2},{"$f":"'12. Diet ingredient data'!H79","v":0.44867854947756608},null,null,"Lucerne meal/crumbles"]
[null,"Oat straw",{"$f":"'12. Diet ingredient data'!I80","v":5.2000000000000005E-2},null,null,null,null,null,null,null,null,null,null,null,null,null,{"$f":"'12. Diet ingredient data'!C80","v":0.87},{"$f":"'12. Diet ingredient data'!E80","v":8.8000000000000009E-2},{"$f":"(IF(D545=\"\", C545, D545))/6.25","v":8.320000000000001E-3},{"$f":"'12. Diet ingredient data'!K80","v":2.2000000000000001E-3},{"$f":"'12. Diet ingredient data'!N80","v":2.2700000000000001E-2},{"$f":"'12. Diet ingredient data'!H80","v":6.25E-2},null,null,"Oat straw"]
[null,"Wheat straw",{"$f":"'12. Diet ingredient data'!I81","v":3.7999999999999999E-2},null,null,null,null,null,null,null,null,null,null,null,null,null,{"$f":"'12. Diet ingredient data'!C81","v":0.9},{"$f":"'12. Diet ingredient data'!E81","v":5.8499999999999996E-2},{"$f":"(IF(D546=\"\", C546, D546))/6.25","v":6.0799999999999995E-3},{"$f":"'12. Diet ingredient data'!K81","v":7.000000000000001E-4},{"$f":"'12. Diet ingredient data'!N81","v":1.3300000000000001E-2},{"$f":"'12. Diet ingredient data'!H81","v":0.14792899408284024},null,null,"Wheat straw"]
[null,"Fats",null,null,null,null,null,null,null,null,null,null,null,null,null,null,null,null,null,null,null,null,null,null,"Fats"]
[null,"Tallow",{"$f":"'12. Diet ingredient data'!I83","v":5.0000000000000001E-3},null,null,null,null,null,null,null,null,null,null,null,null,null,0.995,{"$f":"'12. Diet ingredient data'!E83","v":0},{"$f":"(IF(D548=\"\", C548, D548))/6.25","v":8.0000000000000004E-4},0,0,0.87,null,null,"Tallow"]
[null,"Vegetable oil",{"$f":"'12. Diet ingredient data'!I84","v":0},null,1.3500000000000001E-3,{"$f":"IF(F$470=$Z$471, $Z549, IF(F$470=$AA$471, $AA549, IF(F$470=$AB$471, $AB549, IF(F$470=$AC$471, $AC549, 0))))","v":1.8499999999999999E-2},0,5.0000000000000001E-3,0,0,0,7.0000000000000001E-3,null,null,null,null,1.9950000000000001,{"$f":"'12. Diet ingredient data'!E84","v":0},{"$f":"(IF(D549=\"\", C549, D549))/6.25","v":0},0,0,0.87,null,null,"Vegetable oil",1.8499999999999999E-2,null,5.0000000000000001E-3]
[null,"Minerals",null,null,null,null,null,null,null,null,null,null,null,null,null,null,null,null,null,null,null,null,null,null,"Minerals"]
[null,"Bentonite",{"$f":"'12. Diet ingredient data'!I86","v":0},null,null,null,null,null,null,null,null,null,null,null,null,null,{"$f":"'12. Diet ingredient data'!C86","v":0.99},{"$f":"'12. Diet ingredient data'!E86","v":0.99},{"$f":"(IF(D551=\"\", C551, D551))/6.25","v":0},{"$f":"'12. Diet ingredient data'!K86","v":0},{"$f":"'12. Diet ingredient data'!N86","v":0},{"$f":"'12. Diet ingredient data'!H86","v":0},null,null,"Bentonite"]
[null,"Choline Chloride",{"$f":"'12. Diet ingredient data'!I87","v":0},null,null,{"$f":"IF(F$470=$Z$471, $Z552, IF(F$470=$AA$471, $AA552, IF(F$470=$AB$471, $AB552, IF(F$470=$AC$471, $AC552, 0))))","v":0},0,8.0000000000000004E-4,6.4999999999999997E-4,0,0,null,null,null,null,null,{"$f":"'12. Diet ingredient data'!C87","v":0.95},{"$f":"'12. Diet ingredient data'!E87","v":0.05},0,{"$f":"'12. Diet ingredient data'!K87","v":0},{"$f":"'12. Diet ingredient data'!N87","v":0},{"$f":"'12. Diet ingredient data'!H87","v":0},null,null,"Choline Chloride",null,null,8.0000000000000004E-4,6.4999999999999997E-4]
[null,"Copper Sulphate",{"$f":"'12. Diet ingredient data'!I88","v":0},null,null,null,null,null,null,null,null,null,null,null,null,null,{"$f":"'12. Diet ingredient data'!C88","v":0.98499999999999999},{"$f":"'12. Diet ingredient data'!E88","v":1},0,{"$f":"'12. Diet ingredient data'!K88","v":0},{"$f":"'12. Diet ingredient data'!N88","v":0},{"$f":"'12. Diet ingredient data'!H88","v":0},null,null,"Copper Sulphate"]
[null,"Dicalcium phosphate (DCP)",{"$f":"'12. Diet ingredient data'!I89","v":0},null,null,null,null,null,null,null,null,null,null,null,null,null,{"$f":"'12. Diet ingredient data'!C89","v":1},{"$f":"'12. Diet ingredient data'!E89","v":0.78},0,{"$f":"'12. Diet ingredient data'!K89","v":0.182},{"$f":"'12. Diet ingredient data'!N89","v":0},{"$f":"'12. Diet ingredient data'!H89","v":0},null,null,"Dicalcium phosphate (DCP)"]
[null,"Ferrous Sulphate",{"$f":"'12. Diet ingredient data'!I90","v":0},null,null,null,null,null,null,null,null,null,null,null,null,null,{"$f":"'12. Diet ingredient data'!C90","v":0.98499999999999999},{"$f":"'12. Diet ingredient data'!E90","v":0.99},0,{"$f":"'12. Diet ingredient data'!K90","v":0},{"$f":"'12. Diet ingredient data'!N90","v":0},{"$f":"'12. Diet ingredient data'!H90","v":0},null,null,"Ferrous Sulphate"]
[null,"Kynofos",{"$f":"'12. Diet ingredient data'!I91","v":0},null,null,null,null,null,null,null,null,null,null,null,null,null,{"$f":"'12. Diet ingredient data'!C91","v":0.98},{"$f":"'12. Diet ingredient data'!E91","v":1},0,{"$f":"'12. Diet ingredient data'!K91","v":0.21},{"$f":"'12. Diet ingredient data'!N91","v":0},{"$f":"'12. Diet ingredient data'!H91","v":0},null,null,"Kynofos"]
[null,"Limestone",{"$f":"'12. Diet ingredient data'!I92","v":0},null,null,{"$f":"IF(F$470=$Z$471, $Z557, IF(F$470=$AA$471, $AA557, IF(F$470=$AB$471, $AB557, IF(F$470=$AC$471, $AC557, 0))))","v":0},6.0000000000000001E-3,6.0000000000000001E-3,6.0000000000000001E-3,0,0,6.0000000000000001E-3,5.0000000000000001E-3,5.0000000000000001E-3,7.0000000000000001E-3,null,{"$f":"'12. Diet ingredient data'!C92","v":0.99},{"$f":"'12. Diet ingredient data'!E92","v":0.99},0,{"$f":"'12. Diet ingredient data'!K92","v":2.0000000000000001E-4},{"$f":"'12. Diet ingredient data'!N92","v":0},{"$f":"'12. Diet ingredient data'!H92","v":0},null,null,"Limestone",null,6.0000000000000001E-3,6.0000000000000001E-3,6.0000000000000001E-3]
[null,"Monodicalcium phosphate (MDCP)",{"$f":"'12. Diet ingredient data'!I93","v":0},null,null,null,null,null,null,null,null,null,null,null,null,null,{"$f":"'12. Diet ingredient data'!C93","v":0.995},{"$f":"'12. Diet ingredient data'!E93","v":0.82},0,{"$f":"'12. Diet ingredient data'!K93","v":0.218},{"$f":"'12. Diet ingredient data'!N93","v":0},{"$f":"'12. Diet ingredient data'!H93","v":0},null,null,"Monodicalcium phosphate (MDCP)"]
[null,"Potassium Choride",{"$f":"'12. Diet ingredient data'!I94","v":0},null,null,null,null,null,null,null,null,null,null,null,null,null,{"$f":"'12. Diet ingredient data'!C94","v":1},{"$f":"'12. Diet ingredient data'!E94","v":1},0,{"$f":"'12. Diet ingredient data'!K94","v":0},{"$f":"'12. Diet ingredient data'!N94","v":0.52100000000000002},{"$f":"'12. Diet ingredient data'!H94","v":0},null,null,"Potassium Choride"]
[null,"Potassium sulphate",{"$f":"'12. Diet ingredient data'!I95","v":0},null,null,null,null,null,null,null,null,null,null,null,null,null,{"$f":"'12. Diet ingredient data'!C95","v":1},{"$f":"'12. Diet ingredient data'!E95","v":1},0,{"$f":"'12. Diet ingredient data'!K95","v":0},{"$f":"'12. Diet ingredient data'!N95","v":0.17550000000000002},{"$f":"'12. Diet ingredient data'!H95","v":0},null,null,"Potassium sulphate"]
[null,"Sodium Bicarbonate",{"$f":"'12. Diet ingredient data'!I96","v":0},null,null,null,null,null,null,null,null,null,null,null,null,null,{"$f":"'12. Diet ingredient data'!C96","v":1},{"$f":"'12. Diet ingredient data'!E96","v":0.625},0,{"$f":"'12. Diet ingredient data'!K96","v":0},{"$f":"'12. Diet ingredient data'!N96","v":0},{"$f":"'12. Diet ingredient data'!H96","v":0},null,null,"Sodium Bicarbonate"]
[null,"Salt",{"$f":"'12. Diet ingredient data'!I97","v":0},null,3.5E-4,{"$f":"IF(F$470=$Z$471, $Z562, IF(F$470=$AA$471, $AA562, IF(F$470=$AB$471, $AB562, IF(F$470=$AC$471, $AC562, 0))))","v":2.5000000000000001E-3},2.5000000000000001E-3,2.5000000000000001E-3,2.5000000000000001E-3,0,0,4.0000000000000001E-3,4.0000000000000001E-3,4.0000000000000001E-3,4.0000000000000001E-3,null,{"$f":"'12. Diet ingredient data'!C97","v":1},{"$f":"'12. Diet ingredient data'!E97","v":1},0,{"$f":"'12. Diet ingredient data'!K97","v":0},{"$f":"'12. Diet ingredient data'!N97","v":0},{"$f":"'12. Diet ingredient data'!H97","v":0},null,null,"Salt",2.5000000000000001E-3,2.5000000000000001E-3,2.5000000000000001E-3,2.5000000000000001E-3]
[null,"HiZox/Zinco Plus",{"$f":"'12. Diet ingredient data'!I98","v":0},null,null,null,null,null,null,null,null,null,null,null,null,null,{"$f":"'12. Diet ingredient data'!C98","v":1},{"$f":"'12. Diet ingredient data'!E98","v":0.98},0,{"$f":"'12. Diet ingredient data'!K98","v":0},{"$f":"'12. Diet ingredient data'!N98","v":0},{"$f":"'12. Diet ingredient data'!H98","v":0},null,null,"HiZox/Zinco Plus"]
[null,"Zinc Oxide",{"$f":"'12. Diet ingredient data'!I99","v":0},null,2.9999999999999997E-4,null,null,null,null,null,null,null,null,null,null,null,{"$f":"'12. Diet ingredient data'!C99","v":1},{"$f":"'12. Diet ingredient data'!E99","v":0.98},0,{"$f":"'12. Diet ingredient data'!K99","v":0},{"$f":"'12. Diet ingredient data'!N99","v":0},{"$f":"'12. Diet ingredient data'!H99","v":0},null,null,"Zinc Oxide"]
[null,"Synthetic amino acids",null,null,null,null,null,null,null,null,null,null,null,null,null,null,null,null,null,null,null,null,null,null,"Synthetic amino acids"]
[null,"L-Isoleucine",{"$f":"'12. Diet ingredient data'!I101","v":0.625},null,1.05E-4,{"$f":"IF(F$470=$Z$471, $Z566, IF(F$470=$AA$471, $AA566, IF(F$470=$AB$471, $AB566, IF(F$470=$AC$471, $AC566, 0))))","v":7.2499999999999995E-4},0,0,0,0,0,null,null,null,null,null,{"$f":"'12. Diet ingredient data'!C101","v":0.98499999999999999},{"$f":"'12. Diet ingredient data'!E101","v":5.0000000000000001E-3},{"$f":"(IF(D566=\"\", C566, D566))/6.25","v":0.1},{"$f":"'12. Diet ingredient data'!K101","v":0},{"$f":"'12. Diet ingredient data'!N101","v":0},{"$f":"'12. Diet ingredient data'!H101","v":1},null,null,"L-Isoleucine",7.2499999999999995E-4]
[null,"L-Lysine HCL",{"$f":"'12. Diet ingredient data'!I102","v":0.95400000000000007},null,4.4999999999999999E-4,4.4999999999999997E-3,4.4999999999999997E-3,4.3499999999999997E-3,2.5500000000000002E-3,0,0,3.0999999999999999E-3,4.0000000000000002E-4,2.5999999999999999E-3,2.0000000000000001E-4,null,{"$f":"'12. Diet ingredient data'!C102","v":0.995},{"$f":"'12. Diet ingredient data'!E102","v":5.0000000000000001E-3},{"$f":"(IF(D567=\"\", C567, D567))/6.25","v":0.15264},{"$f":"'12. Diet ingredient data'!K102","v":0},{"$f":"'12. Diet ingredient data'!N102","v":0},{"$f":"'12. Diet ingredient data'!H102","v":0.99950024987506236},null,null,"L-Lysine HCL",4.4999999999999997E-3,4.4999999999999997E-3,4.3499999999999997E-3,2.5500000000000002E-3]
[null,"DL-Methionie",{"$f":"'12. Diet ingredient data'!I103","v":0.58399999999999996},null,2.2000000000000001E-4,1.825E-3,1.225E-3,1E-3,5.7499999999999999E-4,0,0,4.2499999999999998E-4,null,5.0000000000000001E-4,null,null,{"$f":"'12. Diet ingredient data'!C103","v":0.995},{"$f":"'12. Diet ingredient data'!E103","v":2E-3},{"$f":"(IF(D568=\"\", C568, D568))/6.25","v":9.3439999999999995E-2},{"$f":"'12. Diet ingredient data'!K103","v":0},{"$f":"'12. Diet ingredient data'!N103","v":0},{"$f":"'12. Diet ingredient data'!H103","v":1},null,null,"DL-Methionie",1.825E-3,1.225E-3,1E-3,5.7499999999999999E-4]
[null,"L-Threonine",{"$f":"'12. Diet ingredient data'!I104","v":0.73099999999999998},null,1.95E-4,1.825E-3,1.325E-3,1.15E-3,2.7500000000000002E-4,0,0,7.5000000000000002E-4,null,1E-3,null,null,{"$f":"'12. Diet ingredient data'!C104","v":0.995},{"$f":"'12. Diet ingredient data'!E104","v":5.0000000000000001E-3},{"$f":"(IF(D569=\"\", C569, D569))/6.25","v":0.11695999999999999},{"$f":"'12. Diet ingredient data'!K104","v":0},{"$f":"'12. Diet ingredient data'!N104","v":0},{"$f":"'12. Diet ingredient data'!H104","v":0.99767981438515085},null,null,"L-Threonine",1.825E-3,1.325E-3,1.15E-3,2.7500000000000002E-4]
[null,"L-Tryptophan",{"$f":"'12. Diet ingredient data'!I105","v":0.85299999999999998},null,6.7500000000000001E-5,2.9999999999999997E-4,1.75E-4,3.2499999999999999E-4,1E-4,0,0,2.0000000000000001E-4,null,1E-4,null,null,{"$f":"'12. Diet ingredient data'!C105","v":0.995},{"$f":"'12. Diet ingredient data'!E105","v":5.0000000000000001E-3},{"$f":"(IF(D570=\"\", C570, D570))/6.25","v":0.13647999999999999},{"$f":"'12. Diet ingredient data'!K105","v":0},{"$f":"'12. Diet ingredient data'!N105","v":0},{"$f":"'12. Diet ingredient data'!H105","v":1.0007278020378456},null,null,"L-Tryptophan",2.9999999999999997E-4,1.75E-4,3.2499999999999999E-4,1E-4]
[null,"Micellaneous ingredients",null,null,null,null,null,null,null,null,null,null,null,null,null,null,null,null,null,null,null,null,null,null,"Micellaneous ingredients"]
[null,"Lactose",{"$f":"'12. Diet ingredient data'!I107","v":0},null,2.5000000000000001E-3,null,null,null,null,null,null,null,null,null,null,null,{"$f":"'12. Diet ingredient data'!C107","v":0.99},{"$f":"'12. Diet ingredient data'!E107","v":5.0000000000000001E-3},{"$f":"(IF(D572=\"\", C572, D572))/6.25","v":0},{"$f":"'12. Diet ingredient data'!K107","v":4.0000000000000002E-4},{"$f":"'12. Diet ingredient data'!N107","v":0},{"$f":"'12. Diet ingredient data'!H107","v":0.755},null,null,"Lactose"]
[null,"Levucell",{"$f":"'12. Diet ingredient data'!I108","v":0},null,null,null,null,null,null,null,null,null,null,null,null,null,{"$f":"'12. Diet ingredient data'!C108","v":0.95},{"$f":"'12. Diet ingredient data'!E108","v":0.06},{"$f":"(IF(D573=\"\", C573, D573))/6.25","v":0},{"$f":"'12. Diet ingredient data'!K108","v":0},{"$f":"'12. Diet ingredient data'!N108","v":0},{"$f":"'12. Diet ingredient data'!H108","v":0.86999999999999988},null,null,"Levucell"]
[null,"Vitamin/mineral premixes",null,null,null,null,null,null,null,null,null,null,null,null,null,null,null,null,null,null,null,null,null,null,"Vitamin/mineral premixes"]
[null,"Breeder premix",{"$f":"'12. Diet ingredient data'!I110","v":0},null,null,null,null,null,null,null,null,2E-3,2E-3,2E-3,2E-3,null,{"$f":"'12. Diet ingredient data'!C110","v":1},{"$f":"'12. Diet ingredient data'!E110","v":0.23},{"$f":"(IF(D575=\"\", C575, D575))/6.25","v":0},{"$f":"'12. Diet ingredient data'!K110","v":0},{"$f":"'12. Diet ingredient data'!N110","v":0},{"$f":"'12. Diet ingredient data'!H110","v":0},null,null,"Breeder premix"]
[null,"Grower premix",{"$f":"'12. Diet ingredient data'!I111","v":0.05},null,null,{"$f":"IF(F$470=$Z$471, $Z576, IF(F$470=$AA$471, $AA576, IF(F$470=$AB$471, $AB576, IF(F$470=$AC$471, $AC576, 0))))","v":0},2E-3,2E-3,2E-3,0,0,null,null,null,null,null,{"$f":"'12. Diet ingredient data'!C111","v":1},{"$f":"'12. Diet ingredient data'!E111","v":0.23},{"$f":"(IF(D576=\"\", C576, D576))/6.25","v":8.0000000000000002E-3},{"$f":"'12. Diet ingredient data'!K111","v":2.3999999999999998E-3},{"$f":"'12. Diet ingredient data'!N111","v":2.8E-3},{"$f":"'12. Diet ingredient data'!H111","v":0},null,null,"Grower premix",null,2E-3,2E-3,2E-3]
[null,"Weaner premix",{"$f":"'12. Diet ingredient data'!I112","v":0},null,2.0000000000000001E-4,2E-3,0,0,0,0,0,null,null,null,null,null,{"$f":"'12. Diet ingredient data'!C112","v":1},{"$f":"'12. Diet ingredient data'!E112","v":0.23},{"$f":"(IF(D577=\"\", C577, D577))/6.25","v":0},{"$f":"'12. Diet ingredient data'!K112","v":0},{"$f":"'12. Diet ingredient data'!N112","v":0},{"$f":"'12. Diet ingredient data'!H112","v":0},null,null,"Weaner premix",2E-3]
[null,"Enzymes",null,null,null,null,null,null,null,null,null,null,null,null,null,null,null,null,null,null,null,null,null,null,"Enzymes"]
[null,"Feedzyme ",{"$f":"'12. Diet ingredient data'!I114","v":0},null,null,null,null,null,null,null,null,null,null,null,null,null,{"$f":"'12. Diet ingredient data'!C114","v":1},{"$f":"'12. Diet ingredient data'!E114","v":0},{"$f":"(IF(D579=\"\", C579, D579))/6.25","v":0},{"$f":"'12. Diet ingredient data'!K114","v":0},{"$f":"'12. Diet ingredient data'!N114","v":0},{"$f":"'12. Diet ingredient data'!H114","v":0},null,null,"FEEDZYME (1 kg dose)"]
[null,"Axtra Phy",{"$f":"'12. Diet ingredient data'!I115","v":0},null,1.0000000000000001E-5,{"$f":"IF(F$470=$Z$471, $Z580, IF(F$470=$AA$471, $AA580, IF(F$470=$AB$471, $AB580, IF(F$470=$AC$471, $AC580, 0))))","v":1E-4},0,1E-4,1E-4,0,0,1E-4,1E-4,1E-4,1E-4,null,{"$f":"'12. Diet ingredient data'!C115","v":1},{"$f":"'12. Diet ingredient data'!E115","v":0},0,{"$f":"'12. Diet ingredient data'!K115","v":0},{"$f":"'12. Diet ingredient data'!N115","v":0},{"$f":"'12. Diet ingredient data'!H115","v":0},null,null,"Kemzyme",1E-4,null,1E-4,1E-4]
[null,"Axtra XB",{"$f":"'12. Diet ingredient data'!I116","v":0},null,null,null,null,null,null,null,null,null,null,null,null,null,{"$f":"'12. Diet ingredient data'!C116","v":1},{"$f":"'12. Diet ingredient data'!E116","v":0},0,{"$f":"'12. Diet ingredient data'!K116","v":0},{"$f":"'12. Diet ingredient data'!N116","v":0},{"$f":"'12. Diet ingredient data'!H116","v":0},null,null,"Phyzyme (500 FTU OR 100g dose)"]
[null,"Natuphos Blue",{"$f":"'12. Diet ingredient data'!I117","v":0},null,null,null,null,null,null,null,null,null,null,null,null,null,{"$f":"'12. Diet ingredient data'!C117","v":1},{"$f":"'12. Diet ingredient data'!E117","v":0},0,{"$f":"'12. Diet ingredient data'!K117","v":0},{"$f":"'12. Diet ingredient data'!N117","v":0},{"$f":"'12. Diet ingredient data'!H117","v":0},null,null,"Phyzyme (1000 FTU OR 200g dose)"]
[null,"Ronozyme P 5000 (150g dose)",{"$f":"'12. Diet ingredient data'!I118","v":0},null,null,{"$f":"IF(F$470=$Z$471, $Z583, IF(F$470=$AA$471, $AA583, IF(F$470=$AB$471, $AB583, IF(F$470=$AC$471, $AC583, 0))))","v":0},1E-4,0,0,0,0,null,null,null,null,null,{"$f":"'12. Diet ingredient data'!C118","v":1},{"$f":"'12. Diet ingredient data'!E118","v":0},0,{"$f":"'12. Diet ingredient data'!K118","v":0},{"$f":"'12. Diet ingredient data'!N118","v":0},{"$f":"'12. Diet ingredient data'!H118","v":0},null,null,"Ronozyme P 5000 (150g dose)",null,1E-4]
[null,"Rovabio Excel premix",{"$f":"'12. Diet ingredient data'!I119","v":0},null,5.0000000000000002E-5,5.0000000000000001E-4,5.0000000000000001E-4,5.0000000000000001E-4,5.0000000000000001E-4,0,0,5.0000000000000001E-4,null,null,null,null,{"$f":"'12. Diet ingredient data'!C119","v":1},{"$f":"'12. Diet ingredient data'!E119","v":0},0,{"$f":"'12. Diet ingredient data'!K119","v":0},{"$f":"'12. Diet ingredient data'!N119","v":0},{"$f":"'12. Diet ingredient data'!H119","v":0},null,null,"Rovabio Excel premix",5.0000000000000001E-4,5.0000000000000001E-4,5.0000000000000001E-4,5.0000000000000001E-4]
[null,"Rovabio T-Flex ",{"$f":"'12. Diet ingredient data'!I120","v":0},null,null,null,null,null,null,null,null,null,null,null,null,null,{"$f":"'12. Diet ingredient data'!C120","v":1},{"$f":"'12. Diet ingredient data'!E120","v":0},0,{"$f":"'12. Diet ingredient data'!K120","v":0},{"$f":"'12. Diet ingredient data'!N120","v":0},{"$f":"'12. Diet ingredient data'!H120","v":0},null,null,"Allzyme SSF"]
[null,"Toxin Binders",null,null,null,null,null,null,null,null,null,null,null,null,null,null,null,null,null,null,null,null,null,null,"Toxin Binders"]
[null,"Mycofix",{"$f":"'12. Diet ingredient data'!I122","v":0},null,2.0000000000000001E-4,{"$f":"IF(F$470=$Z$471, $Z587, IF(F$470=$AA$471, $AA587, IF(F$470=$AB$471, $AB587, IF(F$470=$AC$471, $AC587, 0))))","v":1.5E-3},0,0,0,0,0,2E-3,null,1.5E-3,2E-3,null,{"$f":"'12. Diet ingredient data'!C122","v":1},{"$f":"'12. Diet ingredient data'!E122","v":0.98},{"$f":"(IF(D587=\"\", C587, D587))/6.25","v":0},{"$f":"'12. Diet ingredient data'!K122","v":0},{"$f":"'12. Diet ingredient data'!N122","v":0},{"$f":"'12. Diet ingredient data'!H122","v":0},null,null,"Mycofix",1.5E-3]
[null,"Mycosorb",{"$f":"'12. Diet ingredient data'!I123","v":0},null,null,null,null,null,null,null,null,null,null,null,null,null,{"$f":"'12. Diet ingredient data'!C123","v":1},{"$f":"'12. Diet ingredient data'!E123","v":0.85},{"$f":"(IF(D588=\"\", C588, D588))/6.25","v":0},{"$f":"'12. Diet ingredient data'!K123","v":0},{"$f":"'12. Diet ingredient data'!N123","v":0},{"$f":"'12. Diet ingredient data'!H123","v":0},null,null,"Mycosorb"]
[null,"Elitox",{"$f":"'12. Diet ingredient data'!I124","v":0},null,null,{"$f":"IF(F$470=$Z$471, $Z589, IF(F$470=$AA$471, $AA589, IF(F$470=$AB$471, $AB589, IF(F$470=$AC$471, $AC589, 0))))","v":0},1E-3,1E-3,5.0000000000000001E-4,0,0,null,null,null,null,null,{"$f":"'12. Diet ingredient data'!C124","v":1},{"$f":"'12. Diet ingredient data'!E124","v":0.85},{"$f":"(IF(D589=\"\", C589, D589))/6.25","v":0},{"$f":"'12. Diet ingredient data'!K124","v":0},{"$f":"'12. Diet ingredient data'!N124","v":0},{"$f":"'12. Diet ingredient data'!H124","v":0},null,null,"Elitox",null,1E-3,1E-3,5.0000000000000001E-4]
[null,"Mastersorb ",{"$f":"'12. Diet ingredient data'!I125","v":0},null,null,null,null,null,null,null,null,null,null,null,null,null,{"$f":"'12. Diet ingredient data'!C125","v":1},{"$f":"'12. Diet ingredient data'!E125","v":0.85},{"$f":"(IF(D590=\"\", C590, D590))/6.25","v":0},{"$f":"'12. Diet ingredient data'!K125","v":0},{"$f":"'12. Diet ingredient data'!N125","v":0},{"$f":"'12. Diet ingredient data'!H125","v":0},null,null,"Mastersorb "]
[null,"Acidifiers",null,null,null,null,null,null,null,null,null,null,null,null,null,null,null,null,null,null,null,null,null,null,"Acidifiers"]
[null,"Formi Acid",{"$f":"'12. Diet ingredient data'!I127","v":0},null,null,null,null,null,null,null,null,null,null,null,null,null,{"$f":"'12. Diet ingredient data'!C127","v":1},{"$f":"'12. Diet ingredient data'!E127","v":0},{"$f":"(IF(D592=\"\", C592, D592))/6.25","v":0},{"$f":"'12. Diet ingredient data'!K127","v":0},{"$f":"'12. Diet ingredient data'!N127","v":0},{"$f":"'12. Diet ingredient data'!H127","v":0},null,null,"Formi Acid"]
[null,"Top3",{"$f":"'12. Diet ingredient data'!I128","v":0},null,null,{"$f":"IF(F$470=$Z$471, $Z593, IF(F$470=$AA$471, $AA593, IF(F$470=$AB$471, $AB593, IF(F$470=$AC$471, $AC593, 0))))","v":1.5E-3},0,0,0,0,0,null,null,null,null,null,{"$f":"'12. Diet ingredient data'!C128","v":1},{"$f":"'12. Diet ingredient data'!E128","v":0},{"$f":"(IF(D593=\"\", C593, D593))/6.25","v":0},{"$f":"'12. Diet ingredient data'!K128","v":0},{"$f":"'12. Diet ingredient data'!N128","v":0},{"$f":"'12. Diet ingredient data'!H128","v":0},null,null,"Top3",1.5E-3]
[null,"Tetracid 500",{"$f":"'12. Diet ingredient data'!I129","v":0},null,null,null,null,null,null,null,null,null,null,null,null,null,{"$f":"'12. Diet ingredient data'!C129","v":1},{"$f":"'12. Diet ingredient data'!E129","v":0},{"$f":"(IF(D594=\"\", C594, D594))/6.25","v":0},{"$f":"'12. Diet ingredient data'!K129","v":0},{"$f":"'12. Diet ingredient data'!N129","v":0},{"$f":"'12. Diet ingredient data'!H129","v":0},null,null,"Tetracid 500"]
[null,"AcidLac",{"$f":"'12. Diet ingredient data'!I130","v":0},null,null,null,null,null,null,null,null,null,null,null,null,null,{"$f":"'12. Diet ingredient data'!C130","v":1},{"$f":"'12. Diet ingredient data'!E130","v":0},{"$f":"(IF(D595=\"\", C595, D595))/6.25","v":0},{"$f":"'12. Diet ingredient data'!K130","v":0},{"$f":"'12. Diet ingredient data'!N130","v":0},{"$f":"'12. Diet ingredient data'!H130","v":0},null,null,"AcidLac"]
[null,"VevoVital ",{"$f":"'12. Diet ingredient data'!I131","v":0},null,5.0000000000000001E-4,null,null,null,null,null,null,null,null,null,null,null,{"$f":"'12. Diet ingredient data'!C131","v":1},{"$f":"'12. Diet ingredient data'!E131","v":0},{"$f":"(IF(D596=\"\", C596, D596))/6.25","v":0},{"$f":"'12. Diet ingredient data'!K131","v":0},{"$f":"'12. Diet ingredient data'!N131","v":0},{"$f":"'12. Diet ingredient data'!H131","v":0},null,null,"VevoVital "]
[null,"Other Additives",null,null,null,null,null,null,null,null,null,null,null,null,null,null,null,null,null,null,null,null,null,null,"Other Additives"]
[null,"Krave",{"$f":"'12. Diet ingredient data'!I133","v":0},null,4.0000000000000003E-5,{"$f":"IF(F$470=$Z$471, $Z598, IF(F$470=$AA$471, $AA598, IF(F$470=$AB$471, $AB598, IF(F$470=$AC$471, $AC598, 0))))","v":2.9999999999999997E-4},0,0,0,0,0,3.5E-4,null,null,null,null,{"$f":"'12. Diet ingredient data'!C133","v":1},{"$f":"'12. Diet ingredient data'!E133","v":0.98},{"$f":"(IF(D598=\"\", C598, D598))/6.25","v":0},{"$f":"'12. Diet ingredient data'!K133","v":0},{"$f":"'12. Diet ingredient data'!N133","v":0},{"$f":"'12. Diet ingredient data'!H133","v":0},null,null,"Biomin® pHD",2.9999999999999997E-4]
[null,"Betaine",{"$f":"'12. Diet ingredient data'!I134","v":0},null,1E-4,1E-3,1E-3,0,0,0,0,1E-3,null,5.0000000000000001E-4,null,null,{"$f":"'12. Diet ingredient data'!C134","v":1},{"$f":"'12. Diet ingredient data'!E134","v":0.98},{"$f":"(IF(D599=\"\", C599, D599))/6.25","v":0},{"$f":"'12. Diet ingredient data'!K134","v":0},{"$f":"'12. Diet ingredient data'!N134","v":0},{"$f":"'12. Diet ingredient data'!H134","v":0},null,null,"Biomos",1E-3,1E-3]
[null,"Biomos",{"$f":"'12. Diet ingredient data'!I135","v":0},null,null,null,null,null,null,null,null,null,null,null,null,null,{"$f":"'12. Diet ingredient data'!C135","v":1},{"$f":"'12. Diet ingredient data'!E135","v":0.98},{"$f":"(IF(D600=\"\", C600, D600))/6.25","v":0},{"$f":"'12. Diet ingredient data'!K135","v":0},{"$f":"'12. Diet ingredient data'!N135","v":0},{"$f":"'12. Diet ingredient data'!H135","v":0},null,null,"De-Oderase"]
[null,"De-Oderase",{"$f":"'12. Diet ingredient data'!I136","v":0},null,null,null,null,null,null,null,null,null,null,null,null,null,{"$f":"'12. Diet ingredient data'!C136","v":0.99},{"$f":"'12. Diet ingredient data'!E136","v":0.98},{"$f":"(IF(D601=\"\", C601, D601))/6.25","v":0},{"$f":"'12. Diet ingredient data'!K136","v":0},{"$f":"'12. Diet ingredient data'!N136","v":0},{"$f":"'12. Diet ingredient data'!H136","v":0},null,null,"Paylean"]
[null,"Bedding Materials",null,null,null,null,null,null,null,null,null,null,null,null,null,null,null,null,null,null,null,null,null,null,"Bedding Materials"]
[null,"Hardwood sawdust",{"$f":"'12. Diet ingredient data'!I138","v":1.2375000000000001E-2},null,null,null,null,null,null,null,null,null,null,null,null,null,{"$f":"'12. Diet ingredient data'!C138","v":0.9},{"$f":"'12. Diet ingredient data'!E138","v":0},{"$f":"(IF(D603=\"\", C603, D603))/6.25","v":1.98E-3},{"$f":"'12. Diet ingredient data'!K138","v":9.0000000000000006E-5},{"$f":"'12. Diet ingredient data'!N138","v":4.5000000000000004E-4},{"$f":"'12. Diet ingredient data'!H138","v":0.05},null,null,"Hardwood sawdust"]
[null,"Softwood sawdust/shavings",{"$f":"'12. Diet ingredient data'!I139","v":7.8750000000000001E-3},null,null,null,null,null,null,null,null,null,null,null,null,null,{"$f":"'12. Diet ingredient data'!C139","v":0.9},{"$f":"'12. Diet ingredient data'!E139","v":0},1.2600000000000001E-3,{"$f":"'12. Diet ingredient data'!K139","v":9.0000000000000006E-5},{"$f":"'12. Diet ingredient data'!N139","v":2.7E-4},{"$f":"'12. Diet ingredient data'!H139","v":0.16},null,null,"Softwood sawdust/shavings"]
[null,"Rice Hulls",{"$f":"'12. Diet ingredient data'!I140","v":3.0475000000000002E-2},null,null,null,null,null,null,null,null,null,null,null,null,null,{"$f":"'12. Diet ingredient data'!C140","v":0.92},{"$f":"'12. Diet ingredient data'!E140","v":0.05},4.8760000000000001E-3,{"$f":"'12. Diet ingredient data'!K140","v":7.3600000000000011E-4},{"$f":"'12. Diet ingredient data'!N140","v":1.2144E-2},{"$f":"'12. Diet ingredient data'!H140","v":0.15625},null,null,"Rice Hulls"]
[null,"Barley straw",{"$f":"'12. Diet ingredient data'!I141","v":3.9243750000000001E-2},null,null,null,null,null,null,null,null,null,null,null,null,null,{"$f":"'12. Diet ingredient data'!C141","v":0.91},{"$f":"'12. Diet ingredient data'!E141","v":0.06},6.2789999999999999E-3,{"$f":"'12. Diet ingredient data'!K141","v":6.3699999999999998E-4},{"$f":"'12. Diet ingredient data'!N141","v":2.1566999999999999E-2},{"$f":"'12. Diet ingredient data'!H141","v":0.125},null,null,"Barley straw"]
[null,"Wheat straw",{"$f":"'12. Diet ingredient data'!I142","v":3.22625E-2},null,null,null,null,null,null,null,null,null,null,null,null,null,{"$f":"'12. Diet ingredient data'!C142","v":0.89},{"$f":"'12. Diet ingredient data'!E142","v":5.8500000000000003E-2},5.1619999999999999E-3,{"$f":"'12. Diet ingredient data'!K142","v":3.6490000000000003E-3},{"$f":"'12. Diet ingredient data'!N142","v":4.5390000000000005E-3},{"$f":"'12. Diet ingredient data'!H142","v":0.14792899408284024},null,null,"Wheat straw"]
[null,"Shredded paper",{"$f":"'12. Diet ingredient data'!I143","v":0},null,null,null,null,null,null,null,null,null,null,null,null,null,{"$f":"'12. Diet ingredient data'!C143","v":0.9},{"$f":"'12. Diet ingredient data'!E143","v":0},0,{"$f":"'12. Diet ingredient data'!K143","v":9.0000000000000006E-5},{"$f":"'12. Diet ingredient data'!N143","v":0},{"$f":"'12. Diet ingredient data'!H143","v":0.1},null,null,"Shredded paper"]
[null,"Additional ingredients",null,null,null,null,null,null,null,null,null,null,null,null,null,null,null,null,null,null,null,null,null,null,"Additional ingredients"]
[null,{"$f":"IF('12. Diet ingredient data'!B145=\"\", \"\", '12. Diet ingredient data'!B145)","v":"Sow milk"},{"$f":"IF('12. Diet ingredient data'!I145=\"\",0,'12. Diet ingredient data'!I145)","v":5.6300000000000003E-2},null,0.9,null,null,null,null,null,null,null,null,null,null,null,{"$f":"'12. Diet ingredient data'!C145","v":0.2},{"$f":"'12. Diet ingredient data'!E145","v":0.01},{"$f":"(IF(D610=\"\", C610, D610))/6.25","v":9.0080000000000004E-3},{"$f":"'12. Diet ingredient data'!K145","v":1.5E-3},{"$f":"'12. Diet ingredient data'!N145","v":6.9999999999999999E-4},{"$f":"'12. Diet ingredient data'!H145","v":1},null,null,{"$f":"IF('12. Diet ingredient data'!Y145=\"\", \"\", '12. Diet ingredient data'!Y145)","v":""}]
[null,{"$f":"IF('12. Diet ingredient data'!B146=\"\", \"\", '12. Diet ingredient data'!B146)","v":"Milk fat"},{"$f":"IF('12. Diet ingredient data'!I146=\"\",0,'12. Diet ingredient data'!I146)","v":0},null,null,null,null,null,null,null,null,null,null,null,null,null,{"$f":"'12. Diet ingredient data'!C146","v":0.99},{"$f":"'12. Diet ingredient data'!E146","v":0},{"$f":"(IF(D611=\"\", C611, D611))/6.25","v":0},{"$f":"'12. Diet ingredient data'!K146","v":0},{"$f":"'12. Diet ingredient data'!N146","v":0},{"$f":"'12. Diet ingredient data'!H146","v":1},null,null,{"$f":"IF('12. Diet ingredient data'!Y146=\"\", \"\", '12. Diet ingredient data'!Y146)","v":""}]
[]
[]
[null,"Totals:",null,null,{"$f":"SUM(E474:E611)","v":1},0.99999999999999956,0.99999999999999989,0.99999999999999989,0.99999999999999989,0,0,1,1.0000000000000002,0.99999999999999989,1,null,null,null,null,null,null,null,null,null,null,{"$f":"SUM(Z474:Z611)","v":0.99999999999999956},{"$f":"SUM(AA474:AA611)","v":0.99999999999999989},{"$f":"SUM(AB474:AB611)","v":0.99999999999999989},{"$f":"SUM(AC474:AC611)","v":0.99999999999999989}]
[]
[]
[]
[]
["Old PigBal diet 1"]
[]
[]
[]
[null,"National Guidelines pig class:",null,null,null,{"$f":"'Standard diet data'!F6","v":"Weaner"},{"$f":"'Standard diet data'!G6","v":"Grower"},{"$f":"'Standard diet data'!H6","v":"Finisher"},{"$f":"'Standard diet data'!I6","v":"Finisher"},{"$f":"'Standard diet data'!J6","v":"Unallocated"},{"$f":"'Standard diet data'!K6","v":"Unallocated"}]
[null,"Old PigBal diet description:",null,null,null,{"$f":"'Standard diet data'!F7","v":"Weaner"},{"$f":"'Standard diet data'!G7","v":"Porker"},{"$f":"'Standard diet data'!H7","v":"Grower"},{"$f":"'Standard diet data'!I7","v":"Finisher"},{"$f":"'Standard diet data'!J7","v":"Unallocated"},{"$f":"'Standard diet data'!K7","v":"Unallocated"},null,null,null,null,null,null,null,null,null,null,null,null,null,null,"Old PigBal diet description"]
[null,"Ingredient","Default crude protein","Alternate crude protein","Sucker",{"$f":"'3. Herd Input'!M17","v":"Weaner"},{"$f":"'3. Herd Input'!M18","v":"Porker"},{"$f":"'3. Herd Input'!M19","v":"Grower"},{"$f":"'3. Herd Input'!M20","v":"Finisher"},{"$f":"'3. Herd Input'!M21","v":"Unallocated"},{"$f":"'3. Herd Input'!M22","v":"Unallocated"},"Lac sow","Dry sow","Gilts","Boars",null,"DM\n","Ash","N","Total P","K","DMD",null,null,"Ingredient","Weaner","Grower","Finisher"]
[null,null,"(%)","(%)","(% fed weight)","(% fed weight)","(% fed weight)","(% fed weight)","(% fed weight)","(% fed weight)","(% fed weight)","(% fed weight)","(% fed weight)","(% fed weight)","(% fed weight)",null,"(%) Ing DM","(%) Ing Ash","(%)","(%)","(%)","(%) Ing DM",null,null,null,"(% fed weight)","(% fed weight)","(% fed weight)","(% fed weight)"]
[null,"Cereal Grains",null,null,null,null,null,null,null,null,null,null,null,null,null,null,null,null,null,null,null,null,null,null,"Cereal Grains"]
[null,"Barley",{"$f":"'12. Diet ingredient data'!I9","v":0.1},0.1,null,{"$f":"IF(F$624=$Z$625, $Z628, IF(F$624=$AA$625, $AA628, IF(F$624=$AB$625, $AB628,  0)))","v":0},0,0,0.37,0,0,0.35759999999999997,0.74819999999999998,0.37,0.74819999999999998,null,{"$f":"'12. Diet ingredient data'!C9","v":0.88},{"$f":"'12. Diet ingredient data'!E9","v":2.1999999999999999E-2},{"$f":"(IF(D628=\"\", C628, D628))/6.25","v":1.6E-2},{"$f":"'12. Diet ingredient data'!K9","v":2.8E-3},{"$f":"'12. Diet ingredient data'!N9","v":4.6999999999999993E-3},{"$f":"'12. Diet ingredient data'!H9","v":0.81402629931120851},null,null,"Barley",null,null,0.37,null,null,"National Guidelines Classes"]
[null,"Groats",{"$f":"'12. Diet ingredient data'!I10","v":0.11},null,null,null,null,null,null,null,null,null,null,null,null,null,{"$f":"'12. Diet ingredient data'!C10","v":0.9},{"$f":"'12. Diet ingredient data'!E10","v":2.1400000000000002E-2},1.7600000000000001E-2,{"$f":"'12. Diet ingredient data'!K10","v":3.0000000000000001E-3},{"$f":"'12. Diet ingredient data'!N10","v":3.4999999999999996E-3},{"$f":"'12. Diet ingredient data'!H10","v":0.93399750933997516},null,null,"Groats",null,null,null,null,null,"Pig class","End age (weeks)",null,"End live weight (kg)"]
[null,"Oats 9",{"$f":"'12. Diet ingredient data'!I11","v":0.09},null,null,null,null,null,null,null,null,null,null,null,null,null,{"$f":"'12. Diet ingredient data'!C11","v":0.88},{"$f":"'12. Diet ingredient data'!E11","v":2.64E-2},1.44E-2,{"$f":"'12. Diet ingredient data'!K11","v":3.2000000000000002E-3},{"$f":"'12. Diet ingredient data'!N11","v":3.5999999999999999E-3},{"$f":"'12. Diet ingredient data'!H11","v":0.69970845481049571},null,null,"Oats 9",null,null,null,null,null,"Sucker",4,null,8]
[null,"Maize 8",{"$f":"'12. Diet ingredient data'!I12","v":0.08},null,null,null,null,null,null,null,null,null,null,null,null,null,{"$f":"'12. Diet ingredient data'!C12","v":0.88},{"$f":"'12. Diet ingredient data'!E12","v":1.21E-2},1.2800000000000001E-2,{"$f":"'12. Diet ingredient data'!K12","v":2.5999999999999999E-3},{"$f":"'12. Diet ingredient data'!N12","v":3.3E-3},{"$f":"'12. Diet ingredient data'!H12","v":0.89894606323620585},null,null,"Maize 8",null,null,null,null,null,"Weaner",10,null,25]
[null,"Sorghum 11",{"$f":"'12. Diet ingredient data'!I13","v":0.11},null,null,null,null,null,null,null,null,null,null,null,null,null,{"$f":"'12. Diet ingredient data'!C13","v":0.88},{"$f":"'12. Diet ingredient data'!E13","v":0.02},1.7600000000000001E-2,{"$f":"'12. Diet ingredient data'!K13","v":2.8000000000000004E-3},{"$f":"'12. Diet ingredient data'!N13","v":3.4999999999999996E-3},{"$f":"'12. Diet ingredient data'!H13","v":0.87223587223587218},null,null,"Sorghum 11",null,null,null,null,null,"Grower",16,null,55]
[null,"Triticale 11",{"$f":"'12. Diet ingredient data'!I14","v":0.11},null,null,null,null,null,null,null,null,null,null,null,null,null,{"$f":"'12. Diet ingredient data'!C14","v":0.88},{"$f":"'12. Diet ingredient data'!E14","v":1.9199999999999998E-2},1.7600000000000001E-2,{"$f":"'12. Diet ingredient data'!K14","v":3.4999999999999996E-3},{"$f":"'12. Diet ingredient data'!N14","v":5.0000000000000001E-3},{"$f":"'12. Diet ingredient data'!H14","v":0.88888888888888884},null,null,"Triticale 11",null,null,null,null,null,"Finisher",24,null,100]
[null,"Wheat 10",{"$f":"'12. Diet ingredient data'!I15","v":0.1},null,null,{"$f":"IF(F$624=$Z$625, $Z634, IF(F$624=$AA$625, $AA634, IF(F$624=$AB$625, $AB634,  0)))","v":0},0,0.79786000000000001,0.44030000000000002,0,0,0.46,0.15,0.44030000000000002,0.15,null,{"$f":"'12. Diet ingredient data'!C15","v":0.88},{"$f":"'12. Diet ingredient data'!E15","v":1.4999999999999999E-2},1.6E-2,{"$f":"'12. Diet ingredient data'!K15","v":3.4000000000000002E-3},{"$f":"'12. Diet ingredient data'!N15","v":4.0999999999999995E-3},{"$f":"'12. Diet ingredient data'!H15","v":0.88216761184625081},null,null,"Wheat 10",null,0.79786000000000001,0.44030000000000002]
[null,"Wheat 12",{"$f":"'12. Diet ingredient data'!I16","v":0.12},null,4.675E-2,0.76670000000000005,0,0,0,0,0,null,null,null,null,null,{"$f":"'12. Diet ingredient data'!C16","v":0.88},{"$f":"'12. Diet ingredient data'!E16","v":1.4999999999999999E-2},1.9199999999999998E-2,{"$f":"'12. Diet ingredient data'!K16","v":3.4000000000000002E-3},{"$f":"'12. Diet ingredient data'!N16","v":4.0999999999999995E-3},{"$f":"'12. Diet ingredient data'!H16","v":0.88216761184625081},null,null,"Wheat 12",0.76670000000000005]
[null,"Wheat Extruded",{"$f":"'12. Diet ingredient data'!I17","v":0.12},null,2.5000000000000001E-2,null,null,null,null,null,null,null,null,null,null,null,{"$f":"'12. Diet ingredient data'!C17","v":0.88},{"$f":"'12. Diet ingredient data'!E17","v":1.4999999999999999E-2},1.9199999999999998E-2,{"$f":"'12. Diet ingredient data'!K17","v":3.4000000000000002E-3},{"$f":"'12. Diet ingredient data'!N17","v":4.0999999999999995E-3},{"$f":"'12. Diet ingredient data'!H17","v":0.88235294117647056},null,null,"Wheat Extruded"]
[null,"Cereal by-products",null,null,null,null,null,null,null,null,null,null,null,null,null,null,null,null,null,null,null,null,null,null,"Cereal by-products"]
[null,"Hominy Meal",{"$f":"'12. Diet ingredient data'!I19","v":0.13400000000000001},null,null,null,null,null,null,null,null,null,null,null,null,null,{"$f":"'12. Diet ingredient data'!C19","v":0.89},{"$f":"'12. Diet ingredient data'!E19","v":4.6500000000000007E-2},{"$f":"(IF(D638=\"\", C638, D638))/6.25","v":2.1440000000000001E-2},{"$f":"'12. Diet ingredient data'!K19","v":7.7000000000000002E-3},{"$f":"'12. Diet ingredient data'!N19","v":0},{"$f":"'12. Diet ingredient data'!H19","v":0.85983510011778563},null,null,"Hominy Meal"]
[null,"Millrun",{"$f":"'12. Diet ingredient data'!I20","v":0.15},null,null,null,null,null,null,null,null,null,null,null,null,null,{"$f":"'12. Diet ingredient data'!C20","v":0.87},{"$f":"'12. Diet ingredient data'!E20","v":0.05},2.4E-2,{"$f":"'12. Diet ingredient data'!K20","v":9.4999999999999998E-3},{"$f":"'12. Diet ingredient data'!N20","v":8.0000000000000002E-3},{"$f":"'12. Diet ingredient data'!H20","v":0.69696969696969702},null,null,"Millrun"]
[null,"Rice Hulls",{"$f":"'12. Diet ingredient data'!I21","v":0.02},null,null,null,null,null,null,null,null,null,null,null,null,null,{"$f":"'12. Diet ingredient data'!C21","v":0.89},{"$f":"'12. Diet ingredient data'!E21","v":0.05},3.2000000000000002E-3,{"$f":"'12. Diet ingredient data'!K21","v":7.000000000000001E-4},{"$f":"'12. Diet ingredient data'!N21","v":8.0000000000000002E-3},{"$f":"'12. Diet ingredient data'!H21","v":0.15625},null,null,"Rice Hulls"]
[null,"Rice bran",{"$f":"'12. Diet ingredient data'!I22","v":0.155},null,null,null,null,null,null,null,null,null,null,null,null,null,{"$f":"'12. Diet ingredient data'!C22","v":0.9},{"$f":"'12. Diet ingredient data'!E22","v":0.13},2.4799999999999999E-2,{"$f":"'12. Diet ingredient data'!K22","v":1.7000000000000001E-2},{"$f":"'12. Diet ingredient data'!N22","v":1.15E-2},{"$f":"'12. Diet ingredient data'!H22","v":0.48125000000000001},null,null,"Rice bran"]
[null,"Soya hulls",{"$f":"'12. Diet ingredient data'!I23","v":0.12},null,null,null,null,null,null,null,null,null,null,null,null,null,{"$f":"'12. Diet ingredient data'!C23","v":0.89},{"$f":"'12. Diet ingredient data'!E23","v":4.4999999999999998E-2},1.9199999999999998E-2,{"$f":"'12. Diet ingredient data'!K23","v":1.1000000000000001E-3},{"$f":"'12. Diet ingredient data'!N23","v":1.2E-2},{"$f":"'12. Diet ingredient data'!H23","v":0.51509550215650024},null,null,"Soya hulls"]
[null,"Wheat Bran",{"$f":"'12. Diet ingredient data'!I24","v":0.15},null,null,null,null,null,null,null,null,null,null,null,null,null,{"$f":"'12. Diet ingredient data'!C24","v":0.87},{"$f":"'12. Diet ingredient data'!E24","v":5.0499999999999996E-2},2.4E-2,{"$f":"'12. Diet ingredient data'!K24","v":9.8999999999999991E-3},{"$f":"'12. Diet ingredient data'!N24","v":4.0000000000000001E-3},{"$f":"'12. Diet ingredient data'!H24","v":0.57177615571776153},null,null,"Wheat Bran"]
[null,"Wheat Pollard",{"$f":"'12. Diet ingredient data'!I25","v":0.15},null,null,null,null,null,null,null,null,null,null,null,null,null,{"$f":"'12. Diet ingredient data'!C25","v":0.87},{"$f":"'12. Diet ingredient data'!E25","v":4.7E-2},2.4E-2,{"$f":"'12. Diet ingredient data'!K25","v":9.4999999999999998E-3},{"$f":"'12. Diet ingredient data'!N25","v":1.2E-2},{"$f":"'12. Diet ingredient data'!H25","v":0.67755595886267383},null,null,"Wheat Pollard"]
[null,"Roots & Tubers",null,null,null,null,null,null,null,null,null,null,null,null,null,null,null,null,null,null,null,null,null,null,"Roots & Tubers"]
[null,"Cassava",{"$f":"'12. Diet ingredient data'!I27","v":0.03},null,null,null,null,null,null,null,null,null,null,null,null,null,{"$f":"'12. Diet ingredient data'!C27","v":0.87},{"$f":"'12. Diet ingredient data'!E27","v":5.5E-2},{"$f":"(IF(D646=\"\", C646, D646))/6.25","v":4.7999999999999996E-3},{"$f":"'12. Diet ingredient data'!K27","v":8.9999999999999998E-4},{"$f":"'12. Diet ingredient data'!N27","v":8.5000000000000006E-3},{"$f":"'12. Diet ingredient data'!H27","v":0.88275862068965527},null,null,"Cassava"]
[null,"By-products",null,null,null,null,null,null,null,null,null,null,null,null,null,null,null,null,null,null,null,null,null,null,"By-products"]
[null,"Biscuit Meal",{"$f":"'12. Diet ingredient data'!I29","v":0.1},null,null,null,null,null,null,null,null,null,null,null,null,null,{"$f":"'12. Diet ingredient data'!C29","v":0.89},{"$f":"'12. Diet ingredient data'!E29","v":0.03},{"$f":"(IF(D648=\"\", C648, D648))/6.25","v":1.6E-2},{"$f":"'12. Diet ingredient data'!K29","v":3.4999999999999996E-3},{"$f":"'12. Diet ingredient data'!N29","v":3.9000000000000003E-3},{"$f":"'12. Diet ingredient data'!H29","v":0.88823529411764701},null,null,"Biscuit Meal"]
[null,"Brewers Grains",{"$f":"'12. Diet ingredient data'!I30","v":0.22},null,null,null,null,null,null,null,null,null,null,null,null,null,{"$f":"'12. Diet ingredient data'!C30","v":0.88},{"$f":"'12. Diet ingredient data'!E30","v":4.4999999999999998E-2},3.5200000000000002E-2,{"$f":"'12. Diet ingredient data'!K30","v":5.0000000000000001E-3},{"$f":"'12. Diet ingredient data'!N30","v":3.0000000000000001E-3},{"$f":"'12. Diet ingredient data'!H30","v":0.65934065934065933},null,null,"Brewers Grains"]
[null,"Distller's Dried Grains & Solubles (DDGS)",{"$f":"'12. Diet ingredient data'!I31","v":0.26},null,null,null,null,null,null,null,null,null,null,null,null,null,{"$f":"'12. Diet ingredient data'!C31","v":0.9},{"$f":"'12. Diet ingredient data'!E31","v":0.05},4.1599999999999998E-2,{"$f":"'12. Diet ingredient data'!K31","v":8.5000000000000006E-3},{"$f":"'12. Diet ingredient data'!N31","v":1.23E-2},{"$f":"'12. Diet ingredient data'!H31","v":0.75980392156862753},null,null,"Distller's Dried Grains & Solubles (DDGS)"]
[null,"Molasses",{"$f":"'12. Diet ingredient data'!I32","v":0.04},null,null,null,null,null,null,null,null,null,null,null,null,null,{"$f":"'12. Diet ingredient data'!C32","v":0.745},{"$f":"'12. Diet ingredient data'!E32","v":0.1032},6.4000000000000003E-3,{"$f":"'12. Diet ingredient data'!K32","v":5.9999999999999995E-4},{"$f":"'12. Diet ingredient data'!N32","v":3.5000000000000003E-2},{"$f":"'12. Diet ingredient data'!H32","v":0.93466424682395655},null,null,"Molasses"]
[null,"Peanut shell",{"$f":"'12. Diet ingredient data'!I33","v":0.03},null,null,null,null,null,null,null,null,null,null,null,null,null,{"$f":"'12. Diet ingredient data'!C33","v":0.92},{"$f":"'12. Diet ingredient data'!E33","v":0.08},4.7999999999999996E-3,{"$f":"'12. Diet ingredient data'!K33","v":8.9999999999999998E-4},{"$f":"'12. Diet ingredient data'!N33","v":0.01},{"$f":"'12. Diet ingredient data'!H33","v":6.8750000000000006E-2},null,null,"Peanut shell"]
[null,"Sugar",{"$f":"'12. Diet ingredient data'!I34","v":0},null,null,null,null,null,null,null,null,null,null,null,null,null,{"$f":"'12. Diet ingredient data'!C34","v":0.99},{"$f":"'12. Diet ingredient data'!E34","v":5.0000000000000001E-3},0,{"$f":"'12. Diet ingredient data'!K34","v":4.0000000000000002E-4},{"$f":"'12. Diet ingredient data'!N34","v":0},{"$f":"'12. Diet ingredient data'!H34","v":0.755},null,null,"Sugar"]
[null,"Legumes",null,null,null,null,null,null,null,null,null,null,null,null,null,null,null,null,null,null,null,null,null,null,"Pulses"]
[null,"Faba beans",{"$f":"'12. Diet ingredient data'!I36","v":0.23},null,null,null,null,null,null,null,null,null,null,null,null,null,{"$f":"'12. Diet ingredient data'!C36","v":0.9},{"$f":"'12. Diet ingredient data'!E36","v":3.5299999999999998E-2},{"$f":"(IF(D655=\"\", C655, D655))/6.25","v":3.6799999999999999E-2},{"$f":"'12. Diet ingredient data'!K36","v":4.6999999999999993E-3},{"$f":"'12. Diet ingredient data'!N36","v":9.5999999999999992E-3},{"$f":"'12. Diet ingredient data'!H36","v":0.86309523809523803},null,null,"Faba beans"]
[null,"Lupins, albus",{"$f":"'12. Diet ingredient data'!I37","v":0.34},null,null,null,null,null,null,null,null,null,null,null,null,null,{"$f":"'12. Diet ingredient data'!C37","v":0.88},{"$f":"'12. Diet ingredient data'!E37","v":3.3000000000000002E-2},5.4400000000000004E-2,{"$f":"'12. Diet ingredient data'!K37","v":3.5999999999999999E-3},{"$f":"'12. Diet ingredient data'!N37","v":1.1000000000000001E-2},{"$f":"'12. Diet ingredient data'!H37","v":0.85561497326203206},null,null,"Lupins, albus"]
[null,"Lupins, augustifolius",{"$f":"'12. Diet ingredient data'!I38","v":0.30499999999999999},null,null,null,null,null,null,null,null,null,null,null,null,null,{"$f":"'12. Diet ingredient data'!C38","v":0.88},{"$f":"'12. Diet ingredient data'!E38","v":2.7999999999999997E-2},4.8799999999999996E-2,{"$f":"'12. Diet ingredient data'!K38","v":3.0000000000000001E-3},{"$f":"'12. Diet ingredient data'!N38","v":8.5000000000000006E-3},{"$f":"'12. Diet ingredient data'!H38","v":0.80662983425414359},null,null,"Lupins, augustifolius"]
[null,"Chick Peas",{"$f":"'12. Diet ingredient data'!I39","v":0.2},null,null,null,null,null,null,null,null,null,null,null,null,null,{"$f":"'12. Diet ingredient data'!C39","v":0.9},{"$f":"'12. Diet ingredient data'!E39","v":0.03},3.2000000000000001E-2,{"$f":"'12. Diet ingredient data'!K39","v":3.7000000000000002E-3},{"$f":"'12. Diet ingredient data'!N39","v":8.0000000000000002E-3},{"$f":"'12. Diet ingredient data'!H39","v":0.86138049058756405},null,null,"Chick Peas"]
[null,"Field Peas",{"$f":"'12. Diet ingredient data'!I40","v":0.20499999999999999},null,null,null,null,null,null,null,null,null,null,null,null,null,{"$f":"'12. Diet ingredient data'!C40","v":0.86},{"$f":"'12. Diet ingredient data'!E40","v":0.03},3.2799999999999996E-2,{"$f":"'12. Diet ingredient data'!K40","v":4.0000000000000001E-3},{"$f":"'12. Diet ingredient data'!N40","v":9.4999999999999998E-3},{"$f":"'12. Diet ingredient data'!H40","v":0.86309523809523803},null,null,"Field Peas"]
[null,"Mung Beans",{"$f":"'12. Diet ingredient data'!I41","v":0.24},null,null,null,null,null,null,null,null,null,null,null,null,null,{"$f":"'12. Diet ingredient data'!C41","v":0.9},{"$f":"'12. Diet ingredient data'!E41","v":3.7000000000000005E-2},3.8399999999999997E-2,{"$f":"'12. Diet ingredient data'!K41","v":6.9999999999999993E-3},{"$f":"'12. Diet ingredient data'!N41","v":4.0999999999999995E-3},{"$f":"'12. Diet ingredient data'!H41","v":0.90588235294117647},null,null,"Mung Beans"]
[null,"Navy Beans",{"$f":"'12. Diet ingredient data'!I42","v":0.24},null,null,null,null,null,null,null,null,null,null,null,null,null,{"$f":"'12. Diet ingredient data'!C42","v":0.9},{"$f":"'12. Diet ingredient data'!E42","v":3.7999999999999999E-2},3.8399999999999997E-2,{"$f":"'12. Diet ingredient data'!K42","v":4.3E-3},{"$f":"'12. Diet ingredient data'!N42","v":1.3500000000000002E-2},{"$f":"'12. Diet ingredient data'!H42","v":0.87804878048780499},null,null,"Navy Beans"]
[null,"Oilseed Meals",null,null,null,null,null,null,null,null,null,null,null,null,null,null,null,null,null,null,null,null,null,null,"Oilseed Meals"]
[null,"Canola Meal 37 Solvent",{"$f":"'12. Diet ingredient data'!I44","v":0.37},null,null,null,null,null,null,null,null,null,null,null,null,null,{"$f":"'12. Diet ingredient data'!C44","v":0.91},{"$f":"'12. Diet ingredient data'!E44","v":6.5000000000000002E-2},{"$f":"(IF(D663=\"\", C663, D663))/6.25","v":5.9200000000000003E-2},{"$f":"'12. Diet ingredient data'!K44","v":1.1000000000000001E-2},{"$f":"'12. Diet ingredient data'!N44","v":1.2500000000000001E-2},{"$f":"'12. Diet ingredient data'!H44","v":0.73529411764705888},null,null,"Canola Meal 37 Solvent"]
[null,"Canola meal 32 Expeller",{"$f":"'12. Diet ingredient data'!I45","v":0.32},null,null,null,null,null,null,null,null,null,null,null,null,null,{"$f":"'12. Diet ingredient data'!C45","v":0.9},{"$f":"'12. Diet ingredient data'!E45","v":6.4000000000000001E-2},5.1200000000000002E-2,{"$f":"'12. Diet ingredient data'!K45","v":9.4999999999999998E-3},{"$f":"'12. Diet ingredient data'!N45","v":1.0500000000000001E-2},{"$f":"'12. Diet ingredient data'!H45","v":0.72181243414120122},null,null,"Canola meal 32 Expeller"]
[null,"Canola meal Cold Pressed 34",{"$f":"'12. Diet ingredient data'!I46","v":0.34},null,null,null,null,null,null,null,null,null,null,null,null,null,{"$f":"'12. Diet ingredient data'!C46","v":0.9},{"$f":"'12. Diet ingredient data'!E46","v":6.2E-2},5.4400000000000004E-2,{"$f":"'12. Diet ingredient data'!K46","v":9.5999999999999992E-3},{"$f":"'12. Diet ingredient data'!N46","v":1.23E-2},{"$f":"'12. Diet ingredient data'!H46","v":0.73684210526315785},null,null,"Canola meal Cold Pressed 34"]
[null,"Copra meal",{"$f":"'12. Diet ingredient data'!I47","v":0.21},null,null,null,null,null,null,null,null,null,null,null,null,null,{"$f":"'12. Diet ingredient data'!C47","v":0.9},{"$f":"'12. Diet ingredient data'!E47","v":6.2E-2},3.3599999999999998E-2,{"$f":"'12. Diet ingredient data'!K47","v":5.7999999999999996E-3},{"$f":"'12. Diet ingredient data'!N47","v":1.2999999999999999E-2},{"$f":"'12. Diet ingredient data'!H47","v":0.72017592083562387},null,null,"Copra meal"]
[null,"Cotton seed meal 43",{"$f":"'12. Diet ingredient data'!I48","v":0.43},null,null,null,null,null,null,null,null,null,null,null,null,null,{"$f":"'12. Diet ingredient data'!C48","v":0.9},{"$f":"'12. Diet ingredient data'!E48","v":6.5000000000000002E-2},6.88E-2,{"$f":"'12. Diet ingredient data'!K48","v":1.1399999999999999E-2},{"$f":"'12. Diet ingredient data'!N48","v":1.2500000000000001E-2},{"$f":"'12. Diet ingredient data'!H48","v":0.69444444444444453},null,null,"Cotton seed meal 43"]
[null,"Palm Kernel meal",{"$f":"'12. Diet ingredient data'!I49","v":0.14800000000000002},null,null,null,null,null,null,null,null,null,null,null,null,null,{"$f":"'12. Diet ingredient data'!C49","v":0.9},{"$f":"'12. Diet ingredient data'!E49","v":4.2000000000000003E-2},2.3680000000000003E-2,{"$f":"'12. Diet ingredient data'!K49","v":5.6000000000000008E-3},{"$f":"'12. Diet ingredient data'!N49","v":6.5000000000000006E-3},{"$f":"'12. Diet ingredient data'!H49","v":0.68643602416254801},null,null,"Palm Kernel meal"]
[null,"Peanut Meal 48",{"$f":"'12. Diet ingredient data'!I50","v":0.48},null,null,null,null,null,null,null,null,null,null,null,null,null,{"$f":"'12. Diet ingredient data'!C50","v":0.9},{"$f":"'12. Diet ingredient data'!E50","v":0.05},7.6799999999999993E-2,{"$f":"'12. Diet ingredient data'!K50","v":6.0000000000000001E-3},{"$f":"'12. Diet ingredient data'!N50","v":1.1299999999999999E-2},{"$f":"'12. Diet ingredient data'!H50","v":0.80219780219780223},null,null,"Peanut Meal 48"]
[null,"Soybean Meal 46 Solvent",{"$f":"'12. Diet ingredient data'!I51","v":0.46},null,null,null,null,null,null,null,null,null,null,null,null,null,{"$f":"'12. Diet ingredient data'!C51","v":0.88},{"$f":"'12. Diet ingredient data'!E51","v":6.480000000000001E-2},7.3599999999999999E-2,{"$f":"'12. Diet ingredient data'!K51","v":6.1999999999999998E-3},{"$f":"'12. Diet ingredient data'!N51","v":1.9E-2},{"$f":"'12. Diet ingredient data'!H51","v":0.87236533957845441},null,null,"Soybean Meal 46 Solvent"]
[null,"Soybean Meal 48 Solvent",{"$f":"'12. Diet ingredient data'!I52","v":0.48},null,null,null,null,null,null,null,null,null,null,null,null,null,{"$f":"'12. Diet ingredient data'!C52","v":0.88500000000000001},{"$f":"'12. Diet ingredient data'!E52","v":6.5000000000000002E-2},7.6799999999999993E-2,{"$f":"'12. Diet ingredient data'!K52","v":6.5000000000000006E-3},{"$f":"'12. Diet ingredient data'!N52","v":2.1000000000000001E-2},{"$f":"'12. Diet ingredient data'!H52","v":0.85582998276852384},null,null,"Soybean Meal 48 Solvent"]
[null,"Soybean, Full fat",{"$f":"'12. Diet ingredient data'!I53","v":0.35499999999999998},0.38,4.0000000000000001E-3,{"$f":"IF(F$624=$Z$625, $Z672, IF(F$624=$AA$625, $AA672, IF(F$624=$AB$625, $AB672,  0)))","v":0.05},0,0,0,0,0,null,null,null,null,null,{"$f":"'12. Diet ingredient data'!C53","v":0.875},{"$f":"'12. Diet ingredient data'!E53","v":5.2999999999999999E-2},6.08E-2,{"$f":"'12. Diet ingredient data'!K53","v":5.5000000000000005E-3},{"$f":"'12. Diet ingredient data'!N53","v":1.7000000000000001E-2},{"$f":"'12. Diet ingredient data'!H53","v":0.85365853658536583},null,null,"Soybean, Full fat",0.05]
[null,"Selecta Soy/X-Soy 600",{"$f":"'12. Diet ingredient data'!I54","v":0.6},null,null,null,null,null,null,null,null,null,null,null,null,null,{"$f":"'12. Diet ingredient data'!C54","v":0.92},{"$f":"'12. Diet ingredient data'!E54","v":6.8000000000000005E-2},9.6000000000000002E-2,{"$f":"'12. Diet ingredient data'!K54","v":8.0000000000000002E-3},{"$f":"'12. Diet ingredient data'!N54","v":2.3E-2},{"$f":"'12. Diet ingredient data'!H54","v":0.91246684350132612},null,null,"Selecta Soy/X-Soy 600"]
[null,"Soycomil 65",{"$f":"'12. Diet ingredient data'!I55","v":0.65},null,null,null,null,null,null,null,null,null,null,null,null,null,{"$f":"'12. Diet ingredient data'!C55","v":0.91},{"$f":"'12. Diet ingredient data'!E55","v":0.06},0.10400000000000001,{"$f":"'12. Diet ingredient data'!K55","v":8.0000000000000002E-3},{"$f":"'12. Diet ingredient data'!N55","v":2.2000000000000002E-2},{"$f":"'12. Diet ingredient data'!H55","v":0.93023255813953487},null,null,"Soycomil 65"]
[null,"Sunflower 30",{"$f":"'12. Diet ingredient data'!I56","v":0.3},null,null,null,null,null,null,null,null,null,null,null,null,null,{"$f":"'12. Diet ingredient data'!C56","v":0.89},{"$f":"'12. Diet ingredient data'!E56","v":6.3E-2},4.8000000000000001E-2,{"$f":"'12. Diet ingredient data'!K56","v":0.01},{"$f":"'12. Diet ingredient data'!N56","v":1.46E-2},{"$f":"'12. Diet ingredient data'!H56","v":0.48199767711962843},null,null,"Sunflower 30"]
[null,"Sunflower 36",{"$f":"'12. Diet ingredient data'!I57","v":0.36},null,null,null,null,null,null,null,null,null,null,null,null,null,{"$f":"'12. Diet ingredient data'!C57","v":0.89},{"$f":"'12. Diet ingredient data'!E57","v":7.0000000000000007E-2},5.7599999999999998E-2,{"$f":"'12. Diet ingredient data'!K57","v":1.2E-2},{"$f":"'12. Diet ingredient data'!N57","v":1.52E-2},{"$f":"'12. Diet ingredient data'!H57","v":0.76030179918746366},null,null,"Sunflower 36"]
[null,"Yeast Products",null,null,null,null,null,null,null,null,null,null,null,null,null,null,null,null,null,null,null,null,null,null,"Yeast Products"]
[null,"Brewers Yeast",{"$f":"'12. Diet ingredient data'!I59","v":0.5},null,null,null,null,null,null,null,null,null,null,null,null,null,{"$f":"'12. Diet ingredient data'!C59","v":0.9},{"$f":"'12. Diet ingredient data'!E59","v":7.0999999999999994E-2},{"$f":"(IF(D678=\"\", C678, D678))/6.25","v":0.08},{"$f":"'12. Diet ingredient data'!K59","v":1.1599999999999999E-2},{"$f":"'12. Diet ingredient data'!N59","v":1.7000000000000001E-2},{"$f":"'12. Diet ingredient data'!H59","v":0.85836909871244638},null,null,"Brewers Yeast"]
[null,"Hilyses",{"$f":"'12. Diet ingredient data'!I60","v":0.40500000000000003},null,null,null,null,null,null,null,null,null,null,null,null,null,{"$f":"'12. Diet ingredient data'!C60","v":0.94},{"$f":"'12. Diet ingredient data'!E60","v":5.5E-2},{"$f":"(IF(D679=\"\", C679, D679))/6.25","v":6.480000000000001E-2},{"$f":"'12. Diet ingredient data'!K60","v":6.8599999999999998E-3},{"$f":"'12. Diet ingredient data'!N60","v":8.1499999999999993E-3},{"$f":"'12. Diet ingredient data'!H60","v":0.7627551020408162},null,null,"Hilyses"]
[null,"Nupro",{"$f":"'12. Diet ingredient data'!I61","v":0.47},null,null,null,null,null,null,null,null,null,null,null,null,null,{"$f":"'12. Diet ingredient data'!C61","v":0.94},{"$f":"'12. Diet ingredient data'!E61","v":8.3000000000000004E-2},{"$f":"(IF(D680=\"\", C680, D680))/6.25","v":7.5199999999999989E-2},{"$f":"'12. Diet ingredient data'!K61","v":1.4999999999999999E-2},{"$f":"'12. Diet ingredient data'!N61","v":1.9E-2},{"$f":"'12. Diet ingredient data'!H61","v":0.76344086021505364},null,null,"Nupro"]
[null,"Animal & Fish products",null,null,null,null,null,null,null,null,null,null,null,null,null,null,null,null,null,null,null,null,null,null,"Animal & Fish products"]
[null,"Blood meal 85",{"$f":"'12. Diet ingredient data'!I63","v":0.85},null,null,{"$f":"IF(F$624=$Z$625, $Z682, IF(F$624=$AA$625, $AA682, IF(F$624=$AB$625, $AB682,  0)))","v":0},0,1.3100000000000001E-2,0,0,0,null,null,null,null,null,{"$f":"'12. Diet ingredient data'!C63","v":0.9},{"$f":"'12. Diet ingredient data'!E63","v":3.1E-2},{"$f":"(IF(D682=\"\", C682, D682))/6.25","v":0.13600000000000001},{"$f":"'12. Diet ingredient data'!K63","v":2.0999999999999999E-3},{"$f":"'12. Diet ingredient data'!N63","v":2.5999999999999999E-3},{"$f":"'12. Diet ingredient data'!H63","v":0.92901381610290623},null,null,"Blood meal, spray/ring",null,1.3100000000000001E-2]
[null,"Blood meal 90",{"$f":"'12. Diet ingredient data'!I64","v":0.9},null,null,null,null,null,null,null,null,null,null,null,null,null,{"$f":"'12. Diet ingredient data'!C64","v":0.91},{"$f":"'12. Diet ingredient data'!E64","v":2.8300000000000002E-2},0.14400000000000002,{"$f":"'12. Diet ingredient data'!K64","v":2.0999999999999999E-3},{"$f":"'12. Diet ingredient data'!N64","v":2.5999999999999999E-3},{"$f":"'12. Diet ingredient data'!H64","v":0.92901381610290623}]
[null,"Blood Plasma",{"$f":"'12. Diet ingredient data'!I65","v":0.78},null,null,null,null,null,null,null,null,null,null,null,null,null,{"$f":"'12. Diet ingredient data'!C65","v":0.92},{"$f":"'12. Diet ingredient data'!E65","v":0.1},0.12480000000000001,{"$f":"'12. Diet ingredient data'!K65","v":1.3000000000000001E-2},{"$f":"'12. Diet ingredient data'!N65","v":3.0000000000000001E-3},{"$f":"'12. Diet ingredient data'!H65","v":0.93789473684210523}]
[null,"Fishmeal 60",{"$f":"'12. Diet ingredient data'!I66","v":0.6},null,null,null,null,null,null,null,null,null,null,null,null,null,{"$f":"'12. Diet ingredient data'!C66","v":0.92},{"$f":"'12. Diet ingredient data'!E66","v":0.20749999999999999},9.6000000000000002E-2,{"$f":"'12. Diet ingredient data'!K66","v":2.8500000000000001E-2},{"$f":"'12. Diet ingredient data'!N66","v":9.3999999999999986E-3},{"$f":"'12. Diet ingredient data'!H66","v":0.80786026200873362},null,null,"Blood Plasma"]
[null,"Fishmeal 65",{"$f":"'12. Diet ingredient data'!I67","v":0.65},null,null,null,null,null,null,null,null,2.5000000000000001E-2,null,null,null,null,{"$f":"'12. Diet ingredient data'!C67","v":0.92},{"$f":"'12. Diet ingredient data'!E67","v":0.16140000000000002},0.10400000000000001,{"$f":"'12. Diet ingredient data'!K67","v":2.6000000000000002E-2},{"$f":"'12. Diet ingredient data'!N67","v":1.3000000000000001E-2},{"$f":"'12. Diet ingredient data'!H67","v":0.82718651211801886},null,null,"Fishmeal 62"]
[null,"Fishmeal 70",{"$f":"'12. Diet ingredient data'!I68","v":0.7},null,1.2E-2,{"$f":"IF(F$624=$Z$625, $Z687, IF(F$624=$AA$625, $AA687, IF(F$624=$AB$625, $AB687,  0)))","v":0.05},0,0,0,0,0,null,null,null,null,null,{"$f":"'12. Diet ingredient data'!C68","v":0.91},{"$f":"'12. Diet ingredient data'!E68","v":0.125},0.11199999999999999,{"$f":"'12. Diet ingredient data'!K68","v":0.02},{"$f":"'12. Diet ingredient data'!N68","v":1.2999999999999999E-2},{"$f":"'12. Diet ingredient data'!H68","v":0.88383838383838376},null,null,"Fishmeal 65",0.05]
[null,"Meat & bone meal 45 ",{"$f":"'12. Diet ingredient data'!I69","v":0.45},null,null,null,null,null,null,null,null,null,null,null,null,null,{"$f":"'12. Diet ingredient data'!C69","v":0.95},{"$f":"'12. Diet ingredient data'!E69","v":0.35},7.2000000000000008E-2,{"$f":"'12. Diet ingredient data'!K69","v":0.06},{"$f":"'12. Diet ingredient data'!N69","v":5.0000000000000001E-3},{"$f":"'12. Diet ingredient data'!H69","v":0.75333333333333341},null,null,"Feather meal"]
[null,"Meat & bone meal 50",{"$f":"'12. Diet ingredient data'!I70","v":0.5},0.51,4.0000000000000001E-3,{"$f":"IF(F$624=$Z$625, $Z689, IF(F$624=$AA$625, $AA689, IF(F$624=$AB$625, $AB689,  0)))","v":0.05},0,6.3630000000000006E-2,6.5000000000000002E-2,0,0,4.4999999999999998E-2,0.06,6.5000000000000002E-2,0.06,null,{"$f":"'12. Diet ingredient data'!C70","v":0.95},{"$f":"'12. Diet ingredient data'!E70","v":0.3},8.1600000000000006E-2,{"$f":"'12. Diet ingredient data'!K70","v":4.9000000000000002E-2},{"$f":"'12. Diet ingredient data'!N70","v":5.0000000000000001E-3},{"$f":"'12. Diet ingredient data'!H70","v":0.75},null,null,"Meat & bone meal",0.05,6.3630000000000006E-2,6.5000000000000002E-2]
[null,"Meat & bone meal 60",{"$f":"'12. Diet ingredient data'!I71","v":0.6},null,null,null,null,null,null,null,null,null,null,null,null,null,{"$f":"'12. Diet ingredient data'!C71","v":0.95},{"$f":"'12. Diet ingredient data'!E71","v":0.22},9.6000000000000002E-2,{"$f":"'12. Diet ingredient data'!K71","v":3.5999999999999997E-2},{"$f":"'12. Diet ingredient data'!N71","v":5.4999999999999997E-3},{"$f":"'12. Diet ingredient data'!H71","v":0.74971941638608297},null,null,"Milk, full cream powder"]
[null,"Milk, chocolate milk powder",{"$f":"'12. Diet ingredient data'!I72","v":0.17},null,null,null,null,null,null,null,null,null,null,null,null,null,{"$f":"'12. Diet ingredient data'!C72","v":0.97},{"$f":"'12. Diet ingredient data'!E72","v":0.06},2.7200000000000002E-2,{"$f":"'12. Diet ingredient data'!K72","v":0.01},{"$f":"'12. Diet ingredient data'!N72","v":0},{"$f":"'12. Diet ingredient data'!H72","v":0.94524495677233411},null,null,"Milk, chocolate milk powder"]
[null,"Milk, skim milk powder",{"$f":"'12. Diet ingredient data'!I73","v":0.35499999999999998},null,7.4999999999999997E-3,null,null,null,null,null,null,null,null,null,null,null,{"$f":"'12. Diet ingredient data'!C73","v":0.95},{"$f":"'12. Diet ingredient data'!E73","v":0.08},5.6799999999999996E-2,{"$f":"'12. Diet ingredient data'!K73","v":0.01},{"$f":"'12. Diet ingredient data'!N73","v":1.6E-2},{"$f":"'12. Diet ingredient data'!H73","v":0.94524495677233411},null,null,"Milk, skim milk powder"]
[null,"Milk, full cream  powder",{"$f":"'12. Diet ingredient data'!I74","v":0.25},null,null,null,null,null,null,null,null,null,null,null,null,null,{"$f":"'12. Diet ingredient data'!C74","v":0.95},{"$f":"'12. Diet ingredient data'!E74","v":0.06},0.04,{"$f":"'12. Diet ingredient data'!K74","v":8.0000000000000002E-3},{"$f":"'12. Diet ingredient data'!N74","v":1.3000000000000001E-2},{"$f":"'12. Diet ingredient data'!H74","v":0.9620476610767873},null,null,"Milk, whole milk powder"]
[null,"Milk, whey powder",{"$f":"'12. Diet ingredient data'!I75","v":0.125},null,null,null,null,null,null,null,null,null,null,null,null,null,{"$f":"'12. Diet ingredient data'!C75","v":0.95},{"$f":"'12. Diet ingredient data'!E75","v":8.6999999999999994E-2},0.02,{"$f":"'12. Diet ingredient data'!K75","v":9.0000000000000011E-3},{"$f":"'12. Diet ingredient data'!N75","v":0.05},{"$f":"'12. Diet ingredient data'!H75","v":0.875},null,null,"Milk, whey powder"]
[null,"Hay & Straw",null,null,null,null,null,null,null,null,null,null,null,null,null,null,null,null,null,null,null,null,null,null,"Hay & Straw"]
[null,"Barley straw",{"$f":"'12. Diet ingredient data'!I77","v":3.7999999999999999E-2},null,null,null,null,null,null,null,null,null,null,null,null,null,{"$f":"'12. Diet ingredient data'!C77","v":0.89},{"$f":"'12. Diet ingredient data'!E77","v":5.28E-2},{"$f":"(IF(D696=\"\", C696, D696))/6.25","v":6.0799999999999995E-3},{"$f":"'12. Diet ingredient data'!K77","v":2E-3},{"$f":"'12. Diet ingredient data'!N77","v":1.1699999999999999E-2},{"$f":"'12. Diet ingredient data'!H77","v":6.25E-2},null,null,"Barley straw"]
[null,"Cereal straw pellets",{"$f":"'12. Diet ingredient data'!I78","v":3.5000000000000003E-2},null,null,null,null,null,null,null,null,null,null,null,null,null,{"$f":"'12. Diet ingredient data'!C78","v":0.88},{"$f":"'12. Diet ingredient data'!E78","v":0.06},{"$f":"(IF(D697=\"\", C697, D697))/6.25","v":5.6000000000000008E-3},{"$f":"'12. Diet ingredient data'!K78","v":8.0000000000000004E-4},{"$f":"'12. Diet ingredient data'!N78","v":8.0000000000000002E-3},{"$f":"'12. Diet ingredient data'!H78","v":0.12492192379762647},null,null,"Cereal straw pellets"]
[null,"Lucerne meal/crumbles",{"$f":"'12. Diet ingredient data'!I79","v":0.16500000000000001},null,null,null,null,null,null,null,null,null,null,null,null,null,{"$f":"'12. Diet ingredient data'!C79","v":0.9},{"$f":"'12. Diet ingredient data'!E79","v":0.1},{"$f":"(IF(D698=\"\", C698, D698))/6.25","v":2.64E-2},{"$f":"'12. Diet ingredient data'!K79","v":2.3E-3},{"$f":"'12. Diet ingredient data'!N79","v":1.9E-2},{"$f":"'12. Diet ingredient data'!H79","v":0.44867854947756608},null,null,"Lucerne meal/crumbles"]
[null,"Oat straw",{"$f":"'12. Diet ingredient data'!I80","v":5.2000000000000005E-2},null,null,null,null,null,null,null,null,null,null,null,null,null,{"$f":"'12. Diet ingredient data'!C80","v":0.87},{"$f":"'12. Diet ingredient data'!E80","v":8.8000000000000009E-2},{"$f":"(IF(D699=\"\", C699, D699))/6.25","v":8.320000000000001E-3},{"$f":"'12. Diet ingredient data'!K80","v":2.2000000000000001E-3},{"$f":"'12. Diet ingredient data'!N80","v":2.2700000000000001E-2},{"$f":"'12. Diet ingredient data'!H80","v":6.25E-2},null,null,"Oat straw"]
[null,"Wheat straw",{"$f":"'12. Diet ingredient data'!I81","v":3.7999999999999999E-2},null,null,null,null,null,null,null,null,null,null,null,null,null,{"$f":"'12. Diet ingredient data'!C81","v":0.9},{"$f":"'12. Diet ingredient data'!E81","v":5.8499999999999996E-2},{"$f":"(IF(D700=\"\", C700, D700))/6.25","v":6.0799999999999995E-3},{"$f":"'12. Diet ingredient data'!K81","v":7.000000000000001E-4},{"$f":"'12. Diet ingredient data'!N81","v":1.3300000000000001E-2},{"$f":"'12. Diet ingredient data'!H81","v":0.14792899408284024},null,null,"Wheat straw"]
[null,"Fats",null,null,null,null,null,null,null,null,null,null,null,null,null,null,null,null,null,null,null,null,null,null,"Fats"]
[null,"Tallow",{"$f":"'12. Diet ingredient data'!I83","v":5.0000000000000001E-3},null,null,{"$f":"IF(F$624=$Z$625, $Z702, IF(F$624=$AA$625, $AA702, IF(F$624=$AB$625, $AB702,  0)))","v":1.3899999999999999E-2},0,1.5499999999999999E-3,0,0,0,2.4199999999999999E-2,null,null,null,null,0.995,{"$f":"'12. Diet ingredient data'!E83","v":0},{"$f":"(IF(D702=\"\", C702, D702))/6.25","v":8.0000000000000004E-4},0,0,0.87,null,null,"Tallow",1.3899999999999999E-2,1.5499999999999999E-3]
[null,"Vegetable oil",{"$f":"'12. Diet ingredient data'!I84","v":0},null,2.9999999999999997E-4,null,null,null,null,null,null,null,null,null,null,null,1.9950000000000001,{"$f":"'12. Diet ingredient data'!E84","v":0},{"$f":"(IF(D703=\"\", C703, D703))/6.25","v":0},0,0,0.87,null,null,"Vegetable oil"]
[null,"Minerals",null,null,null,null,null,null,null,null,null,null,null,null,null,null,null,null,null,null,null,null,null,null,"Minerals"]
[null,"Bentonite",{"$f":"'12. Diet ingredient data'!I86","v":0},null,null,null,null,null,null,null,null,null,null,null,null,null,{"$f":"'12. Diet ingredient data'!C86","v":0.99},{"$f":"'12. Diet ingredient data'!E86","v":0.99},{"$f":"(IF(D705=\"\", C705, D705))/6.25","v":0},{"$f":"'12. Diet ingredient data'!K86","v":0},{"$f":"'12. Diet ingredient data'!N86","v":0},{"$f":"'12. Diet ingredient data'!H86","v":0},null,null,"Bentonite"]
[null,"Choline Chloride",{"$f":"'12. Diet ingredient data'!I87","v":0},null,null,null,null,null,null,null,null,null,null,null,null,null,{"$f":"'12. Diet ingredient data'!C87","v":0.95},{"$f":"'12. Diet ingredient data'!E87","v":0.05},0,{"$f":"'12. Diet ingredient data'!K87","v":0},{"$f":"'12. Diet ingredient data'!N87","v":0},{"$f":"'12. Diet ingredient data'!H87","v":0},null,null,"Choline Chloride"]
[null,"Copper Sulphate",{"$f":"'12. Diet ingredient data'!I88","v":0},null,null,null,null,null,null,null,null,null,null,null,null,null,{"$f":"'12. Diet ingredient data'!C88","v":0.98499999999999999},{"$f":"'12. Diet ingredient data'!E88","v":1},0,{"$f":"'12. Diet ingredient data'!K88","v":0},{"$f":"'12. Diet ingredient data'!N88","v":0},{"$f":"'12. Diet ingredient data'!H88","v":0},null,null,"Copper Sulphate"]
[null,"Dicalcium phosphate (DCP)",{"$f":"'12. Diet ingredient data'!I89","v":0},null,null,null,null,null,null,null,null,null,null,null,null,null,{"$f":"'12. Diet ingredient data'!C89","v":1},{"$f":"'12. Diet ingredient data'!E89","v":0.78},0,{"$f":"'12. Diet ingredient data'!K89","v":0.182},{"$f":"'12. Diet ingredient data'!N89","v":0},{"$f":"'12. Diet ingredient data'!H89","v":0},null,null,"Dicalcium phosphate (DCP)"]
[null,"Ferrous Sulphate",{"$f":"'12. Diet ingredient data'!I90","v":0},null,null,null,null,null,null,null,null,null,null,null,null,null,{"$f":"'12. Diet ingredient data'!C90","v":0.98499999999999999},{"$f":"'12. Diet ingredient data'!E90","v":0.99},0,{"$f":"'12. Diet ingredient data'!K90","v":0},{"$f":"'12. Diet ingredient data'!N90","v":0},{"$f":"'12. Diet ingredient data'!H90","v":0},null,null,"Ferrous Sulphate"]
[null,"Kynofos",{"$f":"'12. Diet ingredient data'!I91","v":0},null,null,null,null,null,null,null,null,null,null,null,null,null,{"$f":"'12. Diet ingredient data'!C91","v":0.98},{"$f":"'12. Diet ingredient data'!E91","v":1},0,{"$f":"'12. Diet ingredient data'!K91","v":0.21},{"$f":"'12. Diet ingredient data'!N91","v":0},{"$f":"'12. Diet ingredient data'!H91","v":0},null,null,"Kynofos"]
[null,"Limestone",{"$f":"'12. Diet ingredient data'!I92","v":0},null,null,{"$f":"IF(F$624=$Z$625, $Z711, IF(F$624=$AA$625, $AA711, IF(F$624=$AB$625, $AB711,  0)))","v":0},0,0,1.1999999999999999E-3,0,0,null,4.1000000000000003E-3,1.1999999999999999E-3,4.1000000000000003E-3,null,{"$f":"'12. Diet ingredient data'!C92","v":0.99},{"$f":"'12. Diet ingredient data'!E92","v":0.99},0,{"$f":"'12. Diet ingredient data'!K92","v":2.0000000000000001E-4},{"$f":"'12. Diet ingredient data'!N92","v":0},{"$f":"'12. Diet ingredient data'!H92","v":0},null,null,"Limestone",null,null,1.1999999999999999E-3]
[null,"Monodicalcium phosphate (MDCP)",{"$f":"'12. Diet ingredient data'!I93","v":0},null,null,null,null,null,null,null,null,null,null,null,null,null,{"$f":"'12. Diet ingredient data'!C93","v":0.995},{"$f":"'12. Diet ingredient data'!E93","v":0.82},0,{"$f":"'12. Diet ingredient data'!K93","v":0.218},{"$f":"'12. Diet ingredient data'!N93","v":0},{"$f":"'12. Diet ingredient data'!H93","v":0},null,null,"Monodicalcium phosphate (MDCP)"]
[null,"Potassium Choride",{"$f":"'12. Diet ingredient data'!I94","v":0},null,null,null,null,null,null,null,null,null,null,null,null,null,{"$f":"'12. Diet ingredient data'!C94","v":1},{"$f":"'12. Diet ingredient data'!E94","v":1},0,{"$f":"'12. Diet ingredient data'!K94","v":0},{"$f":"'12. Diet ingredient data'!N94","v":0.52100000000000002},{"$f":"'12. Diet ingredient data'!H94","v":0},null,null,"Potassium Choride"]
[null,"Potassium sulphate",{"$f":"'12. Diet ingredient data'!I95","v":0},null,null,null,null,null,null,null,null,null,null,null,null,null,{"$f":"'12. Diet ingredient data'!C95","v":1},{"$f":"'12. Diet ingredient data'!E95","v":1},0,{"$f":"'12. Diet ingredient data'!K95","v":0},{"$f":"'12. Diet ingredient data'!N95","v":0.17550000000000002},{"$f":"'12. Diet ingredient data'!H95","v":0},null,null,"Potassium sulphate"]
[null,"Sodium Bicarbonate",{"$f":"'12. Diet ingredient data'!I96","v":0},null,null,null,null,null,null,null,null,null,null,null,null,null,{"$f":"'12. Diet ingredient data'!C96","v":1},{"$f":"'12. Diet ingredient data'!E96","v":0.625},0,{"$f":"'12. Diet ingredient data'!K96","v":0},{"$f":"'12. Diet ingredient data'!N96","v":0},{"$f":"'12. Diet ingredient data'!H96","v":0},null,null,"Sodium Bicarbonate"]
[null,"Salt",{"$f":"'12. Diet ingredient data'!I97","v":0},null,null,null,null,null,null,null,null,null,null,null,null,null,{"$f":"'12. Diet ingredient data'!C97","v":1},{"$f":"'12. Diet ingredient data'!E97","v":1},0,{"$f":"'12. Diet ingredient data'!K97","v":0},{"$f":"'12. Diet ingredient data'!N97","v":0},{"$f":"'12. Diet ingredient data'!H97","v":0},null,null,"Salt"]
[null,"HiZox/Zinco Plus",{"$f":"'12. Diet ingredient data'!I98","v":0},null,2.0000000000000001E-4,{"$f":"IF(F$624=$Z$625, $Z717, IF(F$624=$AA$625, $AA717, IF(F$624=$AB$625, $AB717,  0)))","v":2.5000000000000001E-3},0,2.5000000000000001E-3,2.5000000000000001E-3,0,0,2.5000000000000001E-3,2.5000000000000001E-3,2.5000000000000001E-3,2.5000000000000001E-3,null,{"$f":"'12. Diet ingredient data'!C98","v":1},{"$f":"'12. Diet ingredient data'!E98","v":0.98},0,{"$f":"'12. Diet ingredient data'!K98","v":0},{"$f":"'12. Diet ingredient data'!N98","v":0},{"$f":"'12. Diet ingredient data'!H98","v":0},null,null,"HiZox/Zinco Plus",2.5000000000000001E-3,2.5000000000000001E-3,2.5000000000000001E-3]
[null,"Zinc Oxide",{"$f":"'12. Diet ingredient data'!I99","v":0},null,null,null,null,null,null,null,null,null,null,null,null,null,{"$f":"'12. Diet ingredient data'!C99","v":1},{"$f":"'12. Diet ingredient data'!E99","v":0.98},0,{"$f":"'12. Diet ingredient data'!K99","v":0},{"$f":"'12. Diet ingredient data'!N99","v":0},{"$f":"'12. Diet ingredient data'!H99","v":0},null,null,"Zinc Oxide"]
[null,"Synthetic amino acids",null,null,null,null,null,null,null,null,null,null,null,null,null,null,null,null,null,null,null,null,null,null,"Synthetic amino acids"]
[null,"L-Isoleucine",{"$f":"'12. Diet ingredient data'!I101","v":0.625},null,null,null,null,null,null,null,null,null,null,null,null,null,{"$f":"'12. Diet ingredient data'!C101","v":0.98499999999999999},{"$f":"'12. Diet ingredient data'!E101","v":5.0000000000000001E-3},{"$f":"(IF(D720=\"\", C720, D720))/6.25","v":0.1},{"$f":"'12. Diet ingredient data'!K101","v":0},{"$f":"'12. Diet ingredient data'!N101","v":0},{"$f":"'12. Diet ingredient data'!H101","v":1},null,null,"L-Isoleucine"]
[null,"L-Lysine HCL",{"$f":"'12. Diet ingredient data'!I102","v":0.95400000000000007},null,1.7000000000000001E-4,{"$f":"IF(F$624=$Z$625, $Z721, IF(F$624=$AA$625, $AA721, IF(F$624=$AB$625, $AB721,  0)))","v":1.9E-3},0,1.3799999999999999E-3,1E-3,0,0,null,null,1E-3,null,null,{"$f":"'12. Diet ingredient data'!C102","v":0.995},{"$f":"'12. Diet ingredient data'!E102","v":5.0000000000000001E-3},{"$f":"(IF(D721=\"\", C721, D721))/6.25","v":0.15264},{"$f":"'12. Diet ingredient data'!K102","v":0},{"$f":"'12. Diet ingredient data'!N102","v":0},{"$f":"'12. Diet ingredient data'!H102","v":0.99950024987506236},null,null,"L-Lysine HCL",1.9E-3,1.3799999999999999E-3,1E-3]
[null,"DL-Methionie",{"$f":"'12. Diet ingredient data'!I103","v":0.58399999999999996},null,2.0000000000000002E-5,null,null,null,null,null,null,null,2.0000000000000001E-4,null,2.0000000000000001E-4,null,{"$f":"'12. Diet ingredient data'!C103","v":0.995},{"$f":"'12. Diet ingredient data'!E103","v":2E-3},{"$f":"(IF(D722=\"\", C722, D722))/6.25","v":9.3439999999999995E-2},{"$f":"'12. Diet ingredient data'!K103","v":0},{"$f":"'12. Diet ingredient data'!N103","v":0},{"$f":"'12. Diet ingredient data'!H103","v":1},null,null,"DL-Methionie"]
[null,"L-Threonine",{"$f":"'12. Diet ingredient data'!I104","v":0.73099999999999998},null,6.0000000000000002E-5,null,null,null,null,null,null,6.9999999999999999E-4,null,null,null,null,{"$f":"'12. Diet ingredient data'!C104","v":0.995},{"$f":"'12. Diet ingredient data'!E104","v":5.0000000000000001E-3},{"$f":"(IF(D723=\"\", C723, D723))/6.25","v":0.11695999999999999},{"$f":"'12. Diet ingredient data'!K104","v":0},{"$f":"'12. Diet ingredient data'!N104","v":0},{"$f":"'12. Diet ingredient data'!H104","v":0.99767981438515085},null,null,"L-Threonine"]
[null,"L-Tryptophan",{"$f":"'12. Diet ingredient data'!I105","v":0.85299999999999998},null,null,null,null,null,null,null,null,null,null,null,null,null,{"$f":"'12. Diet ingredient data'!C105","v":0.995},{"$f":"'12. Diet ingredient data'!E105","v":5.0000000000000001E-3},{"$f":"(IF(D724=\"\", C724, D724))/6.25","v":0.13647999999999999},{"$f":"'12. Diet ingredient data'!K105","v":0},{"$f":"'12. Diet ingredient data'!N105","v":0},{"$f":"'12. Diet ingredient data'!H105","v":1.0007278020378456},null,null,"L-Tryptophan"]
[null,"Micellaneous ingredients",null,null,null,null,null,null,null,null,null,null,null,null,null,null,null,null,null,null,null,null,null,null,"Micellaneous ingredients"]
[null,"Lactose",{"$f":"'12. Diet ingredient data'!I107","v":0},null,null,null,null,null,null,null,null,null,null,null,null,null,{"$f":"'12. Diet ingredient data'!C107","v":0.99},{"$f":"'12. Diet ingredient data'!E107","v":5.0000000000000001E-3},{"$f":"(IF(D726=\"\", C726, D726))/6.25","v":0},{"$f":"'12. Diet ingredient data'!K107","v":4.0000000000000002E-4},{"$f":"'12. Diet ingredient data'!N107","v":0},{"$f":"'12. Diet ingredient data'!H107","v":0.755},null,null,"Lactose"]
[null,"Levucell",{"$f":"'12. Diet ingredient data'!I108","v":0},null,null,null,null,null,null,null,null,null,null,null,null,null,{"$f":"'12. Diet ingredient data'!C108","v":0.95},{"$f":"'12. Diet ingredient data'!E108","v":0.06},{"$f":"(IF(D727=\"\", C727, D727))/6.25","v":0},{"$f":"'12. Diet ingredient data'!K108","v":0},{"$f":"'12. Diet ingredient data'!N108","v":0},{"$f":"'12. Diet ingredient data'!H108","v":0.86999999999999988},null,null,"Levucell"]
[null,"Vitamin/mineral premixes",null,null,null,null,null,null,null,null,null,null,null,null,null,null,null,null,null,null,null,null,null,null,"Vitamin/mineral premixes"]
[null,"Breeder premix",{"$f":"'12. Diet ingredient data'!I110","v":0},null,null,null,null,null,null,null,null,null,null,null,null,null,{"$f":"'12. Diet ingredient data'!C110","v":1},{"$f":"'12. Diet ingredient data'!E110","v":0.23},{"$f":"(IF(D729=\"\", C729, D729))/6.25","v":0},{"$f":"'12. Diet ingredient data'!K110","v":0},{"$f":"'12. Diet ingredient data'!N110","v":0},{"$f":"'12. Diet ingredient data'!H110","v":0},null,null,"Breeder premix"]
[null,"Grower premix",{"$f":"'12. Diet ingredient data'!I111","v":0.05},null,null,null,null,null,null,null,null,null,null,null,null,null,{"$f":"'12. Diet ingredient data'!C111","v":1},{"$f":"'12. Diet ingredient data'!E111","v":0.23},{"$f":"(IF(D730=\"\", C730, D730))/6.25","v":8.0000000000000002E-3},{"$f":"'12. Diet ingredient data'!K111","v":2.3999999999999998E-3},{"$f":"'12. Diet ingredient data'!N111","v":2.8E-3},{"$f":"'12. Diet ingredient data'!H111","v":0},null,null,"Grower premix"]
[null,"Weaner premix",{"$f":"'12. Diet ingredient data'!I112","v":0},null,null,null,null,null,null,null,null,null,null,null,null,null,{"$f":"'12. Diet ingredient data'!C112","v":1},{"$f":"'12. Diet ingredient data'!E112","v":0.23},{"$f":"(IF(D731=\"\", C731, D731))/6.25","v":0},{"$f":"'12. Diet ingredient data'!K112","v":0},{"$f":"'12. Diet ingredient data'!N112","v":0},{"$f":"'12. Diet ingredient data'!H112","v":0},null,null,"Weaner premix"]
[null,"Enzymes",null,null,null,null,null,null,null,null,null,null,null,null,null,null,null,null,null,null,null,null,null,null,"Enzymes"]
[null,"Feedzyme ",{"$f":"'12. Diet ingredient data'!I114","v":0},null,null,null,null,null,null,null,null,null,null,null,null,null,{"$f":"'12. Diet ingredient data'!C114","v":1},{"$f":"'12. Diet ingredient data'!E114","v":0},{"$f":"(IF(D733=\"\", C733, D733))/6.25","v":0},{"$f":"'12. Diet ingredient data'!K114","v":0},{"$f":"'12. Diet ingredient data'!N114","v":0},{"$f":"'12. Diet ingredient data'!H114","v":0},null,null,"FEEDZYME (1 kg dose)"]
[null,"Axtra Phy",{"$f":"'12. Diet ingredient data'!I115","v":0},null,null,null,null,null,null,null,null,null,null,null,null,null,{"$f":"'12. Diet ingredient data'!C115","v":1},{"$f":"'12. Diet ingredient data'!E115","v":0},0,{"$f":"'12. Diet ingredient data'!K115","v":0},{"$f":"'12. Diet ingredient data'!N115","v":0},{"$f":"'12. Diet ingredient data'!H115","v":0},null,null,"Kemzyme"]
[null,"Axtra XB",{"$f":"'12. Diet ingredient data'!I116","v":0},null,null,null,null,null,null,null,null,null,null,null,null,null,{"$f":"'12. Diet ingredient data'!C116","v":1},{"$f":"'12. Diet ingredient data'!E116","v":0},0,{"$f":"'12. Diet ingredient data'!K116","v":0},{"$f":"'12. Diet ingredient data'!N116","v":0},{"$f":"'12. Diet ingredient data'!H116","v":0},null,null,"Phyzyme (500 FTU OR 100g dose)"]
[null,"Natuphos Blue",{"$f":"'12. Diet ingredient data'!I117","v":0},null,null,null,null,null,null,null,null,null,null,null,null,null,{"$f":"'12. Diet ingredient data'!C117","v":1},{"$f":"'12. Diet ingredient data'!E117","v":0},0,{"$f":"'12. Diet ingredient data'!K117","v":0},{"$f":"'12. Diet ingredient data'!N117","v":0},{"$f":"'12. Diet ingredient data'!H117","v":0},null,null,"Phyzyme (1000 FTU OR 200g dose)"]
[null,"Ronozyme P 5000 (150g dose)",{"$f":"'12. Diet ingredient data'!I118","v":0},null,null,null,null,null,null,null,null,null,null,null,null,null,{"$f":"'12. Diet ingredient data'!C118","v":1},{"$f":"'12. Diet ingredient data'!E118","v":0},0,{"$f":"'12. Diet ingredient data'!K118","v":0},{"$f":"'12. Diet ingredient data'!N118","v":0},{"$f":"'12. Diet ingredient data'!H118","v":0},null,null,"Ronozyme P 5000 (150g dose)"]
[null,"Rovabio Excel premix",{"$f":"'12. Diet ingredient data'!I119","v":0},null,null,null,null,null,null,null,null,null,null,null,null,null,{"$f":"'12. Diet ingredient data'!C119","v":1},{"$f":"'12. Diet ingredient data'!E119","v":0},0,{"$f":"'12. Diet ingredient data'!K119","v":0},{"$f":"'12. Diet ingredient data'!N119","v":0},{"$f":"'12. Diet ingredient data'!H119","v":0},null,null,"Rovabio Excel premix"]
[null,"Rovabio T-Flex ",{"$f":"'12. Diet ingredient data'!I120","v":0},null,null,null,null,null,null,null,null,null,null,null,null,null,{"$f":"'12. Diet ingredient data'!C120","v":1},{"$f":"'12. Diet ingredient data'!E120","v":0},0,{"$f":"'12. Diet ingredient data'!K120","v":0},{"$f":"'12. Diet ingredient data'!N120","v":0},{"$f":"'12. Diet ingredient data'!H120","v":0},null,null,"Allzyme SSF"]
[null,"Toxin Binders",null,null,null,null,null,null,null,null,null,null,null,null,null,null,null,null,null,null,null,null,null,null,"Toxin Binders"]
[null,"Mycofix",{"$f":"'12. Diet ingredient data'!I122","v":0},null,null,null,null,null,null,null,null,null,null,null,null,null,{"$f":"'12. Diet ingredient data'!C122","v":1},{"$f":"'12. Diet ingredient data'!E122","v":0.98},{"$f":"(IF(D741=\"\", C741, D741))/6.25","v":0},{"$f":"'12. Diet ingredient data'!K122","v":0},{"$f":"'12. Diet ingredient data'!N122","v":0},{"$f":"'12. Diet ingredient data'!H122","v":0},null,null,"Mycofix"]
[null,"Mycosorb",{"$f":"'12. Diet ingredient data'!I123","v":0},null,null,null,null,null,null,null,null,null,null,null,null,null,{"$f":"'12. Diet ingredient data'!C123","v":1},{"$f":"'12. Diet ingredient data'!E123","v":0.85},{"$f":"(IF(D742=\"\", C742, D742))/6.25","v":0},{"$f":"'12. Diet ingredient data'!K123","v":0},{"$f":"'12. Diet ingredient data'!N123","v":0},{"$f":"'12. Diet ingredient data'!H123","v":0},null,null,"Mycosorb"]
[null,"Elitox",{"$f":"'12. Diet ingredient data'!I124","v":0},null,null,null,null,null,null,null,null,null,null,null,null,null,{"$f":"'12. Diet ingredient data'!C124","v":1},{"$f":"'12. Diet ingredient data'!E124","v":0.85},{"$f":"(IF(D743=\"\", C743, D743))/6.25","v":0},{"$f":"'12. Diet ingredient data'!K124","v":0},{"$f":"'12. Diet ingredient data'!N124","v":0},{"$f":"'12. Diet ingredient data'!H124","v":0},null,null,"Elitox"]
[null,"Mastersorb ",{"$f":"'12. Diet ingredient data'!I125","v":0},null,null,null,null,null,null,null,null,null,null,null,null,null,{"$f":"'12. Diet ingredient data'!C125","v":1},{"$f":"'12. Diet ingredient data'!E125","v":0.85},{"$f":"(IF(D744=\"\", C744, D744))/6.25","v":0},{"$f":"'12. Diet ingredient data'!K125","v":0},{"$f":"'12. Diet ingredient data'!N125","v":0},{"$f":"'12. Diet ingredient data'!H125","v":0},null,null,"Mastersorb "]
[null,"Acidifiers",null,null,null,null,null,null,null,null,null,null,null,null,null,null,null,null,null,null,null,null,null,null,"Acidifiers"]
[null,"Formi Acid",{"$f":"'12. Diet ingredient data'!I127","v":0},null,null,null,null,null,null,null,null,null,null,null,null,null,{"$f":"'12. Diet ingredient data'!C127","v":1},{"$f":"'12. Diet ingredient data'!E127","v":0},{"$f":"(IF(D746=\"\", C746, D746))/6.25","v":0},{"$f":"'12. Diet ingredient data'!K127","v":0},{"$f":"'12. Diet ingredient data'!N127","v":0},{"$f":"'12. Diet ingredient data'!H127","v":0},null,null,"Formi Acid"]
[null,"Top3",{"$f":"'12. Diet ingredient data'!I128","v":0},null,null,null,null,null,null,null,null,null,null,null,null,null,{"$f":"'12. Diet ingredient data'!C128","v":1},{"$f":"'12. Diet ingredient data'!E128","v":0},{"$f":"(IF(D747=\"\", C747, D747))/6.25","v":0},{"$f":"'12. Diet ingredient data'!K128","v":0},{"$f":"'12. Diet ingredient data'!N128","v":0},{"$f":"'12. Diet ingredient data'!H128","v":0},null,null,"Top3"]
[null,"Tetracid 500",{"$f":"'12. Diet ingredient data'!I129","v":0},null,null,null,null,null,null,null,null,null,null,null,null,null,{"$f":"'12. Diet ingredient data'!C129","v":1},{"$f":"'12. Diet ingredient data'!E129","v":0},{"$f":"(IF(D748=\"\", C748, D748))/6.25","v":0},{"$f":"'12. Diet ingredient data'!K129","v":0},{"$f":"'12. Diet ingredient data'!N129","v":0},{"$f":"'12. Diet ingredient data'!H129","v":0},null,null,"Tetracid 500"]
[null,"AcidLac",{"$f":"'12. Diet ingredient data'!I130","v":0},null,null,null,null,null,null,null,null,null,null,null,null,null,{"$f":"'12. Diet ingredient data'!C130","v":1},{"$f":"'12. Diet ingredient data'!E130","v":0},{"$f":"(IF(D749=\"\", C749, D749))/6.25","v":0},{"$f":"'12. Diet ingredient data'!K130","v":0},{"$f":"'12. Diet ingredient data'!N130","v":0},{"$f":"'12. Diet ingredient data'!H130","v":0},null,null,"AcidLac"]
[null,"VevoVital ",{"$f":"'12. Diet ingredient data'!I131","v":0},null,null,null,null,null,null,null,null,null,null,null,null,null,{"$f":"'12. Diet ingredient data'!C131","v":1},{"$f":"'12. Diet ingredient data'!E131","v":0},{"$f":"(IF(D750=\"\", C750, D750))/6.25","v":0},{"$f":"'12. Diet ingredient data'!K131","v":0},{"$f":"'12. Diet ingredient data'!N131","v":0},{"$f":"'12. Diet ingredient data'!H131","v":0},null,null,"VevoVital "]
[null,"Other Additives",null,null,null,null,null,null,null,null,null,null,null,null,null,null,null,null,null,null,null,null,null,null,"Other Additives"]
[null,"Krave",{"$f":"'12. Diet ingredient data'!I133","v":0},null,null,null,null,null,null,null,null,null,null,null,null,null,{"$f":"'12. Diet ingredient data'!C133","v":1},{"$f":"'12. Diet ingredient data'!E133","v":0.98},{"$f":"(IF(D752=\"\", C752, D752))/6.25","v":0},{"$f":"'12. Diet ingredient data'!K133","v":0},{"$f":"'12. Diet ingredient data'!N133","v":0},{"$f":"'12. Diet ingredient data'!H133","v":0},null,null,"Biomin® pHD"]
[null,"Betaine",{"$f":"'12. Diet ingredient data'!I134","v":0},null,null,null,null,null,null,null,null,null,null,null,null,null,{"$f":"'12. Diet ingredient data'!C134","v":1},{"$f":"'12. Diet ingredient data'!E134","v":0.98},{"$f":"(IF(D753=\"\", C753, D753))/6.25","v":0},{"$f":"'12. Diet ingredient data'!K134","v":0},{"$f":"'12. Diet ingredient data'!N134","v":0},{"$f":"'12. Diet ingredient data'!H134","v":0},null,null,"Biomos"]
[null,"Biomos",{"$f":"'12. Diet ingredient data'!I135","v":0},null,null,null,null,null,null,null,null,null,null,null,null,null,{"$f":"'12. Diet ingredient data'!C135","v":1},{"$f":"'12. Diet ingredient data'!E135","v":0.98},{"$f":"(IF(D754=\"\", C754, D754))/6.25","v":0},{"$f":"'12. Diet ingredient data'!K135","v":0},{"$f":"'12. Diet ingredient data'!N135","v":0},{"$f":"'12. Diet ingredient data'!H135","v":0},null,null,"De-Oderase"]
[null,"De-Oderase",{"$f":"'12. Diet ingredient data'!I136","v":0},null,null,null,null,null,null,null,null,null,null,null,null,null,{"$f":"'12. Diet ingredient data'!C136","v":0.99},{"$f":"'12. Diet ingredient data'!E136","v":0.98},{"$f":"(IF(D755=\"\", C755, D755))/6.25","v":0},{"$f":"'12. Diet ingredient data'!K136","v":0},{"$f":"'12. Diet ingredient data'!N136","v":0},{"$f":"'12. Diet ingredient data'!H136","v":0},null,null,"Paylean"]
[null,"Bedding Materials",null,null,null,null,null,null,null,null,null,null,null,null,null,null,null,null,null,null,null,null,null,null,"Bedding Materials"]
[null,"Hardwood sawdust",{"$f":"'12. Diet ingredient data'!I138","v":1.2375000000000001E-2},null,null,null,null,null,null,null,null,null,null,null,null,null,{"$f":"'12. Diet ingredient data'!C138","v":0.9},{"$f":"'12. Diet ingredient data'!E138","v":0},{"$f":"(IF(D757=\"\", C757, D757))/6.25","v":1.98E-3},{"$f":"'12. Diet ingredient data'!K138","v":9.0000000000000006E-5},{"$f":"'12. Diet ingredient data'!N138","v":4.5000000000000004E-4},{"$f":"'12. Diet ingredient data'!H138","v":0.05},null,null,"Hardwood sawdust"]
[null,"Softwood sawdust/shavings",{"$f":"'12. Diet ingredient data'!I139","v":7.8750000000000001E-3},null,null,null,null,null,null,null,null,null,null,null,null,null,{"$f":"'12. Diet ingredient data'!C139","v":0.9},{"$f":"'12. Diet ingredient data'!E139","v":0},1.2600000000000001E-3,{"$f":"'12. Diet ingredient data'!K139","v":9.0000000000000006E-5},{"$f":"'12. Diet ingredient data'!N139","v":2.7E-4},{"$f":"'12. Diet ingredient data'!H139","v":0.16},null,null,"Softwood sawdust/shavings"]
[null,"Rice Hulls",{"$f":"'12. Diet ingredient data'!I140","v":3.0475000000000002E-2},null,null,null,null,null,null,null,null,null,null,null,null,null,{"$f":"'12. Diet ingredient data'!C140","v":0.92},{"$f":"'12. Diet ingredient data'!E140","v":0.05},4.8760000000000001E-3,{"$f":"'12. Diet ingredient data'!K140","v":7.3600000000000011E-4},{"$f":"'12. Diet ingredient data'!N140","v":1.2144E-2},{"$f":"'12. Diet ingredient data'!H140","v":0.15625},null,null,"Rice Hulls"]
[null,"Barley straw",{"$f":"'12. Diet ingredient data'!I141","v":3.9243750000000001E-2},null,null,null,null,null,null,null,null,null,null,null,null,null,{"$f":"'12. Diet ingredient data'!C141","v":0.91},{"$f":"'12. Diet ingredient data'!E141","v":0.06},6.2789999999999999E-3,{"$f":"'12. Diet ingredient data'!K141","v":6.3699999999999998E-4},{"$f":"'12. Diet ingredient data'!N141","v":2.1566999999999999E-2},{"$f":"'12. Diet ingredient data'!H141","v":0.125},null,null,"Barley straw"]
[null,"Wheat straw",{"$f":"'12. Diet ingredient data'!I142","v":3.22625E-2},null,null,null,null,null,null,null,null,null,null,null,null,null,{"$f":"'12. Diet ingredient data'!C142","v":0.89},{"$f":"'12. Diet ingredient data'!E142","v":5.8500000000000003E-2},5.1619999999999999E-3,{"$f":"'12. Diet ingredient data'!K142","v":3.6490000000000003E-3},{"$f":"'12. Diet ingredient data'!N142","v":4.5390000000000005E-3},{"$f":"'12. Diet ingredient data'!H142","v":0.14792899408284024},null,null,"Wheat straw"]
[null,"Shredded paper",{"$f":"'12. Diet ingredient data'!I143","v":0},null,null,null,null,null,null,null,null,null,null,null,null,null,{"$f":"'12. Diet ingredient data'!C143","v":0.9},{"$f":"'12. Diet ingredient data'!E143","v":0},0,{"$f":"'12. Diet ingredient data'!K143","v":9.0000000000000006E-5},{"$f":"'12. Diet ingredient data'!N143","v":0},{"$f":"'12. Diet ingredient data'!H143","v":0.1},null,null,"Shredded paper"]
[null,"Additional ingredients",null,null,null,null,null,null,null,null,null,null,null,null,null,null,null,null,null,null,null,null,null,null,"Additional ingredients"]
[null,{"$f":"IF('12. Diet ingredient data'!B145=\"\", \"\", '12. Diet ingredient data'!B145)","v":"Sow milk"},{"$f":"IF('12. Diet ingredient data'!I145=\"\",0,'12. Diet ingredient data'!I145)","v":5.6300000000000003E-2},null,0.9,null,null,null,null,null,null,null,null,null,null,null,{"$f":"'12. Diet ingredient data'!C145","v":0.2},{"$f":"'12. Diet ingredient data'!E145","v":0.01},{"$f":"(IF(D764=\"\", C764, D764))/6.25","v":9.0080000000000004E-3},{"$f":"'12. Diet ingredient data'!K145","v":1.5E-3},{"$f":"'12. Diet ingredient data'!N145","v":6.9999999999999999E-4},{"$f":"'12. Diet ingredient data'!H145","v":1},null,null,{"$f":"IF('12. Diet ingredient data'!Y145=\"\", \"\", '12. Diet ingredient data'!Y145)","v":""}]
[null,{"$f":"IF('12. Diet ingredient data'!B146=\"\", \"\", '12. Diet ingredient data'!B146)","v":"Milk fat"},{"$f":"IF('12. Diet ingredient data'!I146=\"\",0,'12. Diet ingredient data'!I146)","v":0},null,null,null,null,null,null,null,null,null,null,null,null,null,{"$f":"'12. Diet ingredient data'!C146","v":0.99},{"$f":"'12. Diet ingredient data'!E146","v":0},{"$f":"(IF(D765=\"\", C765, D765))/6.25","v":0},{"$f":"'12. Diet ingredient data'!K146","v":0},{"$f":"'12. Diet ingredient data'!N146","v":0},{"$f":"'12. Diet ingredient data'!H146","v":1},null,null,{"$f":"IF('12. Diet ingredient data'!Y146=\"\", \"\", '12. Diet ingredient data'!Y146)","v":""}]
[]
[]
[null,"Totals:",null,null,{"$f":"SUM(E628:E765)","v":1},0.93500000000000016,0,0.88002000000000002,0.87999999999999989,0,0,0.91500000000000004,0.96499999999999986,0.87999999999999989,0.96499999999999986,null,null,null,null,null,null,null,null,null,null,{"$f":"SUM(Z628:Z765)","v":0.93500000000000016},{"$f":"SUM(AA628:AA765)","v":0.88002000000000002},{"$f":"SUM(AB628:AB765)","v":0.87999999999999989},{"$f":"SUM(AC628:AC765)","v":0}]
[]
[]
[]
[]
["Old PigBal diet 2"]
[]
[]
[]
[null,"National Guidelines pig class:",null,null,null,{"$f":"'Standard diet data'!F6","v":"Weaner"},{"$f":"'Standard diet data'!G6","v":"Grower"},{"$f":"'Standard diet data'!H6","v":"Finisher"},{"$f":"'Standard diet data'!I6","v":"Finisher"},{"$f":"'Standard diet data'!J6","v":"Unallocated"},{"$f":"'Standard diet data'!K6","v":"Unallocated"}]
[null,"Old PigBal diet description:",null,null,null,{"$f":"'Standard diet data'!F7","v":"Weaner"},{"$f":"'Standard diet data'!G7","v":"Porker"},{"$f":"'Standard diet data'!H7","v":"Grower"},{"$f":"'Standard diet data'!I7","v":"Finisher"},{"$f":"'Standard diet data'!J7","v":"Unallocated"},{"$f":"'Standard diet data'!K7","v":"Unallocated"},null,null,null,null,null,null,null,null,null,null,null,null,null,null,"Old PigBal diet description"]
[null,"Ingredient","Default crude protein","Alternate crude protein","Sucker",{"$f":"'3. Herd Input'!M17","v":"Weaner"},{"$f":"'3. Herd Input'!M18","v":"Porker"},{"$f":"'3. Herd Input'!M19","v":"Grower"},{"$f":"'3. Herd Input'!M20","v":"Finisher"},{"$f":"'3. Herd Input'!M21","v":"Unallocated"},{"$f":"'3. Herd Input'!M22","v":"Unallocated"},"Lac sow","Dry sow","Gilts","Boars",null,"DM\n","Ash","N","Total P","K","DMD",null,null,"Ingredient","Weaner","Grower","Finisher"]
[null,null,"(%)","(%)","(% fed weight)","(% fed weight)","(% fed weight)","(% fed weight)","(% fed weight)","(% fed weight)","(% fed weight)","(% fed weight)","(% fed weight)","(% fed weight)","(% fed weight)",null,"(%) Ing DM","(%) Ing Ash","(%)","(%)","(%)","(%) Ing DM",null,null,null,"(% fed weight)","(% fed weight)","(% fed weight)","(% fed weight)"]
[null,"Cereal Grains",null,null,null,null,null,null,null,null,null,null,null,null,null,null,null,null,null,null,null,null,null,null,"Cereal Grains"]
[null,"Barley",{"$f":"'12. Diet ingredient data'!I9","v":0.1},0.1,null,{"$f":"IF(F$778=$Z$779, $Z782, IF(F$778=$AA$779, $AA782, IF(F$778=$AB$779, $AB782,  0)))","v":0},0,0,0,0,0,0.45169999999999999,0.74629999999999996,0,0.74629999999999996,null,{"$f":"'12. Diet ingredient data'!C9","v":0.88},{"$f":"'12. Diet ingredient data'!E9","v":2.1999999999999999E-2},{"$f":"(IF(D782=\"\", C782, D782))/6.25","v":1.6E-2},{"$f":"'12. Diet ingredient data'!K9","v":2.8E-3},{"$f":"'12. Diet ingredient data'!N9","v":4.6999999999999993E-3},{"$f":"'12. Diet ingredient data'!H9","v":0.81402629931120851},null,null,"Barley",0,0,0,null,null,"National Guidelines Classes"]
[null,"Groats",{"$f":"'12. Diet ingredient data'!I10","v":0.11},null,null,null,null,null,null,null,null,null,null,null,null,null,{"$f":"'12. Diet ingredient data'!C118","v":1},{"$f":"'12. Diet ingredient data'!E10","v":2.1400000000000002E-2},1.7600000000000001E-2,{"$f":"'12. Diet ingredient data'!K10","v":3.0000000000000001E-3},{"$f":"'12. Diet ingredient data'!N10","v":3.4999999999999996E-3},{"$f":"'12. Diet ingredient data'!H10","v":0.93399750933997516},null,null,"Groats",null,null,null,null,null,"Pig class","End age (weeks)",null,"End live weight (kg)"]
[null,"Oats 9",{"$f":"'12. Diet ingredient data'!I11","v":0.09},null,null,null,null,null,null,null,null,null,null,null,null,null,{"$f":"'12. Diet ingredient data'!C11","v":0.88},{"$f":"'12. Diet ingredient data'!E11","v":2.64E-2},1.44E-2,{"$f":"'12. Diet ingredient data'!K11","v":3.2000000000000002E-3},{"$f":"'12. Diet ingredient data'!N11","v":3.5999999999999999E-3},{"$f":"'12. Diet ingredient data'!H11","v":0.69970845481049571},null,null,"Oats 9",null,null,null,null,null,"Sucker",4,null,8]
[null,"Maize 8",{"$f":"'12. Diet ingredient data'!I12","v":0.08},null,null,null,null,null,null,null,null,null,null,null,null,null,{"$f":"'12. Diet ingredient data'!C12","v":0.88},{"$f":"'12. Diet ingredient data'!E12","v":1.21E-2},1.2800000000000001E-2,{"$f":"'12. Diet ingredient data'!K12","v":2.5999999999999999E-3},{"$f":"'12. Diet ingredient data'!N12","v":3.3E-3},{"$f":"'12. Diet ingredient data'!H12","v":0.89894606323620585},null,null,"Maize 8",null,null,null,null,null,"Weaner",10,null,25]
[null,"Sorghum 11",{"$f":"'12. Diet ingredient data'!I13","v":0.11},0.1,null,{"$f":"IF(F$778=$Z$779, $Z786, IF(F$778=$AA$779, $AA786, IF(F$778=$AB$779, $AB786,  0)))","v":0},0,0.7893,0.79700000000000004,0,0,0.34,0.14499999999999999,0.79700000000000004,0.14499999999999999,null,{"$f":"'12. Diet ingredient data'!C13","v":0.88},{"$f":"'12. Diet ingredient data'!E13","v":0.02},1.6E-2,{"$f":"'12. Diet ingredient data'!K13","v":2.8000000000000004E-3},{"$f":"'12. Diet ingredient data'!N13","v":3.4999999999999996E-3},{"$f":"'12. Diet ingredient data'!H13","v":0.87223587223587218},null,null,"Sorghum 11",0,0.7893,0.79700000000000004,null,null,"Grower",16,null,55]
[null,"Triticale 11",{"$f":"'12. Diet ingredient data'!I14","v":0.11},null,null,null,null,null,null,null,null,null,null,null,null,null,{"$f":"'12. Diet ingredient data'!C14","v":0.88},{"$f":"'12. Diet ingredient data'!E14","v":1.9199999999999998E-2},1.7600000000000001E-2,{"$f":"'12. Diet ingredient data'!K14","v":3.4999999999999996E-3},{"$f":"'12. Diet ingredient data'!N14","v":5.0000000000000001E-3},{"$f":"'12. Diet ingredient data'!H14","v":0.88888888888888884},null,null,"Triticale 11",null,null,null,null,null,"Finisher",24,null,100]
[null,"Wheat 10",{"$f":"'12. Diet ingredient data'!I15","v":0.1},null,null,{"$f":"IF(F$778=$Z$779, $Z788, IF(F$778=$AA$779, $AA788, IF(F$778=$AB$779, $AB788,  0)))","v":0},0,0,0,0,0,null,null,null,null,null,{"$f":"'12. Diet ingredient data'!C15","v":0.88},{"$f":"'12. Diet ingredient data'!E15","v":1.4999999999999999E-2},1.6E-2,{"$f":"'12. Diet ingredient data'!K15","v":3.4000000000000002E-3},{"$f":"'12. Diet ingredient data'!N15","v":4.0999999999999995E-3},{"$f":"'12. Diet ingredient data'!H15","v":0.88216761184625081},null,null,"Wheat 10"]
[null,"Wheat 12",{"$f":"'12. Diet ingredient data'!I16","v":0.12},null,4.675E-2,0.76670000000000005,0,0,0,0,0,null,null,0,null,null,{"$f":"'12. Diet ingredient data'!C16","v":0.88},{"$f":"'12. Diet ingredient data'!E16","v":1.4999999999999999E-2},1.9199999999999998E-2,{"$f":"'12. Diet ingredient data'!K16","v":3.4000000000000002E-3},{"$f":"'12. Diet ingredient data'!N16","v":4.0999999999999995E-3},{"$f":"'12. Diet ingredient data'!H16","v":0.88216761184625081},null,null,"Wheat 12",0.76670000000000005,0,0]
[null,"Wheat Extruded",{"$f":"'12. Diet ingredient data'!I17","v":0.12},null,2.5000000000000001E-2,null,null,null,null,null,null,null,null,null,null,null,{"$f":"'12. Diet ingredient data'!C17","v":0.88},{"$f":"'12. Diet ingredient data'!E17","v":1.4999999999999999E-2},1.9199999999999998E-2,{"$f":"'12. Diet ingredient data'!K17","v":3.4000000000000002E-3},{"$f":"'12. Diet ingredient data'!N17","v":4.0999999999999995E-3},{"$f":"'12. Diet ingredient data'!H17","v":0.88235294117647056},null,null,"Wheat Extruded"]
[null,"Cereal by-products",null,null,null,null,null,null,null,null,null,null,null,null,null,null,null,null,null,null,null,null,null,null,"Cereal by-products"]
[null,"Hominy Meal",{"$f":"'12. Diet ingredient data'!I19","v":0.13400000000000001},null,null,null,null,null,null,null,null,null,null,null,null,null,{"$f":"'12. Diet ingredient data'!C19","v":0.89},{"$f":"'12. Diet ingredient data'!E19","v":4.6500000000000007E-2},{"$f":"(IF(D792=\"\", C792, D792))/6.25","v":2.1440000000000001E-2},{"$f":"'12. Diet ingredient data'!K19","v":7.7000000000000002E-3},{"$f":"'12. Diet ingredient data'!N19","v":0},{"$f":"'12. Diet ingredient data'!H19","v":0.85983510011778563},null,null,"Hominy Meal"]
[null,"Millrun",{"$f":"'12. Diet ingredient data'!I20","v":0.15},null,null,null,null,null,null,null,null,null,null,null,null,null,{"$f":"'12. Diet ingredient data'!C20","v":0.87},{"$f":"'12. Diet ingredient data'!E20","v":0.05},2.4E-2,{"$f":"'12. Diet ingredient data'!K20","v":9.4999999999999998E-3},{"$f":"'12. Diet ingredient data'!N20","v":8.0000000000000002E-3},{"$f":"'12. Diet ingredient data'!H20","v":0.69696969696969702},null,null,"Millrun"]
[null,"Rice Hulls",{"$f":"'12. Diet ingredient data'!I21","v":0.02},null,null,null,null,null,null,null,null,null,null,null,null,null,{"$f":"'12. Diet ingredient data'!C21","v":0.89},{"$f":"'12. Diet ingredient data'!E21","v":0.05},3.2000000000000002E-3,{"$f":"'12. Diet ingredient data'!K21","v":7.000000000000001E-4},{"$f":"'12. Diet ingredient data'!N21","v":8.0000000000000002E-3},{"$f":"'12. Diet ingredient data'!H21","v":0.15625},null,null,"Rice Hulls"]
[null,"Rice bran",{"$f":"'12. Diet ingredient data'!I22","v":0.155},null,null,null,null,null,null,null,null,null,null,null,null,null,{"$f":"'12. Diet ingredient data'!C22","v":0.9},{"$f":"'12. Diet ingredient data'!E22","v":0.13},2.4799999999999999E-2,{"$f":"'12. Diet ingredient data'!K22","v":1.7000000000000001E-2},{"$f":"'12. Diet ingredient data'!N22","v":1.15E-2},{"$f":"'12. Diet ingredient data'!H22","v":0.48125000000000001},null,null,"Rice bran"]
[null,"Soya hulls",{"$f":"'12. Diet ingredient data'!I23","v":0.12},null,null,null,null,null,null,null,null,null,null,null,null,null,{"$f":"'12. Diet ingredient data'!C23","v":0.89},{"$f":"'12. Diet ingredient data'!E23","v":4.4999999999999998E-2},1.9199999999999998E-2,{"$f":"'12. Diet ingredient data'!K23","v":1.1000000000000001E-3},{"$f":"'12. Diet ingredient data'!N23","v":1.2E-2},{"$f":"'12. Diet ingredient data'!H23","v":0.51509550215650024},null,null,"Soya hulls"]
[null,"Wheat Bran",{"$f":"'12. Diet ingredient data'!I24","v":0.15},null,null,null,null,null,null,null,null,null,null,null,null,null,{"$f":"'12. Diet ingredient data'!C24","v":0.87},{"$f":"'12. Diet ingredient data'!E24","v":5.0499999999999996E-2},2.4E-2,{"$f":"'12. Diet ingredient data'!K24","v":9.8999999999999991E-3},{"$f":"'12. Diet ingredient data'!N24","v":4.0000000000000001E-3},{"$f":"'12. Diet ingredient data'!H24","v":0.57177615571776153},null,null,"Wheat Bran"]
[null,"Wheat Pollard",{"$f":"'12. Diet ingredient data'!I25","v":0.15},null,null,null,null,null,null,null,null,null,null,null,null,null,{"$f":"'12. Diet ingredient data'!C25","v":0.87},{"$f":"'12. Diet ingredient data'!E25","v":4.7E-2},2.4E-2,{"$f":"'12. Diet ingredient data'!K25","v":9.4999999999999998E-3},{"$f":"'12. Diet ingredient data'!N25","v":1.2E-2},{"$f":"'12. Diet ingredient data'!H25","v":0.67755595886267383},null,null,"Wheat Pollard"]
[null,"Roots & Tubers",null,null,null,null,null,null,null,null,null,null,null,null,null,null,null,null,null,null,null,null,null,null,"Roots & Tubers"]
[null,"Cassava",{"$f":"'12. Diet ingredient data'!I27","v":0.03},null,null,null,null,null,null,null,null,null,null,null,null,null,{"$f":"'12. Diet ingredient data'!C27","v":0.87},{"$f":"'12. Diet ingredient data'!E27","v":5.5E-2},{"$f":"(IF(D800=\"\", C800, D800))/6.25","v":4.7999999999999996E-3},{"$f":"'12. Diet ingredient data'!K27","v":8.9999999999999998E-4},{"$f":"'12. Diet ingredient data'!N27","v":8.5000000000000006E-3},{"$f":"'12. Diet ingredient data'!H27","v":0.88275862068965527},null,null,"Cassava"]
[null,"By-products",null,null,null,null,null,null,null,null,null,null,null,null,null,null,null,null,null,null,null,null,null,null,"By-products"]
[null,"Biscuit Meal",{"$f":"'12. Diet ingredient data'!I29","v":0.1},null,null,null,null,null,null,null,null,null,null,null,null,null,{"$f":"'12. Diet ingredient data'!C29","v":0.89},{"$f":"'12. Diet ingredient data'!E29","v":0.03},{"$f":"(IF(D802=\"\", C802, D802))/6.25","v":1.6E-2},{"$f":"'12. Diet ingredient data'!K29","v":3.4999999999999996E-3},{"$f":"'12. Diet ingredient data'!N29","v":3.9000000000000003E-3},{"$f":"'12. Diet ingredient data'!H29","v":0.88823529411764701},null,null,"Biscuit Meal"]
[null,"Brewers Grains",{"$f":"'12. Diet ingredient data'!I30","v":0.22},null,null,null,null,null,null,null,null,null,null,null,null,null,{"$f":"'12. Diet ingredient data'!C30","v":0.88},{"$f":"'12. Diet ingredient data'!E30","v":4.4999999999999998E-2},3.5200000000000002E-2,{"$f":"'12. Diet ingredient data'!K30","v":5.0000000000000001E-3},{"$f":"'12. Diet ingredient data'!N30","v":3.0000000000000001E-3},{"$f":"'12. Diet ingredient data'!H30","v":0.65934065934065933},null,null,"Brewers Grains"]
[null,"Distller's Dried Grains & Solubles (DDGS)",{"$f":"'12. Diet ingredient data'!I31","v":0.26},null,null,null,null,null,null,null,null,null,null,null,null,null,{"$f":"'12. Diet ingredient data'!C31","v":0.9},{"$f":"'12. Diet ingredient data'!E31","v":0.05},4.1599999999999998E-2,{"$f":"'12. Diet ingredient data'!K31","v":8.5000000000000006E-3},{"$f":"'12. Diet ingredient data'!N31","v":1.23E-2},{"$f":"'12. Diet ingredient data'!H31","v":0.75980392156862753},null,null,"Distller's Dried Grains & Solubles (DDGS)"]
[null,"Molasses",{"$f":"'12. Diet ingredient data'!I32","v":0.04},null,null,null,null,null,null,null,null,null,null,null,null,null,{"$f":"'12. Diet ingredient data'!C32","v":0.745},{"$f":"'12. Diet ingredient data'!E32","v":0.1032},6.4000000000000003E-3,{"$f":"'12. Diet ingredient data'!K32","v":5.9999999999999995E-4},{"$f":"'12. Diet ingredient data'!N32","v":3.5000000000000003E-2},{"$f":"'12. Diet ingredient data'!H32","v":0.93466424682395655},null,null,"Molasses"]
[null,"Peanut shell",{"$f":"'12. Diet ingredient data'!I33","v":0.03},null,null,null,null,null,null,null,null,null,null,null,null,null,{"$f":"'12. Diet ingredient data'!C33","v":0.92},{"$f":"'12. Diet ingredient data'!E33","v":0.08},4.7999999999999996E-3,{"$f":"'12. Diet ingredient data'!K33","v":8.9999999999999998E-4},{"$f":"'12. Diet ingredient data'!N33","v":0.01},{"$f":"'12. Diet ingredient data'!H33","v":6.8750000000000006E-2},null,null,"Peanut shell"]
[null,"Sugar",{"$f":"'12. Diet ingredient data'!I34","v":0},null,null,null,null,null,null,null,null,null,null,null,null,null,{"$f":"'12. Diet ingredient data'!C34","v":0.99},{"$f":"'12. Diet ingredient data'!E34","v":5.0000000000000001E-3},0,{"$f":"'12. Diet ingredient data'!K34","v":4.0000000000000002E-4},{"$f":"'12. Diet ingredient data'!N34","v":0},{"$f":"'12. Diet ingredient data'!H34","v":0.755},null,null,"Sugar"]
[null,"Legumes",null,null,null,null,null,null,null,null,null,null,null,null,null,null,null,null,null,null,null,null,null,null,"Pulses"]
[null,"Faba beans",{"$f":"'12. Diet ingredient data'!I36","v":0.23},null,null,null,null,null,null,null,null,null,null,null,null,null,{"$f":"'12. Diet ingredient data'!C36","v":0.9},{"$f":"'12. Diet ingredient data'!E36","v":3.5299999999999998E-2},{"$f":"(IF(D809=\"\", C809, D809))/6.25","v":3.6799999999999999E-2},{"$f":"'12. Diet ingredient data'!K36","v":4.6999999999999993E-3},{"$f":"'12. Diet ingredient data'!N36","v":9.5999999999999992E-3},{"$f":"'12. Diet ingredient data'!H36","v":0.86309523809523803},null,null,"Faba beans"]
[null,"Lupins, albus",{"$f":"'12. Diet ingredient data'!I37","v":0.34},null,null,null,null,null,null,null,null,null,null,null,null,null,{"$f":"'12. Diet ingredient data'!C37","v":0.88},{"$f":"'12. Diet ingredient data'!E37","v":3.3000000000000002E-2},5.4400000000000004E-2,{"$f":"'12. Diet ingredient data'!K37","v":3.5999999999999999E-3},{"$f":"'12. Diet ingredient data'!N37","v":1.1000000000000001E-2},{"$f":"'12. Diet ingredient data'!H37","v":0.85561497326203206},null,null,"Lupins, albus"]
[null,"Lupins, augustifolius",{"$f":"'12. Diet ingredient data'!I38","v":0.30499999999999999},null,null,null,null,null,null,null,null,null,null,null,null,null,{"$f":"'12. Diet ingredient data'!C38","v":0.88},{"$f":"'12. Diet ingredient data'!E38","v":2.7999999999999997E-2},4.8799999999999996E-2,{"$f":"'12. Diet ingredient data'!K38","v":3.0000000000000001E-3},{"$f":"'12. Diet ingredient data'!N38","v":8.5000000000000006E-3},{"$f":"'12. Diet ingredient data'!H38","v":0.80662983425414359},null,null,"Lupins, augustifolius"]
[null,"Chick Peas",{"$f":"'12. Diet ingredient data'!I39","v":0.2},null,null,null,null,null,null,null,null,null,null,null,null,null,{"$f":"'12. Diet ingredient data'!C39","v":0.9},{"$f":"'12. Diet ingredient data'!E39","v":0.03},3.2000000000000001E-2,{"$f":"'12. Diet ingredient data'!K39","v":3.7000000000000002E-3},{"$f":"'12. Diet ingredient data'!N39","v":8.0000000000000002E-3},{"$f":"'12. Diet ingredient data'!H39","v":0.86138049058756405},null,null,"Chick Peas"]
[null,"Field Peas",{"$f":"'12. Diet ingredient data'!I40","v":0.20499999999999999},null,null,null,null,null,null,null,null,null,null,null,null,null,{"$f":"'12. Diet ingredient data'!C40","v":0.86},{"$f":"'12. Diet ingredient data'!E40","v":0.03},3.2799999999999996E-2,{"$f":"'12. Diet ingredient data'!K40","v":4.0000000000000001E-3},{"$f":"'12. Diet ingredient data'!N40","v":9.4999999999999998E-3},{"$f":"'12. Diet ingredient data'!H40","v":0.86309523809523803},null,null,"Field Peas"]
[null,"Mung Beans",{"$f":"'12. Diet ingredient data'!I41","v":0.24},null,null,null,null,null,null,null,null,null,null,null,null,null,{"$f":"'12. Diet ingredient data'!C41","v":0.9},{"$f":"'12. Diet ingredient data'!E41","v":3.7000000000000005E-2},3.8399999999999997E-2,{"$f":"'12. Diet ingredient data'!K41","v":6.9999999999999993E-3},{"$f":"'12. Diet ingredient data'!N41","v":4.0999999999999995E-3},{"$f":"'12. Diet ingredient data'!H41","v":0.90588235294117647},null,null,"Mung Beans"]
[null,"Navy Beans",{"$f":"'12. Diet ingredient data'!I42","v":0.24},null,null,null,null,null,null,null,null,null,null,null,null,null,{"$f":"'12. Diet ingredient data'!C42","v":0.9},{"$f":"'12. Diet ingredient data'!E42","v":3.7999999999999999E-2},3.8399999999999997E-2,{"$f":"'12. Diet ingredient data'!K42","v":4.3E-3},{"$f":"'12. Diet ingredient data'!N42","v":1.3500000000000002E-2},{"$f":"'12. Diet ingredient data'!H42","v":0.87804878048780499},null,null,"Navy Beans"]
[null,"Oilseed Meals",null,null,null,null,null,null,null,null,null,null,null,null,null,null,null,null,null,null,null,null,null,null,"Oilseed Meals"]
[null,"Canola Meal 37 Solvent",{"$f":"'12. Diet ingredient data'!I44","v":0.37},null,null,null,null,null,null,null,null,null,null,null,null,null,{"$f":"'12. Diet ingredient data'!C44","v":0.91},{"$f":"'12. Diet ingredient data'!E44","v":6.5000000000000002E-2},{"$f":"(IF(D817=\"\", C817, D817))/6.25","v":5.9200000000000003E-2},{"$f":"'12. Diet ingredient data'!K44","v":1.1000000000000001E-2},{"$f":"'12. Diet ingredient data'!N44","v":1.2500000000000001E-2},{"$f":"'12. Diet ingredient data'!H44","v":0.73529411764705888},null,null,"Canola Meal 37 Solvent"]
[null,"Canola meal 32 Expeller",{"$f":"'12. Diet ingredient data'!I45","v":0.32},null,null,null,null,null,null,null,null,null,null,null,null,null,{"$f":"'12. Diet ingredient data'!C45","v":0.9},{"$f":"'12. Diet ingredient data'!E45","v":6.4000000000000001E-2},5.1200000000000002E-2,{"$f":"'12. Diet ingredient data'!K45","v":9.4999999999999998E-3},{"$f":"'12. Diet ingredient data'!N45","v":1.0500000000000001E-2},{"$f":"'12. Diet ingredient data'!H45","v":0.72181243414120122},null,null,"Canola meal 32 Expeller"]
[null,"Canola meal Cold Pressed 34",{"$f":"'12. Diet ingredient data'!I46","v":0.34},null,null,null,null,null,null,null,null,null,null,null,null,null,{"$f":"'12. Diet ingredient data'!C46","v":0.9},{"$f":"'12. Diet ingredient data'!E46","v":6.2E-2},5.4400000000000004E-2,{"$f":"'12. Diet ingredient data'!K46","v":9.5999999999999992E-3},{"$f":"'12. Diet ingredient data'!N46","v":1.23E-2},{"$f":"'12. Diet ingredient data'!H46","v":0.73684210526315785},null,null,"Canola meal Cold Pressed 34"]
[null,"Copra meal",{"$f":"'12. Diet ingredient data'!I47","v":0.21},null,null,null,null,null,null,null,null,null,null,null,null,null,{"$f":"'12. Diet ingredient data'!C47","v":0.9},{"$f":"'12. Diet ingredient data'!E47","v":6.2E-2},3.3599999999999998E-2,{"$f":"'12. Diet ingredient data'!K47","v":5.7999999999999996E-3},{"$f":"'12. Diet ingredient data'!N47","v":1.2999999999999999E-2},{"$f":"'12. Diet ingredient data'!H47","v":0.72017592083562387},null,null,"Copra meal"]
[null,"Cotton seed meal 43",{"$f":"'12. Diet ingredient data'!I48","v":0.43},null,null,null,null,null,null,null,null,null,null,null,null,null,{"$f":"'12. Diet ingredient data'!C48","v":0.9},{"$f":"'12. Diet ingredient data'!E48","v":6.5000000000000002E-2},6.88E-2,{"$f":"'12. Diet ingredient data'!K48","v":1.1399999999999999E-2},{"$f":"'12. Diet ingredient data'!N48","v":1.2500000000000001E-2},{"$f":"'12. Diet ingredient data'!H48","v":0.69444444444444453},null,null,"Cotton seed meal 43"]
[null,"Palm Kernel meal",{"$f":"'12. Diet ingredient data'!I49","v":0.14800000000000002},null,null,null,null,null,null,null,null,null,null,null,null,null,{"$f":"'12. Diet ingredient data'!C49","v":0.9},{"$f":"'12. Diet ingredient data'!E49","v":4.2000000000000003E-2},2.3680000000000003E-2,{"$f":"'12. Diet ingredient data'!K49","v":5.6000000000000008E-3},{"$f":"'12. Diet ingredient data'!N49","v":6.5000000000000006E-3},{"$f":"'12. Diet ingredient data'!H49","v":0.68643602416254801},null,null,"Palm Kernel meal"]
[null,"Peanut Meal 48",{"$f":"'12. Diet ingredient data'!I50","v":0.48},null,null,null,null,null,null,null,null,null,null,null,null,null,{"$f":"'12. Diet ingredient data'!C50","v":0.9},{"$f":"'12. Diet ingredient data'!E50","v":0.05},7.6799999999999993E-2,{"$f":"'12. Diet ingredient data'!K50","v":6.0000000000000001E-3},{"$f":"'12. Diet ingredient data'!N50","v":1.1299999999999999E-2},{"$f":"'12. Diet ingredient data'!H50","v":0.80219780219780223},null,null,"Peanut Meal 48"]
[null,"Soybean Meal 46 Solvent",{"$f":"'12. Diet ingredient data'!I51","v":0.46},null,null,{"$f":"IF(F$778=$Z$779, $Z824, IF(F$778=$AA$779, $AA824, IF(F$778=$AB$779, $AB824,  0)))","v":6.5000000000000002E-2},0,0.12,0.12,0,0,0.1,4.4999999999999998E-2,0.12,4.4999999999999998E-2,null,{"$f":"'12. Diet ingredient data'!C51","v":0.88},{"$f":"'12. Diet ingredient data'!E51","v":6.480000000000001E-2},7.3599999999999999E-2,{"$f":"'12. Diet ingredient data'!K51","v":6.1999999999999998E-3},{"$f":"'12. Diet ingredient data'!N51","v":1.9E-2},{"$f":"'12. Diet ingredient data'!H51","v":0.87236533957845441},null,null,"Soybean Meal 46 Solvent",6.5000000000000002E-2,0.12,0.12]
[null,"Soybean Meal 48 Solvent",{"$f":"'12. Diet ingredient data'!I52","v":0.48},null,null,null,null,null,null,null,null,null,null,null,null,null,{"$f":"'12. Diet ingredient data'!C52","v":0.88500000000000001},{"$f":"'12. Diet ingredient data'!E52","v":6.5000000000000002E-2},7.6799999999999993E-2,{"$f":"'12. Diet ingredient data'!K52","v":6.5000000000000006E-3},{"$f":"'12. Diet ingredient data'!N52","v":2.1000000000000001E-2},{"$f":"'12. Diet ingredient data'!H52","v":0.85582998276852384},null,null,"Soybean Meal 48 Solvent"]
[null,"Soybean, Full fat",{"$f":"'12. Diet ingredient data'!I53","v":0.35499999999999998},0.38,4.0000000000000001E-3,{"$f":"IF(F$778=$Z$779, $Z826, IF(F$778=$AA$779, $AA826, IF(F$778=$AB$779, $AB826,  0)))","v":0.05},0,0,0,0,0,null,null,null,null,null,{"$f":"'12. Diet ingredient data'!C53","v":0.875},{"$f":"'12. Diet ingredient data'!E53","v":5.2999999999999999E-2},6.08E-2,{"$f":"'12. Diet ingredient data'!K53","v":5.5000000000000005E-3},{"$f":"'12. Diet ingredient data'!N53","v":1.7000000000000001E-2},{"$f":"'12. Diet ingredient data'!H53","v":0.85365853658536583},null,null,"Soybean, Full fat",0.05]
[null,"Selecta Soy/X-Soy 600",{"$f":"'12. Diet ingredient data'!I54","v":0.6},null,null,null,null,null,null,null,null,null,null,null,null,null,{"$f":"'12. Diet ingredient data'!C54","v":0.92},{"$f":"'12. Diet ingredient data'!E54","v":6.8000000000000005E-2},9.6000000000000002E-2,{"$f":"'12. Diet ingredient data'!K54","v":8.0000000000000002E-3},{"$f":"'12. Diet ingredient data'!N54","v":2.3E-2},{"$f":"'12. Diet ingredient data'!H54","v":0.91246684350132612},null,null,"Selecta Soy/X-Soy 600"]
[null,"Soycomil 65",{"$f":"'12. Diet ingredient data'!I55","v":0.65},null,null,null,null,null,null,null,null,null,null,null,null,null,{"$f":"'12. Diet ingredient data'!C55","v":0.91},{"$f":"'12. Diet ingredient data'!E55","v":0.06},0.10400000000000001,{"$f":"'12. Diet ingredient data'!K55","v":8.0000000000000002E-3},{"$f":"'12. Diet ingredient data'!N55","v":2.2000000000000002E-2},{"$f":"'12. Diet ingredient data'!H55","v":0.93023255813953487},null,null,"Soycomil 65"]
[null,"Sunflower 30",{"$f":"'12. Diet ingredient data'!I56","v":0.3},null,null,null,null,null,null,null,null,null,null,null,null,null,{"$f":"'12. Diet ingredient data'!C56","v":0.89},{"$f":"'12. Diet ingredient data'!E56","v":6.3E-2},4.8000000000000001E-2,{"$f":"'12. Diet ingredient data'!K56","v":0.01},{"$f":"'12. Diet ingredient data'!N56","v":1.46E-2},{"$f":"'12. Diet ingredient data'!H56","v":0.48199767711962843},null,null,"Sunflower 30"]
[null,"Sunflower 36",{"$f":"'12. Diet ingredient data'!I57","v":0.36},null,null,null,null,null,null,null,null,null,null,null,null,null,{"$f":"'12. Diet ingredient data'!C57","v":0.89},{"$f":"'12. Diet ingredient data'!E57","v":7.0000000000000007E-2},5.7599999999999998E-2,{"$f":"'12. Diet ingredient data'!K57","v":1.2E-2},{"$f":"'12. Diet ingredient data'!N57","v":1.52E-2},{"$f":"'12. Diet ingredient data'!H57","v":0.76030179918746366},null,null,"Sunflower 36"]
[null,"Yeast Products",null,null,null,null,null,null,null,null,null,null,null,null,null,null,null,null,null,null,null,null,null,null,"Yeast Products"]
[null,"Brewers Yeast",{"$f":"'12. Diet ingredient data'!I59","v":0.5},null,null,null,null,null,null,null,null,null,null,null,null,null,{"$f":"'12. Diet ingredient data'!C59","v":0.9},{"$f":"'12. Diet ingredient data'!E59","v":7.0999999999999994E-2},{"$f":"(IF(D832=\"\", C832, D832))/6.25","v":0.08},{"$f":"'12. Diet ingredient data'!K59","v":1.1599999999999999E-2},{"$f":"'12. Diet ingredient data'!N59","v":1.7000000000000001E-2},{"$f":"'12. Diet ingredient data'!H59","v":0.85836909871244638},null,null,"Brewers Yeast"]
[null,"Hilyses",{"$f":"'12. Diet ingredient data'!I60","v":0.40500000000000003},null,null,null,null,null,null,null,null,null,null,null,null,null,{"$f":"'12. Diet ingredient data'!C60","v":0.94},{"$f":"'12. Diet ingredient data'!E60","v":5.5E-2},{"$f":"(IF(D833=\"\", C833, D833))/6.25","v":6.480000000000001E-2},{"$f":"'12. Diet ingredient data'!K60","v":6.8599999999999998E-3},{"$f":"'12. Diet ingredient data'!N60","v":8.1499999999999993E-3},{"$f":"'12. Diet ingredient data'!H60","v":0.7627551020408162},null,null,"Hilyses"]
[null,"Nupro",{"$f":"'12. Diet ingredient data'!I61","v":0.47},null,null,null,null,null,null,null,null,null,null,null,null,null,{"$f":"'12. Diet ingredient data'!C61","v":0.94},{"$f":"'12. Diet ingredient data'!E61","v":8.3000000000000004E-2},{"$f":"(IF(D834=\"\", C834, D834))/6.25","v":7.5199999999999989E-2},{"$f":"'12. Diet ingredient data'!K61","v":1.4999999999999999E-2},{"$f":"'12. Diet ingredient data'!N61","v":1.9E-2},{"$f":"'12. Diet ingredient data'!H61","v":0.76344086021505364},null,null,"Nupro"]
[null,"Animal & Fish products",null,null,null,null,null,null,null,null,null,null,null,null,null,null,null,null,null,null,null,null,null,null,"Animal & Fish products"]
[null,"Blood meal 85",{"$f":"'12. Diet ingredient data'!I63","v":0.85},0.81499999999999995,null,{"$f":"IF(F$778=$Z$779, $Z836, IF(F$778=$AA$779, $AA836, IF(F$778=$AB$779, $AB836,  0)))","v":0},0,2.5000000000000001E-2,0.02,0,0,5.0000000000000001E-3,0,0.02,0,null,{"$f":"'12. Diet ingredient data'!C63","v":0.9},{"$f":"'12. Diet ingredient data'!E63","v":3.1E-2},{"$f":"(IF(D836=\"\", C836, D836))/6.25","v":0.13039999999999999},{"$f":"'12. Diet ingredient data'!K63","v":2.0999999999999999E-3},{"$f":"'12. Diet ingredient data'!N63","v":2.5999999999999999E-3},{"$f":"'12. Diet ingredient data'!H63","v":0.92901381610290623},null,null,"Blood meal, spray/ring",0,2.5000000000000001E-2,0.02]
[null,"Blood meal 90",{"$f":"'12. Diet ingredient data'!I64","v":0.9},null,null,null,null,null,null,null,null,null,null,null,null,null,{"$f":"'12. Diet ingredient data'!C64","v":0.91},{"$f":"'12. Diet ingredient data'!E64","v":2.8300000000000002E-2},0.14400000000000002,{"$f":"'12. Diet ingredient data'!K64","v":2.0999999999999999E-3},{"$f":"'12. Diet ingredient data'!N64","v":2.5999999999999999E-3},{"$f":"'12. Diet ingredient data'!H64","v":0.92901381610290623}]
[null,"Blood Plasma",{"$f":"'12. Diet ingredient data'!I65","v":0.78},null,null,null,null,null,null,null,null,null,null,null,null,null,{"$f":"'12. Diet ingredient data'!C65","v":0.92},{"$f":"'12. Diet ingredient data'!E65","v":0.1},0.12480000000000001,{"$f":"'12. Diet ingredient data'!K65","v":1.3000000000000001E-2},{"$f":"'12. Diet ingredient data'!N65","v":3.0000000000000001E-3},{"$f":"'12. Diet ingredient data'!H65","v":0.93789473684210523}]
[null,"Fishmeal 60",{"$f":"'12. Diet ingredient data'!I66","v":0.6},null,null,null,null,null,null,null,null,null,null,null,null,null,{"$f":"'12. Diet ingredient data'!C66","v":0.92},{"$f":"'12. Diet ingredient data'!E66","v":0.20749999999999999},9.6000000000000002E-2,{"$f":"'12. Diet ingredient data'!K66","v":2.8500000000000001E-2},{"$f":"'12. Diet ingredient data'!N66","v":9.3999999999999986E-3},{"$f":"'12. Diet ingredient data'!H66","v":0.80786026200873362},null,null,"Blood Plasma"]
[null,"Fishmeal 65",{"$f":"'12. Diet ingredient data'!I67","v":0.65},null,null,null,null,null,null,null,null,2.5000000000000001E-2,null,null,null,null,{"$f":"'12. Diet ingredient data'!C67","v":0.92},{"$f":"'12. Diet ingredient data'!E67","v":0.16140000000000002},0.10400000000000001,{"$f":"'12. Diet ingredient data'!K67","v":2.6000000000000002E-2},{"$f":"'12. Diet ingredient data'!N67","v":1.3000000000000001E-2},{"$f":"'12. Diet ingredient data'!H67","v":0.82718651211801886},null,null,"Fishmeal 62"]
[null,"Fishmeal 70",{"$f":"'12. Diet ingredient data'!I68","v":0.7},null,1.2E-2,{"$f":"IF(F$778=$Z$779, $Z841, IF(F$778=$AA$779, $AA841, IF(F$778=$AB$779, $AB841,  0)))","v":0.05},0,0,0,0,0,null,null,null,null,null,{"$f":"'12. Diet ingredient data'!C68","v":0.91},{"$f":"'12. Diet ingredient data'!E68","v":0.125},0.11199999999999999,{"$f":"'12. Diet ingredient data'!K68","v":0.02},{"$f":"'12. Diet ingredient data'!N68","v":1.2999999999999999E-2},{"$f":"'12. Diet ingredient data'!H68","v":0.88383838383838376},null,null,"Fishmeal 65",0.05]
[null,"Meat & bone meal 45 ",{"$f":"'12. Diet ingredient data'!I69","v":0.45},null,null,null,null,null,null,null,null,null,null,null,null,null,{"$f":"'12. Diet ingredient data'!C69","v":0.95},{"$f":"'12. Diet ingredient data'!E69","v":0.35},7.2000000000000008E-2,{"$f":"'12. Diet ingredient data'!K69","v":0.06},{"$f":"'12. Diet ingredient data'!N69","v":5.0000000000000001E-3},{"$f":"'12. Diet ingredient data'!H69","v":0.75333333333333341},null,null,"Feather meal"]
[null,"Meat & bone meal 50",{"$f":"'12. Diet ingredient data'!I70","v":0.5},0.51,4.0000000000000001E-3,{"$f":"IF(F$778=$Z$779, $Z843, IF(F$778=$AA$779, $AA843, IF(F$778=$AB$779, $AB843,  0)))","v":0.05},0,0.05,0.05,0,0,0.04,5.5E-2,0.05,5.5E-2,null,{"$f":"'12. Diet ingredient data'!C70","v":0.95},{"$f":"'12. Diet ingredient data'!E70","v":0.3},8.1600000000000006E-2,{"$f":"'12. Diet ingredient data'!K70","v":4.9000000000000002E-2},{"$f":"'12. Diet ingredient data'!N70","v":5.0000000000000001E-3},{"$f":"'12. Diet ingredient data'!H70","v":0.75},null,null,"Meat & bone meal",0.05,0.05,0.05]
[null,"Meat & bone meal 60",{"$f":"'12. Diet ingredient data'!I71","v":0.6},null,null,null,null,null,null,null,null,null,null,null,null,null,{"$f":"'12. Diet ingredient data'!C71","v":0.95},{"$f":"'12. Diet ingredient data'!E71","v":0.22},9.6000000000000002E-2,{"$f":"'12. Diet ingredient data'!K71","v":3.5999999999999997E-2},{"$f":"'12. Diet ingredient data'!N71","v":5.4999999999999997E-3},{"$f":"'12. Diet ingredient data'!H71","v":0.74971941638608297},null,null,"Milk, full cream powder"]
[null,"Milk, chocolate milk powder",{"$f":"'12. Diet ingredient data'!I72","v":0.17},null,null,null,null,null,null,null,null,null,null,null,null,null,{"$f":"'12. Diet ingredient data'!C72","v":0.97},{"$f":"'12. Diet ingredient data'!E72","v":0.06},2.7200000000000002E-2,{"$f":"'12. Diet ingredient data'!K72","v":0.01},{"$f":"'12. Diet ingredient data'!N72","v":0},{"$f":"'12. Diet ingredient data'!H72","v":0.94524495677233411},null,null,"Milk, chocolate milk powder"]
[null,"Milk, skim milk powder",{"$f":"'12. Diet ingredient data'!I73","v":0.35499999999999998},null,7.4999999999999997E-3,null,null,null,null,null,null,null,null,null,null,null,{"$f":"'12. Diet ingredient data'!C73","v":0.95},{"$f":"'12. Diet ingredient data'!E73","v":0.08},5.6799999999999996E-2,{"$f":"'12. Diet ingredient data'!K73","v":0.01},{"$f":"'12. Diet ingredient data'!N73","v":1.6E-2},{"$f":"'12. Diet ingredient data'!H73","v":0.94524495677233411},null,null,"Milk, skim milk powder"]
[null,"Milk, full cream  powder",{"$f":"'12. Diet ingredient data'!I74","v":0.25},null,null,null,null,null,null,null,null,null,null,null,null,null,{"$f":"'12. Diet ingredient data'!C74","v":0.95},{"$f":"'12. Diet ingredient data'!E74","v":0.06},0.04,{"$f":"'12. Diet ingredient data'!K74","v":8.0000000000000002E-3},{"$f":"'12. Diet ingredient data'!N74","v":1.3000000000000001E-2},{"$f":"'12. Diet ingredient data'!H74","v":0.9620476610767873},null,null,"Milk, whole milk powder"]
[null,"Milk, whey powder",{"$f":"'12. Diet ingredient data'!I75","v":0.125},null,null,null,null,null,null,null,null,null,null,null,null,null,{"$f":"'12. Diet ingredient data'!C75","v":0.95},{"$f":"'12. Diet ingredient data'!E75","v":8.6999999999999994E-2},0.02,{"$f":"'12. Diet ingredient data'!K75","v":9.0000000000000011E-3},{"$f":"'12. Diet ingredient data'!N75","v":0.05},{"$f":"'12. Diet ingredient data'!H75","v":0.875},null,null,"Milk, whey powder"]
[null,"Hay & Straw",null,null,null,null,null,null,null,null,null,null,null,null,null,null,null,null,null,null,null,null,null,null,"Hay & Straw"]
[null,"Barley straw",{"$f":"'12. Diet ingredient data'!I77","v":3.7999999999999999E-2},null,null,null,null,null,null,null,null,null,null,null,null,null,{"$f":"'12. Diet ingredient data'!C77","v":0.89},{"$f":"'12. Diet ingredient data'!E77","v":5.28E-2},{"$f":"(IF(D850=\"\", C850, D850))/6.25","v":6.0799999999999995E-3},{"$f":"'12. Diet ingredient data'!K77","v":2E-3},{"$f":"'12. Diet ingredient data'!N77","v":1.1699999999999999E-2},{"$f":"'12. Diet ingredient data'!H77","v":6.25E-2},null,null,"Barley straw"]
[null,"Cereal straw pellets",{"$f":"'12. Diet ingredient data'!I78","v":3.5000000000000003E-2},null,null,null,null,null,null,null,null,null,null,null,null,null,{"$f":"'12. Diet ingredient data'!C78","v":0.88},{"$f":"'12. Diet ingredient data'!E78","v":0.06},{"$f":"(IF(D851=\"\", C851, D851))/6.25","v":5.6000000000000008E-3},{"$f":"'12. Diet ingredient data'!K78","v":8.0000000000000004E-4},{"$f":"'12. Diet ingredient data'!N78","v":8.0000000000000002E-3},{"$f":"'12. Diet ingredient data'!H78","v":0.12492192379762647},null,null,"Cereal straw pellets"]
[null,"Lucerne meal/crumbles",{"$f":"'12. Diet ingredient data'!I79","v":0.16500000000000001},null,null,null,null,null,null,null,null,null,null,null,null,null,{"$f":"'12. Diet ingredient data'!C79","v":0.9},{"$f":"'12. Diet ingredient data'!E79","v":0.1},{"$f":"(IF(D852=\"\", C852, D852))/6.25","v":2.64E-2},{"$f":"'12. Diet ingredient data'!K79","v":2.3E-3},{"$f":"'12. Diet ingredient data'!N79","v":1.9E-2},{"$f":"'12. Diet ingredient data'!H79","v":0.44867854947756608},null,null,"Lucerne meal/crumbles"]
[null,"Oat straw",{"$f":"'12. Diet ingredient data'!I80","v":5.2000000000000005E-2},null,null,null,null,null,null,null,null,null,null,null,null,null,{"$f":"'12. Diet ingredient data'!C80","v":0.87},{"$f":"'12. Diet ingredient data'!E80","v":8.8000000000000009E-2},{"$f":"(IF(D853=\"\", C853, D853))/6.25","v":8.320000000000001E-3},{"$f":"'12. Diet ingredient data'!K80","v":2.2000000000000001E-3},{"$f":"'12. Diet ingredient data'!N80","v":2.2700000000000001E-2},{"$f":"'12. Diet ingredient data'!H80","v":6.25E-2},null,null,"Oat straw"]
[null,"Wheat straw",{"$f":"'12. Diet ingredient data'!I81","v":3.7999999999999999E-2},null,null,null,null,null,null,null,null,null,null,null,null,null,{"$f":"'12. Diet ingredient data'!C81","v":0.9},{"$f":"'12. Diet ingredient data'!E81","v":5.8499999999999996E-2},{"$f":"(IF(D854=\"\", C854, D854))/6.25","v":6.0799999999999995E-3},{"$f":"'12. Diet ingredient data'!K81","v":7.000000000000001E-4},{"$f":"'12. Diet ingredient data'!N81","v":1.3300000000000001E-2},{"$f":"'12. Diet ingredient data'!H81","v":0.14792899408284024},null,null,"Wheat straw"]
[null,"Fats",null,null,null,null,null,null,null,null,null,null,null,null,null,null,null,null,null,null,null,null,null,null,"Fats"]
[null,"Tallow",{"$f":"'12. Diet ingredient data'!I83","v":5.0000000000000001E-3},null,null,{"$f":"IF(F$778=$Z$779, $Z856, IF(F$778=$AA$779, $AA856, IF(F$778=$AB$779, $AB856,  0)))","v":1.3899999999999999E-2},0,1.5E-3,0,0,0,3.0700000000000002E-2,0,0,0,null,{"$f":"'12. Diet ingredient data'!C83","v":0.99},{"$f":"'12. Diet ingredient data'!E83","v":0},{"$f":"(IF(D856=\"\", C856, D856))/6.25","v":8.0000000000000004E-4},{"$f":"'12. Diet ingredient data'!K83","v":0},{"$f":"'12. Diet ingredient data'!N83","v":0},{"$f":"'12. Diet ingredient data'!H83","v":0.91626368032578265},null,null,"Tallow",1.3899999999999999E-2,1.5E-3,0]
[null,"Vegetable oil",{"$f":"'12. Diet ingredient data'!I84","v":0},null,2.9999999999999997E-4,null,null,null,null,null,null,null,null,null,null,null,{"$f":"'12. Diet ingredient data'!C84","v":0.995},{"$f":"'12. Diet ingredient data'!E84","v":0},{"$f":"(IF(D857=\"\", C857, D857))/6.25","v":0},{"$f":"'12. Diet ingredient data'!K84","v":0},{"$f":"'12. Diet ingredient data'!N84","v":0},{"$f":"'12. Diet ingredient data'!H84","v":0.94295389424329257},null,null,"Vegetable oil"]
[null,"Minerals",null,null,null,null,null,null,null,null,null,null,null,null,null,null,null,null,null,null,null,null,null,null,"Minerals"]
[null,"Bentonite",{"$f":"'12. Diet ingredient data'!I86","v":0},null,null,null,null,null,null,null,null,null,null,null,null,null,{"$f":"'12. Diet ingredient data'!C86","v":0.99},{"$f":"'12. Diet ingredient data'!E86","v":0.99},{"$f":"(IF(D859=\"\", C859, D859))/6.25","v":0},{"$f":"'12. Diet ingredient data'!K86","v":0},{"$f":"'12. Diet ingredient data'!N86","v":0},{"$f":"'12. Diet ingredient data'!H86","v":0},null,null,"Bentonite"]
[null,"Choline Chloride",{"$f":"'12. Diet ingredient data'!I87","v":0},null,null,null,null,null,null,null,null,null,null,null,null,null,{"$f":"'12. Diet ingredient data'!C87","v":0.95},{"$f":"'12. Diet ingredient data'!E87","v":0.05},0,{"$f":"'12. Diet ingredient data'!K87","v":0},{"$f":"'12. Diet ingredient data'!N87","v":0},{"$f":"'12. Diet ingredient data'!H87","v":0},null,null,"Choline Chloride"]
[null,"Copper Sulphate",{"$f":"'12. Diet ingredient data'!I88","v":0},null,null,null,null,null,null,null,null,null,null,null,null,null,{"$f":"'12. Diet ingredient data'!C88","v":0.98499999999999999},{"$f":"'12. Diet ingredient data'!E88","v":1},0,{"$f":"'12. Diet ingredient data'!K88","v":0},{"$f":"'12. Diet ingredient data'!N88","v":0},{"$f":"'12. Diet ingredient data'!H88","v":0},null,null,"Copper Sulphate"]
[null,"Dicalcium phosphate (DCP)",{"$f":"'12. Diet ingredient data'!I89","v":0},null,null,null,null,null,null,null,null,null,null,null,null,null,{"$f":"'12. Diet ingredient data'!C89","v":1},{"$f":"'12. Diet ingredient data'!E89","v":0.78},0,{"$f":"'12. Diet ingredient data'!K89","v":0.182},{"$f":"'12. Diet ingredient data'!N89","v":0},{"$f":"'12. Diet ingredient data'!H89","v":0},null,null,"Dicalcium phosphate (DCP)"]
[null,"Ferrous Sulphate",{"$f":"'12. Diet ingredient data'!I90","v":0},null,null,null,null,null,null,null,null,null,null,null,null,null,{"$f":"'12. Diet ingredient data'!C90","v":0.98499999999999999},{"$f":"'12. Diet ingredient data'!E90","v":0.99},0,{"$f":"'12. Diet ingredient data'!K90","v":0},{"$f":"'12. Diet ingredient data'!N90","v":0},{"$f":"'12. Diet ingredient data'!H90","v":0},null,null,"Ferrous Sulphate"]
[null,"Kynofos",{"$f":"'12. Diet ingredient data'!I91","v":0},null,null,null,null,null,null,null,null,null,null,null,null,null,{"$f":"'12. Diet ingredient data'!C91","v":0.98},{"$f":"'12. Diet ingredient data'!E91","v":1},0,{"$f":"'12. Diet ingredient data'!K91","v":0.21},{"$f":"'12. Diet ingredient data'!N91","v":0},{"$f":"'12. Diet ingredient data'!H91","v":0},null,null,"Kynofos"]
[null,"Limestone",{"$f":"'12. Diet ingredient data'!I92","v":0},null,null,{"$f":"IF(F$778=$Z$779, $Z865, IF(F$778=$AA$779, $AA865, IF(F$778=$AB$779, $AB865,  0)))","v":0},0,8.5000000000000006E-3,8.5000000000000006E-3,0,0,4.4000000000000003E-3,5.7999999999999996E-3,8.5000000000000006E-3,5.7999999999999996E-3,null,{"$f":"'12. Diet ingredient data'!C92","v":0.99},{"$f":"'12. Diet ingredient data'!E92","v":0.99},0,{"$f":"'12. Diet ingredient data'!K92","v":2.0000000000000001E-4},{"$f":"'12. Diet ingredient data'!N92","v":0},{"$f":"'12. Diet ingredient data'!H92","v":0},null,null,"Limestone",null,8.5000000000000006E-3,8.5000000000000006E-3]
[null,"Monodicalcium phosphate (MDCP)",{"$f":"'12. Diet ingredient data'!I93","v":0},null,null,null,null,null,null,null,null,null,null,null,null,null,{"$f":"'12. Diet ingredient data'!C93","v":0.995},{"$f":"'12. Diet ingredient data'!E93","v":0.82},0,{"$f":"'12. Diet ingredient data'!K93","v":0.218},{"$f":"'12. Diet ingredient data'!N93","v":0},{"$f":"'12. Diet ingredient data'!H93","v":0},null,null,"Monodicalcium phosphate (MDCP)"]
[null,"Potassium Choride",{"$f":"'12. Diet ingredient data'!I94","v":0},null,null,null,null,null,null,null,null,null,null,null,null,null,{"$f":"'12. Diet ingredient data'!C94","v":1},{"$f":"'12. Diet ingredient data'!E94","v":1},0,{"$f":"'12. Diet ingredient data'!K94","v":0},{"$f":"'12. Diet ingredient data'!N94","v":0.52100000000000002},{"$f":"'12. Diet ingredient data'!H94","v":0},null,null,"Potassium Choride"]
[null,"Potassium sulphate",{"$f":"'12. Diet ingredient data'!I95","v":0},null,null,null,null,null,null,null,null,null,null,null,null,null,{"$f":"'12. Diet ingredient data'!C95","v":1},{"$f":"'12. Diet ingredient data'!E95","v":1},0,{"$f":"'12. Diet ingredient data'!K95","v":0},{"$f":"'12. Diet ingredient data'!N95","v":0.17550000000000002},{"$f":"'12. Diet ingredient data'!H95","v":0},null,null,"Potassium sulphate"]
[null,"Sodium Bicarbonate",{"$f":"'12. Diet ingredient data'!I96","v":0},null,null,null,null,null,null,null,null,null,null,null,null,null,{"$f":"'12. Diet ingredient data'!C96","v":1},{"$f":"'12. Diet ingredient data'!E96","v":0.625},0,{"$f":"'12. Diet ingredient data'!K96","v":0},{"$f":"'12. Diet ingredient data'!N96","v":0},{"$f":"'12. Diet ingredient data'!H96","v":0},null,null,"Sodium Bicarbonate"]
[null,"Salt",{"$f":"'12. Diet ingredient data'!I97","v":0},null,null,null,null,null,null,null,null,null,null,null,null,null,{"$f":"'12. Diet ingredient data'!C97","v":1},{"$f":"'12. Diet ingredient data'!E97","v":1},0,{"$f":"'12. Diet ingredient data'!K97","v":0},{"$f":"'12. Diet ingredient data'!N97","v":0},{"$f":"'12. Diet ingredient data'!H97","v":0},null,null,"Salt"]
[null,"HiZox/Zinco Plus",{"$f":"'12. Diet ingredient data'!I98","v":0},null,2.0000000000000001E-4,{"$f":"IF(F$778=$Z$779, $Z871, IF(F$778=$AA$779, $AA871, IF(F$778=$AB$779, $AB871,  0)))","v":2.5000000000000001E-3},0,2.5000000000000001E-3,2.5000000000000001E-3,0,0,2.5000000000000001E-3,2.5000000000000001E-3,2.5000000000000001E-3,2.5000000000000001E-3,null,{"$f":"'12. Diet ingredient data'!C98","v":1},{"$f":"'12. Diet ingredient data'!E98","v":0.98},0,{"$f":"'12. Diet ingredient data'!K98","v":0},{"$f":"'12. Diet ingredient data'!N98","v":0},{"$f":"'12. Diet ingredient data'!H98","v":0},null,null,"HiZox/Zinco Plus",2.5000000000000001E-3,2.5000000000000001E-3,2.5000000000000001E-3]
[null,"Zinc Oxide",{"$f":"'12. Diet ingredient data'!I99","v":0},null,null,null,null,null,null,null,null,null,null,null,null,null,{"$f":"'12. Diet ingredient data'!C99","v":1},{"$f":"'12. Diet ingredient data'!E99","v":0.98},0,{"$f":"'12. Diet ingredient data'!K99","v":0},{"$f":"'12. Diet ingredient data'!N99","v":0},{"$f":"'12. Diet ingredient data'!H99","v":0},null,null,"Zinc Oxide"]
[null,"Synthetic amino acids",null,null,null,null,null,null,null,null,null,null,null,null,null,null,null,null,null,null,null,null,null,null,"Synthetic amino acids"]
[null,"L-Isoleucine",{"$f":"'12. Diet ingredient data'!I101","v":0.625},null,null,null,null,null,null,null,null,null,null,null,null,null,{"$f":"'12. Diet ingredient data'!C101","v":0.98499999999999999},{"$f":"'12. Diet ingredient data'!E101","v":5.0000000000000001E-3},{"$f":"(IF(D874=\"\", C874, D874))/6.25","v":0.1},{"$f":"'12. Diet ingredient data'!K101","v":0},{"$f":"'12. Diet ingredient data'!N101","v":0},{"$f":"'12. Diet ingredient data'!H101","v":1},null,null,"L-Isoleucine"]
[null,"L-Lysine HCL",{"$f":"'12. Diet ingredient data'!I102","v":0.95400000000000007},null,1.7000000000000001E-4,{"$f":"IF(F$778=$Z$779, $Z875, IF(F$778=$AA$779, $AA875, IF(F$778=$AB$779, $AB875,  0)))","v":1.9E-3},0,2.2000000000000001E-3,1.6000000000000001E-3,0,0,0,0,1.6000000000000001E-3,0,null,{"$f":"'12. Diet ingredient data'!C102","v":0.995},{"$f":"'12. Diet ingredient data'!E102","v":5.0000000000000001E-3},{"$f":"(IF(D875=\"\", C875, D875))/6.25","v":0.15264},{"$f":"'12. Diet ingredient data'!K102","v":0},{"$f":"'12. Diet ingredient data'!N102","v":0},{"$f":"'12. Diet ingredient data'!H102","v":0.99950024987506236},null,null,"L-Lysine HCL",1.9E-3,2.2000000000000001E-3,1.6000000000000001E-3]
[null,"DL-Methionie",{"$f":"'12. Diet ingredient data'!I103","v":0.58399999999999996},null,2.0000000000000002E-5,0,0,8.0000000000000004E-4,4.0000000000000002E-4,0,0,0,4.0000000000000002E-4,4.0000000000000002E-4,4.0000000000000002E-4,null,{"$f":"'12. Diet ingredient data'!C103","v":0.995},{"$f":"'12. Diet ingredient data'!E103","v":2E-3},{"$f":"(IF(D876=\"\", C876, D876))/6.25","v":9.3439999999999995E-2},{"$f":"'12. Diet ingredient data'!K103","v":0},{"$f":"'12. Diet ingredient data'!N103","v":0},{"$f":"'12. Diet ingredient data'!H103","v":1},null,null,"DL-Methionie",0,8.0000000000000004E-4,4.0000000000000002E-4]
[null,"L-Threonine",{"$f":"'12. Diet ingredient data'!I104","v":0.73099999999999998},null,6.0000000000000002E-5,0,0,2.0000000000000001E-4,0,0,0,6.9999999999999999E-4,0,0,0,null,{"$f":"'12. Diet ingredient data'!C104","v":0.995},{"$f":"'12. Diet ingredient data'!E104","v":5.0000000000000001E-3},{"$f":"(IF(D877=\"\", C877, D877))/6.25","v":0.11695999999999999},{"$f":"'12. Diet ingredient data'!K104","v":0},{"$f":"'12. Diet ingredient data'!N104","v":0},{"$f":"'12. Diet ingredient data'!H104","v":0.99767981438515085},null,null,"L-Threonine",0,2.0000000000000001E-4,0]
[null,"L-Tryptophan",{"$f":"'12. Diet ingredient data'!I105","v":0.85299999999999998},null,null,null,null,null,null,null,null,null,null,null,null,null,{"$f":"'12. Diet ingredient data'!C105","v":0.995},{"$f":"'12. Diet ingredient data'!E105","v":5.0000000000000001E-3},{"$f":"(IF(D878=\"\", C878, D878))/6.25","v":0.13647999999999999},{"$f":"'12. Diet ingredient data'!K105","v":0},{"$f":"'12. Diet ingredient data'!N105","v":0},{"$f":"'12. Diet ingredient data'!H105","v":1.0007278020378456},null,null,"L-Tryptophan"]
[null,"Micellaneous ingredients",null,null,null,null,null,null,null,null,null,null,null,null,null,null,null,null,null,null,null,null,null,null,"Micellaneous ingredients"]
[null,"Lactose",{"$f":"'12. Diet ingredient data'!I107","v":0},null,null,null,null,null,null,null,null,null,null,null,null,null,{"$f":"'12. Diet ingredient data'!C107","v":0.99},{"$f":"'12. Diet ingredient data'!E107","v":5.0000000000000001E-3},{"$f":"(IF(D880=\"\", C880, D880))/6.25","v":0},{"$f":"'12. Diet ingredient data'!K107","v":4.0000000000000002E-4},{"$f":"'12. Diet ingredient data'!N107","v":0},{"$f":"'12. Diet ingredient data'!H107","v":0.755},null,null,"Lactose"]
[null,"Levucell",{"$f":"'12. Diet ingredient data'!I108","v":0},null,null,null,null,null,null,null,null,null,null,null,null,null,{"$f":"'12. Diet ingredient data'!C108","v":0.95},{"$f":"'12. Diet ingredient data'!E108","v":0.06},{"$f":"(IF(D881=\"\", C881, D881))/6.25","v":0},{"$f":"'12. Diet ingredient data'!K108","v":0},{"$f":"'12. Diet ingredient data'!N108","v":0},{"$f":"'12. Diet ingredient data'!H108","v":0.86999999999999988},null,null,"Levucell"]
[null,"Vitamin/mineral premixes",null,null,null,null,null,null,null,null,null,null,null,null,null,null,{"$f":"'12. Diet ingredient data'!C109","v":0},{"$f":"'12. Diet ingredient data'!E109","v":0},null,{"$f":"'12. Diet ingredient data'!K109","v":0},{"$f":"'12. Diet ingredient data'!N109","v":0},{"$f":"'12. Diet ingredient data'!H109","v":0},null,null,"Vitamin/mineral premixes"]
[null,"Breeder premix",{"$f":"'12. Diet ingredient data'!I110","v":0},null,null,null,null,null,null,null,null,null,null,null,null,null,{"$f":"'12. Diet ingredient data'!C110","v":1},{"$f":"'12. Diet ingredient data'!E110","v":0.23},{"$f":"(IF(D883=\"\", C883, D883))/6.25","v":0},{"$f":"'12. Diet ingredient data'!K110","v":0},{"$f":"'12. Diet ingredient data'!N110","v":0},{"$f":"'12. Diet ingredient data'!H110","v":0},null,null,"Breeder premix"]
[null,"Grower premix",{"$f":"'12. Diet ingredient data'!I111","v":0.05},null,null,null,null,null,null,null,null,null,null,null,null,null,{"$f":"'12. Diet ingredient data'!C111","v":1},{"$f":"'12. Diet ingredient data'!E111","v":0.23},{"$f":"(IF(D884=\"\", C884, D884))/6.25","v":8.0000000000000002E-3},{"$f":"'12. Diet ingredient data'!K111","v":2.3999999999999998E-3},{"$f":"'12. Diet ingredient data'!N111","v":2.8E-3},{"$f":"'12. Diet ingredient data'!H111","v":0},null,null,"Grower premix"]
[null,"Weaner premix",{"$f":"'12. Diet ingredient data'!I112","v":0},null,null,null,null,null,null,null,null,null,null,null,null,null,{"$f":"'12. Diet ingredient data'!C112","v":1},{"$f":"'12. Diet ingredient data'!E112","v":0.23},{"$f":"(IF(D885=\"\", C885, D885))/6.25","v":0},{"$f":"'12. Diet ingredient data'!K112","v":0},{"$f":"'12. Diet ingredient data'!N112","v":0},{"$f":"'12. Diet ingredient data'!H112","v":0},null,null,"Weaner premix"]
[null,"Enzymes",null,null,null,null,null,null,null,null,null,null,null,null,null,null,null,null,null,null,null,null,null,null,"Enzymes"]
[null,"Feedzyme ",{"$f":"'12. Diet ingredient data'!I114","v":0},null,null,null,null,null,null,null,null,null,null,null,null,null,{"$f":"'12. Diet ingredient data'!C114","v":1},{"$f":"'12. Diet ingredient data'!E114","v":0},{"$f":"(IF(D887=\"\", C887, D887))/6.25","v":0},{"$f":"'12. Diet ingredient data'!K114","v":0},{"$f":"'12. Diet ingredient data'!N114","v":0},{"$f":"'12. Diet ingredient data'!H114","v":0},null,null,"FEEDZYME (1 kg dose)"]
[null,"Axtra Phy",{"$f":"'12. Diet ingredient data'!I115","v":0},null,null,null,null,null,null,null,null,null,null,null,null,null,{"$f":"'12. Diet ingredient data'!C115","v":1},{"$f":"'12. Diet ingredient data'!E115","v":0},0,{"$f":"'12. Diet ingredient data'!K115","v":0},{"$f":"'12. Diet ingredient data'!N115","v":0},{"$f":"'12. Diet ingredient data'!H115","v":0},null,null,"Kemzyme"]
[null,"Axtra XB",{"$f":"'12. Diet ingredient data'!I116","v":0},null,null,null,null,null,null,null,null,null,null,null,null,null,{"$f":"'12. Diet ingredient data'!C116","v":1},{"$f":"'12. Diet ingredient data'!E116","v":0},0,{"$f":"'12. Diet ingredient data'!K116","v":0},{"$f":"'12. Diet ingredient data'!N116","v":0},{"$f":"'12. Diet ingredient data'!H116","v":0},null,null,"Phyzyme (500 FTU OR 100g dose)"]
[null,"Natuphos Blue",{"$f":"'12. Diet ingredient data'!I117","v":0},null,null,null,null,null,null,null,null,null,null,null,null,null,{"$f":"'12. Diet ingredient data'!C117","v":1},{"$f":"'12. Diet ingredient data'!E117","v":0},0,{"$f":"'12. Diet ingredient data'!K117","v":0},{"$f":"'12. Diet ingredient data'!N117","v":0},{"$f":"'12. Diet ingredient data'!H117","v":0},null,null,"Phyzyme (1000 FTU OR 200g dose)"]
[null,"Ronozyme P 5000 (150g dose)",{"$f":"'12. Diet ingredient data'!I118","v":0},null,null,null,null,null,null,null,null,null,null,null,null,null,{"$f":"'12. Diet ingredient data'!C118","v":1},{"$f":"'12. Diet ingredient data'!E118","v":0},0,{"$f":"'12. Diet ingredient data'!K118","v":0},{"$f":"'12. Diet ingredient data'!N118","v":0},{"$f":"'12. Diet ingredient data'!H118","v":0},null,null,"Ronozyme P 5000 (150g dose)"]
[null,"Rovabio Excel premix",{"$f":"'12. Diet ingredient data'!I119","v":0},null,null,null,null,null,null,null,null,null,null,null,null,null,{"$f":"'12. Diet ingredient data'!C119","v":1},{"$f":"'12. Diet ingredient data'!E119","v":0},0,{"$f":"'12. Diet ingredient data'!K119","v":0},{"$f":"'12. Diet ingredient data'!N119","v":0},{"$f":"'12. Diet ingredient data'!H119","v":0},null,null,"Rovabio Excel premix"]
[null,"Rovabio T-Flex ",{"$f":"'12. Diet ingredient data'!I120","v":0},null,null,null,null,null,null,null,null,null,null,null,null,null,{"$f":"'12. Diet ingredient data'!C120","v":1},{"$f":"'12. Diet ingredient data'!E120","v":0},0,{"$f":"'12. Diet ingredient data'!K120","v":0},{"$f":"'12. Diet ingredient data'!N120","v":0},{"$f":"'12. Diet ingredient data'!H120","v":0},null,null,"Allzyme SSF"]
[null,"Toxin Binders",null,null,null,null,null,null,null,null,null,null,null,null,null,null,null,null,null,null,null,null,null,null,"Toxin Binders"]
[null,"Mycofix",{"$f":"'12. Diet ingredient data'!I122","v":0},null,null,null,null,null,null,null,null,null,null,null,null,null,{"$f":"'12. Diet ingredient data'!C122","v":1},{"$f":"'12. Diet ingredient data'!E122","v":0.98},{"$f":"(IF(D895=\"\", C895, D895))/6.25","v":0},{"$f":"'12. Diet ingredient data'!K122","v":0},{"$f":"'12. Diet ingredient data'!N122","v":0},{"$f":"'12. Diet ingredient data'!H122","v":0},null,null,"Mycofix"]
[null,"Mycosorb",{"$f":"'12. Diet ingredient data'!I123","v":0},null,null,null,null,null,null,null,null,null,null,null,null,null,{"$f":"'12. Diet ingredient data'!C123","v":1},{"$f":"'12. Diet ingredient data'!E123","v":0.85},{"$f":"(IF(D896=\"\", C896, D896))/6.25","v":0},{"$f":"'12. Diet ingredient data'!K123","v":0},{"$f":"'12. Diet ingredient data'!N123","v":0},{"$f":"'12. Diet ingredient data'!H123","v":0},null,null,"Mycosorb"]
[null,"Elitox",{"$f":"'12. Diet ingredient data'!I124","v":0},null,null,null,null,null,null,null,null,null,null,null,null,null,{"$f":"'12. Diet ingredient data'!C124","v":1},{"$f":"'12. Diet ingredient data'!E124","v":0.85},{"$f":"(IF(D897=\"\", C897, D897))/6.25","v":0},{"$f":"'12. Diet ingredient data'!K124","v":0},{"$f":"'12. Diet ingredient data'!N124","v":0},{"$f":"'12. Diet ingredient data'!H124","v":0},null,null,"Elitox"]
[null,"Mastersorb ",{"$f":"'12. Diet ingredient data'!I125","v":0},null,null,null,null,null,null,null,null,null,null,null,null,null,{"$f":"'12. Diet ingredient data'!C125","v":1},{"$f":"'12. Diet ingredient data'!E125","v":0.85},{"$f":"(IF(D898=\"\", C898, D898))/6.25","v":0},{"$f":"'12. Diet ingredient data'!K125","v":0},{"$f":"'12. Diet ingredient data'!N125","v":0},{"$f":"'12. Diet ingredient data'!H125","v":0},null,null,"Mastersorb "]
[null,"Acidifiers",null,null,null,null,null,null,null,null,null,null,null,null,null,null,null,null,null,null,null,null,null,null,"Acidifiers"]
[null,"Formi Acid",{"$f":"'12. Diet ingredient data'!I127","v":0},null,null,null,null,null,null,null,null,null,null,null,null,null,{"$f":"'12. Diet ingredient data'!C127","v":1},{"$f":"'12. Diet ingredient data'!E127","v":0},{"$f":"(IF(D900=\"\", C900, D900))/6.25","v":0},{"$f":"'12. Diet ingredient data'!K127","v":0},{"$f":"'12. Diet ingredient data'!N127","v":0},{"$f":"'12. Diet ingredient data'!H127","v":0},null,null,"Formi Acid"]
[null,"Top3",{"$f":"'12. Diet ingredient data'!I128","v":0},null,null,null,null,null,null,null,null,null,null,null,null,null,{"$f":"'12. Diet ingredient data'!C128","v":1},{"$f":"'12. Diet ingredient data'!E128","v":0},{"$f":"(IF(D901=\"\", C901, D901))/6.25","v":0},{"$f":"'12. Diet ingredient data'!K128","v":0},{"$f":"'12. Diet ingredient data'!N128","v":0},{"$f":"'12. Diet ingredient data'!H128","v":0},null,null,"Top3"]
[null,"Tetracid 500",{"$f":"'12. Diet ingredient data'!I129","v":0},null,null,null,null,null,null,null,null,null,null,null,null,null,{"$f":"'12. Diet ingredient data'!C129","v":1},{"$f":"'12. Diet ingredient data'!E129","v":0},{"$f":"(IF(D902=\"\", C902, D902))/6.25","v":0},{"$f":"'12. Diet ingredient data'!K129","v":0},{"$f":"'12. Diet ingredient data'!N129","v":0},{"$f":"'12. Diet ingredient data'!H129","v":0},null,null,"Tetracid 500"]
[null,"AcidLac",{"$f":"'12. Diet ingredient data'!I130","v":0},null,null,null,null,null,null,null,null,null,null,null,null,null,{"$f":"'12. Diet ingredient data'!C130","v":1},{"$f":"'12. Diet ingredient data'!E130","v":0},{"$f":"(IF(D903=\"\", C903, D903))/6.25","v":0},{"$f":"'12. Diet ingredient data'!K130","v":0},{"$f":"'12. Diet ingredient data'!N130","v":0},{"$f":"'12. Diet ingredient data'!H130","v":0},null,null,"AcidLac"]
[null,"VevoVital ",{"$f":"'12. Diet ingredient data'!I131","v":0},null,null,null,null,null,null,null,null,null,null,null,null,null,{"$f":"'12. Diet ingredient data'!C131","v":1},{"$f":"'12. Diet ingredient data'!E131","v":0},{"$f":"(IF(D904=\"\", C904, D904))/6.25","v":0},{"$f":"'12. Diet ingredient data'!K131","v":0},{"$f":"'12. Diet ingredient data'!N131","v":0},{"$f":"'12. Diet ingredient data'!H131","v":0},null,null,"VevoVital "]
[null,"Other Additives",null,null,null,null,null,null,null,null,null,null,null,null,null,null,null,null,null,null,null,null,null,null,"Other Additives"]
[null,"Krave",{"$f":"'12. Diet ingredient data'!I133","v":0},null,null,null,null,null,null,null,null,null,null,null,null,null,{"$f":"'12. Diet ingredient data'!C133","v":1},{"$f":"'12. Diet ingredient data'!E133","v":0.98},{"$f":"(IF(D906=\"\", C906, D906))/6.25","v":0},{"$f":"'12. Diet ingredient data'!K133","v":0},{"$f":"'12. Diet ingredient data'!N133","v":0},{"$f":"'12. Diet ingredient data'!H133","v":0},null,null,"Biomin® pHD"]
[null,"Betaine",{"$f":"'12. Diet ingredient data'!I134","v":0},null,null,null,null,null,null,null,null,null,null,null,null,null,{"$f":"'12. Diet ingredient data'!C134","v":1},{"$f":"'12. Diet ingredient data'!E134","v":0.98},{"$f":"(IF(D907=\"\", C907, D907))/6.25","v":0},{"$f":"'12. Diet ingredient data'!K134","v":0},{"$f":"'12. Diet ingredient data'!N134","v":0},{"$f":"'12. Diet ingredient data'!H134","v":0},null,null,"Biomos"]
[null,"Biomos",{"$f":"'12. Diet ingredient data'!I135","v":0},null,null,null,null,null,null,null,null,null,null,null,null,null,{"$f":"'12. Diet ingredient data'!C135","v":1},{"$f":"'12. Diet ingredient data'!E135","v":0.98},{"$f":"(IF(D908=\"\", C908, D908))/6.25","v":0},{"$f":"'12. Diet ingredient data'!K135","v":0},{"$f":"'12. Diet ingredient data'!N135","v":0},{"$f":"'12. Diet ingredient data'!H135","v":0},null,null,"De-Oderase"]
[null,"De-Oderase",{"$f":"'12. Diet ingredient data'!I136","v":0},null,null,null,null,null,null,null,null,null,null,null,null,null,{"$f":"'12. Diet ingredient data'!C136","v":0.99},{"$f":"'12. Diet ingredient data'!E136","v":0.98},{"$f":"(IF(D909=\"\", C909, D909))/6.25","v":0},{"$f":"'12. Diet ingredient data'!K136","v":0},{"$f":"'12. Diet ingredient data'!N136","v":0},{"$f":"'12. Diet ingredient data'!H136","v":0},null,null,"Paylean"]
[null,"Bedding Materials",null,null,null,null,null,null,null,null,null,null,null,null,null,null,null,null,null,null,null,null,null,null,"Bedding Materials"]
[null,"Hardwood sawdust",{"$f":"'12. Diet ingredient data'!I138","v":1.2375000000000001E-2},null,null,null,null,null,null,null,null,null,null,null,null,null,{"$f":"'12. Diet ingredient data'!C138","v":0.9},{"$f":"'12. Diet ingredient data'!E138","v":0},{"$f":"(IF(D911=\"\", C911, D911))/6.25","v":1.98E-3},{"$f":"'12. Diet ingredient data'!K138","v":9.0000000000000006E-5},{"$f":"'12. Diet ingredient data'!N138","v":4.5000000000000004E-4},{"$f":"'12. Diet ingredient data'!H138","v":0.05},null,null,"Hardwood sawdust"]
[null,"Softwood sawdust/shavings",{"$f":"'12. Diet ingredient data'!I139","v":7.8750000000000001E-3},null,null,null,null,null,null,null,null,null,null,null,null,null,{"$f":"'12. Diet ingredient data'!C139","v":0.9},{"$f":"'12. Diet ingredient data'!E139","v":0},1.2600000000000001E-3,{"$f":"'12. Diet ingredient data'!K139","v":9.0000000000000006E-5},{"$f":"'12. Diet ingredient data'!N139","v":2.7E-4},{"$f":"'12. Diet ingredient data'!H139","v":0.16},null,null,"Softwood sawdust/shavings"]
[null,"Rice Hulls",{"$f":"'12. Diet ingredient data'!I140","v":3.0475000000000002E-2},null,null,null,null,null,null,null,null,null,null,null,null,null,{"$f":"'12. Diet ingredient data'!C140","v":0.92},{"$f":"'12. Diet ingredient data'!E140","v":0.05},4.8760000000000001E-3,{"$f":"'12. Diet ingredient data'!K140","v":7.3600000000000011E-4},{"$f":"'12. Diet ingredient data'!N140","v":1.2144E-2},{"$f":"'12. Diet ingredient data'!H140","v":0.15625},null,null,"Rice Hulls"]
[null,"Barley straw",{"$f":"'12. Diet ingredient data'!I141","v":3.9243750000000001E-2},null,null,null,null,null,null,null,null,null,null,null,null,null,{"$f":"'12. Diet ingredient data'!C141","v":0.91},{"$f":"'12. Diet ingredient data'!E141","v":0.06},6.2789999999999999E-3,{"$f":"'12. Diet ingredient data'!K141","v":6.3699999999999998E-4},{"$f":"'12. Diet ingredient data'!N141","v":2.1566999999999999E-2},{"$f":"'12. Diet ingredient data'!H141","v":0.125},null,null,"Barley straw"]
[null,"Wheat straw",{"$f":"'12. Diet ingredient data'!I142","v":3.22625E-2},null,null,null,null,null,null,null,null,null,null,null,null,null,{"$f":"'12. Diet ingredient data'!C142","v":0.89},{"$f":"'12. Diet ingredient data'!E142","v":5.8500000000000003E-2},5.1619999999999999E-3,{"$f":"'12. Diet ingredient data'!K142","v":3.6490000000000003E-3},{"$f":"'12. Diet ingredient data'!N142","v":4.5390000000000005E-3},{"$f":"'12. Diet ingredient data'!H142","v":0.14792899408284024},null,null,"Wheat straw"]
[null,"Shredded paper",{"$f":"'12. Diet ingredient data'!I143","v":0},null,null,null,null,null,null,null,null,null,null,null,null,null,{"$f":"'12. Diet ingredient data'!C143","v":0.9},{"$f":"'12. Diet ingredient data'!E143","v":0},0,{"$f":"'12. Diet ingredient data'!K143","v":9.0000000000000006E-5},{"$f":"'12. Diet ingredient data'!N143","v":0},{"$f":"'12. Diet ingredient data'!H143","v":0.1},null,null,"Shredded paper"]
[null,"Additional ingredients",null,null,null,null,null,null,null,null,null,null,null,null,null,null,null,null,null,null,null,null,null,null,"Additional ingredients"]
[null,{"$f":"IF('12. Diet ingredient data'!B145=\"\", \"\", '12. Diet ingredient data'!B145)","v":"Sow milk"},{"$f":"'12. Diet ingredient data'!I145","v":5.6300000000000003E-2},null,0.9,null,null,null,null,null,null,null,null,null,null,null,{"$f":"'12. Diet ingredient data'!C145","v":0.2},{"$f":"'12. Diet ingredient data'!E145","v":0.01},{"$f":"(IF(D918=\"\", C918, D918))/6.25","v":9.0080000000000004E-3},{"$f":"'12. Diet ingredient data'!K145","v":1.5E-3},{"$f":"'12. Diet ingredient data'!N145","v":6.9999999999999999E-4},{"$f":"'12. Diet ingredient data'!H145","v":1},null,null,{"$f":"IF('12. Diet ingredient data'!B145=\"\", \"\", '12. Diet ingredient data'!B145)","v":"Sow milk"}]
[null,{"$f":"IF('12. Diet ingredient data'!B146=\"\", \"\", '12. Diet ingredient data'!B146)","v":"Milk fat"},{"$f":"'12. Diet ingredient data'!I146","v":0},null,null,null,null,null,null,null,null,null,null,null,null,null,{"$f":"'12. Diet ingredient data'!C146","v":0.99},{"$f":"'12. Diet ingredient data'!E146","v":0},{"$f":"(IF(D919=\"\", C919, D919))/6.25","v":0},{"$f":"'12. Diet ingredient data'!K146","v":0},{"$f":"'12. Diet ingredient data'!N146","v":0},{"$f":"'12. Diet ingredient data'!H146","v":1},null,null,{"$f":"IF('12. Diet ingredient data'!B146=\"\", \"\", '12. Diet ingredient data'!B146)","v":"Milk fat"}]
[]
[]
[null,"Totals:",null,null,{"$f":"SUM(E782:E919)","v":1},1.0000000000000002,0,0.99999999999999989,1,0,0,1,1,1,1,null,null,null,null,null,null,null,null,null,null,{"$f":"SUM(Z782:Z919)","v":1.0000000000000002},{"$f":"SUM(AA782:AA919)","v":0.99999999999999989},{"$f":"SUM(AB782:AB919)","v":1},{"$f":"SUM(AC782:AC919)","v":0}]

{"sheet":"Examples","index":27,"n_rows":227,"n_cols":44,"rows_kept":227,"cut":false,"hidden":false,"merged":[[1,33,1,42],[4,35,4,41],[6,35,6,41],[8,35,8,41],[101,18,101,19],[72,35,72,37],[72,38,73,38],[91,35,91,36],[98,34,98,35],[99,34,99,35],[150,17,150,19],[101,26,102,26],[101,27,101,28],[101,29,101,30],[101,24,102,24],[101,25,102,25],[150,28,150,30],[173,14,173,16],[1,22,1,31],[4,24,4,30],[6,24,6,30],[8,24,8,30],[72,24,72,26],[72,27,73,27],[91,24,91,25],[98,23,98,24],[1,11,1,20],[101,15,102,15],[72,16,73,16],[101,13,102,13],[101,16,101,17],[99,23,99,24],[173,25,173,27],[1,0,1,9],[4,2,4,8],[6,2,6,8],[8,2,8,8],[101,14,102,14],[99,12,99,13],[72,13,72,15],[91,13,91,14],[98,12,98,13],[72,2,72,4],[72,5,73,5],[91,2,91,3],[98,1,98,2],[4,13,4,19],[6,13,6,19],[8,13,8,19],[173,3,173,5],[99,1,99,2],[101,2,102,2],[101,3,102,3],[101,4,102,4],[101,5,101,6],[150,6,150,8],[101,7,101,8],[173,36,173,38],[101,40,101,41],[150,39,150,41],[101,35,102,35],[101,36,102,36],[101,37,102,37],[101,38,101,39]]}
[]
["Herd input",null,null,null,null,null,null,null,null,null,null,"Herd input",null,null,null,null,null,null,null,null,null,null,"Herd input",null,null,null,null,null,null,null,null,null,null,"3. Herd input"]
[]
[]
[null,"Piggery owner(s):",null,null,null,null,null,null,null,null,null,null,"Piggery owner(s):",null,null,null,null,null,null,null,null,null,null,"Piggery owner(s):",null,null,null,null,null,null,null,null,null,null,"Piggery owner(s):"]
[]
[null,"Piggery name and locality:",null,null,null,null,null,null,null,null,null,null,"Piggery name and locality:",null,null,null,null,null,null,null,null,null,null,"Piggery name and locality:",null,null,null,null,null,null,null,null,null,null,"Piggery name and locality:"]
[]
[null,"PigBal run description:","1000 sow farrow to finish example",null,null,null,null,null,null,null,null,null,"PigBal run description:","1000 sow breeder unit",null,null,null,null,null,null,null,null,null,"PigBal run description:","Grower unit",null,null,null,null,null,null,null,null,null,"PigBal run description:","Old PigBal 1000 sow farrow to finish example (Circa 2000)"]
[]
[null,"Breeder herd","Value","Units",null,"Grower herd","Value","Units",null,null,null,null,"Breeder herd","Value","Units",null,"Grower herd","Value","Units",null,null,null,null,"Breeder herd","Value","Units",null,"Grower herd","Value","Units",null,null,null,null,"Breeder herd","Value","Units",null,"Grower herd","Value","Units"]
[]
[null,"Number of sows",1000,"sows",null,"Pig ages (at the end of each stage)",null,null,null,null,null,null,"Number of sows",1000,"sows",null,"Pig ages (at the end of each stage)",null,null,null,null,null,null,"Number of sows",null,"sows",null,"Pig ages (at the end of each stage)",null,null,null,null,null,null,"Number of sows",1000,"sows",null,"Pig ages (at the end of each stage)"]
[null,"Number of boars",10,"boars",null,"Sucker",26,"days",null,null,null,null,"Number of boars",10,"boars",null,"Sucker",26,"days",null,null,null,null,"Number of boars",null,"boars",null,"Sucker",26,"days",null,null,null,null,"Number of boars",57,"boars",null,"Sucker",26,"days"]
[null,null,null,null,null,"Birth",0,"weeks",null,null,null,null,null,null,null,null,"Birth",0,"weeks",null,null,null,null,null,null,null,null,"Birth",0,"weeks",null,null,null,null,null,null,null,null,"Birth",0,"weeks"]
[null,"Sow culling percentage",50,"%",null,"Sucker",3.7142857142857144,"weeks",null,null,null,null,"Sow culling percentage",50,"%",null,"Sucker",3.7142857142857144,"weeks",null,null,null,null,"Sow culling percentage",null,"%",null,"Sucker",{"$f":"AC14/7","v":3.7142857142857144},"weeks",null,null,null,null,"Sow culling percentage",45,"%",null,"Sucker",3.7142857142857144,"weeks"]
[null,"Boar working life",1.5,"years",null,"Weaner",10,"weeks",null,null,null,null,"Boar working life",1.5,"years",null,null,null,"weeks",null,null,null,null,"Boar working life",null,"years",null,"Weaner",10,"weeks",null,null,null,null,"Boar working life",2,"years",null,"Weaner",10,"weeks"]
[null,"Breeder mortalities",7.8,"%",null,"Porker",14,"weeks",null,null,null,null,"Breeder mortalities",7.8,"%",null,null,null,"weeks",null,null,null,null,"Breeder mortalities",null,"%",null,"Porker",14,"weeks",null,null,null,null,"Breeder mortalities",9.1999999999999993,"%",null,"Grower",16,"weeks"]
[null,"Gilt waste rate",14,"%",null,"Grower",18,"weeks",null,null,null,null,"Gilt waste rate",14,"%",null,null,null,"weeks",null,null,null,null,"Gilt waste rate",null,"%",null,"Grower",18,"weeks",null,null,null,null,"Gilt waste rate",14,"%",null,"Finisher",24,"weeks"]
[null,null,null,null,null,"Finisher",22,"weeks",null,null,null,null,null,null,null,null,null,null,"weeks",null,null,null,null,null,null,null,null,"Finisher",22,"weeks",null,null,null,null,null,null,null,null,null,null,"weeks"]
[null,"Percent gilts purchased",0,"%",null,"Unallocated",null,"weeks",null,null,null,null,"Percent gilts purchased",0,"%",null,null,null,"weeks",null,null,null,null,"Percent gilts purchased",null,"%",null,"Unallocated",null,"weeks",null,null,null,null,"Percent gilts purchased",50,"%",null,null,null,"weeks"]
[null,"Percent boars purchased",0,"% ",null,"Unallocated",null,"weeks",null,null,null,null,"Percent boars purchased",0,"% ",null,null,null,"weeks",null,null,null,null,"Percent boars purchased",null,"% ",null,"Unallocated",null,"weeks",null,null,null,null,"Percent boars purchased",50,"% ",null,null,null,"weeks"]
[]
[null,"Farrowing rate",84.6,"%",null,"Average daily live weight gain (ADG)",null,null,null,null,null,null,"Farrowing rate",84.6,"%",null,"Average daily live weight gain (ADG)",null,null,null,null,null,null,"Farrowing rate",null,"%",null,"Average daily live weight gain (ADG)",null,null,null,null,null,null,"Farrowing rate",81,"%",null,"Average daily live weight gain (ADG)"]
[null,"Farrowing index",2.2799999999999998,"farrowings/sow/yr",null,"Average daily live weight gain (ADG)",675,"g/day [wean to 100 kg live weight]",null,null,null,null,"Farrowing index",2.2799999999999998,"farrowings/sow/yr",null,"Average daily live weight gain (ADG)",675,"g/day [wean to 100 kg live weight]",null,null,null,null,"Farrowing index",null,"farrowings/sow/yr",null,"Average daily live weight gain (ADG)",675,"g/day [wean to 100 kg live weight]",null,null,null,null,"Farrowing index",2.16,"farrowings. sow-1. yr-1",null,"Average daily live weight gain (ADG)",585,"g/day [wean to 100 kg live weight]"]
[null,null,null,null,null,"Weight gain rating","Good",null,null,null,null,null,null,null,null,null,"Weight gain rating","Good",null,null,null,null,null,null,null,null,null,"Weight gain rating","Good",null,null,null,null,null,null,null,null,null,"Weight gain rating","Poor"]
[null,"No of piglets born alive per litter",11.8,"pigs",null,"Average age at 100 kg live weight",20.12,"weeks",null,null,null,null,"No of piglets born alive per litter",11.8,"pigs",null,"Average age at 100 kg live weight",20.12,"weeks",null,null,null,null,"No of piglets born alive per litter",null,"pigs",null,"Average age at 100 kg live weight",20.12,"weeks",null,null,null,null,"No of piglets born alive per litter",10.4,"pigs. litter-1",null,"Average age at 100 kg live weight",24.078144078144078,"weeks"]
[null,"No of piglets stillborn per litter",0.88,"pigs",null,null,null,null,null,null,null,null,"No of piglets stillborn per litter",0.88,"pigs",null,null,null,null,null,null,null,null,"No of piglets stillborn per litter",null,"pigs",null,null,null,null,null,null,null,null,"No of piglets stillborn per litter",0.9,"pigs. litter-1"]
[null,null,null,null,null,"Pig live weights (at the end of each stage)",null,null,"Predicted",null,null,null,null,null,null,null,"Pig live weights (at the end of each stage)",null,null,"Predicted",null,null,null,null,null,null,null,"Pig live weights (at the end of each stage)",null,null,"Predicted",null,null,null,null,null,null,null,"Pig live weights (at the end of each stage)",null,null,"Predicted"]
[null,"Gilt age at selection / purchase",22,"weeks",null,"Birth",1.4,"kg",1.4,null,null,null,"Gilt age at selection / purchase",22,"weeks",null,"Birth",1.4,"kg",1.4,null,null,null,"Gilt age at selection / purchase",null,"weeks",null,"Birth",1.4,"kg",1.4,null,null,null,"Gilt age at selection / purchase",24,"weeks",null,"Birth",1.4,"kg. pig-1",1.4]
[null,"Boar age at selection / purchase",22,"weeks",null,"Sucker",7,"kg",6.7907490254454901,null,null,null,"Boar age at selection / purchase",22,"weeks",null,"Sucker",7,"kg",{"$f":"'Growth curve sheet'!AG7","v":0},null,null,null,"Boar age at selection / purchase",null,"weeks",null,"Sucker",7,"kg",6.7907490254454901,null,null,null,"Boar age at selection / purchase",24,"weeks",null,"Sucker",8,"kg. pig-1",6.0557666504495762]
[null,"Gilt age at mating",30,"weeks",null,{"$f":"F17","v":"Weaner"},35,"kg",34.769409835000019,null,null,null,"Gilt age at mating",30,"weeks",null,"Unallocated",null,"kg",{"$f":"'Growth curve sheet'!AG8","v":0},null,null,null,"Gilt age at mating",null,"weeks",null,"Weaner",35,"kg",34.769409835000019,null,null,null,"Gilt age at mating",30,"weeks",null,"Weaner",25,"kg. pig-1",26.030917669000033]
[null,"Sow live weight at mating",145,"kg",null,{"$f":"F18","v":"Porker"},60,"kg",59.448686131800038,null,null,null,"Sow live weight at mating",145,"kg",null,"Unallocated",null,"kg",{"$f":"'Growth curve sheet'!AG9","v":0},null,null,null,"Sow live weight at mating",null,"kg",null,"Porker",60,"kg",59.448686131800038,null,null,null,"Sow live weight at mating",160,"kg",null,"Grower",55,"kg. pig-1",55.676333039200053]
[null,"Sow live weight at farrowing",200,"kg",null,{"$f":"F19","v":"Grower"},85,"kg",85.926126505400021,null,null,null,"Sow live weight at farrowing",200,"kg",null,"Unallocated",null,"kg",{"$f":"'Growth curve sheet'!AG10","v":0},null,null,null,"Sow live weight at farrowing",null,"kg",null,"Grower",85,"kg",85.926126505400021,null,null,null,"Sow live weight at farrowing",215,"kg",null,"Finisher",100,"kg. pig-1",99.689835276800068]
[null,"Boar live weight at turnoff",300,"kg",null,{"$f":"F20","v":"Finisher"},110,"kg",110.91576028060007,null,null,null,"Boar live weight at turnoff",300,"kg",null,"Unallocated",null,"kg",{"$f":"'Growth curve sheet'!AG11","v":0},null,null,null,"Boar live weight at turnoff",null,"kg",null,"Finisher",110,"kg",110.91576028060007,null,null,null,"Boar live weight at turnoff",300,"kg",null,"Unallocated",null,"kg. pig-1",""]
[null,"Backfatter dressed weight",130,"kg",null,"Unallocated",null,"kg",{"$f":"'Growth curve sheet'!V12","v":""},null,null,null,"Backfatter dressed weight",130,"kg",null,"Unallocated",null,"kg",{"$f":"'Growth curve sheet'!AG12","v":0},null,null,null,"Backfatter dressed weight",null,"kg",null,"Unallocated",null,"kg","",null,null,null,"Backfatter dressed weight",130,"kg",null,"Unallocated",null,"kg. pig-1",""]
[null,null,null,null,null,"Unallocated",null,"kg",{"$f":"'Growth curve sheet'!V13","v":""},null,null,null,null,null,null,null,"Unallocated",null,"kg",{"$f":"'Growth curve sheet'!AG13","v":0},null,null,null,null,null,null,null,"Unallocated",null,"kg","",null,null,null,null,null,null,null,"Unallocated",null,"kg. pig-1",""]
[null,"Lactation duration",24,"days",null,null,null,null,null,null,null,null,"Lactation duration",24,"days",null,null,null,null,null,null,null,null,"Lactation duration",24,"days",null,null,null,null,null,null,null,null,"Lactation duration",26,"days"]
[null,null,null,null,null,"Pig purchases",null,null,null,null,null,null,null,null,null,null,"Pig purchases",null,null,null,null,null,null,null,null,null,null,"Pig purchases",null,null,null,null,null,null,null,null,null,null,"Pig purchases"]
[null,"Dressing percentage",76,"% ",null,"No of pigs purchased per year",null,null,null,null,null,null,"Dressing percentage",76,"% ",null,"No of pigs purchased per year",null,null,null,null,null,null,"Dressing percentage",76,"% ",null,"No of pigs purchased per year",null,null,null,null,null,null,"Dressing percentage",76,"% ",null,"No of pigs purchased per year"]
[null,null,null,null,null,"Gilts",313.5,"pigs/year",null,null,null,null,null,null,null,null,"Gilts",313.5,"pigs/year",null,null,null,null,null,null,null,null,"Gilts",0,"pigs/year",null,null,null,null,null,null,null,null,"Gilts",308.94,"pigs. year-1"]
[null,"Herd performance indicators",null,null,null,"Boars",13.5,"pigs/year",null,null,null,null,"Herd performance indicators",null,null,null,"Boars",13.5,"pigs/year",null,null,null,null,"Herd performance indicators",null,null,null,"Boars",0,"pigs/year",null,null,null,null,"Herd performance indicators",null,null,null,"Boars",14.25,"pigs. year-1"]
[null,"Farrowing interval",160.08771929824562,"days",null,{"$f":"F32","v":"Weaner"},null,"pigs/year",null,null,null,null,"Farrowing interval",156.65236051502146,"days",null,"Unallocated",null,"pigs/year",null,null,null,null,"Farrowing interval",0,"days",null,"Weaner",24840,"pigs/year",null,null,null,null,"Farrowing interval",168.98148148148147,"days",null,"Weaner",null,"pigs. year-1"]
[null,"Empty days",22.087719298245617,"days",null,{"$f":"F33","v":"Porker"},null,"pigs/year",null,null,null,null,"Empty days",16.652360515021456,"days",null,"Unallocated",null,"pigs/year",null,null,null,null,"Empty days",0,"days",null,"Porker",null,"pigs/year",null,null,null,null,"Empty days",28.981481481481467,"days",null,"Grower",null,"pigs. year-1"]
[null,"Matings per 4 weeks",206.7424463227436,"matings",null,{"$f":"F34","v":"Grower"},null,"pigs/year",null,null,null,null,"Matings per 4 weeks",211.27627189999674,"matings",null,"Unallocated",null,"pigs/year",null,null,null,null,"Matings per 4 weeks",0,"matings",null,"Grower",null,"pigs/year",null,null,null,null,"Matings per 4 weeks",204.56621004566207,"matings",null,"Finisher",null,"pigs. year-1"]
[null,"Farrowings per 4 weeks",174.9041095890411,"farrowings",null,{"$f":"F35","v":"Finisher"},null,"pigs/year",null,null,null,null,"Farrowings per 4 weeks",178.73972602739724,"farrowings",null,"Unallocated",null,"pigs/year",null,null,null,null,"Farrowings per 4 weeks",0,"farrowings",null,"Finisher",null,"pigs/year",null,null,null,null,"Farrowings per 4 weeks",165.69863013698628,"farrowings",null,"Unallocated",null,"pigs. year-1"]
[null,"Farrowings per year",2280,"farrowings/year",null,"Unallocated",null,"pigs/year",null,null,null,null,"Farrowings per year",2330,"farrowings/year",null,"Unallocated",null,"pigs/year",null,null,null,null,"Farrowings per year",0,"farrowings/year",null,"Unallocated",null,"pigs/year",null,null,null,null,"Farrowings per year",2160,"farrowings. yr-1",null,"Unallocated",null,"pigs. year-1"]
[null,"Piglets born per litter",12.9,"piglets/litter",null,"Unallocated",null,"pigs/year",null,null,null,null,"Piglets born per litter",12.1,"piglets/litter",null,"Unallocated",null,"pigs/year",null,null,null,null,"Piglets born per litter",0,"piglets/litter",null,"Unallocated",null,"pigs/year",null,null,null,null,"Piglets born per litter",11.3,"piglets. litter-1",null,"Unallocated",null,"pigs. year-1"]
[null,"Piglets born per sow per year",29.411999999999999,"piglets/sow/yr",null,null,null,null,null,null,null,null,"Piglets born per sow per year",28.193000000000001,"piglets/sow/yr",null,null,null,null,null,null,null,null,"Piglets born per sow per year",0,"piglets/sow/yr",null,null,null,null,null,null,null,null,"Piglets born per sow per year",24.408000000000005,"piglets. sow-1. yr-1"]
[null,"Piglets stillborn per year",2052,"piglets/year",null,"Pig mortalities",null,null,null,null,null,null,"Piglets stillborn per year",2097,"piglets/year",null,"Pig mortalities",null,null,null,null,null,null,"Piglets stillborn per year",0,"piglets/year",null,"Pig mortalities",null,null,null,null,null,null,"Piglets stillborn per year",1944,"piglets. yr-1",null,"Pig mortalities"]
[null,"Pigs weaned per litter",10.68,"pigs",null,"Pre-weaning",12,"%",null,null,null,null,"Pigs weaned per litter",9.968,"pigs",null,"Pre-weaning",12,"%",null,null,null,null,"Pigs weaned per litter",0,"pigs",null,"Pre-weaning",null,"%",null,null,null,null,"Pigs weaned per litter",9.0063999999999993,"pigs. litter-1",null,"Pre-weaning",13.4,"%"]
[null,"Pigs weaned per sow per year",24.350399999999997,"pigs",null,"Post-weaning",5,"%",null,null,null,null,"Pigs weaned per sow per year",23.225439999999999,"pigs",null,"Post-weaning",null,"%",null,null,null,null,"Pigs weaned per sow per year",0,"pigs",null,"Post-weaning",5,"%",null,null,null,null,"Pigs weaned per sow per year",19.453824000000001,"pigs. sow-1. yr-1",null,"Post-weaning",8,"%"]
[null,"Pigs reared per litter",10.146000000000001,"pigs",null,{"$f":"F43","v":"Weaner"},1.71875,"%",null,null,null,null,"Pigs reared per litter",9.968,"pigs",null,"Unallocated",0,"%",null,null,null,null,"Pigs reared per litter",0,"pigs",null,"Weaner",1.71875,"%",null,null,null,null,"Pigs reared per litter",8.2858879999999999,"pigs. litter-1",null,"Weaner",2.47887323943662,"%"]
[null,"Pigs reared per sow per year",23.13288,"pigs",null,{"$f":"F44","v":"Porker"},1.640625,"%",null,null,null,null,"Pigs reared per sow per year",23.225439999999999,"pigs",null,"Unallocated",0,"%",null,null,null,null,"Pigs reared per sow per year",0,"pigs",null,"Porker",1.09375,"%",null,null,null,null,"Pigs reared per sow per year",17.897518080000001,"pigs. sow-1. yr-1",null,"Grower",2.3661971830985915,"%"]
[null,null,null,null,null,{"$f":"F45","v":"Grower"},1.640625,"%",null,null,null,null,null,null,null,null,"Unallocated",0,"%",null,null,null,null,null,null,null,null,"Grower",1.09375,"%",null,null,null,null,null,null,null,null,"Finisher",3.154929577464789,"%"]
[null,"Sow deaths",78,"sows/yr",null,{"$f":"F46","v":"Finisher"},0,"%",null,null,null,null,"Sow deaths",100,"sows/yr",null,"Unallocated",0,"%",null,null,null,null,"Sow deaths",0,"sows/yr",null,"Finisher",1.09375,"%",null,null,null,null,"Sow deaths",92,"sows. yr-1",null,"Unallocated",0,"%"]
[null,"Sow culling",470,"sows/yr",null,"Unallocated",0,"%",null,null,null,null,"Sow culling",450,"sows/yr",null,"Unallocated",0,"%",null,null,null,null,"Sow culling",0,"sows/yr",null,"Unallocated",0,"%",null,null,null,null,"Sow culling",450,"sows. yr-1",null,"Unallocated",0,"%"]
[null,"Gilt wastage",76.72,"gilts/yr",null,"Unallocated",0,"%",null,null,null,null,"Gilt wastage",77,"gilts/yr",null,"Unallocated",0,"%",null,null,null,null,"Gilt wastage",0,"gilts/yr",null,"Unallocated",0,"%",null,null,null,null,"Gilt wastage",75.88,"gilts. yr-1",null,"Unallocated",0,"%"]
[null,"Gilts required per year",624.72,"gilts/yr",null,null,null,null,null,null,null,null,"Gilts required per year",627,"gilts/yr",null,null,null,null,null,null,null,null,"Gilts required per year",0,"gilts/yr",null,null,null,null,null,null,null,null,"Gilts required per year",617.88,"gilts. yr-1"]
[null,null,null,null,null,"Pig sales",null,null,null,null,null,null,null,null,null,null,"Pig sales",null,null,null,null,null,null,null,null,null,null,"Pig sales",null,null,null,null,null,null,null,null,null,null,"Pig sales"]
[null,"Boars required per year",6.666666666666667,"boars",null,"% pigs sold at the end of each stage:",null,"%",null,null,null,null,"Boars required per year",27,"boars",null,"% pigs sold at the end of each stage:",null,"%",null,null,null,null,"Boars required per year",0,"boars",null,"% pigs sold at the end of each stage:",null,"%",null,null,null,null,"Boars required per year",28.5,"boars",null,"% pigs sold at the end of each stage:",null,"%"]
[null,"Pigs sold per litter",10.102943188563245,"pigs",null,"Sucker",0,"%",null,null,null,null,"Pigs sold per litter",9.8276566523605151,"pigs",null,"Sucker",100,"%",null,null,null,null,"Pigs sold per litter",0,"pigs",null,"Sucker",null,"%",null,null,null,null,"Pigs sold per litter",8.3629725707590854,"pigs",null,"Sucker",0,"%"]
[null,"Pigs sold per sow per year",23.034710469924196,"pigs",null,{"$f":"F53","v":"Weaner"},0,"%",null,null,null,null,"Pigs sold per sow per year",22.898440000000001,"pigs",null,"Unallocated",null,"%",null,null,null,null,"Pigs sold per sow per year",0,"pigs",null,"Weaner",0,"%",null,null,null,null,"Pigs sold per sow per year",18.064020752839625,"pigs",null,"Weaner",0,"%"]
[null,"Average parity",4.8510638297872335,"farrowings/sow",null,{"$f":"F54","v":"Porker"},0,"%",null,null,null,null,"Average parity",5.177777777777778,"farrowings/sow",null,"Unallocated",null,"%",null,null,null,null,"Average parity",0,"farrowings/sow",null,"Porker",0,"%",null,null,null,null,"Average parity",4.8,"farrowings. sow-1",null,"Grower",0,"%"]
[null,"Sow : Boar ratio",100,null,null,{"$f":"F55","v":"Grower"},0,"%",null,null,null,null,"Sow : Boar ratio",18.518518518518519,null,null,"Unallocated",null,"%",null,null,null,null,"Sow : Boar ratio",0,null,null,"Grower",0,"%",null,null,null,null,"Sow : Boar ratio",17.543859649122808,null,null,"Finisher",100,"%"]
[null,null,null,null,null,{"$f":"F56","v":"Finisher"},100,"%",null,null,null,null,null,null,null,null,"Unallocated",null,"%",null,null,null,null,null,null,null,null,"Finisher",100,"%",null,null,null,null,null,null,null,null,"Unallocated",null,"%"]
[null,"Backfatters sold per year",552.86666666666667,"pigs/year",null,"Unallocated",null,"%",null,null,null,null,"Backfatters sold per year",551.29999999999995,"pigs/year",null,"Unallocated",null,"%",null,null,null,null,"Backfatters sold per year",0,"pigs/year",null,"Unallocated",null,"%",null,null,null,null,"Backfatters sold per year",551.75800000000004,"pigs. year-1",null,"Unallocated",null,"%"]
[null,null,null,null,null,"Unallocated",null,"%",null,null,null,null,null,null,null,null,"Unallocated",null,"%",null,null,null,null,null,null,null,null,"Unallocated",null,"%",null,null,null,null,null,null,null,null,"Unallocated",null,"%"]
[]
[]
[null,null,null,null,null,null,null,null,"Flushing"]
[null,null,null,null,null,null,null,null,"Pull plug / Static pit"]
[null,"Pig class","Pigs accommodated in piggery",null,null,"Shed type\n(waste management system)",null,null,"Deep litter",null,null,null,"Pig class","Pigs accommodated in piggery",null,null,"Shed type\n(waste management system)",null,null,null,null,null,null,"Pig class","Pigs accommodated in piggery",null,null,"Shed type\n(waste management system)",null,null,null,null,null,null,"Pig class","Pigs accommodated in piggery",null,null,"Shed type\n(waste management system)"]
[null,null,"Calculated values","Entered values","Adopted values",null,null,null,null,null,null,null,null,"Calculated values","Entered values","Adopted values",null,null,null,null,null,null,null,null,"Calculated values","Entered values","Adopted values",null,null,null,null,null,null,null,null,"Calculated values","Entered values","Adopted values"]
[null,null,"(pigs/stage)","(pigs/stage)","(pigs/stage)",null,null,null,null,null,null,null,null,"(pigs/stage)","(pigs/stage)","(pigs/stage)",null,null,null,null,null,null,null,null,"(pigs/stage)","(pigs/stage)","(pigs/stage)",null,null,null,null,null,null,null,null,"(pigs. stage-1)","(pigs. stage-1)","(pigs. stage-1)"]
[null,"Gilts",102.53011090615976,null,102.53011090615976,"Flushing",null,null,null,null,null,null,"Gilts",102.53011090615976,null,102.53011090615976,"Flushing",null,null,null,null,null,null,"Gilts",0,null,0,null,null,null,null,null,null,null,"Gilts",{"$f":"(BH76+BN76)/2","v":0},71,{"$f":"IF(AK76=\"\", AJ76,AK76)","v":71},"Flushing"]
[null,"Boars",10,null,10,"Flushing",null,null,null,null,null,null,"Boars",10,null,10,"Flushing",null,null,null,null,null,null,"Boars",0,null,0,null,null,null,null,null,null,null,"Boars",{"$f":"(BH77+BN77)/2","v":0},57,57,"Flushing"]
[null,"Gestating sows 1",850.08219178082197,null,850.08219178082197,"Flushing",null,null,null,null,null,null,"Gestating sows 1",850.08219178082197,null,850.08219178082197,"Flushing",null,null,null,null,null,null,"Gestating sows 1",0,null,0,null,null,null,null,null,null,null,"Gestating sows 1",{"$f":"(BH78+BN78)/2","v":0},846,846,"Flushing"]
[null,"Gestating sows 2",0,null,0,"Flushing",null,null,null,null,null,null,"Gestating sows 2",0,null,0,"Flushing",null,null,null,null,null,null,"Gestating sows 2",0,null,0,null,null,null,null,null,null,null,"Gestating sows 2",{"$f":"(BH79+BN79)/2","v":0},0,{"$f":"IF(AK79=\"\", AJ79,AK79)","v":0},"Flushing"]
[null,"Lactating sows",149.04126959954959,null,149.04126959954959,"Flushing",null,null,null,null,null,null,"Lactating sows",149.04126959954959,null,149.04126959954959,"Flushing",null,null,null,null,null,null,"Lactating sows",0,null,0,null,null,null,null,null,null,null,"Lactating sows",{"$f":"(BH80+BN80)/2","v":0},154,154,"Flushing"]
[null,"Suckers",1662.8883287671231,null,1662.8883287671231,"Flushing",null,null,null,null,null,null,"Suckers",1662.8883287671231,null,1662.8883287671231,"Flushing",null,null,null,null,null,null,"Suckers",0,null,0,null,null,null,null,null,null,null,"Suckers",{"$f":"IF('3. Herd Input'!AM83<>\"\", (BH81+BN81)/2,0)","v":0},1497,1497,"Flushing"]
[null,"Weaner",2957.369327544784,null,2957.369327544784,"Flushing",null,null,null,null,null,null,"Weaner",2957.369327544784,null,2957.369327544784,null,null,null,null,null,null,null,"Weaner",3102.827481559536,null,3102.827481559536,"Deep litter",null,null,null,null,null,null,"Weaner",{"$f":"IF('3. Herd Input'!AM84<>\"\", (BH82+BN82)/2,0)","v":0},2295,2295,"Flushing"]
[null,"Porker",1774.4648906608736,null,1774.4648906608736,"Flushing",null,null,null,null,null,null,"Porker",1774.4648906608736,null,1774.4648906608736,null,null,null,null,null,null,null,"Porker",1861.7419124908811,null,1861.7419124908811,"Flushing",null,null,null,null,null,null,"Grower",{"$f":"IF('3. Herd Input'!AM85<>\"\", (BH83+BN83)/2,0)","v":0},2129,2129,"Flushing"]
[null,"Grower",1755.3552687614488,null,1755.3552687614488,"Flushing",null,null,null,null,null,null,"Grower",1755.3552687614488,null,1755.3552687614488,null,null,null,null,null,null,null,"Grower",1841.6923842025178,null,1841.6923842025178,"Flushing",null,null,null,null,null,null,"Finisher",{"$f":"IF('3. Herd Input'!AM86<>\"\", (BH84+BN84)/2,0)","v":0},2759,2759,"Flushing"]
[null,"Finisher",1736.4514427901718,null,1736.4514427901718,"Flushing",null,null,null,null,null,null,"Finisher",1736.4514427901718,null,1736.4514427901718,null,null,null,null,null,null,null,"Finisher",1821.8587739111063,null,1821.8587739111063,"Flushing",null,null,null,null,null,null,"Unallocated",{"$f":"IF('3. Herd Input'!AM87<>\"\", (BH85+BN85)/2,0)","v":0},null,0]
[null,"Unallocated",0,null,0,null,null,null,null,null,null,null,"Unallocated",0,null,0,null,null,null,null,null,null,null,"Unallocated",0,null,0,null,null,null,null,null,null,null,"Unallocated",{"$f":"IF('3. Herd Input'!AM88<>\"\", (BH86+BN86)/2,0)","v":0},null,0]
[null,"Unallocated",0,null,0,null,null,null,null,null,null,null,"Unallocated",0,null,0,null,null,null,null,null,null,null,"Unallocated",0,null,0,null,null,null,null,null,null,null,"Unallocated",{"$f":"IF('3. Herd Input'!AM89<>\"\", (BH87+BN87)/2,0)","v":0},null,0]
[]
[null,"Totals:",{"$f":"SUM(C76:C87)","v":10998.182830810933},null,{"$f":"SUM(E76:E87)","v":10998.182830810933},null,null,null,null,null,null,null,"Totals:",{"$f":"SUM(N76:N87)","v":10998.182830810933},null,{"$f":"SUM(P76:P87)","v":10998.182830810933},null,null,null,null,null,null,null,"Totals:",{"$f":"SUM(Y76:Y87)","v":8628.1205521640404},null,{"$f":"SUM(AA76:AA87)","v":8628.1205521640404},null,null,null,null,null,null,null,"Totals:",{"$f":"SUM(AJ76:AJ87)","v":0},null,{"$f":"SUM(AL76:AL87)","v":9808}]
[null,null,null,null,null,null,null,null,"Not applicable"]
[null,null,null,null,null,null,null,null,"Hardwood sawdust"]
[null,"Bedding material","Not applicable",null,null,null,null,null,"Softwood sawdust/shavings",null,null,null,"Bedding material","Not applicable",null,null,null,null,null,null,null,null,null,"Bedding material","Barley straw",null,null,null,null,null,null,null,null,null,"Bedding material","Not applicable"]
[null,null,null,null,null,null,null,null,"Rice Hulls"]
[null,"Deep litter usage",0,"kg/SPU/day",null,null,null,null,"Barley straw",null,null,null,"Deep litter usage",0,"kg/SPU/day",null,null,null,null,null,null,null,null,"Deep litter usage",0.9,"kg/SPU/day",null,null,null,null,null,null,null,null,"Deep litter usage",null,"kg. SPU-1. day-1"]
[null,null,null,null,null,null,null,null,"Wheat straw"]
[null,null,null,null,null,null,null,null,"Shredded paper"]
[null,"Grower herd",null,null,null,null,null,null,null,null,"Rating:",null,"Grower herd",null,null,null,null,null,null,null,null,"Rating:",null,"Grower herd",null,null,null,null,null,null,null,null,"Rating:",null,"Grower herd"]
[null,"Average daily live weight gain (ADG):",null,null,675,"g/day [birth to 100 kg live weight]",null,null,null,null,{"$f":"IF(E98<550, \"Outside normal range\", IF(E98<'Growth curve sheet'!U113, 'Growth curve sheet'!S113,IF(E98<'Growth curve sheet'!U114,'Growth curve sheet'!S114,IF(E98<'Growth curve sheet'!U115, 'Growth curve sheet'!S115,IF(E98>800, \"Outside normal range\", 'Growth curve sheet'!S116)))))","v":0},null,"Average daily live weight gain (ADG):",null,null,675,"g/day [birth to 100 kg live weight]",null,null,null,null,{"$f":"IF(P98<550, \"Outside normal range\", IF(P98<'Growth curve sheet'!AF113, 'Growth curve sheet'!AD113,IF(P98<'Growth curve sheet'!AF114,'Growth curve sheet'!AD114,IF(P98<'Growth curve sheet'!AF115, 'Growth curve sheet'!AD115,IF(P98>800, \"Outside normal range\", 'Growth curve sheet'!AD116)))))","v":0},null,"Average daily live weight gain (ADG):",null,null,675,"g/day [birth to 100 kg live weight]",null,null,null,null,{"$f":"IF(AA98<550, \"Outside normal range\", IF(AA98<'Growth curve sheet'!AQ113, 'Growth curve sheet'!AO113,IF(AA98<'Growth curve sheet'!AQ114,'Growth curve sheet'!AO114,IF(AA98<'Growth curve sheet'!AQ115, 'Growth curve sheet'!AO115,IF(AA98>800, \"Outside normal range\", 'Growth curve sheet'!AO116)))))","v":0},null,"Average daily live weight gain (ADG):",null,null,{"$f":"'3. Herd Input'!AN117","v":0},"(g. day-1) [birth to 100 kg live weight]"]
[null,"Feed conversion ratio (FCR):",null,null,2.298,"(kg feed fed / kg live weight gain) [wean to 100 kg live weight]",null,null,null,null,{"$f":"IF(E99>5,\"Outside normal range\",IF(E99>'Growth curve sheet'!T157,'Growth curve sheet'!S157,IF(E99>'Growth curve sheet'!T158,'Growth curve sheet'!S158,IF(E99>'Growth curve sheet'!T159,'Growth curve sheet'!S159,IF(E99>'Growth curve sheet'!T160,'Growth curve sheet'!S160,IF(E99>='Growth curve sheet'!T161,'Growth curve sheet'!S161,\"Outside normal range\"))))))","v":0},null,"Feed conversion ratio (FCR):",null,null,2.298,"(kg feed fed / kg live weight gain) [wean to 100 kg live weight]",null,null,null,null,{"$f":"IF(P99>5,\"Outside normal range\",IF(P99>'Growth curve sheet'!AE157,'Growth curve sheet'!AD157,IF(P99>'Growth curve sheet'!AE158,'Growth curve sheet'!AD158,IF(P99>'Growth curve sheet'!AE159,'Growth curve sheet'!AD159,IF(P99>'Growth curve sheet'!AE160,'Growth curve sheet'!AD160,IF(P99>='Growth curve sheet'!AE161,'Growth curve sheet'!AD161,\"Outside normal range\"))))))","v":0},null,"Feed conversion ratio (FCR):",null,null,2.298,"(kg feed fed / kg live weight gain) [wean to 100 kg live weight]",null,null,null,null,{"$f":"IF(AA99>5,\"Outside normal range\",IF(AA99>'Growth curve sheet'!AP157,'Growth curve sheet'!AO157,IF(AA99>'Growth curve sheet'!AP158,'Growth curve sheet'!AO158,IF(AA99>'Growth curve sheet'!AP159,'Growth curve sheet'!AO159,IF(AA99>'Growth curve sheet'!AP160,'Growth curve sheet'!AO160,IF(AA99>='Growth curve sheet'!AP161,'Growth curve sheet'!AO161,\"Outside normal range\"))))))","v":0},null,"Feed conversion ratio (FCR):",null,null,2.85,"(kg feed fed / kg live weight gain) [wean to 100 kg live weight]"]
[null,"Estimated feed wastage (%):",null,null,{"$f":"'Growth curve sheet'!V136","v":0},"(based on feed intake estimates derived from Willis, 2025)",null,null,null,{"$f":"IF('Growth curve sheet'!W136<0, \"Outside realistic range\", 'Growth curve sheet'!W136)","v":0},"PRDC",null,"Estimated feed wastage (%):",null,null,{"$f":"'Growth curve sheet'!AG136","v":0},"(based on feed intake estimates derived from Willis, 2025)",null,null,null,{"$f":"IF('Growth curve sheet'!AH136<0, \"Outside realistic range\", 'Growth curve sheet'!AH136)","v":0},"PRDC",null,"Estimated feed wastage (%):",null,null,{"$f":"'Growth curve sheet'!AR136","v":0},"(based on feed intake estimates derived from Willis, 2025)",null,null,null,{"$f":"IF('Growth curve sheet'!AS136<0, \"Outside realistic range\", 'Growth curve sheet'!AS136)","v":0},"PRDC",null,"Estimated feed wastage (%):",null,null,{"$f":"'Growth curve sheet'!BC136","v":0},"(based on feed intake estimates derived from Willis, 2013)"]
[]
[null,"Pig class","Pigs accomodated in piggery","Average pig live weight","Feed wastage","Daily feed ingested",null,"Annual feed fed",null,null,null,null,"Pig class","Pigs accomodated in piggery","Average pig live weight","Feed wastage","Daily feed ingested",null,"Annual feed fed",null,null,null,null,"Pig class","Pigs accomodated in piggery","Average pig live weight","Feed wastage","Daily feed ingested",null,"Annual feed fed",null,null,null,null,"Pig class","Pigs accomodated in piggery","Average pig live weight","Feed wastage","Daily feed ingested",null,"Annual feed fed"]
[null,null,null,null,null,"Calculated /\ndefault values","Entered values","Calculated /\ndefault values","Entered values",null,null,null,null,null,null,null,"Calculated /\ndefault values","Entered values","Calculated /\ndefault values","Entered values",null,null,null,null,null,null,null,"Calculated /\ndefault values","Entered values","Calculated /\ndefault values","Entered values",null,null,null,null,null,null,null,"Calculated /\ndefault values","Entered values","Calculated /\ndefault values","Entered values"]
[null,null,"(pigs. stage-1)","(kg. pig-1)","(% as fed)","(kg. pig-1. day-1)","(kg. pig-1. day-1)","(t. yr-1)","(t. yr-1)",null,null,null,null,"(pigs. stage-1)","(kg. pig-1)","(% as fed)","(kg. pig-1. day-1)","(kg. pig-1. day-1)","(t. yr-1)","(t. yr-1)",null,null,null,null,"(pigs. stage-1)","(kg. pig-1)","(% as fed)","(kg. pig-1. day-1)","(kg. pig-1. day-1)","(t. yr-1)","(t. yr-1)",null,null,null,null,"(pigs. stage-1)","(kg. pig-1)","(% as fed)","(kg. pig-1. day-1)","(kg. pig-1. day-1)","(t. yr-1)","(t. yr-1)"]
[null,"Gilts",102.53011090615976,137.59041954930004,0.05,2.5,null,74.513837151235649,null,null,null,null,"Gilts",102.53011090615976,137.59041954930004,0.05,2.5,null,74.513837151235649,null,null,null,null,"Gilts",0,137.59041954930004,null,2.5,null,0,null,null,null,null,"Gilts",71,129.84491763840003,0.1,2.5,2.5,71.986111111111114]
[null,"Boars",10,207.59041954930004,0.05,2.2999999999999998,null,47.718947368421048,null,null,null,null,"Boars",10,207.59041954930004,0.05,2.2999999999999998,null,47.718947368421048,null,null,null,null,"Boars",0,207.59041954930004,null,2.2999999999999998,null,0,null,null,null,null,"Boars",57,199.84491763840003,0.05,2.2999999999999998,2.2999999999999998,50.37]
[null,"Gestating sows",850.08219178082197,187.5,0.05,2.2999999999999998,null,737.01684210526321,null,null,null,null,"Gestating sows",850.08219178082197,187.5,0.05,2.2999999999999998,null,737.01684210526321,null,null,null,null,"Gestating sows",0,187.5,null,2.2999999999999998,null,0,null,null,null,null,"Gestating sows",846,187.5,0.05,2.2999999999999998,2.2999999999999998,747.59684210526302]
[null,"Lactating sows",149.04126959954959,187.5,0.05,6.3,null,284.57653730353275,null,null,null,null,"Lactating sows",149.04126959954959,187.5,0.05,6.3,null,284.57653730353275,null,null,null,null,"Lactating sows",0,187.5,null,6.3,null,0,null,null,null,null,"Lactating sows",154,187.5,0.05,4.5,4.5,266.2578947368421]
[null,"Suckers 1",1662.8883287671231,4.05,0.05,1.7999999999999999E-2,null,40.07367,null,null,null,null,"Suckers 1",1662.8883287671231,4.05,0.05,1.7999999999999999E-2,null,40.07367,null,null,null,null,"Suckers 1",0,4.05,null,1.7999999999999999E-2,null,0,null,null,null,null,"Suckers 1",1497,4.7,0.1,0.05,0.05,30.355833333333333]
[null,"Weaner",2957.369327544784,18.350000000000001,0.05,0.80503999999999998,null,926.05851985515892,null,null,null,null,"Weaner",2957.369327544784,18.350000000000001,null,0.80503999999999998,null,926.05851985515892,null,null,null,null,"Weaner",3102.827481559536,18.350000000000001,0.05,{"$f":"IF(Y110=0, 0,  -0.00006*Z110^2 + 0.0334*Z110 + 0.1301)","v":0.72278665000000009},null,926.05851985515892,null,null,null,null,"Weaner",2295,16.5,0.15,0.73943029999999998,0.6,728.70856065000009]
[null,"Porker",1774.4648906608736,42.5,0.05,1.5812249999999999,null,1202.8294201996293,null,null,null,null,"Porker",1774.4648906608736,42.5,null,1.5812249999999999,null,1202.8294201996293,null,null,null,null,"Porker",1861.7419124908811,42.5,0.05,{"$f":"IF(Y111=0, 0,  -0.00006*Z111^2 + 0.0334*Z111 + 0.1301)","v":1.4412250000000002},null,1202.8294201996293,null,null,null,null,"Grower",2129,40,0.1,1.6023314999999998,1.5,1383.4975263083334]
[null,"Grower",1755.3552687614488,67.5,0.05,2.2362250000000001,null,1693.1938810275428,null,null,null,null,"Grower",1755.3552687614488,67.5,null,2.2362250000000001,null,1693.1938810275428,null,null,null,null,"Grower",1841.6923842025178,67.5,0.05,{"$f":"IF(Y112=0, 0,  -0.00006*Z112^2 + 0.0334*Z112 + 0.1301)","v":2.1112249999999997},null,1693.1938810275428,null,null,null,null,"Finisher",2759,77.5,0.1,2.6283989999999995,2.2999999999999998,2940.9886521833328]
[null,"Finisher",1736.4514427901718,92,0.05,2.8162250000000002,null,2032.7508560945348,null,null,null,null,"Finisher",1736.4514427901718,92,null,2.8162250000000002,null,2032.7508560945348,null,null,null,null,"Finisher",1821.8587739111063,92,0.05,{"$f":"IF(Y113=0, 0,  -0.00006*Z113^2 + 0.0334*Z113 + 0.1301)","v":2.6950600000000002},null,2032.7508560945348,null,null,null,null,"Unallocated",0,0,null,0,null,0]
[null,"Unallocated",0,0,null,0,null,0,null,null,null,null,"Unallocated",0,0,null,0,null,0,null,null,null,null,"Unallocated",0,0,null,0,null,0,null,null,null,null,"Unallocated",0,0,null,0,null,0]
[null,"Unallocated",0,0,null,0,null,0,null,null,null,null,"Unallocated",0,0,null,0,null,0,null,null,null,null,"Unallocated",0,0,null,{"$f":"IF(Y115=0, 0,  -0.00006*Z115^2 + 0.0334*Z115 + 0.1301)","v":0},null,0,null,null,null,null,"Unallocated",0,0,null,0,null,0]
[]
[null,"Totals:",{"$f":"SUM(C105:C115)","v":10998.182830810933},null,null,null,null,{"$f":"SUM(H105:H115)","v":7038.7325111053196},{"$f":"SUM(I105:I115)","v":0},null,null,null,"Totals:",{"$f":"SUM(N105:N115)","v":10998.182830810933},null,null,null,null,{"$f":"SUM(S105:S115)","v":7038.7325111053196},{"$f":"SUM(T105:T115)","v":0},null,null,null,"Totals:",{"$f":"SUM(Y105:Y115)","v":8628.1205521640404},null,null,null,null,{"$f":"SUM(AD105:AD115)","v":5854.8326771768661},{"$f":"SUM(AE105:AE115)","v":0},null,null,null,"Totals:",{"$f":"SUM(AJ105:AJ115)","v":9808},null,null,null,null,{"$f":"SUM(AO105:AO115)","v":6219.7614204282163},{"$f":"SUM(AP105:AP115)","v":0}]
[]
[]
[null,"Whole piggery Herd Feed Conversion (HFC):",null,null,null,null,"HFC",null,null,null,null,null,"Whole piggery Herd Feed Conversion (HFC):",null,null,null,null,"HFC",null,null,null,null,null,"Whole piggery Herd Feed Conversion (HFC):",null,null,null,null,"HFC"]
[null,"Total feed fed:",6610.5889441189802,"t. yr-1 (as fed)",null,null,null,null,null,null,null,null,"Total feed fed:",1230.2651863126746,"t. yr-1 (as fed)",null,null,null,null,null,null,null,null,"Total feed fed:",5644.4122022055471,"t. yr-1 (as fed)"]
[null,"Total pigs sold:",2562544.7433996429,"kg live weight. yr-1",null,2.5796969832998631,"kg feed fed / kg live weight sold","kg feed fed / kg live weight sold",null,null,null,null,"Total pigs sold:",251806.04,"kg live weight. yr-1",null,4.8857651957541384,"kg feed fed / kg live weight sold","kg feed fed / kg live weight sold",null,null,null,null,"Total pigs sold:",2598272.3424890824,"kg live weight. yr-1",null,2.1723712752906943,"kg feed fed / kg live weight sold","kg feed fed / kg live weight sold"]
[null,null,1947534.0049837288,"kg dressed weight. yr-1",null,3.3943381359208722,"kg feed fed / kg dressed weight sold","kg feed fed / kg dressed weight sold",null,null,null,null,null,191372.59040000002,"kg dressed weight. yr-1",null,6.4286384154659721,"kg feed fed / kg dressed weight sold","kg feed fed / kg dressed weight sold",null,null,null,null,null,1974686.9802917028,"kg dressed weight. yr-1",null,2.8583832569614396,"kg feed fed / kg dressed weight sold","kg feed fed / kg dressed weight sold"]
[]
[]
[]
[]
[]
[null,"Drinking water and wastage",null,null,null,null,null,null,null,null,null,null,"Drinking water and wastage",null,null,null,null,null,null,null,null,null,null,"Drinking water and wastage",null,null,null,null,null,null,null,null,null,null,"Drinking water and wastage"]
[]
[null,"Pig class","No of pigs","Feed ingested","Wf 1","Tf 1","Calc water intake","Calc water intake","Calc water intake","Wastage","Wastage",null,"Pig class","No of pigs","Feed ingested","Wf 1","Tf 1","Calc water intake","Calc water intake","Calc water intake","Wastage","Wastage",null,"Pig class","No of pigs","Feed ingested","Wf 1","Tf 1","Calc water intake","Calc water intake","Calc water intake","Wastage","Wastage",null,"Pig class","No of pigs","Feed ingested\n(as fed)","Wf 1","Tf 1","Calc water intake","Calc water intake","Calc water intake","Wastage","Wastage"]
[null,null,"(pigs/stage)","(kg 'as fed'/pig/day)",null,null,"(L/pig/day)","(L/day)","(L/year)","(%)","(L/pig/day)",null,null,"(pigs/stage)","(kg 'as fed'/pig/day)",null,null,"(L/pig/day)","(L/day)","(L/year)","(%)","(L/pig/day)",null,null,"(pigs/stage)","(kg 'as fed'/pig/day)",null,null,"(L/pig/day)","(L/day)","(L/year)","(%)","(L/pig/day)",null,null,"(pigs. stage-1)","(kg. pig-1. day-1)",null,null,"(L. pig-1. day-1)","(L. day-1)","(L. yr-1)","(%)","(L. pig-1. day-1)"]
[null,"Gilts",102.53011090615976,2.5,2.5,1.2,7.5,768.97583179619824,280676.17860561237,0.25,1.875,null,"Gilts",102.53011090615976,2.5,2.5,1.2,7.5,764.9371334209045,279202.05369863013,0.25,1.875,null,"Gilts",0,2.5,2.5,1.2,7.5,0,0,null,0,null,"Gilts",71,2.5,2.5,1.2,7.5,532.5,194362.5,0.05,0.375]
[null,"Boars",10,2.2999999999999998,2.5,1.2,6.8999999999999995,69,25185,0.25,1.7249999999999999,null,"Boars",10,2.2999999999999998,2.5,1.2,6.8999999999999995,69,25185,0.25,1.7249999999999999,null,"Boars",0,2.2999999999999998,2.5,1.2,6.8999999999999995,0,0,null,0,null,"Boars",57,2.2999999999999998,2.5,1.2,6.9,393.3,143554.5,0.05,0.34499999999999997]
[null,"Gestating sows",850.08219178082197,2.2999999999999998,2.8,1.5,9.66,8211.7939726027398,2997304.8,0.25,2.415,null,"Gestating sows",850.08219178082197,2.2999999999999998,2.8,1.5,9.66,8211.7939726027398,2997304.8,0.25,2.415,null,"Gestating sows",0,2.2999999999999998,2.8,1.5,9.66,0,0,null,0,null,"Gestating sows",846,2.2999999999999998,2.8,1.5,7.7279999999999989,6537.887999999999,2386329.12,0.05,0.38639999999999997]
[null,"Lactating sows",149.04126959954959,6.3,4.5,1.6,45.36,6760.5119890355691,2467586.8759979829,0.25,11.34,null,"Lactating sows",149.04126959954959,4.5,4.5,1.6,45.36,6760.5119890355691,2467586.8759979829,0.25,11.34,null,"Lactating sows",0,4.5,4.5,1.6,45.36,0,0,null,0,null,"Lactating sows",154,4.5,4.5,1.6,20.16,3104.64,1133193.6000000001,0.05,1.008]
[null,"Suckers",1662.8883287671231,1.7999999999999999E-2,4,1,7.1999999999999995E-2,119.72795967123285,43700.705279999995,0.25,1.7999999999999999E-2,null,"Suckers",1662.8883287671231,0.85,4,1,7.1999999999999995E-2,119.72795967123285,43700.705279999995,0.25,1.7999999999999999E-2,null,"Suckers",0,0.85,4,1,7.1999999999999995E-2,0,0,null,0,null,"Suckers",1497,0.05,4,1,0.15,224.55,81960.75,0.05,7.4999999999999997E-3]
[null,"Weaner",2957.369327544784,0.80503999999999998,3,1,2.4151199999999999,7142.4018103399585,2606976.6607740847,0.25,0.60377999999999998,null,"Unallocated",2957.369327544784,0,3,1,0,0,0,null,0,null,"Weaner",3102.827481559536,0.81350487350000011,3,1,2.4151199999999999,7493.7007072640663,2735200.7581513841,0.25,0.60377999999999998,null,"Weaner",2295,0.6,3,1,1.8,4131,1507815,0.05,0.09]
[null,"Porker",1774.4648906608736,1.5812249999999999,2.5,1.2,4.7436749999999996,8417.4847402057185,3072381.9301750874,0.25,1.1859187499999999,null,"Unallocated",1774.4648906608736,0,2.5,1.2,0,0,0,null,0,null,"Porker",1861.7419124908811,1.6841584999999999,2.5,1.2,4.7436749999999996,8831.4985667351793,3223496.9768583407,0.25,1.1859187499999999,null,"Grower",2129,1.5,2.5,1.2,4.5,9580.5,3496882.5,0.05,0.22500000000000001]
[null,"Grower",1755.3552687614488,2.2362250000000001,2.5,1.4,7.8267875000000009,13738.792675601249,5014659.3265944561,0.25,1.9566968750000002,null,"Unallocated",1755.3552687614488,0,2.5,1.4,0,0,0,null,0,null,"Grower",1841.6923842025178,2.3969659999999999,2.5,1.4,7.8267875000000009,14414.534931521466,5261305.2500053355,0.25,1.9566968750000002,null,"Finisher",2759,2.2999999999999998,2.5,1.4,6.9,19037.099999999999,6948541.4999999991,0.05,0.34499999999999997]
[null,"Finisher",1736.4514427901718,2.8162250000000002,2.5,1.4,9.8567874999999994,17115.832875651129,6247278.999612662,0.25,2.4641968749999998,null,"Unallocated",1736.4514427901718,0,2.5,1.4,0,0,0,null,0,null,"Finisher",1821.8587739111063,2.9094814999999996,2.5,1.4,9.8567874999999994,17957.674789452318,6554551.2981500961,0.25,2.4641968749999998,null,"Unallocated",0,0,2.5,1.4,0,0,0,null,0]
[null,"Unallocated",0,0,2.5,1.4,0,0,0,null,0,null,"Unallocated",0,0,2.5,1.4,0,0,0,null,0,null,"Unallocated",0,0,2.5,1.4,0,0,0,null,0,null,"Unallocated",0,0,2.5,1.4,0,0,0,null,0]
[null,"Unallocated",0,0,2.5,1.4,0,0,0,null,0,null,"Unallocated",0,0,2.5,1.4,0,0,0,null,0,null,"Unallocated",0,0,2.5,1.4,0,0,0,null,0,null,"Unallocated",0,0,2.5,1.4,0,0,0,null,0]
[]
[null,"Totals:",{"$f":"SUM(C133:C143)","v":10998.182830810933},null,null,null,null,{"$f":"SUM(H133:H143)","v":62344.521854903796},{"$f":"SUM(I133:I143)","v":22755750.477039889},null,null,null,"Totals:",{"$f":"SUM(N133:N143)","v":10998.182830810933},null,null,null,null,{"$f":"SUM(S133:S143)","v":15925.971054730446},{"$f":"SUM(T133:T143)","v":5812979.4349766131},null,null,null,"Totals:",{"$f":"SUM(Y133:Y143)","v":8628.1205521640404},null,null,null,null,{"$f":"SUM(AD133:AD143)","v":48697.408994973026},{"$f":"SUM(AE133:AE143)","v":17774554.283165157},null,null,null,"Totals:",{"$f":"SUM(AJ133:AJ143)","v":9808},null,null,null,null,{"$f":"SUM(AO133:AO143)","v":43541.477999999996},{"$f":"SUM(AP133:AP143)","v":15892639.469999999}]
[]
[null,"1 McGahan et al (2012) Report to APL - Piggery water balance for LCA project, FSA Consulting",null,null,null,null,null,null,null,null,null,null,"1 McGahan et al (2012) Report to APL - Piggery water balance for LCA project, FSA Consulting",null,null,null,null,null,null,null,null,null,null,"1 Wiedemann et al. (2012) Energy, Water and Greenhouse Gas Emissions in Australian Pork Supply Chains: A Life Cycle Assessment, Pork CRC.",null,null,null,null,null,null,null,null,null,null,"1 Wiedemann et al. (2012)"]
[null,"2 Taylor, Kruger and Ferrier (1994) Plan It - Build It, Australian pig housing series, NSW Agriculture.",null,null,null,null,null,null,null,null,null,null,"2 Taylor, Kruger and Ferrier (1994) Plan It - Build It, Australian pig housing series, NSW Agriculture.",null,null,null,null,null,null,null,null,null,null,"2 Taylor, Kruger and Ferrier (1994) Plan It - Build It, Australian pig housing series, NSW Agriculture.",null,null,null,null,null,null,null,null,null,null,"2 Taylor, Kruger and Ferrier (1994)"]
[]
[null,"Cleaning water",null,null,null,null,"Spray and drip cooling water",null,null,null,null,null,"Cleaning water",null,null,null,null,"Spray and drip cooling water",null,null,null,null,null,"Cleaning water",null,null,null,null,"Spray and drip cooling water",null,null,null,null,null,"Cleaning water",null,null,null,null,"Spray and drip cooling water"]
[null,"Cleaning system","Medium flush",null,null,null,"Water cooling operation time",null,null,540,"hr/year",null,"Cleaning system","Medium flush",null,null,null,"Water cooling operation time",null,null,540,"hr/year",null,"Cleaning system","Medium flush",null,null,null,"Water cooling operation time",null,null,540,"hr/year",null,"Cleaning system","Medium flush",null,null,null,"Water cooling operation time",null,null,540,"hr. yr-1"]
[null,null,"TS","VS",null,null,null,null,null,null,null,null,null,"TS","VS",null,null,null,null,null,null,null,null,null,"TS","VS",null,null,null,null,null,null,null,null,null,"TS","VS"]
[null,"Shed effluent TS conc",0.02,1.3999999999999999E-2,"%",null,null,null,null,null,null,null,"Shed effluent TS conc",0.02,1.3999999999999999E-2,"%",null,null,null,null,null,null,null,"Shed effluent TS conc",0.02,1.3999999999999999E-2,"%",null,null,null,null,null,null,null,"Shed effluent TS conc",0.02,1.3999999999999999E-2,"%"]
[null,"Recycled effluent TS conc",5.0000000000000001E-3,2E-3,"%",null,null,null,null,null,null,null,"Recycled effluent TS conc",5.0000000000000001E-3,2E-3,"%",null,null,null,null,null,null,null,"Recycled effluent TS conc",5.0000000000000001E-3,2E-3,"%",null,null,null,null,null,null,null,"Recycled effluent TS conc",5.0000000000000001E-3,2E-3,"%"]
[null,null,null,null,null,null,"Annual clean water requirement",null,null,null,null,null,null,null,null,null,null,"Annual clean water requirement",null,null,null,null,null,null,null,null,null,null,"Annual clean water requirement",null,null,null,null,null,null,null,null,null,null,"Annual clean water requirement"]
[null,"Shed effluent TS",4258.973700246921,3574.1175137974083,"kg/day",null,"Drinking",null,19.533305111134403,"ML/year",null,null,"Shed effluent TS",4258.973700246921,3574.1175137974083,"kg/day",null,"Drinking",null,19.533305111134403,"ML/year",null,null,"Shed effluent TS",2982.7037083202104,2518.2519672071003,"kg/day",null,"Drinking",null,15.632107096194748,"ML/year",null,null,"Shed effluent TS",3140.7989047613682,2569.4553548915833,"kg. day-1",null,"Drinking",null,15.892639469999999,"ML. yr-1"]
[null,"Total effluent out of shed",212948.68501234605,255294.10812838632,"L/day",null,"Drinker waste",null,4.8833262777836008,"ML/year",null,null,"Total effluent out of shed",212948.68501234605,255294.10812838632,"L/day",null,"Drinker waste",null,4.8833262777836008,"ML/year",null,null,"Total effluent out of shed",149135.18541601053,179875.1405147929,"L/day",null,"Drinker waste",null,3.9080267740486869,"ML/year",null,null,"Total effluent out of shed",157039.94523806841,183532.52534939881,"L. day-1",null,"Drinker waste",null,0.79463197349999992,"ML. yr-1"]
[null,"Total water out of shed",208689.71131209913,251719.9906145889,"L/day",null,"Cleaning",null,29.460987041310226,"ML/year",null,null,"Total water out of shed",208689.71131209913,251719.9906145889,"L/day",null,"Cleaning",null,29.460987041310226,"ML/year",null,null,"Total water out of shed",146152.48170769031,177356.88854758581,"L/day",null,"Cleaning",null,19.8092331124381,"ML/year",null,null,"Total water out of shed",153899.14633330703,180963.06999450724,"L. day-1",null,"Cleaning",null,23.137297704893861,"ML. yr-1"]
[null,null,null,null,null,null,"Cooling",null,1.4692326014253032,"ML/year",null,null,null,null,null,null,null,"Cooling",null,1.4692326014253032,"ML/year",null,null,null,null,null,null,null,"Cooling",null,1.2867774710796205,"ML/year",null,null,null,null,null,null,null,"Cooling",null,1.0551465,"ML. yr-1"]
[null,"Manure TS",2531.5354760923974,1959.4784643161245,"kg/day",null,null,null,null,null,null,null,"Manure TS",2531.5354760923974,1959.4784643161245,"kg/day",null,null,null,null,null,null,null,"Manure TS",2008.7985741782072,1567.9622647417639,"kg/day",null,null,null,null,null,null,null,"Manure TS",1863.6150368044168,1376.6575913589566,"kg. day-1"]
[null,"Waste feed TS",1814.3560547718077,1725.1787664028534,"kg/day",null,"Total:",null,55.346851031653536,"ML/year",null,null,"Waste feed TS",1814.3560547718077,1725.1787664028534,"kg/day",null,"Total:",null,55.346851031653536,"ML/year",null,null,"Waste feed TS",1565.6083162810842,1489.5357544934027,"kg/day",null,"Total:",null,40.636144453761148,"ML/year",null,null,"Waste feed TS",1341.2818047888156,1272.2654549210263,"kg. day-1",null,"Total:",null,40.879715648393862,"ML. yr-1"]
[null,"Manure moisture content",0.93,null,"%",null,null,null,null,null,null,null,"Manure moisture content",0.93,null,"%",null,null,null,null,null,null,null,"Manure moisture content",0.93,null,"%",null,null,null,null,null,null,null,"Manure moisture content",0.93,null,"%"]
[null,"Manure water",33633.257039513301,null,"L/day",null,null,null,"High flush",null,null,null,"Manure water",33633.257039513301,null,"L/day",null,null,null,null,null,null,null,"Manure water",26688.323914081917,null,"L/day",null,null,null,null,null,null,null,"Manure water",24759.456917544412,null,"L. day-1"]
[null,"Waste feed moisture content",0.12,null,"%",null,null,null,"Medium flush",null,null,null,"Waste feed moisture content",0.12,null,"%",null,null,null,null,null,null,null,"Waste feed moisture content",0.12,null,"%",null,null,null,null,null,null,null,"Waste feed moisture content",0.12,null,"%"]
[null,"Waste feed water",247.41218928706468,null,"L/day",null,null,null,"Low flush",null,null,null,"Waste feed water",247.41218928706468,null,"L/day",null,null,null,null,null,null,null,"Waste feed water",213.49204312923877,null,"L/day",null,null,null,null,null,null,null,"Waste feed water",182.90206428938396,null,"L. day-1"]
[null,"Drinker waste water",13378.976103516714,null,"L/day",null,null,null,null,null,null,null,"Drinker waste water",13378.976103516714,null,"L/day",null,null,null,null,null,null,null,"Drinker waste water",10706.922668626539,null,"L/day",null,null,null,null,null,null,null,"Drinker waste water",2177.0738999999999,null,"L. day-1"]
[null,"Flushing / hosing water",161430.06597978206,null,"L/day",null,null,null,null,null,null,null,"Flushing / hosing water",161430.06597978206,null,"L/day",null,null,null,null,null,null,null,"Flushing / hosing water",108543.74308185262,null,"L/day",null,null,null,null,null,null,null,"Flushing / hosing water",126779.71345147322,null,"L. day-1"]
[null,null,58921974.082620449,null,"L/year",null,null,null,null,null,null,null,null,58921974.082620449,null,"L/year",null,null,null,null,null,null,null,null,39618466.224876203,null,"L/year",null,null,null,null,null,null,null,null,46274595.409787722,null,"L. day-1"]
[null,null,14.911342978927998,null,"L/pig/day",null,null,null,null,null,null,null,null,14.911342978927998,null,"L/pig/day",null,null,null,null,null,null,null,null,13.665211564907864,null,"L/pig/day",null,null,null,null,null,null,null,null,12.926153492197514,null,"L. pig-1. day-1"]
[null,"% flushing / hosing water supplied from recycled effluent",0.5,null,"%",null,null,null,null,null,null,null,"% flushing / hosing water supplied from recycled effluent",0.5,null,"%",null,null,null,null,null,null,null,"% flushing / hosing water supplied from recycled effluent",0.5,null,"%",null,null,null,null,null,null,null,"% flushing / hosing water supplied from recycled effluent",0.5,null,"%"]
[]
[]
[]
[null,"Effluent pre-treatment system",null,"None",null,null,null,null,null,null,null,null,"Effluent pre-treatment system",null,"None",null,null,null,null,null,null,null,null,"Effluent pre-treatment system",null,"None",null,null,null,null,null,null,null,null,"Effluent pre-treatment system",null,"None"]
[]
[]
[null,"Effluent TS entering primary pond",3296.0896034698035,"kg TS. day-1",null,null,null,null,null,null,null,null,"Effluent TS entering primary pond",4258.973700246921,"kg TS. day-1",null,null,null,null,null,null,null,null,"Effluent TS entering primary pond",4258.973700246921,"kg TS. day-1",null,null,null,null,null,null,null,null,"Effluent TS entering primary pond",3140.7989047613682,"kg TS. day-1"]
[null,"Effluent VS entering primary pond",2480.0255453580062,"kg VS. day-1",null,null,null,null,null,null,null,null,"Effluent VS entering primary pond",3574.1175137974083,"kg VS. day-1",null,null,null,null,null,null,null,null,"Effluent VS entering primary pond",3574.1175137974083,"kg VS. day-1",null,null,null,null,null,null,null,null,"Effluent VS entering primary pond",2569.4553548915833,"kg VS. day-1"]
[null,"Piggery State",null,null,null,null,null,null,null,null,null,null,"Piggery State",null,null,null,null,null,null,null,null,null,null,"Piggery State",null,null,null,null,null,null,null,null,null,null,"Piggery State"]
[null,"Piggery locality",null,null,null,null,null,null,null,null,null,null,"Piggery locality",null,null,null,null,null,null,null,null,null,null,"Piggery locality",null,null,null,null,null,null,null,null,null,null,"Piggery locality"]
[null,"Suggested anaerobic pond activity ratio, k",0.82,"(based on selected locality)",null,null,null,null,null,null,null,null,"Suggested anaerobic pond activity ratio, k","","(based on selected locality)",null,null,null,null,null,null,null,null,"Suggested anaerobic pond activity ratio, k","","(based on selected locality)",null,null,null,null,null,null,null,null,"Suggested anaerobic pond activity ratio, k","","(based on selected locality)"]
[null,"Climate (Table 12.1 NEGP)","Warm",null,null,null,null,null,null,null,null,null,"Climate","Warm",null,null,null,null,null,null,null,null,null,"Climate","Warm",null,null,null,null,null,null,null,null,null,"Climate","Warm"]
[null,"Suggested anaerobic pond activity ratio, k",0.8,"(based on selected climate)",null,null,null,null,null,null,null,null,"Suggested anaerobic pond activity ratio, k",0.8,"(based on selected climate)",null,null,null,null,null,null,null,null,"Suggested anaerobic pond activity ratio, k",0.8,"(based on selected climate)",null,null,null,null,null,null,null,null,"Suggested anaerobic pond activity ratio, k",0.8,"(based on selected climate)"]
[null,"User selected anaerobic pond activity ratio, k",null,null,null,null,null,null,null,null,null,null,"User selected anaerobic pond activity ratio, k",null,null,null,null,null,null,null,null,null,null,"User selected anaerobic pond activity ratio, k",null,null,null,null,null,null,null,null,null,null,"User selected anaerobic pond activity ratio, k"]
[]
[null,"Pond design philosophy","Conventional 'large'",null,null,null,null,null,null,null,null,null,"Pond design philosophy","Conventional 'large'",null,null,null,null,null,null,null,null,null,"Pond design philosophy","Conventional 'large'",null,null,null,null,null,null,null,null,null,"Pond design philosophy","Conventional 'large'"]
[null,"Suggested max baseline VS loading rate",0.4,"kg VS. m-3. day-1",null,null,null,null,null,null,null,null,"Suggested baseline VS loading rate",0.1,"kg VS. m-3. day-1",null,null,null,null,null,null,null,null,"Suggested baseline VS loading rate",0.1,"kg VS. m-3. day-1",null,null,null,null,null,null,null,null,"Suggested baseline VS loading rate",0.1,"kg VS. m-3. day-1"]
[null,"Suggested adjusted max VS loading rate",0.32800000000000001,"kg VS. m-3. day-1",null,null,null,null,null,null,null,null,"Suggested adjusted VS loading rate",0.08,"kg VS. m-3. day-1",null,null,null,null,null,null,null,null,"Suggested adjusted VS loading rate",0.08,"kg VS. m-3. day-1",null,null,null,null,null,null,null,null,"Suggested adjusted VS loading rate",0.08,"kg VS. m-3. day-1"]
[null,"Suggested min active treatment volume (based on VS loading)",7561.0534919451402,"m3"]
[null,"Suggested minimum hydraulic retention time (HRT)",30,"days",null,null,null,null,null,null,null,null,"User selected VS loading rate",0.08,"kg VS. m-3. day-1",null,null,null,null,null,null,null,null,"User selected VS loading rate",0.08,"kg VS. m-3. day-1",null,null,null,null,null,null,null,null,"User selected VS loading rate",0.08,"kg VS. m-3. day-1"]
[null,"Effluent volume discharged to pond",206.00560021686269,"m3. day-1"]
[null,"Suggested min active treatment volume (based on HRT)",6180.1680065058808,"m3",null,null,null,null,null,null,null,null,"Adopted anaerobic pond VS loading rate",0.08,"kg VS. m-3. day-1",null,null,null,null,null,null,null,null,"Adopted anaerobic pond VS loading rate",0.08,"kg VS. m-3. day-1",null,null,null,null,null,null,null,null,"Adopted anaerobic pond VS loading rate",0.08,"kg VS. m-3. day-1"]
[null,"Suggested min active treatment volume (based on VS loading and HRT)",7561.0534919451402,"m3",null,null,null,null,null,null,null,null,"Required active treatment volume, Va",44676.468922467604,"m3",null,null,null,null,null,null,null,null,"Required active treatment volume, Va",44676.468922467604,"m3",null,null,null,null,null,null,null,null,"Required active treatment volume, Va",32118.191936144791,"m3"]
[null,null,null,null,null,null,null,null,null,null,null,null,"Minimum hydraulic retention time (HRT)",209.79922425854573,"days",null,null,null,null,null,null,null,null,"Minimum hydraulic retention time (HRT)",209.79922425854573,"days",null,null,null,null,null,null,null,null,"Minimum hydraulic retention time (HRT)",204.52243464205532,"days"]
[null,"Sludge accumulation rate",1.3699999999999999E-3,"m3. kg TS-1",null,null,null,null,null,null,null,null,"",null,null,null,null,null,null,null,null,null,null,"",null,null,null,null,null,null,null,null,null,null,""]
[null,"Desludging interval",5,"years",null,null,null,null,null,null,null,null,"Sludge accumulation rate",3.0300000000000001E-3,"m3. kg TS-1",null,null,null,null,null,null,null,null,"Sludge accumulation rate",3.0300000000000001E-3,"m3. kg TS-1",null,null,null,null,null,null,null,null,"Sludge accumulation rate",3.0300000000000001E-3,"m3. kg TS-1"]
[null,"Suggested sludge storage volume, Vs",3296.4192124301503,"m3",null,null,null,null,null,null,null,null,"Desludging interval",5,"years",null,null,null,null,null,null,null,null,"Desludging interval",5,"years",null,null,null,null,null,null,null,null,"Desludging interval",5,"years"]
[null,"Suggested treatment + sludge volume, Vt",10857.47270437529,"m3",null,null,null,null,null,null,null,null,"Required sludge storage volume, Vs",23551.059818940412,"m3",null,null,null,null,null,null,null,null,"Required sludge storage volume, Vs",23551.059818940412,"m3",null,null,null,null,null,null,null,null,"Required sludge storage volume, Vs",17367.832743604176,"m3"]
[]
[null,"User selected total pond volume, Vt",46000,"m3",null,null,null,null,null,null,null,null,"Required treatment + sludge volume, Vt",68227.528741408023,"m3",null,null,null,null,null,null,null,null,"Required treatment + sludge volume, Vt",68227.528741408023,"m3",null,null,null,null,null,null,null,null,"Required treatment + sludge volume, Vt",49486.024679748967,"m3"]
[null,"Resulting active treatment volume, Va",7703.5807875698501,"m3",null,null,null,null,null,null,null,null,"Maximum hydraulic retention time (HRT)",320.39422425854576,"days",null,null,null,null,null,null,null,null,"Maximum hydraulic retention time (HRT)",320.39422425854576,"days",null,null,null,null,null,null,null,null,"Maximum hydraulic retention time (HRT)",315.11743464205529,"days"]
[null,"Minimum anaerobic pond VS loading rate",0.22545686775981874,"kg VS. m-3. day-1",null,null,null,null,null,null,null,null,"Min anaerobic pond VS loading rate",5.2385269988948581E-2,"kg VS. m-3. day-1",null,null,null,null,null,null,null,null,"Min anaerobic pond VS loading rate",5.2385269988948581E-2,"kg VS. m-3. day-1",null,null,null,null,null,null,null,null,"Min anaerobic pond VS loading rate",5.1922848350012533E-2,"kg VS. m-3. day-1"]
[null,"Maximum anaerobic pond VS loading rate",0.32193152947258802,"kg VS. m-3. day-1"]
[null,"Minimum hydraulic retention time (HRT)",37.395006637976195,"days",null,null,null,null,null,null,null,null,"Total storage depth",5,"m",null,null,null,null,null,null,null,null,"Total storage depth",5,"m",null,null,null,null,null,null,null,null,"Total storage depth",5,"m"]
[null,"Maximum hydraulic retention time (HRT)",53.396606637976191,"days",null,null,null,null,null,null,null,null,"Batter - lengthwise, (1 vertical : Z horizontal)",2.5,null,null,null,null,null,null,null,null,null,"Batter - lengthwise, (1 vertical : Z horizontal)",2.5,null,null,null,null,null,null,null,null,null,"Batter - lengthwise, (1 vertical : Z horizontal)",2.5]
[null,{"$f":"IF(C200>C198, \"\", \"WARNING: Excessive VS loading rate or insufficient HRT\")","v":""},null,null,null,null,null,null,null,null,null,null,"Batter - breadthwise, (1 vertical : Z horizontal)",2.5,null,null,null,null,null,null,null,null,null,"Batter - breadthwise, (1 vertical : Z horizontal)",2.5,null,null,null,null,null,null,null,null,null,"Batter - breadthwise, (1 vertical : Z horizontal)",2.5]
[null,"Total storage depth",5,"m",null,null,null,null,null,null,null,null,"Freeboard - full storage level to crest",0.5,"m",null,null,null,null,null,null,null,null,"Freeboard - full storage level to crest",0.5,"m",null,null,null,null,null,null,null,null,"Freeboard - full storage level to crest",0.5,"m"]
[null,"Batter - lengthwise, (1 vertical : Z horizontal)",2.5,null,null,null,null,null,null,null,null,null,"Length - at embankment crest",200,"m",null,null,null,null,null,null,null,null,"Length - at embankment crest",200,"m",null,null,null,null,null,null,null,null,"Length - at embankment crest",200,"m"]
[null,"Batter - breadthwise, (1 vertical : Z horizontal)",2.5,null,null,null,null,null,null,null,null,null,"Breadth - at embankment crest",88.477958999720386,"m",null,null,null,null,null,null,null,null,"Breadth - at embankment crest",88.477958999720386,"m",null,null,null,null,null,null,null,null,"Breadth - at embankment crest",68.216873527656546,"m"]
[null,"Freeboard - full storage level to crest",0.5,"m",null,null,null,null,null,null,null,null,"Length - at full storage level",197.5,"m",null,null,null,null,null,null,null,null,"Length - at full storage level",197.5,"m",null,null,null,null,null,null,null,null,"Length - at full storage level",197.5,"m"]
[null,"Length - at embankment crest",160,"m",null,null,null,null,null,null,null,null,"Breadth - at full storage level",85.977958999720386,"m",null,null,null,null,null,null,null,null,"Breadth - at full storage level",85.977958999720386,"m",null,null,null,null,null,null,null,null,"Breadth - at full storage level",65.716873527656546,"m"]
[null,"Breadth - at embankment crest",30.842767295597483,"m",null,null,null,null,null,null,null,null,"Length - at base",172.5,"m",null,null,null,null,null,null,null,null,"Length - at base",172.5,"m",null,null,null,null,null,null,null,null,"Length - at base",172.5,"m"]
[null,"Length - at full storage level",118,"m",null,null,null,null,null,null,null,null,"Breadth - at base",60.977958999720386,"m",null,null,null,null,null,null,null,null,"Breadth - at base",60.977958999720386,"m",null,null,null,null,null,null,null,null,"Breadth - at base",40.716873527656546,"m"]
[null,"Breadth - at full storage level",28.842767295597483,"m",null,null,null,null,null,null,null,null,"",null,null,null,null,null,null,null,null,null,null,"",null,null,null,null,null,null,null,null,null,null,""]
[null,"Length - at top of sludge storage",106.01600000000001,"m",null,null,null,null,null,null,null,null,"Max sludge depth - above base",2.008,"m",null,null,null,null,null,null,null,null,"Max sludge depth - above base",2.008,"m",null,null,null,null,null,null,null,null,"Max sludge depth - above base",2.12,"m"]
[null,"Breadth - at top of sludge storage",16.858767295597481,"m",null,null,null,null,null,null,null,null,"Min depth to top of sludge - below bywash level",2.992,"m",null,null,null,null,null,null,null,null,"Min depth to top of sludge - below bywash level",2.992,"m",null,null,null,null,null,null,null,null,"Min depth to top of sludge - below bywash level",2.88,"m"]
[null,"Length - at base",94,"m",null,null,null,null,null,null,null,null,"Liner area - to bywash level",17478.429968578013,"m2",null,null,null,null,null,null,null,null,"Liner area - to bywash level",17478.429968578013,"m2",null,null,null,null,null,null,null,null,"Liner area - to bywash level",13437.846302454491,"m2"]
[null,"Breadth - at base",4.8427672955974828,"m"]
[null,{"$f":"IF(OR(C217<0,C218< 0), \"WARNING - Negative dimensions.  Adjust storage depth or length.\", \"\")","v":""}]
[null,"Max sludge depth - above base",3.004,"m"]
[null,"Min depth to top of sludge - below bywash level",2.996,"m"]
[]
[null,"Liner area - to bywash level",3751.4374643918914,"m2"]
[null,"Cover additional anchorage allowance",3,"m"]
[null,"Cover length",126.23606797749979,"m"]
[null,"Cover breadth",37.078835273097269,"m"]
[null,"Cover area - trenched into bank",4680.6863700612239,"m2"]

{"sheet":"GHG Output - Scope 1 2 3","index":28,"n_rows":23,"n_cols":6,"rows_kept":23,"cut":false,"hidden":true,"merged":[[1,0,1,7]]}
[]
["19. GHG Output - Scope 1 & 2"]
[]
[]
["Total Piggery emissions - t CO2-e","Scope 1 emissions","Scope 2 emissions","Scope 3 emissions","Total","Contribution Analysis"]
["Enteric methane",{"$f":"'Enteric Emissions'!B31","v":382.07817538921864},null,null,{"$f":"SUM(B6:D6)","v":382.07817538921864},{"$f":"E6/$E$12","v":3.9674011162700952E-2}]
["Manure methane",{"$f":"'Waste Input & MMS Emissions'!I208+'Waste Input & MMS Emissions'!I209","v":7083.6268168483002},null,null,{"$f":"SUM(B7:D7)","v":7083.6268168483002},{"$f":"E7/$E$12","v":0.7355455179238104}]
["Manure direct nitrous oxide",{"$f":"'Waste Input & MMS Emissions'!I212+'Waste Input & MMS Emissions'!I214+'Waste Input & MMS Emissions'!I216","v":44.804867955511213},null,null,{"$f":"SUM(B8:D8)","v":44.804867955511213},{"$f":"E8/$E$12","v":4.6524217971871456E-3}]
["Manure indirect nitrous oxide from ammonia",null,null,{"$f":"'Waste Input & MMS Emissions'!I211+'Waste Input & MMS Emissions'!I213+'Waste Input & MMS Emissions'!I215+'Waste Input & MMS Emissions'!I218+'Waste Input & MMS Emissions'!I219","v":98.891254212911448},98.891254212911448,{"$f":"E9/$E$12","v":1.0268612488896574E-2}]
["Indirect nitrous oxide from leaching and runoff"]
["Services",{"$f":"'Energy emissions'!H61","v":246.03866699999998},{"$f":"'Energy emissions'!I61","v":1775},null,{"$f":"SUM(B11:D11)","v":2021.038667},{"$f":"E11/$E$12","v":0.20985943662740497}]
["Total ",{"$f":"SUM(B6:B11)","v":7756.5485271930302},{"$f":"SUM(C6:C11)","v":1775},null,9630.4397814059412,{"$f":"SUM(F6:F11)","v":1}]
["kg CO2-e/kg LWT",{"$f":"(B$12*1000)/'5. Herd details'!$H$42","v":3.0268807662282136},{"$f":"(C$12*1000)/'5. Herd details'!$H$42","v":0.69266805219091143},null,{"$f":"(E$12*1000)/'5. Herd details'!$H$42","v":3.7581396986638418}]
["kg CO2-e/kg HSCW",{"$f":"(B$12*1000)/'5. Herd details'!$I$42","v":3.9827378503002806},{"$f":"(C$12*1000)/'5. Herd details'!$I$42","v":0.9114053318301466},null,{"$f":"SUM(B14:C14)","v":4.8941431821304269}]
["Contribution Analysis",{"$f":"B14/$E14","v":0.81377632449375736},{"$f":"C14/$E14","v":0.18622367550624269},null,{"$f":"E14/$E14","v":1}]
[]
[]
["kg CO2-e/kg LW Sold","Scope 1 emissions","Scope 2 emissions","Scope 3 emissions","Total"]
["Piggery Enteric methane",{"$f":"(B6*1000)/'5. Herd details'!$H$42","v":0.14910047635577889},null,null,{"$f":"SUM(B19:C19)","v":0.14910047635577889}]
["Piggery Manure methane",{"$f":"(B7*1000)/'5. Herd details'!$H$42","v":2.7642828110837288},null,null,{"$f":"SUM(B20:C20)","v":2.7642828110837288}]
["Piggery Manure nitrous oxide",{"$f":"(B8*1000)/'5. Herd details'!$H$42","v":1.7484451050937991E-2},null,null,1.7484451050937991E-2]
["Piggery Services",{"$f":"(B11*1000)/'5. Herd details'!$H$42","v":9.6013027737768042E-2},{"$f":"(C11*1000)/'5. Herd details'!$H$42","v":0.69266805219091143},null,0.78868107992867942]
["Total ",{"$f":"SUM(B19:B22)","v":3.026880766228214},{"$f":"SUM(C19:C22)","v":0.69266805219091143},null,{"$f":"SUM(E19:E22)","v":3.719548818419125}]

{"sheet":"Waste Input & MMS Emissions","index":29,"n_rows":223,"n_cols":11,"rows_kept":223,"cut":false,"hidden":true,"merged":[[1,0,1,6],[112,0,112,1],[9,4,9,5],[218,0,218,1],[156,0,156,1],[217,0,217,1],[143,0,143,1],[162,0,162,1],[163,0,163,1],[155,0,155,1],[157,0,157,1],[214,0,214,1],[145,0,145,1],[211,0,211,1],[101,8,101,10],[210,0,210,1],[8,1,8,2],[87,0,87,1],[122,0,122,1],[88,8,88,10],[108,0,108,1],[117,0,117,1],[158,0,158,1],[164,0,164,1],[166,0,166,1],[165,0,165,1],[127,0,127,1],[140,0,140,1],[141,0,141,1],[153,0,153,1]]}
[]
["Manure Management Emission Factors and Calculations"]
[]
[]
["Housing systems"]
[null,null,null,null,"Input Cell"]
[null,"Region in Australia",{"$f":"'17. GHG Input'!C6","v":"Queensland"}]
[]
[1,"Choose the housing system associated to each type of pig"]
[null,"IF ANY PIG CLASS IS DEEP LITTER, IT MUST BE UPDATED IN SHEET 5 AND SHEET 6.","Housing System",null,"Input the % of manure to secondary manure management systems",null,null,null,"Uncovered anaerobic lagoon"]
[null,{"$f":"'5. Herd details'!B9","v":"Gilts"},{"$f":"IF(OR('5. Herd details'!F9=\"Flushing\",'5. Herd details'!F9=\"Pull plug / Static pit\"),\"Liquid System\",(IF('5. Herd details'!F9=\"Deep litter\",\"Deep litter\",\"\")))","v":"Liquid System"},null,"Stockpile",{"$f":"'17. GHG Input'!C27","v":0.5},null,null,"Anaerobic digester"]
[null,{"$f":"'5. Herd details'!B10","v":"Boars"},{"$f":"IF(OR('5. Herd details'!F10=\"Flushing\",'5. Herd details'!F10=\"Pull plug / Static pit\"),\"Liquid System\",(IF('5. Herd details'!F10=\"Deep litter\",\"Deep litter\",\"\")))","v":"Liquid System"},null,"Compost",{"$f":"'17. GHG Input'!C28","v":0.5},null,null,"Daily spread"]
[null,{"$f":"'5. Herd details'!B11","v":"Gestating sows 1"},{"$f":"IF(OR('5. Herd details'!F11=\"Flushing\",'5. Herd details'!F11=\"Pull plug / Static pit\"),\"Liquid System\",(IF('5. Herd details'!F11=\"Deep litter\",\"Deep litter\",\"\")))","v":"Liquid System"},null,"Land Application",{"$f":"'17. GHG Input'!C30","v":0},null,null,"Short HRT"]
[null,{"$f":"'5. Herd details'!B13","v":"Lactating sows"},{"$f":"IF(OR('5. Herd details'!F13=\"Flushing\",'5. Herd details'!F13=\"Pull plug / Static pit\"),\"Liquid System\",(IF('5. Herd details'!F13=\"Deep litter\",\"Deep litter\",\"\")))","v":"Liquid System"},null,"Check",{"$f":"SUM(F11:F13)","v":1},null,null,"Deep bedding (no mixing)"]
[null,{"$f":"'5. Herd details'!B14","v":"Suckers"},{"$f":"IF(OR('5. Herd details'!F14=\"Flushing\",'5. Herd details'!F14=\"Pull plug / Static pit\"),\"Liquid System\",(IF('5. Herd details'!F14=\"Deep litter\",\"Deep litter\",\"\")))","v":"Liquid System"},null,null,null,null,null,"Deep bedding (active mixing)"]
[null,{"$f":"'5. Herd details'!B15","v":"Weaner"},{"$f":"IF(OR('5. Herd details'!F15=\"Flushing\",'5. Herd details'!F15=\"Pull plug / Static pit\"),\"Liquid System\",(IF('5. Herd details'!F15=\"Deep litter\",\"Deep litter\",\"\")))","v":"Liquid System"}]
[null,{"$f":"'5. Herd details'!B16","v":"Porker"},{"$f":"IF(OR('5. Herd details'!F16=\"Flushing\",'5. Herd details'!F16=\"Pull plug / Static pit\"),\"Liquid System\",(IF('5. Herd details'!F16=\"Deep litter\",\"Deep litter\",\"\")))","v":"Liquid System"},null,null,null,null,null,"Deep bedding (mixing)+composting"]
[null,{"$f":"'5. Herd details'!B17","v":"Grower"},{"$f":"IF(OR('5. Herd details'!F17=\"Flushing\",'5. Herd details'!F17=\"Pull plug / Static pit\"),\"Liquid System\",(IF('5. Herd details'!F17=\"Deep litter\",\"Deep litter\",\"\")))","v":"Liquid System"},null,null,null,null,null,"Deep bedding (no mixing)+composting"]
[null,{"$f":"'5. Herd details'!B18","v":"Finisher"},{"$f":"IF(OR('5. Herd details'!F18=\"Flushing\",'5. Herd details'!F18=\"Pull plug / Static pit\"),\"Liquid System\",(IF('5. Herd details'!F18=\"Deep litter\",\"Deep litter\",\"\")))","v":"Liquid System"},null,null,null,null,null,"Pasture/Range/Paddock"]
[null,{"$f":"'5. Herd details'!B19","v":"Unallocated"},{"$f":"IF(OR('5. Herd details'!F19=\"Flushing\",'5. Herd details'!F19=\"Pull plug / Static pit\"),\"Liquid System\",(IF('5. Herd details'!F19=\"Deep litter\",\"Deep litter\",\"\")))","v":""}]
[null,{"$f":"'5. Herd details'!B20","v":"Unallocated"},{"$f":"IF(OR('5. Herd details'!F20=\"Flushing\",'5. Herd details'!F20=\"Pull plug / Static pit\"),\"Liquid System\",(IF('5. Herd details'!F20=\"Deep litter\",\"Deep litter\",\"\")))","v":"Liquid System"}]
[]
["Waste & Effluent management"]
[]
[null,"For each pig class the pig housing type (Liquid, Deep Litter, Outdoor), choose the primary manure management system (MMS). ",null,null,null,"CHECK ALL CELLS ARE CORRECT"]
[null,"(ONLY CHOOSE ONE MMS FOR EACH PIG CLASS. TWO OF THE C to F Columns SHOULD BE N/A)","Liquid System","Deep litter","Outdoor","Chosen MMS"]
[null,{"$f":"'5. Herd details'!B9","v":"Gilts"},{"$f":"IF(OR(C11=\"\",C11=\"Deep litter\",C11=\"Outdoor\"),\"\",(IF(AND(C11=\"Liquid System\",'11. Pond design'!$C$14=\"Covered anaerobic pond\"),\"Anaerobic digester\",((IF(AND(C11=\"Liquid System\",'11. Pond design'!$C$14=\"Conventional 'large'\"),\"Uncovered anaerobic lagoon\",(IF(AND(C11=\"Liquid System\",'11. Pond design'!$C$14=\"Maximum loading\"),\"Uncovered anaerobic lagoon\",(IF(AND(C11=\"Liquid System\",'11. Pond design'!$C$14=\"\"),\"\"))))))))))","v":"Uncovered anaerobic lagoon"},{"$f":"IF($D$26=C11,$D$26,\"\")","v":""},{"$f":"IF($E$26=C11,$E$26,\"\")","v":""},{"$f":"IF(C11=\"Liquid System\",C27,IF(C11=\"Deep litter\",D27,IF(C11=\"Outdoor\",E27,\"\")))","v":"Uncovered anaerobic lagoon"}]
[null,{"$f":"'5. Herd details'!B10","v":"Boars"},{"$f":"IF(OR(C12=\"\",C12=\"Deep litter\",C12=\"Outdoor\"),\"\",(IF(AND(C12=\"Liquid System\",'11. Pond design'!$C$14=\"Covered anaerobic pond\"),\"Anaerobic digester\",((IF(AND(C12=\"Liquid System\",'11. Pond design'!$C$14=\"Conventional 'large'\"),\"Uncovered anaerobic lagoon\",(IF(AND(C12=\"Liquid System\",'11. Pond design'!$C$14=\"Maximum loading\"),\"Uncovered anaerobic lagoon\",(IF(AND(C12=\"Liquid System\",'11. Pond design'!$C$14=\"\"),\"\"))))))))))","v":"Uncovered anaerobic lagoon"},"","","Uncovered anaerobic lagoon"]
[null,{"$f":"'5. Herd details'!B11","v":"Gestating sows 1"},{"$f":"IF(OR(C13=\"\",C13=\"Deep litter\",C13=\"Outdoor\"),\"\",(IF(AND(C13=\"Liquid System\",'11. Pond design'!$C$14=\"Covered anaerobic pond\"),\"Anaerobic digester\",((IF(AND(C13=\"Liquid System\",'11. Pond design'!$C$14=\"Conventional 'large'\"),\"Uncovered anaerobic lagoon\",(IF(AND(C13=\"Liquid System\",'11. Pond design'!$C$14=\"Maximum loading\"),\"Uncovered anaerobic lagoon\",(IF(AND(C13=\"Liquid System\",'11. Pond design'!$C$14=\"\"),\"\"))))))))))","v":"Uncovered anaerobic lagoon"},"","","Uncovered anaerobic lagoon"]
[null,{"$f":"'5. Herd details'!B13","v":"Lactating sows"},{"$f":"IF(OR(C14=\"\",C14=\"Deep litter\",C14=\"Outdoor\"),\"\",(IF(AND(C14=\"Liquid System\",'11. Pond design'!$C$14=\"Covered anaerobic pond\"),\"Anaerobic digester\",((IF(AND(C14=\"Liquid System\",'11. Pond design'!$C$14=\"Conventional 'large'\"),\"Uncovered anaerobic lagoon\",(IF(AND(C14=\"Liquid System\",'11. Pond design'!$C$14=\"Maximum loading\"),\"Uncovered anaerobic lagoon\",(IF(AND(C14=\"Liquid System\",'11. Pond design'!$C$14=\"\"),\"\"))))))))))","v":"Uncovered anaerobic lagoon"},"","","Uncovered anaerobic lagoon"]
[null,{"$f":"'5. Herd details'!B14","v":"Suckers"},{"$f":"IF(OR(C15=\"\",C15=\"Deep litter\",C15=\"Outdoor\"),\"\",(IF(AND(C15=\"Liquid System\",'11. Pond design'!$C$14=\"Covered anaerobic pond\"),\"Anaerobic digester\",((IF(AND(C15=\"Liquid System\",'11. Pond design'!$C$14=\"Conventional 'large'\"),\"Uncovered anaerobic lagoon\",(IF(AND(C15=\"Liquid System\",'11. Pond design'!$C$14=\"Maximum loading\"),\"Uncovered anaerobic lagoon\",(IF(AND(C15=\"Liquid System\",'11. Pond design'!$C$14=\"\"),\"\"))))))))))","v":"Uncovered anaerobic lagoon"},"","","Uncovered anaerobic lagoon"]
[null,{"$f":"'5. Herd details'!B15","v":"Weaner"},{"$f":"IF(OR(C16=\"\",C16=\"Deep litter\",C16=\"Outdoor\"),\"\",(IF(AND(C16=\"Liquid System\",'11. Pond design'!$C$14=\"Covered anaerobic pond\"),\"Anaerobic digester\",((IF(AND(C16=\"Liquid System\",'11. Pond design'!$C$14=\"Conventional 'large'\"),\"Uncovered anaerobic lagoon\",(IF(AND(C16=\"Liquid System\",'11. Pond design'!$C$14=\"Maximum loading\"),\"Uncovered anaerobic lagoon\",(IF(AND(C16=\"Liquid System\",'11. Pond design'!$C$14=\"\"),\"\"))))))))))","v":"Uncovered anaerobic lagoon"},"","","Uncovered anaerobic lagoon"]
[null,{"$f":"'5. Herd details'!B16","v":"Porker"},{"$f":"IF(OR(C17=\"\",C17=\"Deep litter\",C17=\"Outdoor\"),\"\",(IF(AND(C17=\"Liquid System\",'11. Pond design'!$C$14=\"Covered anaerobic pond\"),\"Anaerobic digester\",((IF(AND(C17=\"Liquid System\",'11. Pond design'!$C$14=\"Conventional 'large'\"),\"Uncovered anaerobic lagoon\",(IF(AND(C17=\"Liquid System\",'11. Pond design'!$C$14=\"Maximum loading\"),\"Uncovered anaerobic lagoon\",(IF(AND(C17=\"Liquid System\",'11. Pond design'!$C$14=\"\"),\"\"))))))))))","v":"Uncovered anaerobic lagoon"},"","","Uncovered anaerobic lagoon"]
[null,{"$f":"'5. Herd details'!B17","v":"Grower"},{"$f":"IF(OR(C18=\"\",C18=\"Deep litter\",C18=\"Outdoor\"),\"\",(IF(AND(C18=\"Liquid System\",'11. Pond design'!$C$14=\"Covered anaerobic pond\"),\"Anaerobic digester\",((IF(AND(C18=\"Liquid System\",'11. Pond design'!$C$14=\"Conventional 'large'\"),\"Uncovered anaerobic lagoon\",(IF(AND(C18=\"Liquid System\",'11. Pond design'!$C$14=\"Maximum loading\"),\"Uncovered anaerobic lagoon\",(IF(AND(C18=\"Liquid System\",'11. Pond design'!$C$14=\"\"),\"\"))))))))))","v":"Uncovered anaerobic lagoon"},"","","Uncovered anaerobic lagoon"]
[null,{"$f":"'5. Herd details'!B18","v":"Finisher"},{"$f":"IF(OR(C19=\"\",C19=\"Deep litter\",C19=\"Outdoor\"),\"\",(IF(AND(C19=\"Liquid System\",'11. Pond design'!$C$14=\"Covered anaerobic pond\"),\"Anaerobic digester\",((IF(AND(C19=\"Liquid System\",'11. Pond design'!$C$14=\"Conventional 'large'\"),\"Uncovered anaerobic lagoon\",(IF(AND(C19=\"Liquid System\",'11. Pond design'!$C$14=\"Maximum loading\"),\"Uncovered anaerobic lagoon\",(IF(AND(C19=\"Liquid System\",'11. Pond design'!$C$14=\"\"),\"\"))))))))))","v":"Uncovered anaerobic lagoon"},"","","Uncovered anaerobic lagoon"]
[null,{"$f":"'5. Herd details'!B19","v":"Unallocated"},{"$f":"IF(OR(C20=\"\",C20=\"Deep litter\",C20=\"Outdoor\"),\"\",(IF(AND(C20=\"Liquid System\",'11. Pond design'!$C$14=\"Covered anaerobic pond\"),\"Anaerobic digester\",((IF(AND(C20=\"Liquid System\",'11. Pond design'!$C$14=\"Conventional 'large'\"),\"Uncovered anaerobic lagoon\",(IF(AND(C20=\"Liquid System\",'11. Pond design'!$C$14=\"Maximum loading\"),\"Uncovered anaerobic lagoon\",(IF(AND(C20=\"Liquid System\",'11. Pond design'!$C$14=\"\"),\"\"))))))))))","v":""},"","",""]
[null,{"$f":"'5. Herd details'!B20","v":"Unallocated"},{"$f":"IF(OR(C21=\"\",C21=\"Deep litter\",C21=\"Outdoor\"),\"\",(IF(AND(C21=\"Liquid System\",'11. Pond design'!$C$14=\"Covered anaerobic pond\"),\"Anaerobic digester\",((IF(AND(C21=\"Liquid System\",'11. Pond design'!$C$14=\"Conventional 'large'\"),\"Uncovered anaerobic lagoon\",(IF(AND(C21=\"Liquid System\",'11. Pond design'!$C$14=\"Maximum loading\"),\"Uncovered anaerobic lagoon\",(IF(AND(C21=\"Liquid System\",'11. Pond design'!$C$14=\"\"),\"\"))))))))))","v":"Uncovered anaerobic lagoon"},"","","Uncovered anaerobic lagoon"]
[]
["Volatile Solids & Nitrogen Ex Sheds by Pig Class",null,"% of VS removed by separator",{"$f":"'10. Effluent pre-treatment'!E15","v":0},null,null,"% of N removed by separator",{"$f":"'10. Effluent pre-treatment'!F15","v":0}]
[null,null,"VS produced - excreta + waste feed + bedding (t/yr)","VS removed by separator if installed (t/yr)","% of VS excreted + waste feed + bedding","N produced - excreta + waste feed + bedding (t/yr)","% of N excreted + waste feed + bedding","N removed by separator (t/yr)"]
[null,{"$f":"B27","v":"Gilts"},{"$f":"_xlfn.IFS($C11=\"Liquid System\",('14. DM DAMP'!N$177),$C11=\"Deep Litter\",('14. DM DAMP'!N$207),$C11=\"Outdoor\",(('14. DM DAMP'!N$81/1000+'14. DM DAMP'!N$130)),\"TRUE\",\"\")","v":15.695078867793208},{"$f":"IF(C11=\"Liquid System\",(C41*$D$39),0)","v":0},{"$f":"IF(C41=\"\",\"\",(C41/$C$52))","v":1.4772663863593462E-2},{"$f":"_xlfn.IFS($C11=\"Liquid System\",('14. DM DAMP'!N$178),$C11=\"Deep Litter\",('14. DM DAMP'!N$208),$C11=\"Outdoor\",(('14. DM DAMP'!N$82/1000+'14. DM DAMP'!N$131)),\"TRUE\",\"\")","v":1.4071179026105907},{"$f":"IF(E41=\"\",\"\",F41/$F$52)","v":1.4530272644055398E-2},{"$f":"IF(C11=\"Liquid System\",(F41*$H$39),0)","v":0}]
[null,{"$f":"B28","v":"Boars"},{"$f":"_xlfn.IFS($C12=\"Liquid System\",('14. DM DAMP'!O$177),$C12=\"Deep Litter\",('14. DM DAMP'!O$207),$C12=\"Outdoor\",(('14. DM DAMP'!O$81/1000+'14. DM DAMP'!O$130)),\"TRUE\",\"\")","v":1.4553938639389508},0,{"$f":"IF(C42=\"\",\"\",(C42/$C$52))","v":1.3698589552949211E-3},{"$f":"_xlfn.IFS($C12=\"Liquid System\",('14. DM DAMP'!O$178),$C12=\"Deep Litter\",('14. DM DAMP'!O$208),$C12=\"Outdoor\",(('14. DM DAMP'!O$82/1000+'14. DM DAMP'!O$131)),\"TRUE\",\"\")","v":0.14600429838967705},{"$f":"IF(E42=\"\",\"\",F42/$F$52)","v":1.5076791069675774E-3},0]
[null,"Gestating sows 1",{"$f":"_xlfn.IFS($C13=\"Liquid System\",('14. DM DAMP'!L$177),$C13=\"Deep Litter\",('14. DM DAMP'!L$207),$C13=\"Outdoor\",(('14. DM DAMP'!L$81/1000+'14. DM DAMP'!L$130)),\"TRUE\",\"\")","v":118.23202841292904},0,0.11128341745635405,{"$f":"_xlfn.IFS($C13=\"Liquid System\",('14. DM DAMP'!L$178),$C13=\"Deep Litter\",('14. DM DAMP'!L$208),$C13=\"Outdoor\",(('14. DM DAMP'!L$82/1000+'14. DM DAMP'!L$131)),\"TRUE\",\"\")","v":11.924542354671642},0.12313598686187394,0]
[null,"Lactating sows",{"$f":"_xlfn.IFS($C14=\"Liquid System\",('14. DM DAMP'!K$177),$C14=\"Deep Litter\",('14. DM DAMP'!K$207),$C14=\"Outdoor\",(('14. DM DAMP'!K$81/1000+'14. DM DAMP'!K$130)),\"TRUE\",\"\")","v":51.28728475617018},0,4.8273081299006662E-2,{"$f":"_xlfn.IFS($C14=\"Liquid System\",('14. DM DAMP'!K$178),$C14=\"Deep Litter\",('14. DM DAMP'!K$208),$C14=\"Outdoor\",(('14. DM DAMP'!K$82/1000+'14. DM DAMP'!K$131)),\"TRUE\",\"\")","v":6.3310941150108047},6.5376556900889532E-2,0]
[null,"Suckers",{"$f":"_xlfn.IFS($C15=\"Liquid System\",('14. DM DAMP'!D$177),$C15=\"Deep Litter\",('14. DM DAMP'!D$207),$C15=\"Outdoor\",(('14. DM DAMP'!D$81/1000+'14. DM DAMP'!D$130)),\"TRUE\",\"\")","v":10.098705661657016},0,9.5051949374500531E-3,{"$f":"_xlfn.IFS($C15=\"Liquid System\",('14. DM DAMP'!D$178),$C15=\"Deep Litter\",('14. DM DAMP'!D$208),$C15=\"Outdoor\",(('14. DM DAMP'!D$82/1000+'14. DM DAMP'!D$131)),\"TRUE\",\"\")","v":2.0046259946049272},2.0700299667092793E-2,0]
[null,"Weaner",{"$f":"_xlfn.IFS($C16=\"Liquid System\",('14. DM DAMP'!E$177),$C16=\"Deep Litter\",('14. DM DAMP'!E$207),$C16=\"Outdoor\",(('14. DM DAMP'!E$81/1000+'14. DM DAMP'!E$130)),\"TRUE\",\"\")","v":136.05084012294282},0,0.12805500032369824,{"$f":"_xlfn.IFS($C16=\"Liquid System\",('14. DM DAMP'!E$178),$C16=\"Deep Litter\",('14. DM DAMP'!E$208),$C16=\"Outdoor\",(('14. DM DAMP'!E$82/1000+'14. DM DAMP'!E$131)),\"TRUE\",\"\")","v":11.906798561183404},0.12295275974448343,0]
[null,"Porker",{"$f":"_xlfn.IFS($C17=\"Liquid System\",('14. DM DAMP'!F$177),$C17=\"Deep Litter\",('14. DM DAMP'!F$207),$C17=\"Outdoor\",(('14. DM DAMP'!F$81/1000+'14. DM DAMP'!F$130)),\"TRUE\",\"\")","v":161.93022043930628},0,0.15241342436425795,{"$f":"_xlfn.IFS($C17=\"Liquid System\",('14. DM DAMP'!F$178),$C17=\"Deep Litter\",('14. DM DAMP'!F$208),$C17=\"Outdoor\",(('14. DM DAMP'!F$82/1000+'14. DM DAMP'!F$131)),\"TRUE\",\"\")","v":16.736798817344333},0.17282862335383006,0]
[null,"Grower",{"$f":"_xlfn.IFS($C18=\"Liquid System\",('14. DM DAMP'!G$177),$C18=\"Deep Litter\",('14. DM DAMP'!G$207),$C18=\"Outdoor\",(('14. DM DAMP'!G$81/1000+'14. DM DAMP'!G$130)),\"TRUE\",\"\")","v":237.46249821153549},0,0.2235065969299847,{"$f":"_xlfn.IFS($C18=\"Liquid System\",('14. DM DAMP'!G$178),$C18=\"Deep Litter\",('14. DM DAMP'!G$208),$C18=\"Outdoor\",(('14. DM DAMP'!G$82/1000+'14. DM DAMP'!G$131)),\"TRUE\",\"\")","v":19.271025695261169},0.19899772219743664,0]
[null,"Finisher",{"$f":"_xlfn.IFS($C19=\"Liquid System\",('14. DM DAMP'!H$177),$C19=\"Deep Litter\",('14. DM DAMP'!H$207),$C19=\"Outdoor\",(('14. DM DAMP'!H$81/1000+'14. DM DAMP'!H$130)),\"TRUE\",\"\")","v":330.2286179627597},0,0.3108207618703599,{"$f":"_xlfn.IFS($C19=\"Liquid System\",('14. DM DAMP'!H$178),$C19=\"Deep Litter\",('14. DM DAMP'!H$208),$C19=\"Outdoor\",(('14. DM DAMP'!H$82/1000+'14. DM DAMP'!H$131)),\"TRUE\",\"\")","v":27.112425821973538},0.27997009952337043,0]
[null,"Unallocated",{"$f":"_xlfn.IFS($C20=\"Liquid System\",('14. DM DAMP'!I$177),$C20=\"Deep Litter\",('14. DM DAMP'!I$207),$C20=\"Outdoor\",(('14. DM DAMP'!I$81/1000+'14. DM DAMP'!I$130)),\"TRUE\",\"\")","v":""},0,"",{"$f":"_xlfn.IFS($C20=\"Liquid System\",('14. DM DAMP'!I$178),$C20=\"Deep Litter\",('14. DM DAMP'!I$208),$C20=\"Outdoor\",(('14. DM DAMP'!I$82/1000+'14. DM DAMP'!I$131)),\"TRUE\",\"\")","v":""},"",0]
[null,"Unallocated",{"$f":"_xlfn.IFS($C21=\"Liquid System\",('14. DM DAMP'!J$177),$C21=\"Deep Litter\",('14. DM DAMP'!J$207),$C21=\"Outdoor\",(('14. DM DAMP'!J$81/1000+'14. DM DAMP'!J$130)),\"TRUE\",\"\")","v":0},0,0,{"$f":"_xlfn.IFS($C21=\"Liquid System\",('14. DM DAMP'!J$178),$C21=\"Deep Litter\",('14. DM DAMP'!J$208),$C21=\"Outdoor\",(('14. DM DAMP'!J$82/1000+'14. DM DAMP'!J$131)),\"TRUE\",\"\")","v":0},0,0]
[null,null,{"$f":"SUM(C41:C51)","v":1062.4406682990327},{"$f":"SUM(D41:D51)","v":0},0.99999999999999989,96.840433561050105,0.99999999999999978,0]
[]
["Allocation of VS to each Primary MMS (t/yr)"]
[null,null,"Uncovered anaerobic lagoon","Short HRT","Anaerobic digester","Deep litter","Outdoor","Solid Storage"]
[null,{"$f":"B41","v":"Gilts"},{"$f":"IF(C$55=$F27,($C41-$D41),0)","v":15.695078867793208},0,0,0,0,{"$f":"IF(($D$39>0),$D41,0)","v":0}]
[null,"Boars",1.4553938639389508,0,0,0,0,0]
[null,"Gestating sows 1",118.23202841292904,0,0,0,0,0]
[null,"Lactating sows",51.28728475617018,0,0,0,0,0]
[null,"Suckers",10.098705661657016,0,0,0,0,0]
[null,"Weaner",136.05084012294282,0,0,0,0,0]
[null,"Porker",161.93022043930628,0,0,0,0,0]
[null,"Grower",237.46249821153549,0,0,0,0,0]
[null,"Finisher",330.2286179627597,0,0,0,0,0]
[null,"Unallocated",0,0,0,0,0,0]
[null,"Unallocated",0,0,0,0,0,0]
[null,"VS to primary MMS",{"$f":"SUM(C56:C66)","v":1062.4406682990327},{"$f":"SUM(D56:D66)","v":0},0,0,0,0,{"$f":"SUM(C67:H67)","v":1062.4406682990327},"t/yr"]
[null,"% VS to each primary MMS",{"$f":"C67/$I67","v":1},{"$f":"D67/$I67","v":0},0,0,0,0,1]
["VS (kg/finished pig)",{"$f":"(I67*1000)/'5. Herd details'!G42","v":45.992152653168681}]
[]
["Allocation of N to each Primary MMS (t/yr)"]
[null,null,"Uncovered anaerobic lagoon","Short HRT","Anaerobic digester","Deep litter","Outdoor","Solid Storage"]
[null,{"$f":"B56","v":"Gilts"},{"$f":"IF(C$72=$F27,($F41-$H41),0)","v":1.4071179026105907},0,0,0,0,{"$f":"IF(($H$39>0),$H41,0)","v":0}]
[null,{"$f":"B57","v":"Boars"},0.14600429838967705,0,0,0,0,0]
[null,"Gestating sows 1",11.924542354671642,0,0,0,0,0]
[null,"Lactating sows",6.3310941150108047,0,0,0,0,0]
[null,"Suckers",2.0046259946049272,0,0,0,0,0]
[null,"Weaner",11.906798561183404,0,0,0,0,0]
[null,"Porker",16.736798817344333,0,0,0,0,0]
[null,"Grower",19.271025695261169,0,0,0,0,0]
[null,"Finisher",27.112425821973538,0,0,0,0,0]
[null,"Unallocated",0,0,0,0,0,0]
[null,"Unallocated",0,0,0,0,0,0]
[null,"N to primary MMS",{"$f":"SUM(C73:C83)","v":96.840433561050105},{"$f":"SUM(D73:D83)","v":0},{"$f":"SUM(E73:E83)","v":0},{"$f":"SUM(F73:F83)","v":0},{"$f":"SUM(G73:G83)","v":0},{"$f":"SUM(H73:H83)","v":0},{"$f":"SUM(C84:H84)","v":96.840433561050105},"t/yr"]
[null,"% N to each primary MMS",{"$f":"C84/$I84","v":1},{"$f":"D84/$I84","v":0},{"$f":"E84/$I84","v":0},{"$f":"F84/$I84","v":0},{"$f":"G84/$I84","v":0},{"$f":"H84/$I84","v":0},{"$f":"I84/$I84","v":1}]
["N (kg/finished pig)",{"$f":"(I84*1000)/'5. Herd details'!G42","v":4.1921399813031908}]
[]
["MMS Related Emission Factors"]
["Table A.5.5.5.7 Swine - MCFs for Primary MMS - National Inventory Report, 2022",null,null,null,null,null,null,null," IPCC (2006), Table 10.17 p10.44"]
[null,null,"Effluent pond (Uncovered anaerobic lagoon) (d)","Short HRT tank storage (< 1 month) (d)","Anaerobic digestor / Covered lagoon (e)","Deep litter (c)","Drylot","Stockpile (Solid Storage) (b)","Daily Spread","Pasture/Range/Paddock","Composting (Passive windrow)"]
[null,"Australian Capital Territory",0.75,0.03,0.1,0.04,0.01,0.02,5.0000000000000001E-3,1.4999999999999999E-2,0.01]
[null,"New South Wales",0.75,0.03,0.1,0.04,0.01,0.02,5.0000000000000001E-3,1.4999999999999999E-2,0.01]
[null,"Queensland",0.78,0.03,0.1,0.04,0.03,0.02,0.01,0.02,0.01]
[null,"Northern Territory",0.78,0.03,0.1,0.04,0.03,0.02,0.01,0.02,0.01]
[null,"South Australia",0.75,0.03,0.1,0.04,0.01,0.02,5.0000000000000001E-3,1.4999999999999999E-2,0.01]
[null,"Tasmania",0.7,0.03,0.1,0.04,0.01,0.02,5.0000000000000001E-3,1.4999999999999999E-2,0.01]
[null,"Victoria",0.74,0.03,0.1,0.04,0.01,0.02,5.0000000000000001E-3,1.4999999999999999E-2,0.01]
[null,"Katherine Darwin",0.78,0.03,0.1,0.04,0.03,0.02,0.01,0.02,0.01]
[null,"Southern Western Australia",0.76,0.03,0.1,0.04,0.01,0.02,5.0000000000000001E-3,1.4999999999999999E-2,0.01]
[null,"Northern Western Australia",0.76,0.03,0.1,0.04,0.01,0.02,5.0000000000000001E-3,1.4999999999999999E-2,0.01]
[]
[null,null,null,null,null,null,null,null," IPCC (2006), Table 10.21 p10.62"]
["Deep Litter Shed VS Losses and MCFs for Secondary MMS (Deep Litter Only)",null,null,null,null,0.25,null,null,"Compost - Passive","Stockpile (Solid Storage) (b)"]
[null,null,null,null,null,null,null,null,0.01,5.0000000000000001E-3]
[]
["VS to Secondary MMS (Anaerobic digester / Covered ponds only)",null,null,null,0.25]
[]
[]
["Direct nitrous oxide emission factors by primary and secondary MMS - Table A.5.5.5.8 Swine National Inventory Report, 2022 (pg. 163)",null,"Effluent pond (Uncovered anaerobic lagoon) (d)","Short HRT tank storage (< 1 month) (d)","Anaerobic digestor / Covered lagoon (e)","Deep litter (c)","Drylot","Stockpile (Solid Storage) (b)","Compost - Passive","Stockpile (Solid Storage) (b)"]
[null,"kg N2O-N/kg N",0,2E-3,0,0.01,0.02,5.0000000000000001E-3,0.01,5.0000000000000001E-3]
[null,"Direct N2O emitted from Primary MMS",{"$f":"C84*C110*44/28","v":0},0,0,0,0,0,null,null,"t/yr"]
[]
["Fraction of N volatilised by Conventional Sheds - PigBal4.099",null,"Effluent pond (Uncovered anaerobic lagoon) (d)","Short HRT tank storage (< 1 month) (d)","Anaerobic digestor / Covered lagoon (e)","Deep litter (c)","Drylot"]
[null,"kg NH3-N/kg N",{"$f":"'7. Assumptions'!$I$34","v":0.1},{"$f":"'7. Assumptions'!$I$34","v":0.1},{"$f":"'7. Assumptions'!$I$34","v":0.1},null,0]
[null,"NH3-N emitted from Sheds",{"$f":"(C84/(1-C114))-C84","v":10.760048173450002},{"$f":"(D84/(1-D114))-D84","v":0},{"$f":"(E84/(1-E114))-E84","v":0},{"$f":"(F84/(1-F114))-F84","v":0},{"$f":"(G84/(1-G114))-G84","v":0},{"$f":"SUM(C115:G115)","v":10.760048173450002},"t/yr"]
[null,"Total N ex sheds",{"$f":"C84-C115","v":86.080385387600103},{"$f":"D84-D115","v":0},{"$f":"E84-E115","v":0},{"$f":"F84-F115","v":0},{"$f":"G84-G115","v":0},{"$f":"SUM(C116:G116)","v":86.080385387600103},"t/yr"]
[]
["Fraction of Total N partitioned to pond sludge in anaerobic treatment using Teir 3 methodology from NIR (2022) - section 5.3.2.",null,"Effluent pond (Uncovered anaerobic lagoon) (d)","Short HRT tank storage (< 1 month) (d)","Anaerobic digestor / Covered lagoon (e)","Deep litter (c)","Drylot"]
[null,"kg N partititioned/kg N",0.23,null,0.23]
[null,"Total N to sludge",{"$f":"C84*C119","v":22.273299719041525},null,{"$f":"E84*E119","v":0},null,null,{"$f":"SUM(C120:G120)","v":22.273299719041525},"t/yr"]
[null,"Total N to pond supernatant",{"$f":"C84-C120","v":74.567133842008587},null,{"$f":"E84-E120","v":0},null,null,{"$f":"SUM(C121:G121)","v":74.567133842008587},"t/yr"]
[]
["Fraction of N volatilised by Primary MMS - Table A5.5.5.9 Swine National Inventory Report, 2022",null,"Effluent pond (Uncovered anaerobic lagoon) (d)","Short HRT tank storage (< 1 month) (d)","Anaerobic digestor / Covered lagoon (e)","Deep litter (c)","Drylot","Stockpile (Solid Storage) (b)","Compost - Passive"]
[null,"kg NH3-N/kg N",0.55000000000000004,0.25,0,0.125,0.3,0.2,0.4]
[null,"NH3-N emitted from Primary MMS",{"$f":"C121*C124","v":41.011923613104727},{"$f":"D84*D124","v":0},{"$f":"E121*E124","v":0},{"$f":"F84*F124","v":0},{"$f":"G84*G124","v":0},{"$f":"H84*H124","v":0},null,"t/yr"]
[null,"N remaining in Primary MMS",{"$f":"C116-(C111+C120+C125)","v":22.795162055453851},{"$f":"D116-(D111+D120+D125)","v":0},{"$f":"E116-(E111+E120+E125)","v":0},{"$f":"F116-(F111+F125)","v":0},{"$f":"G116-(G111+G120+G125)","v":0},{"$f":"H116-H125","v":86.080385387600103}]
[]
[" Fraction of N available for Leaching and Runoff - Table A5.5.5.10 National Inventory Report, 2022 for Drylot (p239) and Effluent Irrigation (p262) - Frac WET",null,"Effluent pond (Uncovered anaerobic lagoon) (d)","Short HRT tank storage (< 1 month) (d)","Anaerobic digestor / Covered lagoon (e)","Deep litter (c)","Drylot","Stockpile (Solid Storage) (b)",null,"Drylot and Effluent irrigation"]
[null,"Australian Capital Territory",{"$f":"IF($C$7=$B129,$J129,0)","v":0},{"$f":"IF($C$7=$B129,$J129,0)","v":0},{"$f":"IF($C$7=$B129,$J129,0)","v":0},null,{"$f":"IF($C$7=$B129,$J129,0)","v":0},null,"Australian Capital Territory",0.5]
[null,"New South Wales",{"$f":"IF($C$7=$B130,$J130,0)","v":0},0,{"$f":"IF($C$7=$B130,$J130,0)","v":0},null,0,null,"New South Wales",0.5]
[null,"Queensland",0.25,0.25,0.25,null,0.25,null,"Queensland",0.25]
[null,"Northern Territory",0,0,0,null,0,null,"Northern Territory",0]
[null,"South Australia",0,0,0,null,0,null,"South Australia",0.75]
[null,"Tasmania",0,0,0,null,0,null,"Tasmania",1]
[null,"Victoria",0,0,0,null,0,null,"Victoria",0.5]
[null,"Katherine Darwin",0,0,0,null,0,null,"Katherine Darwin",0.4]
[null,"Southern Western Australia",0,0,0,null,0,null,"Southern Western Australia",0.4]
[null,"Northern Western Australia",0,0,0,null,0,null,"Northern Western Australia",0.4]
[null,"Selected value by state",{"$f":"VLOOKUP($C$7,$B129:$G138,6)","v":0.25},{"$f":"VLOOKUP($C$7,$B129:$G138,6)","v":0.25},{"$f":"VLOOKUP($C$7,$B129:$G138,6)","v":0.25},null,{"$f":"VLOOKUP($C$7,$B129:$G138,6)","v":0.25}]
[]
[" Fraction of N lost via Leaching and Runoff Drylots - Equation 3.B.5c_3 (pg 240) National Inventory Report, 2022",null,0,0,0,0,0.22,0]
["Leaching and Runoff emission factor Drylots- Equation 3.B.5c_4 (pg 240) National Inventory Report, 2022",null,null,null,null,null,1.0999999999999999E-2]
[]
["Indirect nitrous oxide emissions - Equation 3.B.5c_2 (pg 239) National Inventory Report, 2022",null,4.1000000000000003E-3]
[]
["N Mass Balance for Secondary Emissions"]
[null,"N to Stockpile from Deep Litter",null,null,null,{"$f":"$F$126*F11","v":0},null,null,"t/yr"]
[null,"N to Compost from Deep Litter",null,null,null,{"$f":"$F$126*F12","v":0},null,null,"t/yr"]
[null,"N remaining in Primary MMS (Liquid systems only)",{"$f":"C126","v":22.795162055453851},{"$f":"D126","v":0},{"$f":"E126","v":0},null,null,null,"t/yr"]
[null,"Direct N2O-N Lost from  Secondary MMS (Deep Litter Only)",null,null,null,{"$f":"(F147*J110)+(F148*I110)","v":0},null,null,"t/yr"]
[null,"NH3-N lost from Secondary AD Ponds and Stockpiling and Composting of Deep Litter",null,null,{"$f":"E149*C124","v":0},{"$f":"(F147*H124)+(F148*I124)","v":0},null,null,"t/yr"]
[null,"N2O-N emissions from leaching and runoff (Dry lot only)",null,null,null,null,{"$f":"G84*G139*G141*G142","v":0},null,"t/yr"]
[]
["N Mass Balance for Effluent Irrigation Emissions"]
[]
["Direct nitrous oxide emissions for organic fertilisers - Section 5.5.2 (pg 254) National Inventory Report, 2022 V1",null,5.8999999999999999E-3,"kg N2O-N/kg N applied","Piggeries use an EF of 0.0059 Gg N2O-N/Gg N deposited",null,"The amount of nitrogen applied to soils is the nitrogen excreted, adjusted for the nitrogen that has already been lost as N2O, NH3 and NOx during storage in the different MMS"]
["NH3-N emissions irrigation losses - REF",null,0.2,"kg NH3-N/kg N applied"]
["NH3-N emissions from land application - Eq 3.D.B_2 (pg 260)",null,0.21,"kg NH3-N/kg N applied"]
["Total N available for land application (deducting irrigator losses)",null,{"$f":"C149*(1-$C$157)","v":18.236129644363082},{"$f":"D149*(1-$C$157)","v":0},0,{"$f":"F116-F150-F151","v":0}]
[null,"Total Liquid N land applied",{"$f":"IF('17. GHG Input'!$C$34=\"Yes\",C159,0)","v":18.236129644363082},{"$f":"IF('17. GHG Input'!$C$34=\"Yes\",D159,0)","v":0},{"$f":"IF('17. GHG Input'!$C$34=\"Yes\",E159,0)","v":0}]
[null,"NH3-N emitted from soil - effluent irrigation",{"$f":"C160*$C$158","v":3.8295872253162471},{"$f":"D160*$C$158","v":0},0]
[]
["Mass of manure N applied to soils available for Leaching and Runoff Effluent Irrigation - Eq 3.D.B._5 (pg 262) National Inventory Report, 2022",null,{"$f":"IF('17. GHG Input'!$C$35=\"Yes\",C160-C161,0)","v":14.406542419046835},{"$f":"IF('17. GHG Input'!$C$35=\"Yes\",D160-D161,0)","v":0},{"$f":"IF('17. GHG Input'!$C$35=\"Yes\",E160-E161,0)","v":0},"t/yr"]
["Leaching and Runoff emission factor Effluent Irrigation- Equation 3.D.B._6 (pg 262) National Inventory Report, 2022 (FracLEACH)",null,0.24,0.24,0.24]
["The mass of animal waste N excreted or applied to soil that is lost through leaching and runoff - Equation 3.D.B._6 (pg 262) National Inventory Report, 2022",null,{"$f":"C163*C139*C164","v":0.86439254514281005},{"$f":"D163*D139*D164","v":0},0,"t/yr"]
["Emission factor for leaching and runoff  - Equation 3.D.B._10 (pg 263) National Inventory Report, 2022",null,1.0999999999999999E-2,1.0999999999999999E-2,1.0999999999999999E-2]
[" Annual nitrous oxide production from leaching and runoff  - Equation 3.D.B._10 (pg 263) National Inventory Report, 2022",null,{"$f":"C165*C166*44/28","v":1.4941642566040001E-2},{"$f":"D164*D140*D165","v":0},{"$f":"E164*E140*E165","v":0},"t/yr of N2O"]
[]
[]
["Swine 3.B.3 (NIR 2022) - Methane from MMS",null,null,"M = VS x Bo x ρ x MCF x MS","kg CH₄/yr",null,null,null,null,null,"Equation (3B.3_1)"]
[]
["Where:",null,null,"VS = Daily volatile solids excreted",null,"=",{"$f":"I67","v":1062.4406682990327},"t VS/yr"]
[null,null,null,"Bo = Emissions potential",null,"=",0.45,"m³ CH₄/kg VS","NIR 2022 - Eqn. 3.B.3_1"]
[null,null,null,"ρ = Density of methane",null,"=",0.6784,"kg/m³","NIR 2022 - Eqn. 3.B.3_1"]
[null,null,null,"MCF = methane conversion factor for each MMS",null,null,{"$f":"K189","v":0.78}]
[]
["Methane Production by Primary MMS (kg/yr)"]
[null,null,"Effluent pond (Uncovered anaerobic lagoon) (d)","Short HRT tank storage (< 1 month) (d)","Anaerobic digestor / Covered lagoon (e)","Deep litter (c)","Drylot","Stockpile (Solid Storage) (b)","TOTAL",null,"MCF by State"]
[null,"Australian Capital Territory",{"$f":"IF($C$7=$B179,(C$67*$G$173*$G$174*C91*1000),0)","v":0},0,0,0,0,0,{"$f":"SUM(C179:H179)","v":0},null,{"$f":"IF($C$7=$B179,C91,0)","v":0}]
[null,"New South Wales",0,0,0,0,0,0,{"$f":"SUM(C180:H180)","v":0},null,0]
[null,"Queensland",252986.67203029644,0,0,0,0,0,252986.67203029644,null,0.78]
[null,"Northern Territory",0,0,0,0,0,0,0,null,0]
[null,"South Australia",0,0,0,0,0,0,0,null,0]
[null,"Tasmania",0,0,0,0,0,0,0,null,0]
[null,"Victoria",0,0,0,0,0,0,0,null,0]
[null,"Katherine Darwin",0,0,0,0,0,0,0,null,0]
[null,"Southern Western Australia",0,0,0,0,0,0,0,null,0]
[null,"Northern Western Australia",0,0,0,0,0,0,0,null,0]
[null,"TOTAL",{"$f":"SUM(C179:C188)","v":252986.67203029644},0,0,0,0,0,252986.67203029644,null,{"$f":"SUM(K179:K188)","v":0.78}]
[]
["Methane Production by Secondary MMS (kg/yr)"]
[null,null,"Effluent pond (Uncovered anaerobic lagoon) (d)","Short HRT tank storage (< 1 month) (d)","Anaerobic digestor / Covered lagoon (e)","Deep litter (c)","Drylot","Stockpile (Solid Storage) (b)","TOTAL"]
[null,"Australian Capital Territory",null,null,{"$f":"IF($C$7=$B193,(E$67*E$106*$G$173*$G$174*$C91*1000),0)","v":0},{"$f":"IF($C$7=$B193,((F$67*(1-$F$103))*$G$173*$G$174*1000)*(($H91*$F$11)+($K91*$F$12)),0)","v":0},null,null,{"$f":"SUM(C193:H193)","v":0}]
[null,"New South Wales",null,null,0,0,null,null,{"$f":"SUM(C194:H194)","v":0}]
[null,"Queensland",null,null,0,0,null,null,0]
[null,"Northern Territory",null,null,0,0,null,null,0]
[null,"South Australia",null,null,0,0,null,null,0]
[null,"Tasmania",null,null,0,0,null,null,0]
[null,"Victoria",null,null,0,0,null,null,0]
[null,"Katherine Darwin",null,null,0,0,null,null,0]
[null,"Southern Western Australia",null,null,0,0,null,null,0]
[null,"Northern Western Australia",null,null,0,0,null,null,0]
[null,"TOTAL",{"$f":"SUM(C193:C202)","v":0},0,0,0,0,0,0]
[]
[]
[null,null,"Effluent pond (Uncovered anaerobic lagoon) (d)","Short HRT tank storage (< 1 month) (d)","Anaerobic digestor / Covered lagoon (e)","Deep litter (c)","Drylot","Stockpile (Solid Storage) (b)","TOTAL"]
["Methane emissions"]
["Methane related CO2-e emissions from primary MMS",null,{"$f":"C189*'GWP Factors'!$B$5/1000","v":7083.6268168483002},{"$f":"D189*'GWP Factors'!$B$5/1000","v":0},{"$f":"E189*'GWP Factors'!$B$5/1000","v":0},{"$f":"F189*'GWP Factors'!$B$5/1000","v":0},{"$f":"G189*'GWP Factors'!$B$5/1000","v":0},{"$f":"H189*'GWP Factors'!$B$5/1000","v":0},{"$f":"SUM(C208:H208)","v":7083.6268168483002},"t of CO2-e / yr"]
["Methane related CO2-e emissions from secondary MMS",null,null,null,{"$f":"E203*'GWP Factors'!$B$5/1000","v":0},{"$f":"F203*'GWP Factors'!$B$5/1000","v":0},null,null,{"$f":"SUM(C209:H209)","v":0},"t of CO2-e / yr"]
["Nitrogen emissions"]
["Indirect nitrous oxide related CO2-e emissions from sheds",null,{"$f":"C115*44/28*$C$144*'GWP Factors'!$B$6","v":18.371245106426812},{"$f":"D115*44/28*$C$144*'GWP Factors'!$B$6","v":0},{"$f":"E115*44/28*$C$144*'GWP Factors'!$B$6","v":0},{"$f":"F115*44/28*$C$144*'GWP Factors'!$B$6","v":0},null,null,18.371245106426812,"t of CO2-e / yr"]
["Direct nitrous oxide related CO2-e emissions from primary MMS",null,{"$f":"C121*44/28*C110*'GWP Factors'!$B$6","v":0},{"$f":"D84*44/28*D110*'GWP Factors'!$B$6","v":0},{"$f":"E121*44/28*E110*'GWP Factors'!$B$6","v":0},{"$f":"F84*44/28*F110*'GWP Factors'!$B$6","v":0},{"$f":"G84*44/28*G110*'GWP Factors'!$B$6","v":0},{"$f":"H84*44/28*H110*'GWP Factors'!$B$6","v":0},0,"t of CO2-e / yr"]
["Indirect nitrous oxide related CO2-e emissions from primary MMS",null,{"$f":"C125*44/28*$C$144*'GWP Factors'!$B$6","v":70.022000723145879},{"$f":"D125*44/28*$C$144*'GWP Factors'!$B$6","v":0},{"$f":"E125*44/28*$C$144*'GWP Factors'!$B$6","v":0},{"$f":"F125*44/28*$C$144*'GWP Factors'!$B$6","v":0},{"$f":"G125*44/28*$C$144*'GWP Factors'!$B$6","v":0},{"$f":"H125*44/28*$C$144*'GWP Factors'!$B$6","v":0},70.022000723145879,"t of CO2-e / yr"]
["Direct nitrous oxide related CO2-e emissions from secondary MMS",null,{"$f":"C150*44/28*'GWP Factors'!$B$6","v":0},{"$f":"D150*44/28*'GWP Factors'!$B$6","v":0},{"$f":"E150*44/28*'GWP Factors'!$B$6","v":0},{"$f":"F150*44/28*'GWP Factors'!$B$6","v":0},{"$f":"G150*44/28*'GWP Factors'!$B$6","v":0},{"$f":"H150*44/28*'GWP Factors'!$B$6","v":0},0,"t of CO2-e / yr"]
["Indirect nitrous oxide related CO2-e emissions from secondary MMS",null,{"$f":"C151*44/28*$C$144*'GWP Factors'!$B$6","v":0},{"$f":"D151*44/28*$C$144*'GWP Factors'!$B$6","v":0},{"$f":"E151*44/28*$C$144*'GWP Factors'!$B$6","v":0},{"$f":"F151*44/28*$C$144*'GWP Factors'!$B$6","v":0},{"$f":"G151*44/28*$C$144*'GWP Factors'!$B$6","v":0},{"$f":"H151*44/28*$C$144*'GWP Factors'!$B$6","v":0},0,"t of CO2-e / yr"]
["Direct nitrous oxide related CO2-e emissions from effluent irrigation",null,{"$f":"C160*$C$156*44/28*'GWP Factors'!$B$6","v":44.804867955511213},{"$f":"D160*$C$156*44/28*'GWP Factors'!$B$6","v":0},{"$f":"E160*$C$156*44/28*'GWP Factors'!$B$6","v":0},null,null,null,44.804867955511213]
["Nitrous oxide related CO2-e emissions from leaching and runoff"]
["Indirect nitrous oxide related CO2-e emissions from effluent irrigation",null,{"$f":"C161*$C$144*44/28*'GWP Factors'!$B$6","v":6.5384731033381609},{"$f":"D161*$C$144*44/28*'GWP Factors'!$B$6","v":0},{"$f":"E161*$C$144*44/28*'GWP Factors'!$B$6","v":0},null,null,null,6.5384731033381609]
["Indirect nitrous oxide related CO2-e emissions from leaching and runoff",null,{"$f":"C167*'GWP Factors'!$B$6","v":3.9595352800006003},{"$f":"D167*'GWP Factors'!$B$6","v":0},{"$f":"E167*'GWP Factors'!$B$6","v":0},null,{"$f":"G126*G141*G142*44/28*'GWP Factors'!$B$6","v":0},null,3.9595352800006003]
[null,"TOTAL",{"$f":"SUM(C208:C218)","v":7223.3634037367219},{"$f":"SUM(D208:D218)","v":0},0,0,0,0,{"$f":"SUM(I208:I218)","v":7223.3634037367219},"t of CO2-e / yr"]
[]
["Manure GHG Emissions (kg/kg LWT)",null,{"$f":"(I220*1000)/'5. Herd details'!H42","v":2.8188129910610855}]
["Manure GHG Emissions (kg/kg HSCW)",null,{"$f":"(I220*1000)/'5. Herd details'!I42","v":3.7089644619224811}]

{"sheet":"Energy emissions","index":30,"n_rows":63,"n_cols":11,"rows_kept":63,"cut":false,"hidden":true,"merged":[[1,0,1,9],[58,6,60,6],[8,1,9,1],[12,6,13,6],[22,1,23,1],[22,2,23,2],[32,6,33,6],[41,1,41,4]]}
[]
["Energy Emission Factors and Emissions Calculations"]
[]
[]
[]
[null,"Energy emission Factors",null,"National Greenhouse Accounts Factors 2024"]
[]
[null,"Table 1 - Indirect (scope 2 and 3) emission factors for consumption of purchased or acquired electricity"]
[null,"State, Territory or grid description","Scope 2 emission factors","Scope 3 emission factors",null,null,null,"Scope 2 emission factor","Scope 3 emission factor","Total"]
[null,null,"kg CO2-e/kWh","kg CO2-e/kWh",null,null,null,"kg CO2-e/kWh","kg CO2-e/kWh","kg CO2-e/kWh"]
[null,"New South Wales",0.66,0.04,null,null,{"$f":"'17. GHG Input'!C6","v":"Queensland"},{"$f":"VLOOKUP($G11,$B$11:$D$19,2,FALSE)","v":0.71},{"$f":"VLOOKUP($G11,$B$11:$D$19,3,FALSE)","v":0.1},{"$f":"SUM(H11:I11)","v":0.80999999999999994}]
[null,"Australian Capital Territory",0.66,0.04]
[null,"Victoria",0.77,0.09,null,null,"Piggery grid electricity emissions","Scope 2 - kg CO2-e","Scope 3 - kg CO2-e","Combined - kg CO2-e"]
[null,"Queensland",0.71,0.1,null,null,null,{"$f":"H11*'17. GHG Input'!$C$9","v":1775000},{"$f":"I11*'17. GHG Input'!$C$9","v":250000},{"$f":"SUM(H14:I14)","v":2025000}]
[null,"South Australia",0.23,0.05]
[null,"Southern Western Australia",0.51,0.06]
[null,"Northern Western Australia",0.61,0.09]
[null,"Tasmania",0.15,0.03]
[null,"Northern Territory",0.56000000000000005,7.0000000000000007E-2]
[]
[]
[null,"Table 5 - Direct (Scope 1) emission factors for the consumtpion of gaseous fuels including liquefied natural gas"]
[null,"Fuel combusted","Energy content factor","Scope 1 emission factor"]
[null,null,null,"kg CO2-e/GJ"]
[null,"Natural gas distributed in a pipeline",3.9300000000000002E-2,51.53]
[]
[]
[null,"Table 6 - Indirect (Scope 3) emission factors for the consumption of natural gas"]
[null,null,"Scope 3 Non-metro",null,null,null,null,"Scope 1 emission factor","Scope 3 emission factor","Total"]
[null,null,"kg CO2-e/GJ",null,null,null,null,"kg CO2-e/GJ","kg CO2-e/GJ","kg CO2-e/GJ"]
[null,"New South Wales",14,null,null,null,{"$f":"'17. GHG Input'!C6","v":"Queensland"},{"$f":"D25","v":51.53},{"$f":"VLOOKUP(G31,B31:C39,2,FALSE)","v":7.9},{"$f":"SUM(H31:I31)","v":59.43}]
[null,"Australian Capital Territory",14]
[null,"Victoria",4,null,null,null,"Piggery natural gas emissions","Scope 1 - kg CO2-e","Scope 3 - kg CO2-e","Combined - kg CO2-e"]
[null,"Queensland",7.9,null,null,null,null,{"$f":"H31*'17. GHG Input'!$C$11","v":0},{"$f":"I31*'17. GHG Input'!$C$11","v":0},{"$f":"SUM(H34:I34)","v":0}]
[null,"South Australia",10.6]
[null,"Southern Western Australia",4]
[null,"Northern Western Australia",4]
[null,"Tasmania",4]
[null,"Northern Territory",4]
[]
[]
[null,"Table 8 - Direct (Scope 1) and indirect (Scope 3) emission factors for the combustion of liquid fuels, including certain petroleum based products for stationary energy purposes"]
[null,null,"Energy content factor","Scope 1 emission factor","Scope 3 emission factor"]
[null,null,"GJ/kL","kg CO2-e/GJ","kg CO2-e/GJ",null,"Piggery stationary fuel emissions","Scope 1 - kg CO2-e","Scope 3 - kg CO2-e","Combined - kg CO2-e"]
[null,"Liquefied petroleum gas",25.7,60.6,20.2,null,"LPG",{"$f":"(('17. GHG Input'!$C10/1000)*$C45)*D45","v":38935.5},{"$f":"(('17. GHG Input'!$C10/1000)*$C45)*E45","v":12978.5},{"$f":"SUM(H45:I45)","v":51914}]
[null,"Petrol",34.200000000000003,67.8,17.2,null,"Petrol",{"$f":"(('17. GHG Input'!$C14/1000)*$C46)*D46","v":0},{"$f":"(('17. GHG Input'!$C14/1000)*$C46)*E46","v":0},{"$f":"SUM(H46:I46)","v":0}]
[null,"Diesel",38.6,70.2,17.3,null,"Diesel",{"$f":"(('17. GHG Input'!$C13/1000)*$C47)*D47","v":135486},{"$f":"(('17. GHG Input'!$C13/1000)*$C47)*E47","v":33389},168875]
[]
[]
[null,"Table 9 - Direct (Scope 1) and indirect (Scope 3) emission factors for the consumption of transport fuels in different transport equipment"]
[null,null,"Energy content factor","Scope 1 emission factor","Scope 3 emission factor"]
[null,null,"GJ/kL","kg CO2-e/GJ","kg CO2-e/GJ",null,"Piggery transport fuel emissions on farm","Scope 1 - kg CO2-e","Scope 3 - kg CO2-e","Combined - kg CO2-e"]
[null,"Petrol",34.200000000000003,67.62,17.2,null,"Petrol",{"$f":"(('17. GHG Input'!$C17/1000)*$C53)*D53","v":2312.6040000000003},{"$f":"(('17. GHG Input'!$C17/1000)*$C53)*E53","v":588.24},{"$f":"SUM(H53:I53)","v":2900.8440000000001}]
[null,"Diesel",38.6,70.41,17.3,null,"Diesel",{"$f":"(('17. GHG Input'!$C16/1000)*$C54)*D54","v":6794.5649999999996},{"$f":"(('17. GHG Input'!$C16/1000)*$C54)*E54","v":1669.45},{"$f":"SUM(H54:I54)","v":8464.0149999999994}]
[]
[null,null,null,null,null,null,"Piggery transport fuel emissions pigs to abattoir","Scope 1 - kg CO2-e","Scope 3 - kg CO2-e","Combined - kg CO2-e"]
[null,null,null,null,null,null,"Diesel",{"$f":"(('17. GHG Input'!$C19/1000)*$C54)*D54","v":62509.998},{"$f":"(('17. GHG Input'!$C19/1000)*$C54)*E54","v":15358.940000000002},{"$f":"SUM(H57:I57)","v":77868.937999999995}]
[]
[null,null,null,null,null,null,"Piggery Services totals","Scope 1","Scope 2","Scope 3","Total"]
[null,null,null,null,null,null,null,"t CO2-e","t CO2-e","t CO2-e","t CO2-e"]
[null,null,null,null,null,null,null,{"$f":"SUM(H34,H45:H47,H53:H54,H57)/1000","v":246.03866699999998},{"$f":"H14/1000","v":1775},{"$f":"SUM(I14,I34,I45:I47,I53:I54,I57)/1000","v":313.98412999999999},{"$f":"SUM(H61:J61)","v":2335.0227970000001}]
[]
[null,null,null,null,null,null,null,null,null,"Check",{"$f":"(SUM(J53:J54,J45:J47,J34,J14)/1000)=K61","v":false}]

{"sheet":"Transport emissions","index":31,"n_rows":8,"n_cols":7,"rows_kept":8,"cut":false,"hidden":true,"merged":[]}
["Transport"]
["Transportation","Product","tonnes","av. Kilometers","Emission Factor","Units","Scope 3 Emissions"]
[0,"Other purchased inputs",0,0,0.05,"kg CO2-e/Tkm",0]
[0,"Fuel",109.18331196382545,30,0.05,"kg CO2-e/Tkm",163.77496794573818]
[0,"Feed",23195.088538605374,30,0.05,"kg CO2-e/Tkm",34792.632807908063]
[0,"Pigs to abattoir",8471.7928293908153,144,0.05,"kg CO2-e/Tkm",60996.908371613878]
["Total kg CO2-e ",null,null,null,null,"kg CO2-e",95953.316147467674]
["Total t CO2-e ",null,null,null,null,"t CO2-e",95.953316147467675]

{"sheet":"Enteric Emissions","index":32,"n_rows":31,"n_cols":6,"rows_kept":31,"cut":false,"hidden":true,"merged":[[1,0,1,5]]}
[]
["Enteric Emissions"]
[]
[]
["Swine are non-ruminant animals, and convert a smaller proportion of feed energy intake into methane than"]
["ruminants. Whittemore (1993) suggested the output of methane by a 60 kg swine is about 0.2 MJ/day."]
["Assuming that on average, a 60 kg swine consumes 1.95 kg DM/day of a diet containing 18.6 MJ GE/kg, the gross"]
["energy (GE) intake was 36.3 MJ GE. Thus swine would convert around 0.6 per cent of gross energy into methane."]
["Other values in the literature suggest methane conversions of 1.2 per cent of GE (Christensen and Thorbek 1987),"]
["0.6 to 0.8 per cent of GE (Moss 1993) and 0.4 per cent of GE (Kirchgessner et al. 1991). A methane conversion of"]
["0.7 per cent of GE intake is used for Australia."]
[]
["Source - Swine (3.A.3) - Equation (3.A.3_1) National Inventory Report 2022 (Commonwealth of Australia 2024)"]
[null,"M = I x 18.6 x 0.007 / F",null,null,null,"(3A.3_1)"]
[]
[null,null,"Feed","Feed","Methane","Methane"]
["Class","No.","Ingested","Ingested","kg/yr","t/yr"]
[null,null,"kg of DM/hd/d","kg/yr"]
["Gilts",{"$f":"'8. Feed details'!C13","v":102.53742590682847},{"$f":"'8. Feed details'!L13*('14. DM DAMP'!N$37/100)","v":2.2155524000000004},{"$f":"B19*C19*365.25","v":82976.413881073488},{"$f":"D19*18.6*0.007/55.22","v":195.64522070474047},{"$f":"E19/1000","v":0.19564522070474047}]
["Boars",{"$f":"'8. Feed details'!C14","v":10},{"$f":"'8. Feed details'!L14*('14. DM DAMP'!O$37/100)","v":2.0374670750000003},{"$f":"B20*C20*365.25","v":7441.8484914375013},{"$f":"D20*18.6*0.007/55.22","v":17.546698181549488},{"$f":"E20/1000","v":1.7546698181549487E-2}]
["Gestating sows",{"$f":"'8. Feed details'!C15","v":850.95873040045035},{"$f":"'8. Feed details'!L15*('14. DM DAMP'!L$37/100)","v":2.0381990500000007},633498.10151933553,1493.688026400172,1.493688026400172]
["Lactating sows",{"$f":"'8. Feed details'!C16","v":149.04126959954959},{"$f":"'8. Feed details'!L16*('14. DM DAMP'!K$37/100)","v":5.5929844215000015},304467.10352102254,717.88512999705063,0.71788512999705067]
["Suckers 1",{"$f":"'8. Feed details'!C17","v":1662.8883287671231},{"$f":"'8. Feed details'!L17*('14. DM DAMP'!D$37/100)","v":4.864293225E-3},2954.4255916249117,6.9660668603687714,6.9660668603687718E-3]
["Nursery",{"$f":"'8. Feed details'!C18","v":2957.369327544784},{"$f":"'8. Feed details'!L18*('14. DM DAMP'!E$37/100)","v":0.7587106719937502},819543.44640730985,1932.3534357521144,1.9323534357521144]
["Weaner",{"$f":"'8. Feed details'!C19","v":1774.4648906608736},{"$f":"'8. Feed details'!L19*('14. DM DAMP'!F$37/100)","v":1.4777155460874996},957741.87813307915,2258.2034142145408,2.2582034142145408]
["Porker",{"$f":"'8. Feed details'!C20","v":1755.3552687614488},{"$f":"'8. Feed details'!L20*('14. DM DAMP'!G$37/100)","v":2.0766871826296875},1331454.5134203122,3139.3585231315587,3.1393585231315586]
["Grower",{"$f":"'8. Feed details'!C21","v":1736.4514427901718},{"$f":"'8. Feed details'!L21*('14. DM DAMP'!H$37/100)","v":2.5972398793781255},1647270.5368076405,3884.0026058014273,3.8840026058014274]
["Finisher",{"$f":"'8. Feed details'!C22","v":0},{"$f":"'8. Feed details'!L22*('14. DM DAMP'!I$37/100)","v":0},0,0,0]
["Heavy finisher",{"$f":"'8. Feed details'!C23","v":0},{"$f":"'8. Feed details'!L23*('14. DM DAMP'!J$37/100)","v":0},0,0,0]
[null,null,null,{"$f":"SUM(D19:D29)","v":5787348.2677728357},{"$f":"SUM(E19:E29)","v":13645.649121043523},13.645649121043522]
["Enteric Emissions",{"$f":"F30*'GWP Factors'!B5","v":382.07817538921864},"t of CO2-e / yr"]

{"sheet":"GWP Factors","index":33,"n_rows":19,"n_cols":5,"rows_kept":19,"cut":false,"hidden":true,"merged":[]}
[]
[]
["Gas","CO2-e",null,"Reference ","Myhre et al. (2013)"]
["CO2",1,null,"https://www.ghgprotocol.org/sites/default/files/ghgp/Global-Warming-Potential-Values%20%28Feb%2016%202016%29_1.pdf"]
["CH4",28]
["N2O",265]
["CF4",6630]
["C2F6",11100]
["SF6",23500]
["NF3",16100]
[]
["Gas","Conversion Factor"]
["CO2",3.6666666666666665]
["CH4",1.3333333333333333]
["N2O",1.5714285714285714]
["Nox",3.2857142857142856]
["CO",2.3333333333333335]
["CO2 Lime",3.6666666666666665]
["NMVOC",1.1666666666666667]

{"sheet":"GHG Scope 3 Ration Emissions","index":34,"n_rows":162,"n_cols":30,"rows_kept":162,"cut":false,"hidden":true,"merged":[]}
["Scope 3 - Ration Emission Factors"]
[null,"Scope 3 Emissions","Total Quantity","Scope 3 Emissions","Contribution Analysis","Land Use Change Emissions","Land Use Change Emissions",{"$f":"'Diet calcs'!C6","v":"Sucker"},{"$f":"'Diet calcs'!C6","v":"Sucker"},{"$f":"'Diet calcs'!L6","v":"Weaner"},{"$f":"'Diet calcs'!L6","v":"Weaner"},{"$f":"'Diet calcs'!U6","v":"Porker"},{"$f":"'Diet calcs'!U6","v":"Porker"},{"$f":"'Diet calcs'!AD6","v":"Grower"},{"$f":"'Diet calcs'!AD6","v":"Grower"},{"$f":"'Diet calcs'!AM6","v":"Finisher"},{"$f":"'Diet calcs'!AM6","v":"Finisher"},{"$f":"'Diet calcs'!AV6","v":"Unallocated"},{"$f":"'Diet calcs'!AV6","v":"Unallocated"},{"$f":"'Diet calcs'!BE6","v":"Unallocated"},{"$f":"'Diet calcs'!BE6","v":"Unallocated"},{"$f":"'Diet calcs'!BN6","v":"Lactating Sows"},{"$f":"'Diet calcs'!BN6","v":"Lactating Sows"},{"$f":"'Diet calcs'!BW6","v":"Dry Sows"},{"$f":"'Diet calcs'!BW6","v":"Dry Sows"},{"$f":"'Diet calcs'!CF6","v":"Gilts"},{"$f":"'Diet calcs'!CF6","v":"Gilts"},{"$f":"'Diet calcs'!CO6","v":"Boars"},{"$f":"'Diet calcs'!CO6","v":"Boars"},"Total"]
["Ration Components","kg CO2-e/t","(T)","kg CO2-e","%","kg CO2-e / t","kg CO2-e","% of As Fed","Quantity (T)","% of As Fed","Quantity (T)","% of As Fed","Quantity (T)","% of As Fed","Quantity (T)","% of As Fed","Quantity (T)","% of As Fed","Quantity (T)","% of As Fed","Quantity (T)","% of As Fed","Quantity (T)","% of As Fed","Quantity (T)","% of As Fed","Quantity (T)","% of As Fed","Quantity (T)","% of As Fed"]
["Cereal Grains"]
["Barley 11 - Northern regions",269.29273999999998,{"$f":"SUM(I5,K5,M5,O5,Q5,S5,U5,W5,Y5,AA5,AC5)","v":3086.1669240611873},{"$f":"B5*C5","v":831082.34707780904},{"$f":"D5/$D$160","v":0.37383191293791035},null,{"$f":"C5*F5","v":0},{"$f":"'17. GHG Input'!$C44*'Diet calcs'!$C$9","v":1.4999999999999999E-2},{"$f":"'8. Feed details'!$M$17*H5","v":0.17250278399999994},{"$f":"'17. GHG Input'!$C44*'Diet calcs'!$L$9","v":0.15},{"$f":"'8. Feed details'!$M$18*J5","v":145.30339209099324},{"$f":"'17. GHG Input'!$C44*'Diet calcs'!$U$9","v":0.2},{"$f":"'8. Feed details'!$M$19*L5","v":227.19410258843206},{"$f":"'17. GHG Input'!$C44*'Diet calcs'!$AD$9","v":0.4},{"$f":"'8. Feed details'!$M$20*N5","v":632.26423206232823},{"$f":"'17. GHG Input'!$C44*'Diet calcs'!$AM$9","v":0.7},{"$f":"'8. Feed details'!$M$21*P5","v":1370.0849442185279},{"$f":"'17. GHG Input'!$C44*'Diet calcs'!$AV$9","v":0},{"$f":"'8. Feed details'!$M$22*R5","v":0},{"$f":"'17. GHG Input'!$C44*'Diet calcs'!$BE$9","v":0},{"$f":"'8. Feed details'!$M$23*T5","v":0},{"$f":"'17. GHG Input'!$C44*'Diet calcs'!$BN$9","v":0.3},{"$f":"'8. Feed details'!$M$16*V5","v":108.22749456131503},{"$f":"'17. GHG Input'!$C44*'Diet calcs'!$BW$9","v":0.7},{"$f":"'8. Feed details'!$M$15*X5","v":526.38515570507843},{"$f":"'17. GHG Input'!$C44*'Diet calcs'!$CF$9","v":0.7},{"$f":"'8. Feed details'!$M$13*Z5","v":68.94292715577545},{"$f":"'17. GHG Input'!$C44*'Diet calcs'!$CO$9","v":0.85914999999999997},{"$f":"'8. Feed details'!$M$14*AB5","v":7.5921728947368425},{"$f":"C5/$C$160*100","v":44.895260461424222}]
["Barley 11 - Central regions",340.99720000000002,{"$f":"SUM(I6,K6,M6,O6,Q6,S6,U6,W6,Y6,AA6,AC6)","v":0},0,0,null,{"$f":"C6*F6","v":0},{"$f":"'17. GHG Input'!$C45*'Diet calcs'!$C$9","v":0},{"$f":"'8. Feed details'!$M$17*H6","v":0},{"$f":"'17. GHG Input'!$C45*'Diet calcs'!$L$9","v":0},{"$f":"'8. Feed details'!$M$18*J6","v":0},{"$f":"'17. GHG Input'!$C45*'Diet calcs'!$U$9","v":0},{"$f":"'8. Feed details'!$M$19*L6","v":0},{"$f":"'17. GHG Input'!$C45*'Diet calcs'!$AD$9","v":0},{"$f":"'8. Feed details'!$M$20*N6","v":0},{"$f":"'17. GHG Input'!$C45*'Diet calcs'!$AM$9","v":0},{"$f":"'8. Feed details'!$M$21*P6","v":0},{"$f":"'17. GHG Input'!$C45*'Diet calcs'!$AV$9","v":0},{"$f":"'8. Feed details'!$M$22*R6","v":0},{"$f":"'17. GHG Input'!$C45*'Diet calcs'!$BE$9","v":0},{"$f":"'8. Feed details'!$M$23*T6","v":0},{"$f":"'17. GHG Input'!$C45*'Diet calcs'!$BN$9","v":0},{"$f":"'8. Feed details'!$M$16*V6","v":0},{"$f":"'17. GHG Input'!$C45*'Diet calcs'!$BW$9","v":0},{"$f":"'8. Feed details'!$M$15*X6","v":0},{"$f":"'17. GHG Input'!$C45*'Diet calcs'!$CF$9","v":0},{"$f":"'8. Feed details'!$M$13*Z6","v":0},{"$f":"'17. GHG Input'!$C45*'Diet calcs'!$CO$9","v":0},{"$f":"'8. Feed details'!$M$14*AB6","v":0},0]
["Barley 11 - Southern regions",229.3415,0,0,0,null,0,{"$f":"'17. GHG Input'!$C46*'Diet calcs'!$C$9","v":0},{"$f":"'8. Feed details'!$M$17*H7","v":0},{"$f":"'17. GHG Input'!$C46*'Diet calcs'!$L$9","v":0},{"$f":"'8. Feed details'!$M$18*J7","v":0},{"$f":"'17. GHG Input'!$C46*'Diet calcs'!$U$9","v":0},{"$f":"'8. Feed details'!$M$19*L7","v":0},{"$f":"'17. GHG Input'!$C46*'Diet calcs'!$AD$9","v":0},{"$f":"'8. Feed details'!$M$20*N7","v":0},{"$f":"'17. GHG Input'!$C46*'Diet calcs'!$AM$9","v":0},{"$f":"'8. Feed details'!$M$21*P7","v":0},{"$f":"'17. GHG Input'!$C46*'Diet calcs'!$AV$9","v":0},{"$f":"'8. Feed details'!$M$22*R7","v":0},{"$f":"'17. GHG Input'!$C46*'Diet calcs'!$BE$9","v":0},{"$f":"'8. Feed details'!$M$23*T7","v":0},{"$f":"'17. GHG Input'!$C46*'Diet calcs'!$BN$9","v":0},{"$f":"'8. Feed details'!$M$16*V7","v":0},{"$f":"'17. GHG Input'!$C46*'Diet calcs'!$BW$9","v":0},{"$f":"'8. Feed details'!$M$15*X7","v":0},{"$f":"'17. GHG Input'!$C46*'Diet calcs'!$CF$9","v":0},{"$f":"'8. Feed details'!$M$13*Z7","v":0},{"$f":"'17. GHG Input'!$C46*'Diet calcs'!$CO$9","v":0},{"$f":"'8. Feed details'!$M$14*AB7","v":0},0]
["Barley 11 - Western regions (WA)",290.15687000000003,0,0,0,null,0,{"$f":"'17. GHG Input'!$C47*'Diet calcs'!$C$9","v":0},{"$f":"'8. Feed details'!$M$17*H8","v":0},{"$f":"'17. GHG Input'!$C47*'Diet calcs'!$L$9","v":0},{"$f":"'8. Feed details'!$M$18*J8","v":0},{"$f":"'17. GHG Input'!$C47*'Diet calcs'!$U$9","v":0},{"$f":"'8. Feed details'!$M$19*L8","v":0},{"$f":"'17. GHG Input'!$C47*'Diet calcs'!$AD$9","v":0},{"$f":"'8. Feed details'!$M$20*N8","v":0},{"$f":"'17. GHG Input'!$C47*'Diet calcs'!$AM$9","v":0},{"$f":"'8. Feed details'!$M$21*P8","v":0},{"$f":"'17. GHG Input'!$C47*'Diet calcs'!$AV$9","v":0},{"$f":"'8. Feed details'!$M$22*R8","v":0},{"$f":"'17. GHG Input'!$C47*'Diet calcs'!$BE$9","v":0},{"$f":"'8. Feed details'!$M$23*T8","v":0},{"$f":"'17. GHG Input'!$C47*'Diet calcs'!$BN$9","v":0},{"$f":"'8. Feed details'!$M$16*V8","v":0},{"$f":"'17. GHG Input'!$C47*'Diet calcs'!$BW$9","v":0},{"$f":"'8. Feed details'!$M$15*X8","v":0},{"$f":"'17. GHG Input'!$C47*'Diet calcs'!$CF$9","v":0},{"$f":"'8. Feed details'!$M$13*Z8","v":0},{"$f":"'17. GHG Input'!$C47*'Diet calcs'!$CO$9","v":0},{"$f":"'8. Feed details'!$M$14*AB8","v":0},0]
["Groats",200,0,0,0,null,0,{"$f":"'Diet calcs'!C10","v":0},{"$f":"'8. Feed details'!$M$17*H9","v":0},{"$f":"'Diet calcs'!L10","v":0},{"$f":"'8. Feed details'!$M$18*J9","v":0},{"$f":"'Diet calcs'!U10","v":0},{"$f":"'8. Feed details'!$M$19*L9","v":0},{"$f":"'Diet calcs'!AD10","v":0},{"$f":"'8. Feed details'!$M$20*N9","v":0},{"$f":"'Diet calcs'!AM10","v":0},{"$f":"'8. Feed details'!$M$21*P9","v":0},{"$f":"'Diet calcs'!AV10","v":0},{"$f":"'8. Feed details'!$M$22*R9","v":0},{"$f":"'Diet calcs'!BE10","v":0},{"$f":"'8. Feed details'!$M$23*T9","v":0},{"$f":"'Diet calcs'!BN10","v":0},{"$f":"'8. Feed details'!$M$16*V9","v":0},{"$f":"'Diet calcs'!BW10","v":0},{"$f":"'8. Feed details'!$M$15*X9","v":0},{"$f":"'Diet calcs'!CF10","v":0},{"$f":"'8. Feed details'!$M$13*Z9","v":0},{"$f":"'Diet calcs'!CO10","v":0},{"$f":"'8. Feed details'!$M$14*AB9","v":0},0]
["Oats 9",200,0,0,0,null,0,{"$f":"'Diet calcs'!C11","v":0},{"$f":"'8. Feed details'!$M$17*H10","v":0},{"$f":"'Diet calcs'!L11","v":0},{"$f":"'8. Feed details'!$M$18*J10","v":0},{"$f":"'Diet calcs'!U11","v":0},{"$f":"'8. Feed details'!$M$19*L10","v":0},{"$f":"'Diet calcs'!AD11","v":0},{"$f":"'8. Feed details'!$M$20*N10","v":0},{"$f":"'Diet calcs'!AM11","v":0},{"$f":"'8. Feed details'!$M$21*P10","v":0},{"$f":"'Diet calcs'!AV11","v":0},{"$f":"'8. Feed details'!$M$22*R10","v":0},{"$f":"'Diet calcs'!BE11","v":0},{"$f":"'8. Feed details'!$M$23*T10","v":0},{"$f":"'Diet calcs'!BN11","v":0},{"$f":"'8. Feed details'!$M$16*V10","v":0},{"$f":"'Diet calcs'!BW11","v":0},{"$f":"'8. Feed details'!$M$15*X10","v":0},{"$f":"'Diet calcs'!CF11","v":0},{"$f":"'8. Feed details'!$M$13*Z10","v":0},{"$f":"'Diet calcs'!CO11","v":0},{"$f":"'8. Feed details'!$M$14*AB10","v":0},0]
["Maize 8 - Northern regions",163.98671999999999,50.856187231847635,8339.7393358565732,3.7513258707622551E-3,null,0,{"$f":"'17. GHG Input'!$C44*'Diet calcs'!$C$12","v":0},{"$f":"'8. Feed details'!$M$17*H11","v":0},{"$f":"'17. GHG Input'!$C44*'Diet calcs'!$L$12","v":5.2499999999999998E-2},{"$f":"'8. Feed details'!$M$18*J11","v":50.856187231847635},{"$f":"'17. GHG Input'!$C44*'Diet calcs'!$U$12","v":0},{"$f":"'8. Feed details'!$M$19*L11","v":0},{"$f":"'17. GHG Input'!$C44*'Diet calcs'!$AD$12","v":0},{"$f":"'8. Feed details'!$M$20*N11","v":0},{"$f":"'17. GHG Input'!$C44*'Diet calcs'!$AM$12","v":0},{"$f":"'8. Feed details'!$M$21*P11","v":0},{"$f":"'17. GHG Input'!$C44*'Diet calcs'!$AV$12","v":0},{"$f":"'8. Feed details'!$M$22*R11","v":0},{"$f":"'17. GHG Input'!$C44*'Diet calcs'!$BE$12","v":0},{"$f":"'8. Feed details'!$M$23*T11","v":0},{"$f":"'17. GHG Input'!$C44*'Diet calcs'!$BN$12","v":0},{"$f":"'8. Feed details'!$M$16*V11","v":0},{"$f":"'17. GHG Input'!$C44*'Diet calcs'!$BW$12","v":0},{"$f":"'8. Feed details'!$M$15*X11","v":0},{"$f":"'17. GHG Input'!$C44*'Diet calcs'!$CF$12","v":0},{"$f":"'8. Feed details'!$M$13*Z11","v":0},{"$f":"'17. GHG Input'!$C44*'Diet calcs'!$CO$12","v":0},{"$f":"'8. Feed details'!$M$14*AB11","v":0},0.73981797745541811]
["Maize 8 - Central regions",211.73021,0,0,0,null,0,{"$f":"'17. GHG Input'!$C45*'Diet calcs'!$C$12","v":0},{"$f":"'8. Feed details'!$M$17*H12","v":0},{"$f":"'17. GHG Input'!$C45*'Diet calcs'!$L$12","v":0},{"$f":"'8. Feed details'!$M$18*J12","v":0},{"$f":"'17. GHG Input'!$C45*'Diet calcs'!$U$12","v":0},{"$f":"'8. Feed details'!$M$19*L12","v":0},{"$f":"'17. GHG Input'!$C45*'Diet calcs'!$AD$12","v":0},{"$f":"'8. Feed details'!$M$20*N12","v":0},{"$f":"'17. GHG Input'!$C45*'Diet calcs'!$AM$12","v":0},{"$f":"'8. Feed details'!$M$21*P12","v":0},{"$f":"'17. GHG Input'!$C45*'Diet calcs'!$AV$12","v":0},{"$f":"'8. Feed details'!$M$22*R12","v":0},{"$f":"'17. GHG Input'!$C45*'Diet calcs'!$BE$12","v":0},{"$f":"'8. Feed details'!$M$23*T12","v":0},{"$f":"'17. GHG Input'!$C45*'Diet calcs'!$BN$12","v":0},{"$f":"'8. Feed details'!$M$16*V12","v":0},{"$f":"'17. GHG Input'!$C45*'Diet calcs'!$BW$12","v":0},{"$f":"'8. Feed details'!$M$15*X12","v":0},{"$f":"'17. GHG Input'!$C45*'Diet calcs'!$CF$12","v":0},{"$f":"'8. Feed details'!$M$13*Z12","v":0},{"$f":"'17. GHG Input'!$C45*'Diet calcs'!$CO$12","v":0},{"$f":"'8. Feed details'!$M$14*AB12","v":0},0]
["Maize 8 - Southern regions",123.68170000000001,0,0,0,null,0,{"$f":"'17. GHG Input'!$C46*'Diet calcs'!$C$12","v":0},{"$f":"'8. Feed details'!$M$17*H13","v":0},{"$f":"'17. GHG Input'!$C46*'Diet calcs'!$L$12","v":0},{"$f":"'8. Feed details'!$M$18*J13","v":0},{"$f":"'17. GHG Input'!$C46*'Diet calcs'!$U$12","v":0},{"$f":"'8. Feed details'!$M$19*L13","v":0},{"$f":"'17. GHG Input'!$C46*'Diet calcs'!$AD$12","v":0},{"$f":"'8. Feed details'!$M$20*N13","v":0},{"$f":"'17. GHG Input'!$C46*'Diet calcs'!$AM$12","v":0},{"$f":"'8. Feed details'!$M$21*P13","v":0},{"$f":"'17. GHG Input'!$C46*'Diet calcs'!$AV$12","v":0},{"$f":"'8. Feed details'!$M$22*R13","v":0},{"$f":"'17. GHG Input'!$C46*'Diet calcs'!$BE$12","v":0},{"$f":"'8. Feed details'!$M$23*T13","v":0},{"$f":"'17. GHG Input'!$C46*'Diet calcs'!$BN$12","v":0},{"$f":"'8. Feed details'!$M$16*V13","v":0},{"$f":"'17. GHG Input'!$C46*'Diet calcs'!$BW$12","v":0},{"$f":"'8. Feed details'!$M$15*X13","v":0},{"$f":"'17. GHG Input'!$C46*'Diet calcs'!$CF$12","v":0},{"$f":"'8. Feed details'!$M$13*Z13","v":0},{"$f":"'17. GHG Input'!$C46*'Diet calcs'!$CO$12","v":0},{"$f":"'8. Feed details'!$M$14*AB13","v":0},0]
["Maize 8 - Western (WA) regions",126.16119,0,0,0,null,0,{"$f":"'17. GHG Input'!$C47*'Diet calcs'!$C$12","v":0},{"$f":"'8. Feed details'!$M$17*H14","v":0},{"$f":"'17. GHG Input'!$C47*'Diet calcs'!$L$12","v":0},{"$f":"'8. Feed details'!$M$18*J14","v":0},{"$f":"'17. GHG Input'!$C47*'Diet calcs'!$U$12","v":0},{"$f":"'8. Feed details'!$M$19*L14","v":0},{"$f":"'17. GHG Input'!$C47*'Diet calcs'!$AD$12","v":0},{"$f":"'8. Feed details'!$M$20*N14","v":0},{"$f":"'17. GHG Input'!$C47*'Diet calcs'!$AM$12","v":0},{"$f":"'8. Feed details'!$M$21*P14","v":0},{"$f":"'17. GHG Input'!$C47*'Diet calcs'!$AV$12","v":0},{"$f":"'8. Feed details'!$M$22*R14","v":0},{"$f":"'17. GHG Input'!$C47*'Diet calcs'!$BE$12","v":0},{"$f":"'8. Feed details'!$M$23*T14","v":0},{"$f":"'17. GHG Input'!$C47*'Diet calcs'!$BN$12","v":0},{"$f":"'8. Feed details'!$M$16*V14","v":0},{"$f":"'17. GHG Input'!$C47*'Diet calcs'!$BW$12","v":0},{"$f":"'8. Feed details'!$M$15*X14","v":0},{"$f":"'17. GHG Input'!$C47*'Diet calcs'!$CF$12","v":0},{"$f":"'8. Feed details'!$M$13*Z14","v":0},{"$f":"'17. GHG Input'!$C47*'Diet calcs'!$CO$12","v":0},{"$f":"'8. Feed details'!$M$14*AB14","v":0},0]
["Sorghum 11",242,0,0,0,null,0,{"$f":"'17. GHG Input'!$C44*'Diet calcs'!$C$13","v":0},{"$f":"'8. Feed details'!$M$17*H15","v":0},{"$f":"'Diet calcs'!L13","v":0},{"$f":"'8. Feed details'!$M$18*J15","v":0},{"$f":"'Diet calcs'!U13","v":0},{"$f":"'8. Feed details'!$M$19*L15","v":0},{"$f":"'Diet calcs'!AD13","v":0},{"$f":"'8. Feed details'!$M$20*N15","v":0},{"$f":"'Diet calcs'!AM13","v":0},{"$f":"'8. Feed details'!$M$21*P15","v":0},{"$f":"'Diet calcs'!AV13","v":0},{"$f":"'8. Feed details'!$M$22*R15","v":0},{"$f":"'Diet calcs'!BE13","v":0},{"$f":"'8. Feed details'!$M$23*T15","v":0},{"$f":"'Diet calcs'!BN13","v":0},{"$f":"'8. Feed details'!$M$16*V15","v":0},{"$f":"'Diet calcs'!BW13","v":0},{"$f":"'8. Feed details'!$M$15*X15","v":0},{"$f":"'Diet calcs'!CF13","v":0},{"$f":"'8. Feed details'!$M$13*Z15","v":0},{"$f":"'Diet calcs'!CO13","v":0},{"$f":"'8. Feed details'!$M$14*AB15","v":0},0]
["Triticale 11",325,0,0,0,58.5,0,{"$f":"'Diet calcs'!C14","v":0},{"$f":"'8. Feed details'!$M$17*H16","v":0},{"$f":"'Diet calcs'!L14","v":0},{"$f":"'8. Feed details'!$M$18*J16","v":0},{"$f":"'Diet calcs'!U14","v":0},{"$f":"'8. Feed details'!$M$19*L16","v":0},{"$f":"'Diet calcs'!AD14","v":0},{"$f":"'8. Feed details'!$M$20*N16","v":0},{"$f":"'Diet calcs'!AM14","v":0},{"$f":"'8. Feed details'!$M$21*P16","v":0},{"$f":"'Diet calcs'!AV14","v":0},{"$f":"'8. Feed details'!$M$22*R16","v":0},{"$f":"'Diet calcs'!BE14","v":0},{"$f":"'8. Feed details'!$M$23*T16","v":0},{"$f":"'Diet calcs'!BN14","v":0},{"$f":"'8. Feed details'!$M$16*V16","v":0},{"$f":"'Diet calcs'!BW14","v":0},{"$f":"'8. Feed details'!$M$15*X16","v":0},{"$f":"'Diet calcs'!CF14","v":0},{"$f":"'8. Feed details'!$M$13*Z16","v":0},{"$f":"'Diet calcs'!CO14","v":0},{"$f":"'8. Feed details'!$M$14*AB16","v":0},0]
["Wheat 10 - Northern regions",156.22292999999999,2437.0315611993055,380720.21099302982,0.17125302356629665,null,0,{"$f":"'17. GHG Input'!$C44*'Diet calcs'!$C$15","v":5.1862499999999999E-2},{"$f":"'8. Feed details'!$M$17*H17","v":0.59642837567999984},{"$f":"'17. GHG Input'!$C44*'Diet calcs'!$L$15","v":0.54032500000000006},{"$f":"'8. Feed details'!$M$18*J17","v":523.40703554377285},{"$f":"'17. GHG Input'!$C44*'Diet calcs'!$U$15","v":0.54079999999999995},{"$f":"'8. Feed details'!$M$19*L17","v":614.33285339912015},{"$f":"'17. GHG Input'!$C44*'Diet calcs'!$AD$15","v":0.45774999999999999},{"$f":"'8. Feed details'!$M$20*N17","v":723.54738056632686},{"$f":"'17. GHG Input'!$C44*'Diet calcs'!$AM$15","v":0.12855},{"$f":"'8. Feed details'!$M$21*P17","v":251.60631368470251},{"$f":"'17. GHG Input'!$C44*'Diet calcs'!$AV$15","v":0},{"$f":"'8. Feed details'!$M$22*R17","v":0},{"$f":"'17. GHG Input'!$C44*'Diet calcs'!$BE$15","v":0},{"$f":"'8. Feed details'!$M$23*T17","v":0},{"$f":"'17. GHG Input'!$C44*'Diet calcs'!$BN$15","v":0.50739299999999998},{"$f":"'8. Feed details'!$M$16*V17","v":183.04624382649772},{"$f":"'17. GHG Input'!$C44*'Diet calcs'!$BW$15","v":0.16470000000000001},{"$f":"'8. Feed details'!$M$15*X17","v":123.85090734946634},{"$f":"'17. GHG Input'!$C44*'Diet calcs'!$CF$15","v":0.16899600000000001},{"$f":"'8. Feed details'!$M$13*Z17","v":16.644398453739186},{"$f":"'17. GHG Input'!$C44*'Diet calcs'!$CO$15","v":0},{"$f":"'8. Feed details'!$M$14*AB17","v":0},35.452122125907707]
["Wheat 10 - Central regions",251.67779999999999,0,0,0,null,0,{"$f":"'17. GHG Input'!$C45*'Diet calcs'!$C$15","v":0},{"$f":"'8. Feed details'!$M$17*H18","v":0},{"$f":"'17. GHG Input'!$C45*'Diet calcs'!$L$15","v":0},{"$f":"'8. Feed details'!$M$18*J18","v":0},{"$f":"'17. GHG Input'!$C45*'Diet calcs'!$U$15","v":0},{"$f":"'8. Feed details'!$M$19*L18","v":0},{"$f":"'17. GHG Input'!$C45*'Diet calcs'!$AD$15","v":0},{"$f":"'8. Feed details'!$M$20*N18","v":0},{"$f":"'17. GHG Input'!$C45*'Diet calcs'!$AM$15","v":0},{"$f":"'8. Feed details'!$M$21*P18","v":0},{"$f":"'17. GHG Input'!$C45*'Diet calcs'!$AV$15","v":0},{"$f":"'8. Feed details'!$M$22*R18","v":0},{"$f":"'17. GHG Input'!$C45*'Diet calcs'!$BE$15","v":0},{"$f":"'8. Feed details'!$M$23*T18","v":0},{"$f":"'17. GHG Input'!$C45*'Diet calcs'!$BN$15","v":0},{"$f":"'8. Feed details'!$M$16*V18","v":0},{"$f":"'17. GHG Input'!$C45*'Diet calcs'!$BW$15","v":0},{"$f":"'8. Feed details'!$M$15*X18","v":0},{"$f":"'17. GHG Input'!$C45*'Diet calcs'!$CF$15","v":0},{"$f":"'8. Feed details'!$M$13*Z18","v":0},{"$f":"'17. GHG Input'!$C45*'Diet calcs'!$CO$15","v":0},{"$f":"'8. Feed details'!$M$14*AB18","v":0},0]
["Wheat 10 - Southern regions",164.41248999999999,0,0,0,null,0,{"$f":"'17. GHG Input'!$C46*'Diet calcs'!$C$15","v":0},{"$f":"'8. Feed details'!$M$17*H19","v":0},{"$f":"'17. GHG Input'!$C46*'Diet calcs'!$L$15","v":0},{"$f":"'8. Feed details'!$M$18*J19","v":0},{"$f":"'17. GHG Input'!$C46*'Diet calcs'!$U$15","v":0},{"$f":"'8. Feed details'!$M$19*L19","v":0},{"$f":"'17. GHG Input'!$C46*'Diet calcs'!$AD$15","v":0},{"$f":"'8. Feed details'!$M$20*N19","v":0},{"$f":"'17. GHG Input'!$C46*'Diet calcs'!$AM$15","v":0},{"$f":"'8. Feed details'!$M$21*P19","v":0},{"$f":"'17. GHG Input'!$C46*'Diet calcs'!$AV$15","v":0},{"$f":"'8. Feed details'!$M$22*R19","v":0},{"$f":"'17. GHG Input'!$C46*'Diet calcs'!$BE$15","v":0},{"$f":"'8. Feed details'!$M$23*T19","v":0},{"$f":"'17. GHG Input'!$C46*'Diet calcs'!$BN$15","v":0},{"$f":"'8. Feed details'!$M$16*V19","v":0},{"$f":"'17. GHG Input'!$C46*'Diet calcs'!$BW$15","v":0},{"$f":"'8. Feed details'!$M$15*X19","v":0},{"$f":"'17. GHG Input'!$C46*'Diet calcs'!$CF$15","v":0},{"$f":"'8. Feed details'!$M$13*Z19","v":0},{"$f":"'17. GHG Input'!$C46*'Diet calcs'!$CO$15","v":0},{"$f":"'8. Feed details'!$M$14*AB19","v":0},0]
["Wheat 10 - Western (WA) regions",206.13117,0,0,0,null,0,{"$f":"'17. GHG Input'!$C47*'Diet calcs'!$C$15","v":0},{"$f":"'8. Feed details'!$M$17*H20","v":0},{"$f":"'17. GHG Input'!$C47*'Diet calcs'!$L$15","v":0},{"$f":"'8. Feed details'!$M$18*J20","v":0},{"$f":"'17. GHG Input'!$C47*'Diet calcs'!$U$15","v":0},{"$f":"'8. Feed details'!$M$19*L20","v":0},{"$f":"'17. GHG Input'!$C47*'Diet calcs'!$AD$15","v":0},{"$f":"'8. Feed details'!$M$20*N20","v":0},{"$f":"'17. GHG Input'!$C47*'Diet calcs'!$AM$15","v":0},{"$f":"'8. Feed details'!$M$21*P20","v":0},{"$f":"'17. GHG Input'!$C47*'Diet calcs'!$AV$15","v":0},{"$f":"'8. Feed details'!$M$22*R20","v":0},{"$f":"'17. GHG Input'!$C47*'Diet calcs'!$BE$15","v":0},{"$f":"'8. Feed details'!$M$23*T20","v":0},{"$f":"'17. GHG Input'!$C47*'Diet calcs'!$BN$15","v":0},{"$f":"'8. Feed details'!$M$16*V20","v":0},{"$f":"'17. GHG Input'!$C47*'Diet calcs'!$BW$15","v":0},{"$f":"'8. Feed details'!$M$15*X20","v":0},{"$f":"'17. GHG Input'!$C47*'Diet calcs'!$CF$15","v":0},{"$f":"'8. Feed details'!$M$13*Z20","v":0},{"$f":"'17. GHG Input'!$C47*'Diet calcs'!$CO$15","v":0},{"$f":"'8. Feed details'!$M$14*AB20","v":0},0]
["Wheat 12 - Northern regions",156.22292999999999,0,0,0,null,0,{"$f":"'17. GHG Input'!$C44*'Diet calcs'!$C$16","v":0},{"$f":"'8. Feed details'!$M$17*H21","v":0},{"$f":"'17. GHG Input'!$C44*'Diet calcs'!$L$16","v":0},{"$f":"'8. Feed details'!$M$18*J21","v":0},{"$f":"'17. GHG Input'!$C44*'Diet calcs'!$U$16","v":0},{"$f":"'8. Feed details'!$M$19*L21","v":0},{"$f":"'17. GHG Input'!$C44*'Diet calcs'!$AD$16","v":0},{"$f":"'8. Feed details'!$M$20*N21","v":0},{"$f":"'17. GHG Input'!$C44*'Diet calcs'!$AM$16","v":0},{"$f":"'8. Feed details'!$M$21*P21","v":0},{"$f":"'17. GHG Input'!$C44*'Diet calcs'!$AV$16","v":0},{"$f":"'8. Feed details'!$M$22*R21","v":0},{"$f":"'17. GHG Input'!$C44*'Diet calcs'!$BE$16","v":0},{"$f":"'8. Feed details'!$M$23*T21","v":0},{"$f":"'17. GHG Input'!$C44*'Diet calcs'!$BN$16","v":0},{"$f":"'8. Feed details'!$M$16*V21","v":0},{"$f":"'17. GHG Input'!$C44*'Diet calcs'!$BW$16","v":0},{"$f":"'8. Feed details'!$M$15*X21","v":0},{"$f":"'17. GHG Input'!$C44*'Diet calcs'!$CF$16","v":0},{"$f":"'8. Feed details'!$M$13*Z21","v":0},{"$f":"'17. GHG Input'!$C44*'Diet calcs'!$CO$16","v":0},{"$f":"'8. Feed details'!$M$14*AB21","v":0},0]
["Wheat 12 - Central regions",251.67779999999999,0,0,0,null,0,{"$f":"'17. GHG Input'!$C45*'Diet calcs'!$C$16","v":0},{"$f":"'8. Feed details'!$M$17*H22","v":0},{"$f":"'17. GHG Input'!$C45*'Diet calcs'!$L$16","v":0},{"$f":"'8. Feed details'!$M$18*J22","v":0},{"$f":"'17. GHG Input'!$C45*'Diet calcs'!$U$16","v":0},{"$f":"'8. Feed details'!$M$19*L22","v":0},{"$f":"'17. GHG Input'!$C45*'Diet calcs'!$AD$16","v":0},{"$f":"'8. Feed details'!$M$20*N22","v":0},{"$f":"'17. GHG Input'!$C45*'Diet calcs'!$AM$16","v":0},{"$f":"'8. Feed details'!$M$21*P22","v":0},{"$f":"'17. GHG Input'!$C45*'Diet calcs'!$AV$16","v":0},{"$f":"'8. Feed details'!$M$22*R22","v":0},{"$f":"'17. GHG Input'!$C45*'Diet calcs'!$BE$16","v":0},{"$f":"'8. Feed details'!$M$23*T22","v":0},{"$f":"'17. GHG Input'!$C45*'Diet calcs'!$BN$16","v":0},{"$f":"'8. Feed details'!$M$16*V22","v":0},{"$f":"'17. GHG Input'!$C45*'Diet calcs'!$BW$16","v":0},{"$f":"'8. Feed details'!$M$15*X22","v":0},{"$f":"'17. GHG Input'!$C45*'Diet calcs'!$CF$16","v":0},{"$f":"'8. Feed details'!$M$13*Z22","v":0},{"$f":"'17. GHG Input'!$C45*'Diet calcs'!$CO$16","v":0},{"$f":"'8. Feed details'!$M$14*AB22","v":0},0]
["Wheat 12 - Southern regions",164.41248999999999,0,0,0,null,0,{"$f":"'17. GHG Input'!$C46*'Diet calcs'!$C$16","v":0},{"$f":"'8. Feed details'!$M$17*H23","v":0},{"$f":"'17. GHG Input'!$C46*'Diet calcs'!$L$16","v":0},{"$f":"'8. Feed details'!$M$18*J23","v":0},{"$f":"'17. GHG Input'!$C46*'Diet calcs'!$U$16","v":0},{"$f":"'8. Feed details'!$M$19*L23","v":0},{"$f":"'17. GHG Input'!$C46*'Diet calcs'!$AD$16","v":0},{"$f":"'8. Feed details'!$M$20*N23","v":0},{"$f":"'17. GHG Input'!$C46*'Diet calcs'!$AM$16","v":0},{"$f":"'8. Feed details'!$M$21*P23","v":0},{"$f":"'17. GHG Input'!$C46*'Diet calcs'!$AV$16","v":0},{"$f":"'8. Feed details'!$M$22*R23","v":0},{"$f":"'17. GHG Input'!$C46*'Diet calcs'!$BE$16","v":0},{"$f":"'8. Feed details'!$M$23*T23","v":0},{"$f":"'17. GHG Input'!$C46*'Diet calcs'!$BN$16","v":0},{"$f":"'8. Feed details'!$M$16*V23","v":0},{"$f":"'17. GHG Input'!$C46*'Diet calcs'!$BW$16","v":0},{"$f":"'8. Feed details'!$M$15*X23","v":0},{"$f":"'17. GHG Input'!$C46*'Diet calcs'!$CF$16","v":0},{"$f":"'8. Feed details'!$M$13*Z23","v":0},{"$f":"'17. GHG Input'!$C46*'Diet calcs'!$CO$16","v":0},{"$f":"'8. Feed details'!$M$14*AB23","v":0},0]
["Wheat 12 - Western (WA) regions",206.13117,0,0,0,null,0,{"$f":"'17. GHG Input'!$C47*'Diet calcs'!$C$16","v":0},{"$f":"'8. Feed details'!$M$17*H24","v":0},{"$f":"'17. GHG Input'!$C47*'Diet calcs'!$L$16","v":0},{"$f":"'8. Feed details'!$M$18*J24","v":0},{"$f":"'17. GHG Input'!$C47*'Diet calcs'!$U$16","v":0},{"$f":"'8. Feed details'!$M$19*L24","v":0},{"$f":"'17. GHG Input'!$C47*'Diet calcs'!$AD$16","v":0},{"$f":"'8. Feed details'!$M$20*N24","v":0},{"$f":"'17. GHG Input'!$C47*'Diet calcs'!$AM$16","v":0},{"$f":"'8. Feed details'!$M$21*P24","v":0},{"$f":"'17. GHG Input'!$C47*'Diet calcs'!$AV$16","v":0},{"$f":"'8. Feed details'!$M$22*R24","v":0},{"$f":"'17. GHG Input'!$C47*'Diet calcs'!$BE$16","v":0},{"$f":"'8. Feed details'!$M$23*T24","v":0},{"$f":"'17. GHG Input'!$C47*'Diet calcs'!$BN$16","v":0},{"$f":"'8. Feed details'!$M$16*V24","v":0},{"$f":"'17. GHG Input'!$C47*'Diet calcs'!$BW$16","v":0},{"$f":"'8. Feed details'!$M$15*X24","v":0},{"$f":"'17. GHG Input'!$C47*'Diet calcs'!$CF$16","v":0},{"$f":"'8. Feed details'!$M$13*Z24","v":0},{"$f":"'17. GHG Input'!$C47*'Diet calcs'!$CO$16","v":0},{"$f":"'8. Feed details'!$M$14*AB24","v":0},0]
["Wheat Extruded",250,0,0,0,null,0,{"$f":"'Diet calcs'!$C$17","v":0},{"$f":"'8. Feed details'!$M$17*H25","v":0},{"$f":"'Diet calcs'!L17","v":0},{"$f":"'8. Feed details'!$M$18*J25","v":0},{"$f":"'Diet calcs'!U17","v":0},{"$f":"'8. Feed details'!$M$19*L25","v":0},{"$f":"'Diet calcs'!AD17","v":0},{"$f":"'8. Feed details'!$M$20*N25","v":0},{"$f":"'Diet calcs'!AM17","v":0},{"$f":"'8. Feed details'!$M$21*P25","v":0},{"$f":"'Diet calcs'!AV17","v":0},{"$f":"'8. Feed details'!$M$22*R25","v":0},{"$f":"'Diet calcs'!BE17","v":0},{"$f":"'8. Feed details'!$M$23*T25","v":0},{"$f":"'Diet calcs'!BN17","v":0},{"$f":"'8. Feed details'!$M$16*V25","v":0},{"$f":"'Diet calcs'!BW17","v":0},{"$f":"'8. Feed details'!$M$15*X25","v":0},{"$f":"'Diet calcs'!CF17","v":0},{"$f":"'8. Feed details'!$M$13*Z25","v":0},{"$f":"'Diet calcs'!CO17","v":0},{"$f":"'8. Feed details'!$M$14*AB25","v":0},0]
["Cereal by-products"]
[{"$f":"'Diet calcs'!B19","v":"Hominy Meal"},161,{"$f":"SUM(I27,K27,M27,O27,Q27,S27,U27,W27,Y27,AA27,AC27)","v":0},{"$f":"B27*C27","v":0},{"$f":"D27/$D$160","v":0},2.06E-2,0,{"$f":"'Diet calcs'!C19","v":0},{"$f":"'8. Feed details'!$M$17*H27","v":0},{"$f":"'Diet calcs'!L19","v":0},{"$f":"'8. Feed details'!$M$18*J27","v":0},{"$f":"'Diet calcs'!U19","v":0},{"$f":"'8. Feed details'!$M$19*L27","v":0},{"$f":"'Diet calcs'!AD19","v":0},{"$f":"'8. Feed details'!$M$20*N27","v":0},{"$f":"'Diet calcs'!AM19","v":0},{"$f":"'8. Feed details'!$M$21*P27","v":0},{"$f":"'Diet calcs'!AV19","v":0},{"$f":"'8. Feed details'!$M$22*R27","v":0},{"$f":"'Diet calcs'!BE19","v":0},{"$f":"'8. Feed details'!$M$23*T27","v":0},{"$f":"'Diet calcs'!BN19","v":0},{"$f":"'8. Feed details'!$M$16*V27","v":0},{"$f":"'Diet calcs'!BW19","v":0},{"$f":"'8. Feed details'!$M$15*X27","v":0},{"$f":"'Diet calcs'!CF19","v":0},{"$f":"'8. Feed details'!$M$13*Z27","v":0},{"$f":"'Diet calcs'!CO19","v":0},{"$f":"'8. Feed details'!$M$14*AB27","v":0},{"$f":"C27/$C$160*100","v":0}]
[{"$f":"'Diet calcs'!B20","v":"Millrun"},184,0,0,0,2.988E-2,0,{"$f":"'Diet calcs'!C20","v":0},{"$f":"'8. Feed details'!$M$17*H28","v":0},{"$f":"'Diet calcs'!L20","v":0},{"$f":"'8. Feed details'!$M$18*J28","v":0},{"$f":"'Diet calcs'!U20","v":0},{"$f":"'8. Feed details'!$M$19*L28","v":0},{"$f":"'Diet calcs'!AD20","v":0},{"$f":"'8. Feed details'!$M$20*N28","v":0},{"$f":"'Diet calcs'!AM20","v":0},{"$f":"'8. Feed details'!$M$21*P28","v":0},{"$f":"'Diet calcs'!AV20","v":0},{"$f":"'8. Feed details'!$M$22*R28","v":0},{"$f":"'Diet calcs'!BE20","v":0},{"$f":"'8. Feed details'!$M$23*T28","v":0},{"$f":"'Diet calcs'!BN20","v":0},{"$f":"'8. Feed details'!$M$16*V28","v":0},{"$f":"'Diet calcs'!BW20","v":0},{"$f":"'8. Feed details'!$M$15*X28","v":0},{"$f":"'Diet calcs'!CF20","v":0},{"$f":"'8. Feed details'!$M$13*Z28","v":0},{"$f":"'Diet calcs'!CO20","v":0},{"$f":"'8. Feed details'!$M$14*AB28","v":0},{"$f":"C28/$C$160*100","v":0}]
[{"$f":"'Diet calcs'!B21","v":"Rice Hulls"},302,0,0,0,0,0,{"$f":"'Diet calcs'!C21","v":0},{"$f":"'8. Feed details'!$M$17*H29","v":0},{"$f":"'Diet calcs'!L21","v":0},{"$f":"'8. Feed details'!$M$18*J29","v":0},{"$f":"'Diet calcs'!U21","v":0},{"$f":"'8. Feed details'!$M$19*L29","v":0},{"$f":"'Diet calcs'!AD21","v":0},{"$f":"'8. Feed details'!$M$20*N29","v":0},{"$f":"'Diet calcs'!AM21","v":0},{"$f":"'8. Feed details'!$M$21*P29","v":0},{"$f":"'Diet calcs'!AV21","v":0},{"$f":"'8. Feed details'!$M$22*R29","v":0},{"$f":"'Diet calcs'!BE21","v":0},{"$f":"'8. Feed details'!$M$23*T29","v":0},{"$f":"'Diet calcs'!BN21","v":0},{"$f":"'8. Feed details'!$M$16*V29","v":0},{"$f":"'Diet calcs'!BW21","v":0},{"$f":"'8. Feed details'!$M$15*X29","v":0},{"$f":"'Diet calcs'!CF21","v":0},{"$f":"'8. Feed details'!$M$13*Z29","v":0},{"$f":"'Diet calcs'!CO21","v":0},{"$f":"'8. Feed details'!$M$14*AB29","v":0},0]
[{"$f":"'Diet calcs'!B22","v":"Rice bran"},969,0,0,0,0,0,{"$f":"'Diet calcs'!C22","v":0},{"$f":"'8. Feed details'!$M$17*H30","v":0},{"$f":"'Diet calcs'!L22","v":0},{"$f":"'8. Feed details'!$M$18*J30","v":0},{"$f":"'Diet calcs'!U22","v":0},{"$f":"'8. Feed details'!$M$19*L30","v":0},{"$f":"'Diet calcs'!AD22","v":0},{"$f":"'8. Feed details'!$M$20*N30","v":0},{"$f":"'Diet calcs'!AM22","v":0},{"$f":"'8. Feed details'!$M$21*P30","v":0},{"$f":"'Diet calcs'!AV22","v":0},{"$f":"'8. Feed details'!$M$22*R30","v":0},{"$f":"'Diet calcs'!BE22","v":0},{"$f":"'8. Feed details'!$M$23*T30","v":0},{"$f":"'Diet calcs'!BN22","v":0},{"$f":"'8. Feed details'!$M$16*V30","v":0},{"$f":"'Diet calcs'!BW22","v":0},{"$f":"'8. Feed details'!$M$15*X30","v":0},{"$f":"'Diet calcs'!CF22","v":0},{"$f":"'8. Feed details'!$M$13*Z30","v":0},{"$f":"'Diet calcs'!CO22","v":0},{"$f":"'8. Feed details'!$M$14*AB30","v":0},0]
[{"$f":"'Diet calcs'!B23","v":"Soya hulls"},48,0,0,0,0,0,{"$f":"'Diet calcs'!C23","v":0},{"$f":"'8. Feed details'!$M$17*H31","v":0},{"$f":"'Diet calcs'!L23","v":0},{"$f":"'8. Feed details'!$M$18*J31","v":0},{"$f":"'Diet calcs'!U23","v":0},{"$f":"'8. Feed details'!$M$19*L31","v":0},{"$f":"'Diet calcs'!AD23","v":0},{"$f":"'8. Feed details'!$M$20*N31","v":0},{"$f":"'Diet calcs'!AM23","v":0},{"$f":"'8. Feed details'!$M$21*P31","v":0},{"$f":"'Diet calcs'!AV23","v":0},{"$f":"'8. Feed details'!$M$22*R31","v":0},{"$f":"'Diet calcs'!BE23","v":0},{"$f":"'8. Feed details'!$M$23*T31","v":0},{"$f":"'Diet calcs'!BN23","v":0},{"$f":"'8. Feed details'!$M$16*V31","v":0},{"$f":"'Diet calcs'!BW23","v":0},{"$f":"'8. Feed details'!$M$15*X31","v":0},{"$f":"'Diet calcs'!CF23","v":0},{"$f":"'8. Feed details'!$M$13*Z31","v":0},{"$f":"'Diet calcs'!CO23","v":0},{"$f":"'8. Feed details'!$M$14*AB31","v":0},0]
[{"$f":"'Diet calcs'!B24","v":"Wheat Bran"},247,0,0,0,7.88,0,{"$f":"'Diet calcs'!C24","v":0},{"$f":"'8. Feed details'!$M$17*H32","v":0},{"$f":"'Diet calcs'!L24","v":0},{"$f":"'8. Feed details'!$M$18*J32","v":0},{"$f":"'Diet calcs'!U24","v":0},{"$f":"'8. Feed details'!$M$19*L32","v":0},{"$f":"'Diet calcs'!AD24","v":0},{"$f":"'8. Feed details'!$M$20*N32","v":0},{"$f":"'Diet calcs'!AM24","v":0},{"$f":"'8. Feed details'!$M$21*P32","v":0},{"$f":"'Diet calcs'!AV24","v":0},{"$f":"'8. Feed details'!$M$22*R32","v":0},{"$f":"'Diet calcs'!BE24","v":0},{"$f":"'8. Feed details'!$M$23*T32","v":0},{"$f":"'Diet calcs'!BN24","v":0},{"$f":"'8. Feed details'!$M$16*V32","v":0},{"$f":"'Diet calcs'!BW24","v":0},{"$f":"'8. Feed details'!$M$15*X32","v":0},{"$f":"'Diet calcs'!CF24","v":0},{"$f":"'8. Feed details'!$M$13*Z32","v":0},{"$f":"'Diet calcs'!CO24","v":0},{"$f":"'8. Feed details'!$M$14*AB32","v":0},0]
[{"$f":"'Diet calcs'!B25","v":"Wheat Pollard"},284,0,0,0,null,0,{"$f":"'Diet calcs'!C25","v":0},{"$f":"'8. Feed details'!$M$17*H33","v":0},{"$f":"'Diet calcs'!L25","v":0},{"$f":"'8. Feed details'!$M$18*J33","v":0},{"$f":"'Diet calcs'!U25","v":0},{"$f":"'8. Feed details'!$M$19*L33","v":0},{"$f":"'Diet calcs'!AD25","v":0},{"$f":"'8. Feed details'!$M$20*N33","v":0},{"$f":"'Diet calcs'!AM25","v":0},{"$f":"'8. Feed details'!$M$21*P33","v":0},{"$f":"'Diet calcs'!AV25","v":0},{"$f":"'8. Feed details'!$M$22*R33","v":0},{"$f":"'Diet calcs'!BE25","v":0},{"$f":"'8. Feed details'!$M$23*T33","v":0},{"$f":"'Diet calcs'!BN25","v":0},{"$f":"'8. Feed details'!$M$16*V33","v":0},{"$f":"'Diet calcs'!BW25","v":0},{"$f":"'8. Feed details'!$M$15*X33","v":0},{"$f":"'Diet calcs'!CF25","v":0},{"$f":"'8. Feed details'!$M$13*Z33","v":0},{"$f":"'Diet calcs'!CO25","v":0},{"$f":"'8. Feed details'!$M$14*AB33","v":0},0]
["Roots & Tubers"]
[{"$f":"'Diet calcs'!B27","v":"Cassava"},57.4,{"$f":"SUM(I35,K35,M35,O35,Q35,S35,U35,W35,Y35,AA35,AC35)","v":0},0,0,null,0,{"$f":"'Diet calcs'!C27","v":0},{"$f":"'8. Feed details'!$M$17*H35","v":0},{"$f":"'Diet calcs'!L27","v":0},{"$f":"'8. Feed details'!$M$18*J35","v":0},{"$f":"'Diet calcs'!U27","v":0},{"$f":"'8. Feed details'!$M$19*L35","v":0},{"$f":"'Diet calcs'!AD27","v":0},{"$f":"'8. Feed details'!$M$20*N35","v":0},{"$f":"'Diet calcs'!AM27","v":0},{"$f":"'8. Feed details'!$M$21*P35","v":0},{"$f":"'Diet calcs'!AV27","v":0},{"$f":"'8. Feed details'!$M$22*R35","v":0},{"$f":"'Diet calcs'!BE27","v":0},{"$f":"'8. Feed details'!$M$23*T35","v":0},{"$f":"'Diet calcs'!BN27","v":0},{"$f":"'8. Feed details'!$M$16*V35","v":0},{"$f":"'Diet calcs'!BW27","v":0},{"$f":"'8. Feed details'!$M$15*X35","v":0},{"$f":"'Diet calcs'!CF27","v":0},{"$f":"'8. Feed details'!$M$13*Z35","v":0},{"$f":"'Diet calcs'!CO27","v":0},{"$f":"'8. Feed details'!$M$14*AB35","v":0},0]
["By-products"]
[{"$f":"'Diet calcs'!B29","v":"Biscuit Meal"},161,{"$f":"SUM(I37,K37,M37,O37,Q37,S37,U37,W37,Y37,AA37,AC37)","v":0},{"$f":"B37*C37","v":0},0,2.06E-2,0,{"$f":"'Diet calcs'!C29","v":0},{"$f":"'8. Feed details'!$M$17*H37","v":0},{"$f":"'Diet calcs'!L29","v":0},{"$f":"'8. Feed details'!$M$18*J37","v":0},{"$f":"'Diet calcs'!U29","v":0},{"$f":"'8. Feed details'!$M$19*L37","v":0},{"$f":"'Diet calcs'!AD29","v":0},{"$f":"'8. Feed details'!$M$20*N37","v":0},{"$f":"'Diet calcs'!AM29","v":0},{"$f":"'8. Feed details'!$M$21*P37","v":0},{"$f":"'Diet calcs'!AV29","v":0},{"$f":"'8. Feed details'!$M$22*R37","v":0},{"$f":"'Diet calcs'!BE29","v":0},{"$f":"'8. Feed details'!$M$23*T37","v":0},{"$f":"'Diet calcs'!BN29","v":0},{"$f":"'8. Feed details'!$M$16*V37","v":0},{"$f":"'Diet calcs'!BW29","v":0},{"$f":"'8. Feed details'!$M$15*X37","v":0},{"$f":"'Diet calcs'!CF29","v":0},{"$f":"'8. Feed details'!$M$13*Z37","v":0},{"$f":"'Diet calcs'!CO29","v":0},{"$f":"'8. Feed details'!$M$14*AB37","v":0},{"$f":"C37/$C$160*100","v":0}]
[{"$f":"'Diet calcs'!B30","v":"Brewers Grains"},6.3310000000000004,0,0,0,0,0,{"$f":"'Diet calcs'!C30","v":0},{"$f":"'8. Feed details'!$M$17*H38","v":0},{"$f":"'Diet calcs'!L30","v":0},{"$f":"'8. Feed details'!$M$18*J38","v":0},{"$f":"'Diet calcs'!U30","v":0},{"$f":"'8. Feed details'!$M$19*L38","v":0},{"$f":"'Diet calcs'!AD30","v":0},{"$f":"'8. Feed details'!$M$20*N38","v":0},{"$f":"'Diet calcs'!AM30","v":0},{"$f":"'8. Feed details'!$M$21*P38","v":0},{"$f":"'Diet calcs'!AV30","v":0},{"$f":"'8. Feed details'!$M$22*R38","v":0},{"$f":"'Diet calcs'!BE30","v":0},{"$f":"'8. Feed details'!$M$23*T38","v":0},{"$f":"'Diet calcs'!BN30","v":0},{"$f":"'8. Feed details'!$M$16*V38","v":0},{"$f":"'Diet calcs'!BW30","v":0},{"$f":"'8. Feed details'!$M$15*X38","v":0},{"$f":"'Diet calcs'!CF30","v":0},{"$f":"'8. Feed details'!$M$13*Z38","v":0},{"$f":"'Diet calcs'!CO30","v":0},{"$f":"'8. Feed details'!$M$14*AB38","v":0},{"$f":"C38/$C$160*100","v":0}]
[{"$f":"'Diet calcs'!B31","v":"Distller's Dried Grains & Solubles (DDGS)"},304,0,0,0,1.133E-2,0,{"$f":"'Diet calcs'!C31","v":0},{"$f":"'8. Feed details'!$M$17*H39","v":0},{"$f":"'Diet calcs'!L31","v":0},{"$f":"'8. Feed details'!$M$18*J39","v":0},{"$f":"'Diet calcs'!U31","v":0},{"$f":"'8. Feed details'!$M$19*L39","v":0},{"$f":"'Diet calcs'!AD31","v":0},{"$f":"'8. Feed details'!$M$20*N39","v":0},{"$f":"'Diet calcs'!AM31","v":0},{"$f":"'8. Feed details'!$M$21*P39","v":0},{"$f":"'Diet calcs'!AV31","v":0},{"$f":"'8. Feed details'!$M$22*R39","v":0},{"$f":"'Diet calcs'!BE31","v":0},{"$f":"'8. Feed details'!$M$23*T39","v":0},{"$f":"'Diet calcs'!BN31","v":0},{"$f":"'8. Feed details'!$M$16*V39","v":0},{"$f":"'Diet calcs'!BW31","v":0},{"$f":"'8. Feed details'!$M$15*X39","v":0},{"$f":"'Diet calcs'!CF31","v":0},{"$f":"'8. Feed details'!$M$13*Z39","v":0},{"$f":"'Diet calcs'!CO31","v":0},{"$f":"'8. Feed details'!$M$14*AB39","v":0},0]
[{"$f":"'Diet calcs'!B32","v":"Molasses"},52,0,0,0,null,0,{"$f":"'Diet calcs'!C32","v":0},{"$f":"'8. Feed details'!$M$17*H40","v":0},{"$f":"'Diet calcs'!L32","v":0},{"$f":"'8. Feed details'!$M$18*J40","v":0},{"$f":"'Diet calcs'!U32","v":0},{"$f":"'8. Feed details'!$M$19*L40","v":0},{"$f":"'Diet calcs'!AD32","v":0},{"$f":"'8. Feed details'!$M$20*N40","v":0},{"$f":"'Diet calcs'!AM32","v":0},{"$f":"'8. Feed details'!$M$21*P40","v":0},{"$f":"'Diet calcs'!AV32","v":0},{"$f":"'8. Feed details'!$M$22*R40","v":0},{"$f":"'Diet calcs'!BE32","v":0},{"$f":"'8. Feed details'!$M$23*T40","v":0},{"$f":"'Diet calcs'!BN32","v":0},{"$f":"'8. Feed details'!$M$16*V40","v":0},{"$f":"'Diet calcs'!BW32","v":0},{"$f":"'8. Feed details'!$M$15*X40","v":0},{"$f":"'Diet calcs'!CF32","v":0},{"$f":"'8. Feed details'!$M$13*Z40","v":0},{"$f":"'Diet calcs'!CO32","v":0},{"$f":"'8. Feed details'!$M$14*AB40","v":0},0]
[{"$f":"'Diet calcs'!B33","v":"Peanut shell"},0,0,0,0,null,0,{"$f":"'Diet calcs'!C33","v":0},{"$f":"'8. Feed details'!$M$17*H41","v":0},{"$f":"'Diet calcs'!L33","v":0},{"$f":"'8. Feed details'!$M$18*J41","v":0},{"$f":"'Diet calcs'!U33","v":0},{"$f":"'8. Feed details'!$M$19*L41","v":0},{"$f":"'Diet calcs'!AD33","v":0},{"$f":"'8. Feed details'!$M$20*N41","v":0},{"$f":"'Diet calcs'!AM33","v":0},{"$f":"'8. Feed details'!$M$21*P41","v":0},{"$f":"'Diet calcs'!AV33","v":0},{"$f":"'8. Feed details'!$M$22*R41","v":0},{"$f":"'Diet calcs'!BE33","v":0},{"$f":"'8. Feed details'!$M$23*T41","v":0},{"$f":"'Diet calcs'!BN33","v":0},{"$f":"'8. Feed details'!$M$16*V41","v":0},{"$f":"'Diet calcs'!BW33","v":0},{"$f":"'8. Feed details'!$M$15*X41","v":0},{"$f":"'Diet calcs'!CF33","v":0},{"$f":"'8. Feed details'!$M$13*Z41","v":0},{"$f":"'Diet calcs'!CO33","v":0},{"$f":"'8. Feed details'!$M$14*AB41","v":0},0]
[{"$f":"'Diet calcs'!B34","v":"Sugar"},413,0,0,0,2.9600000000000001E-2,0,{"$f":"'Diet calcs'!C34","v":0},{"$f":"'8. Feed details'!$M$17*H42","v":0},{"$f":"'Diet calcs'!L34","v":0},{"$f":"'8. Feed details'!$M$18*J42","v":0},{"$f":"'Diet calcs'!U34","v":0},{"$f":"'8. Feed details'!$M$19*L42","v":0},{"$f":"'Diet calcs'!AD34","v":0},{"$f":"'8. Feed details'!$M$20*N42","v":0},{"$f":"'Diet calcs'!AM34","v":0},{"$f":"'8. Feed details'!$M$21*P42","v":0},{"$f":"'Diet calcs'!AV34","v":0},{"$f":"'8. Feed details'!$M$22*R42","v":0},{"$f":"'Diet calcs'!BE34","v":0},{"$f":"'8. Feed details'!$M$23*T42","v":0},{"$f":"'Diet calcs'!BN34","v":0},{"$f":"'8. Feed details'!$M$16*V42","v":0},{"$f":"'Diet calcs'!BW34","v":0},{"$f":"'8. Feed details'!$M$15*X42","v":0},{"$f":"'Diet calcs'!CF34","v":0},{"$f":"'8. Feed details'!$M$13*Z42","v":0},{"$f":"'Diet calcs'!CO34","v":0},{"$f":"'8. Feed details'!$M$14*AB42","v":0},0]
["Pulses"]
[{"$f":"'Diet calcs'!B36","v":"Faba beans"},252,{"$f":"SUM(I44,K44,M44,O44,Q44,S44,U44,W44,Y44,AA44,AC44)","v":0},{"$f":"B44*C44","v":0},{"$f":"D44/$D$160","v":0},36.4,0,{"$f":"'Diet calcs'!C36","v":0},{"$f":"'8. Feed details'!$M$17*H44","v":0},{"$f":"'Diet calcs'!L36","v":0},{"$f":"'8. Feed details'!$M$18*J44","v":0},{"$f":"'Diet calcs'!U36","v":0},{"$f":"'8. Feed details'!$M$19*L44","v":0},{"$f":"'Diet calcs'!AD36","v":0},{"$f":"'8. Feed details'!$M$20*N44","v":0},{"$f":"'Diet calcs'!AM36","v":0},{"$f":"'8. Feed details'!$M$21*P44","v":0},{"$f":"'Diet calcs'!AV36","v":0},{"$f":"'8. Feed details'!$M$22*R44","v":0},{"$f":"'Diet calcs'!BE36","v":0},{"$f":"'8. Feed details'!$M$23*T44","v":0},{"$f":"'Diet calcs'!BN36","v":0},{"$f":"'8. Feed details'!$M$16*V44","v":0},{"$f":"'Diet calcs'!BW36","v":0},{"$f":"'8. Feed details'!$M$15*X44","v":0},{"$f":"'Diet calcs'!CF36","v":0},{"$f":"'8. Feed details'!$M$13*Z44","v":0},{"$f":"'Diet calcs'!CO36","v":0},{"$f":"'8. Feed details'!$M$14*AB44","v":0},0]
[{"$f":"'Diet calcs'!B37","v":"Lupins, albus"},243,0,0,0,47.75,0,{"$f":"'Diet calcs'!C37","v":0},{"$f":"'8. Feed details'!$M$17*H45","v":0},{"$f":"'Diet calcs'!L37","v":0},{"$f":"'8. Feed details'!$M$18*J45","v":0},{"$f":"'Diet calcs'!U37","v":0},{"$f":"'8. Feed details'!$M$19*L45","v":0},{"$f":"'Diet calcs'!AD37","v":0},{"$f":"'8. Feed details'!$M$20*N45","v":0},{"$f":"'Diet calcs'!AM37","v":0},{"$f":"'8. Feed details'!$M$21*P45","v":0},{"$f":"'Diet calcs'!AV37","v":0},{"$f":"'8. Feed details'!$M$22*R45","v":0},{"$f":"'Diet calcs'!BE37","v":0},{"$f":"'8. Feed details'!$M$23*T45","v":0},{"$f":"'Diet calcs'!BN37","v":0},{"$f":"'8. Feed details'!$M$16*V45","v":0},{"$f":"'Diet calcs'!BW37","v":0},{"$f":"'8. Feed details'!$M$15*X45","v":0},{"$f":"'Diet calcs'!CF37","v":0},{"$f":"'8. Feed details'!$M$13*Z45","v":0},{"$f":"'Diet calcs'!CO37","v":0},{"$f":"'8. Feed details'!$M$14*AB45","v":0},{"$f":"C45/$C$160*100","v":0}]
[{"$f":"'Diet calcs'!B38","v":"Lupins, augustifolius"},{"$f":"B45","v":243},189.50699987938393,46050.200970690297,2.0713993962907063E-2,47.75,9048.9592442405828,{"$f":"'Diet calcs'!C38","v":0},{"$f":"'8. Feed details'!$M$17*H46","v":0},{"$f":"'Diet calcs'!L38","v":0},{"$f":"'8. Feed details'!$M$18*J46","v":0},{"$f":"'Diet calcs'!U38","v":0},{"$f":"'8. Feed details'!$M$19*L46","v":0},{"$f":"'Diet calcs'!AD38","v":0},{"$f":"'8. Feed details'!$M$20*N46","v":0},{"$f":"'Diet calcs'!AM38","v":7.0000000000000007E-2},{"$f":"'8. Feed details'!$M$21*P46","v":137.00849442185279},{"$f":"'Diet calcs'!AV38","v":0},{"$f":"'8. Feed details'!$M$22*R46","v":0},{"$f":"'Diet calcs'!BE38","v":0},{"$f":"'8. Feed details'!$M$23*T46","v":0},{"$f":"'Diet calcs'!BN38","v":0.05},{"$f":"'8. Feed details'!$M$16*V46","v":18.037915760219175},{"$f":"'Diet calcs'!BW38","v":0.04},{"$f":"'8. Feed details'!$M$15*X46","v":30.079151754575914},{"$f":"'Diet calcs'!CF38","v":0.04},{"$f":"'8. Feed details'!$M$13*Z46","v":3.9395958374728832},{"$f":"'Diet calcs'!CO38","v":0.05},{"$f":"'8. Feed details'!$M$14*AB46","v":0.44184210526315798},2.7568068507623433]
[{"$f":"'Diet calcs'!B39","v":"Chick Peas"},1310,0,0,0,458,0,{"$f":"'Diet calcs'!C39","v":0},{"$f":"'8. Feed details'!$M$17*H47","v":0},{"$f":"'Diet calcs'!L39","v":0},{"$f":"'8. Feed details'!$M$18*J47","v":0},{"$f":"'Diet calcs'!U39","v":0},{"$f":"'8. Feed details'!$M$19*L47","v":0},{"$f":"'Diet calcs'!AD39","v":0},{"$f":"'8. Feed details'!$M$20*N47","v":0},{"$f":"'Diet calcs'!AM39","v":0},{"$f":"'8. Feed details'!$M$21*P47","v":0},{"$f":"'Diet calcs'!AV39","v":0},{"$f":"'8. Feed details'!$M$22*R47","v":0},{"$f":"'Diet calcs'!BE39","v":0},{"$f":"'8. Feed details'!$M$23*T47","v":0},{"$f":"'Diet calcs'!BN39","v":0},{"$f":"'8. Feed details'!$M$16*V47","v":0},{"$f":"'Diet calcs'!BW39","v":0},{"$f":"'8. Feed details'!$M$15*X47","v":0},{"$f":"'Diet calcs'!CF39","v":0},{"$f":"'8. Feed details'!$M$13*Z47","v":0},{"$f":"'Diet calcs'!CO39","v":0},{"$f":"'8. Feed details'!$M$14*AB47","v":0},0]
[{"$f":"'Diet calcs'!B40","v":"Field Peas"},257,0,0,0,40.36,0,{"$f":"'Diet calcs'!C40","v":0},{"$f":"'8. Feed details'!$M$17*H48","v":0},{"$f":"'Diet calcs'!L40","v":0},{"$f":"'8. Feed details'!$M$18*J48","v":0},{"$f":"'Diet calcs'!U40","v":0},{"$f":"'8. Feed details'!$M$19*L48","v":0},{"$f":"'Diet calcs'!AD40","v":0},{"$f":"'8. Feed details'!$M$20*N48","v":0},{"$f":"'Diet calcs'!AM40","v":0},{"$f":"'8. Feed details'!$M$21*P48","v":0},{"$f":"'Diet calcs'!AV40","v":0},{"$f":"'8. Feed details'!$M$22*R48","v":0},{"$f":"'Diet calcs'!BE40","v":0},{"$f":"'8. Feed details'!$M$23*T48","v":0},{"$f":"'Diet calcs'!BN40","v":0},{"$f":"'8. Feed details'!$M$16*V48","v":0},{"$f":"'Diet calcs'!BW40","v":0},{"$f":"'8. Feed details'!$M$15*X48","v":0},{"$f":"'Diet calcs'!CF40","v":0},{"$f":"'8. Feed details'!$M$13*Z48","v":0},{"$f":"'Diet calcs'!CO40","v":0},{"$f":"'8. Feed details'!$M$14*AB48","v":0},0]
[{"$f":"'Diet calcs'!B41","v":"Mung Beans"},189,0,0,0,0.216,0,{"$f":"'Diet calcs'!C41","v":0},{"$f":"'8. Feed details'!$M$17*H49","v":0},{"$f":"'Diet calcs'!L41","v":0},{"$f":"'8. Feed details'!$M$18*J49","v":0},{"$f":"'Diet calcs'!U41","v":0},{"$f":"'8. Feed details'!$M$19*L49","v":0},{"$f":"'Diet calcs'!AD41","v":0},{"$f":"'8. Feed details'!$M$20*N49","v":0},{"$f":"'Diet calcs'!AM41","v":0},{"$f":"'8. Feed details'!$M$21*P49","v":0},{"$f":"'Diet calcs'!AV41","v":0},{"$f":"'8. Feed details'!$M$22*R49","v":0},{"$f":"'Diet calcs'!BE41","v":0},{"$f":"'8. Feed details'!$M$23*T49","v":0},{"$f":"'Diet calcs'!BN41","v":0},{"$f":"'8. Feed details'!$M$16*V49","v":0},{"$f":"'Diet calcs'!BW41","v":0},{"$f":"'8. Feed details'!$M$15*X49","v":0},{"$f":"'Diet calcs'!CF41","v":0},{"$f":"'8. Feed details'!$M$13*Z49","v":0},{"$f":"'Diet calcs'!CO41","v":0},{"$f":"'8. Feed details'!$M$14*AB49","v":0},0]
[{"$f":"'Diet calcs'!B42","v":"Navy Beans"},{"$f":"B49","v":189},0,0,0,null,0,{"$f":"'Diet calcs'!C42","v":0},{"$f":"'8. Feed details'!$M$17*H50","v":0},{"$f":"'Diet calcs'!L42","v":0},{"$f":"'8. Feed details'!$M$18*J50","v":0},{"$f":"'Diet calcs'!U42","v":0},{"$f":"'8. Feed details'!$M$19*L50","v":0},{"$f":"'Diet calcs'!AD42","v":0},{"$f":"'8. Feed details'!$M$20*N50","v":0},{"$f":"'Diet calcs'!AM42","v":0},{"$f":"'8. Feed details'!$M$21*P50","v":0},{"$f":"'Diet calcs'!AV42","v":0},{"$f":"'8. Feed details'!$M$22*R50","v":0},{"$f":"'Diet calcs'!BE42","v":0},{"$f":"'8. Feed details'!$M$23*T50","v":0},{"$f":"'Diet calcs'!BN42","v":0},{"$f":"'8. Feed details'!$M$16*V50","v":0},{"$f":"'Diet calcs'!BW42","v":0},{"$f":"'8. Feed details'!$M$15*X50","v":0},{"$f":"'Diet calcs'!CF42","v":0},{"$f":"'8. Feed details'!$M$13*Z50","v":0},{"$f":"'Diet calcs'!CO42","v":0},{"$f":"'8. Feed details'!$M$14*AB50","v":0},0]
["Oilseed Meals"]
[{"$f":"'Diet calcs'!B44","v":"Canola Meal 37 Solvent"},284,{"$f":"SUM(I52,K52,M52,O52,Q52,S52,U52,W52,Y52,AA52,AC52)","v":0},{"$f":"B52*C52","v":0},{"$f":"D52/$D$160","v":0},null,0,{"$f":"'Diet calcs'!C44","v":0},{"$f":"'8. Feed details'!$M$17*H52","v":0},{"$f":"'Diet calcs'!L44","v":0},{"$f":"'8. Feed details'!$M$18*J52","v":0},{"$f":"'Diet calcs'!U44","v":0},{"$f":"'8. Feed details'!$M$19*L52","v":0},{"$f":"'Diet calcs'!AD44","v":0},{"$f":"'8. Feed details'!$M$20*N52","v":0},{"$f":"'Diet calcs'!AM44","v":0},{"$f":"'8. Feed details'!$M$21*P52","v":0},{"$f":"'Diet calcs'!AV44","v":0},{"$f":"'8. Feed details'!$M$22*R52","v":0},{"$f":"'Diet calcs'!BE44","v":0},{"$f":"'8. Feed details'!$M$23*T52","v":0},{"$f":"'Diet calcs'!BN44","v":0},{"$f":"'8. Feed details'!$M$16*V52","v":0},{"$f":"'Diet calcs'!BW44","v":0},{"$f":"'8. Feed details'!$M$15*X52","v":0},{"$f":"'Diet calcs'!CF44","v":0},{"$f":"'8. Feed details'!$M$13*Z52","v":0},{"$f":"'Diet calcs'!CO44","v":0},{"$f":"'8. Feed details'!$M$14*AB52","v":0},0]
[{"$f":"'Diet calcs'!B45","v":"Canola meal 32 Expeller"},284,0,null,null,null,null,{"$f":"'Diet calcs'!C45","v":0},{"$f":"'8. Feed details'!$M$17*H53","v":0},{"$f":"'Diet calcs'!L45","v":0},{"$f":"'8. Feed details'!$M$18*J53","v":0},{"$f":"'Diet calcs'!U45","v":0},{"$f":"'8. Feed details'!$M$19*L53","v":0},{"$f":"'Diet calcs'!AD45","v":0},{"$f":"'8. Feed details'!$M$20*N53","v":0},{"$f":"'Diet calcs'!AM45","v":0},{"$f":"'8. Feed details'!$M$21*P53","v":0},{"$f":"'Diet calcs'!AV45","v":0},{"$f":"'8. Feed details'!$M$22*R53","v":0},{"$f":"'Diet calcs'!BE45","v":0},{"$f":"'8. Feed details'!$M$23*T53","v":0},{"$f":"'Diet calcs'!BN45","v":0},{"$f":"'8. Feed details'!$M$16*V53","v":0},{"$f":"'Diet calcs'!BW45","v":0},{"$f":"'8. Feed details'!$M$15*X53","v":0},{"$f":"'Diet calcs'!CF45","v":0},{"$f":"'8. Feed details'!$M$13*Z53","v":0},{"$f":"'Diet calcs'!CO45","v":0},{"$f":"'8. Feed details'!$M$14*AB53","v":0},0]
[{"$f":"'Diet calcs'!B46","v":"Canola meal Cold Pressed 34"},284,299.73203166518499,85123.896992912531,{"$f":"D54/$D$160","v":3.8289863046039201E-2},null,0,{"$f":"'Diet calcs'!C46","v":0},{"$f":"'8. Feed details'!$M$17*H54","v":0},{"$f":"'Diet calcs'!L46","v":2.5000000000000001E-2},{"$f":"'8. Feed details'!$M$18*J54","v":24.217232015165543},{"$f":"'Diet calcs'!U46","v":6.8000000000000005E-2},{"$f":"'8. Feed details'!$M$19*L54","v":77.245994880066903},{"$f":"'Diet calcs'!AD46","v":0.04},{"$f":"'8. Feed details'!$M$20*N54","v":63.226423206232823},{"$f":"'Diet calcs'!AM46","v":0.05},{"$f":"'8. Feed details'!$M$21*P54","v":97.86321030132342},{"$f":"'Diet calcs'!AV46","v":0},{"$f":"'8. Feed details'!$M$22*R54","v":0},{"$f":"'Diet calcs'!BE46","v":0},{"$f":"'8. Feed details'!$M$23*T54","v":0},{"$f":"'Diet calcs'!BN46","v":0.05},{"$f":"'8. Feed details'!$M$16*V54","v":18.037915760219175},{"$f":"'Diet calcs'!BW46","v":2.2599999999999999E-2},{"$f":"'8. Feed details'!$M$15*X54","v":16.994720741335392},{"$f":"'Diet calcs'!CF46","v":0.02},{"$f":"'8. Feed details'!$M$13*Z54","v":1.9697979187364416},{"$f":"'Diet calcs'!CO46","v":0.02},{"$f":"'8. Feed details'!$M$14*AB54","v":0.17673684210526319},4.3602786114149739]
[{"$f":"'Diet calcs'!B47","v":"Copra meal"},665,0,0,0,null,0,{"$f":"'Diet calcs'!C47","v":0},{"$f":"'8. Feed details'!$M$17*H55","v":0},{"$f":"'Diet calcs'!L47","v":0},{"$f":"'8. Feed details'!$M$18*J55","v":0},{"$f":"'Diet calcs'!U47","v":0},{"$f":"'8. Feed details'!$M$19*L55","v":0},{"$f":"'Diet calcs'!AD47","v":0},{"$f":"'8. Feed details'!$M$20*N55","v":0},{"$f":"'Diet calcs'!AM47","v":0},{"$f":"'8. Feed details'!$M$21*P55","v":0},{"$f":"'Diet calcs'!AV47","v":0},{"$f":"'8. Feed details'!$M$22*R55","v":0},{"$f":"'Diet calcs'!BE47","v":0},{"$f":"'8. Feed details'!$M$23*T55","v":0},{"$f":"'Diet calcs'!BN47","v":0},{"$f":"'8. Feed details'!$M$16*V55","v":0},{"$f":"'Diet calcs'!BW47","v":0},{"$f":"'8. Feed details'!$M$15*X55","v":0},{"$f":"'Diet calcs'!CF47","v":0},{"$f":"'8. Feed details'!$M$13*Z55","v":0},{"$f":"'Diet calcs'!CO47","v":0},{"$f":"'8. Feed details'!$M$14*AB55","v":0},0]
[{"$f":"'Diet calcs'!B48","v":"Cotton seed meal 43"},111,0,0,0,null,0,{"$f":"'Diet calcs'!C48","v":0},{"$f":"'8. Feed details'!$M$17*H56","v":0},{"$f":"'Diet calcs'!L48","v":0},{"$f":"'8. Feed details'!$M$18*J56","v":0},{"$f":"'Diet calcs'!U48","v":0},{"$f":"'8. Feed details'!$M$19*L56","v":0},{"$f":"'Diet calcs'!AD48","v":0},{"$f":"'8. Feed details'!$M$20*N56","v":0},{"$f":"'Diet calcs'!AM48","v":0},{"$f":"'8. Feed details'!$M$21*P56","v":0},{"$f":"'Diet calcs'!AV48","v":0},{"$f":"'8. Feed details'!$M$22*R56","v":0},{"$f":"'Diet calcs'!BE48","v":0},{"$f":"'8. Feed details'!$M$23*T56","v":0},{"$f":"'Diet calcs'!BN48","v":0},{"$f":"'8. Feed details'!$M$16*V56","v":0},{"$f":"'Diet calcs'!BW48","v":0},{"$f":"'8. Feed details'!$M$15*X56","v":0},{"$f":"'Diet calcs'!CF48","v":0},{"$f":"'8. Feed details'!$M$13*Z56","v":0},{"$f":"'Diet calcs'!CO48","v":0},{"$f":"'8. Feed details'!$M$14*AB56","v":0},0]
[{"$f":"'Diet calcs'!B49","v":"Palm Kernel meal"},28.2,0,0,0,13.86,0,{"$f":"'Diet calcs'!C49","v":0},{"$f":"'8. Feed details'!$M$17*H57","v":0},{"$f":"'Diet calcs'!L49","v":0},{"$f":"'8. Feed details'!$M$18*J57","v":0},{"$f":"'Diet calcs'!U49","v":0},{"$f":"'8. Feed details'!$M$19*L57","v":0},{"$f":"'Diet calcs'!AD49","v":0},{"$f":"'8. Feed details'!$M$20*N57","v":0},{"$f":"'Diet calcs'!AM49","v":0},{"$f":"'8. Feed details'!$M$21*P57","v":0},{"$f":"'Diet calcs'!AV49","v":0},{"$f":"'8. Feed details'!$M$22*R57","v":0},{"$f":"'Diet calcs'!BE49","v":0},{"$f":"'8. Feed details'!$M$23*T57","v":0},{"$f":"'Diet calcs'!BN49","v":0},{"$f":"'8. Feed details'!$M$16*V57","v":0},{"$f":"'Diet calcs'!BW49","v":0},{"$f":"'8. Feed details'!$M$15*X57","v":0},{"$f":"'Diet calcs'!CF49","v":0},{"$f":"'8. Feed details'!$M$13*Z57","v":0},{"$f":"'Diet calcs'!CO49","v":0},{"$f":"'8. Feed details'!$M$14*AB57","v":0},0]
[{"$f":"'Diet calcs'!B50","v":"Peanut Meal 48"},1700,0,0,0,null,0,{"$f":"'Diet calcs'!C50","v":0},{"$f":"'8. Feed details'!$M$17*H58","v":0},{"$f":"'Diet calcs'!L50","v":0},{"$f":"'8. Feed details'!$M$18*J58","v":0},{"$f":"'Diet calcs'!U50","v":0},{"$f":"'8. Feed details'!$M$19*L58","v":0},{"$f":"'Diet calcs'!AD50","v":0},{"$f":"'8. Feed details'!$M$20*N58","v":0},{"$f":"'Diet calcs'!AM50","v":0},{"$f":"'8. Feed details'!$M$21*P58","v":0},{"$f":"'Diet calcs'!AV50","v":0},{"$f":"'8. Feed details'!$M$22*R58","v":0},{"$f":"'Diet calcs'!BE50","v":0},{"$f":"'8. Feed details'!$M$23*T58","v":0},{"$f":"'Diet calcs'!BN50","v":0},{"$f":"'8. Feed details'!$M$16*V58","v":0},{"$f":"'Diet calcs'!BW50","v":0},{"$f":"'8. Feed details'!$M$15*X58","v":0},{"$f":"'Diet calcs'!CF50","v":0},{"$f":"'8. Feed details'!$M$13*Z58","v":0},{"$f":"'Diet calcs'!CO50","v":0},{"$f":"'8. Feed details'!$M$14*AB58","v":0},0]
[{"$f":"'Diet calcs'!B51","v":"Soybean Meal 46 Solvent"},633,306.04331683505455,193725.41955658954,8.7140274886333052E-2,2454,751030.29951322393,{"$f":"'Diet calcs'!C51","v":0},{"$f":"'8. Feed details'!$M$17*H59","v":0},{"$f":"'Diet calcs'!L51","v":0.1},{"$f":"'8. Feed details'!$M$18*J59","v":96.868928060662171},{"$f":"'Diet calcs'!U51","v":0.125},{"$f":"'8. Feed details'!$M$19*L59","v":141.99631411777003},{"$f":"'Diet calcs'!AD51","v":4.2500000000000003E-2},{"$f":"'8. Feed details'!$M$20*N59","v":67.178074656622371},{"$f":"'Diet calcs'!AM51","v":0},{"$f":"'8. Feed details'!$M$21*P59","v":0},{"$f":"'Diet calcs'!AV51","v":0},{"$f":"'8. Feed details'!$M$22*R59","v":0},{"$f":"'Diet calcs'!BE51","v":0},{"$f":"'8. Feed details'!$M$23*T59","v":0},{"$f":"'Diet calcs'!BN51","v":0},{"$f":"'8. Feed details'!$M$16*V59","v":0},{"$f":"'Diet calcs'!BW51","v":0},{"$f":"'8. Feed details'!$M$15*X59","v":0},{"$f":"'Diet calcs'!CF51","v":0},{"$f":"'8. Feed details'!$M$13*Z59","v":0},{"$f":"'Diet calcs'!CO51","v":0},{"$f":"'8. Feed details'!$M$14*AB59","v":0},4.4520904927939471]
[{"$f":"'Diet calcs'!B52","v":"Soybean Meal 48 Solvent"},{"$f":"B59","v":633},0,0,0,2454,0,{"$f":"'Diet calcs'!C52","v":0},{"$f":"'8. Feed details'!$M$17*H60","v":0},{"$f":"'Diet calcs'!L52","v":0},{"$f":"'8. Feed details'!$M$18*J60","v":0},{"$f":"'Diet calcs'!U52","v":0},{"$f":"'8. Feed details'!$M$19*L60","v":0},{"$f":"'Diet calcs'!AD52","v":0},{"$f":"'8. Feed details'!$M$20*N60","v":0},{"$f":"'Diet calcs'!AM52","v":0},{"$f":"'8. Feed details'!$M$21*P60","v":0},{"$f":"'Diet calcs'!AV52","v":0},{"$f":"'8. Feed details'!$M$22*R60","v":0},{"$f":"'Diet calcs'!BE52","v":0},{"$f":"'8. Feed details'!$M$23*T60","v":0},{"$f":"'Diet calcs'!BN52","v":0},{"$f":"'8. Feed details'!$M$16*V60","v":0},{"$f":"'Diet calcs'!BW52","v":0},{"$f":"'8. Feed details'!$M$15*X60","v":0},{"$f":"'Diet calcs'!CF52","v":0},{"$f":"'8. Feed details'!$M$13*Z60","v":0},{"$f":"'Diet calcs'!CO52","v":0},{"$f":"'8. Feed details'!$M$14*AB60","v":0},0]
[{"$f":"'Diet calcs'!B53","v":"Soybean, Full fat"},316,0,0,0,null,0,{"$f":"'Diet calcs'!C53","v":0},{"$f":"'8. Feed details'!$M$17*H61","v":0},{"$f":"'Diet calcs'!L53","v":0},{"$f":"'8. Feed details'!$M$18*J61","v":0},{"$f":"'Diet calcs'!U53","v":0},{"$f":"'8. Feed details'!$M$19*L61","v":0},{"$f":"'Diet calcs'!AD53","v":0},{"$f":"'8. Feed details'!$M$20*N61","v":0},{"$f":"'Diet calcs'!AM53","v":0},{"$f":"'8. Feed details'!$M$21*P61","v":0},{"$f":"'Diet calcs'!AV53","v":0},{"$f":"'8. Feed details'!$M$22*R61","v":0},{"$f":"'Diet calcs'!BE53","v":0},{"$f":"'8. Feed details'!$M$23*T61","v":0},{"$f":"'Diet calcs'!BN53","v":0},{"$f":"'8. Feed details'!$M$16*V61","v":0},{"$f":"'Diet calcs'!BW53","v":0},{"$f":"'8. Feed details'!$M$15*X61","v":0},{"$f":"'Diet calcs'!CF53","v":0},{"$f":"'8. Feed details'!$M$13*Z61","v":0},{"$f":"'Diet calcs'!CO53","v":0},{"$f":"'8. Feed details'!$M$14*AB61","v":0},0]
[{"$f":"'Diet calcs'!B54","v":"Selecta Soy/X-Soy 600"},{"$f":"B61","v":316},5.7500927999999986E-2,18.170293247999997,8.1732400013384995E-6,null,0,{"$f":"'Diet calcs'!C54","v":5.0000000000000001E-3},{"$f":"'8. Feed details'!$M$17*H62","v":5.7500927999999986E-2},{"$f":"'Diet calcs'!L54","v":0},{"$f":"'8. Feed details'!$M$18*J62","v":0},{"$f":"'Diet calcs'!U54","v":0},{"$f":"'8. Feed details'!$M$19*L62","v":0},{"$f":"'Diet calcs'!AD54","v":0},{"$f":"'8. Feed details'!$M$20*N62","v":0},{"$f":"'Diet calcs'!AM54","v":0},{"$f":"'8. Feed details'!$M$21*P62","v":0},{"$f":"'Diet calcs'!AV54","v":0},{"$f":"'8. Feed details'!$M$22*R62","v":0},{"$f":"'Diet calcs'!BE54","v":0},{"$f":"'8. Feed details'!$M$23*T62","v":0},{"$f":"'Diet calcs'!BN54","v":0},{"$f":"'8. Feed details'!$M$16*V62","v":0},{"$f":"'Diet calcs'!BW54","v":0},{"$f":"'8. Feed details'!$M$15*X62","v":0},{"$f":"'Diet calcs'!CF54","v":0},{"$f":"'8. Feed details'!$M$13*Z62","v":0},{"$f":"'Diet calcs'!CO54","v":0},{"$f":"'8. Feed details'!$M$14*AB62","v":0},8.3648072280435675E-4]
[{"$f":"'Diet calcs'!B55","v":"Soycomil 65"},{"$f":"B62","v":316},0,0,0,null,0,{"$f":"'Diet calcs'!C55","v":0},{"$f":"'8. Feed details'!$M$17*H63","v":0},{"$f":"'Diet calcs'!L55","v":0},{"$f":"'8. Feed details'!$M$18*J63","v":0},{"$f":"'Diet calcs'!U55","v":0},{"$f":"'8. Feed details'!$M$19*L63","v":0},{"$f":"'Diet calcs'!AD55","v":0},{"$f":"'8. Feed details'!$M$20*N63","v":0},{"$f":"'Diet calcs'!AM55","v":0},{"$f":"'8. Feed details'!$M$21*P63","v":0},{"$f":"'Diet calcs'!AV55","v":0},{"$f":"'8. Feed details'!$M$22*R63","v":0},{"$f":"'Diet calcs'!BE55","v":0},{"$f":"'8. Feed details'!$M$23*T63","v":0},{"$f":"'Diet calcs'!BN55","v":0},{"$f":"'8. Feed details'!$M$16*V63","v":0},{"$f":"'Diet calcs'!BW55","v":0},{"$f":"'8. Feed details'!$M$15*X63","v":0},{"$f":"'Diet calcs'!CF55","v":0},{"$f":"'8. Feed details'!$M$13*Z63","v":0},{"$f":"'Diet calcs'!CO55","v":0},{"$f":"'8. Feed details'!$M$14*AB63","v":0},0]
[{"$f":"'Diet calcs'!B56","v":"Sunflower 30"},239,0,0,0,5.1499999999999997E-2,0,{"$f":"'Diet calcs'!C56","v":0},{"$f":"'8. Feed details'!$M$17*H64","v":0},{"$f":"'Diet calcs'!L56","v":0},{"$f":"'8. Feed details'!$M$18*J64","v":0},{"$f":"'Diet calcs'!U56","v":0},{"$f":"'8. Feed details'!$M$19*L64","v":0},{"$f":"'Diet calcs'!AD56","v":0},{"$f":"'8. Feed details'!$M$20*N64","v":0},{"$f":"'Diet calcs'!AM56","v":0},{"$f":"'8. Feed details'!$M$21*P64","v":0},{"$f":"'Diet calcs'!AV56","v":0},{"$f":"'8. Feed details'!$M$22*R64","v":0},{"$f":"'Diet calcs'!BE56","v":0},{"$f":"'8. Feed details'!$M$23*T64","v":0},{"$f":"'Diet calcs'!BN56","v":0},{"$f":"'8. Feed details'!$M$16*V64","v":0},{"$f":"'Diet calcs'!BW56","v":0},{"$f":"'8. Feed details'!$M$15*X64","v":0},{"$f":"'Diet calcs'!CF56","v":0},{"$f":"'8. Feed details'!$M$13*Z64","v":0},{"$f":"'Diet calcs'!CO56","v":0},{"$f":"'8. Feed details'!$M$14*AB64","v":0},0]
[{"$f":"'Diet calcs'!B57","v":"Sunflower 36"},239,0,0,0,5.1499999999999997E-2,0,{"$f":"'Diet calcs'!C57","v":0},{"$f":"'8. Feed details'!$M$17*H65","v":0},{"$f":"'Diet calcs'!L57","v":0},{"$f":"'8. Feed details'!$M$18*J65","v":0},{"$f":"'Diet calcs'!U57","v":0},{"$f":"'8. Feed details'!$M$19*L65","v":0},{"$f":"'Diet calcs'!AD57","v":0},{"$f":"'8. Feed details'!$M$20*N65","v":0},{"$f":"'Diet calcs'!AM57","v":0},{"$f":"'8. Feed details'!$M$21*P65","v":0},{"$f":"'Diet calcs'!AV57","v":0},{"$f":"'8. Feed details'!$M$22*R65","v":0},{"$f":"'Diet calcs'!BE57","v":0},{"$f":"'8. Feed details'!$M$23*T65","v":0},{"$f":"'Diet calcs'!BN57","v":0},{"$f":"'8. Feed details'!$M$16*V65","v":0},{"$f":"'Diet calcs'!BW57","v":0},{"$f":"'8. Feed details'!$M$15*X65","v":0},{"$f":"'Diet calcs'!CF57","v":0},{"$f":"'8. Feed details'!$M$13*Z65","v":0},{"$f":"'Diet calcs'!CO57","v":0},{"$f":"'8. Feed details'!$M$14*AB65","v":0},0]
["Yeast Products"]
[{"$f":"'Diet calcs'!B59","v":"Brewers Yeast"},null,{"$f":"SUM(I67,K67,M67,O67,Q67,S67,U67,W67,Y67,AA67,AC67)","v":0},{"$f":"B67*C67","v":0},{"$f":"D67/$D$160","v":0},null,0,{"$f":"'Diet calcs'!C59","v":0},{"$f":"'8. Feed details'!$M$17*H67","v":0},{"$f":"'Diet calcs'!L59","v":0},{"$f":"'8. Feed details'!$M$18*J67","v":0},{"$f":"'Diet calcs'!U59","v":0},{"$f":"'8. Feed details'!$M$19*L67","v":0},{"$f":"'Diet calcs'!AD59","v":0},{"$f":"'8. Feed details'!$M$20*N67","v":0},{"$f":"'Diet calcs'!AM59","v":0},{"$f":"'8. Feed details'!$M$21*P67","v":0},{"$f":"'Diet calcs'!AV59","v":0},{"$f":"'8. Feed details'!$M$22*R67","v":0},{"$f":"'Diet calcs'!BE59","v":0},{"$f":"'8. Feed details'!$M$23*T67","v":0},{"$f":"'Diet calcs'!BN59","v":0},{"$f":"'8. Feed details'!$M$16*V67","v":0},{"$f":"'Diet calcs'!BW59","v":0},{"$f":"'8. Feed details'!$M$15*X67","v":0},{"$f":"'Diet calcs'!CF59","v":0},{"$f":"'8. Feed details'!$M$13*Z67","v":0},{"$f":"'Diet calcs'!CO59","v":0},{"$f":"'8. Feed details'!$M$14*AB67","v":0},0]
["Hilyses",null,{"$f":"SUM(I68,K68,M68,O68,Q68,S68,U68,W68,Y68,AA68,AC68)","v":0},{"$f":"B68*C68","v":0},null,null,0,{"$f":"'Diet calcs'!C60","v":0},{"$f":"'8. Feed details'!$M$17*H68","v":0},{"$f":"'Diet calcs'!L60","v":0},{"$f":"'8. Feed details'!$M$18*J68","v":0},{"$f":"'Diet calcs'!U60","v":0},{"$f":"'8. Feed details'!$M$19*L68","v":0},{"$f":"'Diet calcs'!AD60","v":0},{"$f":"'8. Feed details'!$M$20*N68","v":0},{"$f":"'Diet calcs'!AM60","v":0},{"$f":"'8. Feed details'!$M$21*P68","v":0},{"$f":"'Diet calcs'!AV60","v":0},{"$f":"'8. Feed details'!$M$22*R68","v":0},{"$f":"'Diet calcs'!BE60","v":0},{"$f":"'8. Feed details'!$M$23*T68","v":0},{"$f":"'Diet calcs'!BN60","v":0},{"$f":"'8. Feed details'!$M$16*V68","v":0},{"$f":"'Diet calcs'!BW60","v":0},{"$f":"'8. Feed details'!$M$15*X68","v":0},{"$f":"'Diet calcs'!CF60","v":0},{"$f":"'8. Feed details'!$M$13*Z68","v":0},{"$f":"'Diet calcs'!CO60","v":0},{"$f":"'8. Feed details'!$M$14*AB68","v":0},0]
["Nupro",2.5299999999999998,{"$f":"SUM(I69,K69,M69,O69,Q69,S69,U69,W69,Y69,AA69,AC69)","v":0},{"$f":"B69*C69","v":0},{"$f":"D69/$D$160","v":0},null,0,{"$f":"'Diet calcs'!C61","v":0},{"$f":"'8. Feed details'!$M$17*H69","v":0},{"$f":"'Diet calcs'!L61","v":0},{"$f":"'8. Feed details'!$M$18*J69","v":0},{"$f":"'Diet calcs'!U61","v":0},{"$f":"'8. Feed details'!$M$19*L69","v":0},{"$f":"'Diet calcs'!AD61","v":0},{"$f":"'8. Feed details'!$M$20*N69","v":0},{"$f":"'Diet calcs'!AM61","v":0},{"$f":"'8. Feed details'!$M$21*P69","v":0},{"$f":"'Diet calcs'!AV61","v":0},{"$f":"'8. Feed details'!$M$22*R69","v":0},{"$f":"'Diet calcs'!BE61","v":0},{"$f":"'8. Feed details'!$M$23*T69","v":0},{"$f":"'Diet calcs'!BN61","v":0},{"$f":"'8. Feed details'!$M$16*V69","v":0},{"$f":"'Diet calcs'!BW61","v":0},{"$f":"'8. Feed details'!$M$15*X69","v":0},{"$f":"'Diet calcs'!CF61","v":0},{"$f":"'8. Feed details'!$M$13*Z69","v":0},{"$f":"'Diet calcs'!CO61","v":0},{"$f":"'8. Feed details'!$M$14*AB69","v":0},0]
["Animal & Fish products"]
[{"$f":"'Diet calcs'!B63","v":"Blood meal 85"},1900,{"$f":"SUM(I71,K71,M71,O71,Q71,S71,U71,W71,Y71,AA71,AC71)","v":0},{"$f":"B71*C71","v":0},{"$f":"D71/$D$160","v":0},null,{"$f":"C71*F71","v":0},{"$f":"'Diet calcs'!C63","v":0},{"$f":"'8. Feed details'!$M$17*H71","v":0},{"$f":"'Diet calcs'!L63","v":0},{"$f":"'8. Feed details'!$M$18*J71","v":0},{"$f":"'Diet calcs'!U63","v":0},{"$f":"'8. Feed details'!$M$19*L71","v":0},{"$f":"'Diet calcs'!AD63","v":0},{"$f":"'8. Feed details'!$M$20*N71","v":0},{"$f":"'Diet calcs'!AM63","v":0},{"$f":"'8. Feed details'!$M$21*P71","v":0},{"$f":"'Diet calcs'!AV63","v":0},{"$f":"'8. Feed details'!$M$22*R71","v":0},{"$f":"'Diet calcs'!BE63","v":0},{"$f":"'8. Feed details'!$M$23*T71","v":0},{"$f":"'Diet calcs'!BN63","v":0},{"$f":"'8. Feed details'!$M$16*V71","v":0},{"$f":"'Diet calcs'!BW63","v":0},{"$f":"'8. Feed details'!$M$15*X71","v":0},{"$f":"'Diet calcs'!CF63","v":0},{"$f":"'8. Feed details'!$M$13*Z71","v":0},{"$f":"'Diet calcs'!CO63","v":0},{"$f":"'8. Feed details'!$M$14*AB71","v":0},0]
[{"$f":"'Diet calcs'!B64","v":"Blood meal 90"},1900,34.243434640728942,{"$f":"B72*C72","v":65062.525817384994},{"$f":"D72/$D$160","v":2.926599099644701E-2},null,{"$f":"C72*F72","v":0},{"$f":"'Diet calcs'!C64","v":1.5E-3},{"$f":"'8. Feed details'!$M$17*H72","v":1.7250278399999996E-2},{"$f":"'Diet calcs'!L64","v":2.5000000000000001E-2},{"$f":"'8. Feed details'!$M$18*J72","v":24.217232015165543},{"$f":"'Diet calcs'!U64","v":5.0000000000000001E-3},{"$f":"'8. Feed details'!$M$19*L72","v":5.6798525647108011},{"$f":"'Diet calcs'!AD64","v":0},{"$f":"'8. Feed details'!$M$20*N72","v":0},{"$f":"'Diet calcs'!AM64","v":0},{"$f":"'8. Feed details'!$M$21*P72","v":0},{"$f":"'Diet calcs'!AV64","v":0},{"$f":"'8. Feed details'!$M$22*R72","v":0},{"$f":"'Diet calcs'!BE64","v":0},{"$f":"'8. Feed details'!$M$23*T72","v":0},{"$f":"'Diet calcs'!BN64","v":1.2E-2},{"$f":"'8. Feed details'!$M$16*V72","v":4.3290997824526016},{"$f":"'Diet calcs'!BW64","v":0},{"$f":"'8. Feed details'!$M$15*X72","v":0},{"$f":"'Diet calcs'!CF64","v":0},{"$f":"'8. Feed details'!$M$13*Z72","v":0},{"$f":"'Diet calcs'!CO64","v":0},{"$f":"'8. Feed details'!$M$14*AB72","v":0},0.49814801179523061]
[{"$f":"'Diet calcs'!B65","v":"Blood Plasma"},1900,3.4500556799999992E-2,65.551057919999991,2.9485739245335092E-5,null,0,{"$f":"'Diet calcs'!C65","v":3.0000000000000001E-3},{"$f":"'8. Feed details'!$M$17*H73","v":3.4500556799999992E-2},{"$f":"'Diet calcs'!L65","v":0},{"$f":"'8. Feed details'!$M$18*J73","v":0},{"$f":"'Diet calcs'!U65","v":0},{"$f":"'8. Feed details'!$M$19*L73","v":0},{"$f":"'Diet calcs'!AD65","v":0},{"$f":"'8. Feed details'!$M$20*N73","v":0},{"$f":"'Diet calcs'!AM65","v":0},{"$f":"'8. Feed details'!$M$21*P73","v":0},{"$f":"'Diet calcs'!AV65","v":0},{"$f":"'8. Feed details'!$M$22*R73","v":0},{"$f":"'Diet calcs'!BE65","v":0},{"$f":"'8. Feed details'!$M$23*T73","v":0},{"$f":"'Diet calcs'!BN65","v":0},{"$f":"'8. Feed details'!$M$16*V73","v":0},{"$f":"'Diet calcs'!BW65","v":0},{"$f":"'8. Feed details'!$M$15*X73","v":0},{"$f":"'Diet calcs'!CF65","v":0},{"$f":"'8. Feed details'!$M$13*Z73","v":0},{"$f":"'Diet calcs'!CO65","v":0},{"$f":"'8. Feed details'!$M$14*AB73","v":0},5.0188843368261416E-4]
[{"$f":"'Diet calcs'!B66","v":"Fishmeal 60"},1870,7.2151663040876688,13492.360988643941,6.0690437429798674E-3,null,0,{"$f":"'Diet calcs'!C66","v":0},{"$f":"'8. Feed details'!$M$17*H74","v":0},{"$f":"'Diet calcs'!L66","v":0},{"$f":"'8. Feed details'!$M$18*J74","v":0},{"$f":"'Diet calcs'!U66","v":0},{"$f":"'8. Feed details'!$M$19*L74","v":0},{"$f":"'Diet calcs'!AD66","v":0},{"$f":"'8. Feed details'!$M$20*N74","v":0},{"$f":"'Diet calcs'!AM66","v":0},{"$f":"'8. Feed details'!$M$21*P74","v":0},{"$f":"'Diet calcs'!AV66","v":0},{"$f":"'8. Feed details'!$M$22*R74","v":0},{"$f":"'Diet calcs'!BE66","v":0},{"$f":"'8. Feed details'!$M$23*T74","v":0},{"$f":"'Diet calcs'!BN66","v":0.02},{"$f":"'8. Feed details'!$M$16*V74","v":7.2151663040876688},{"$f":"'Diet calcs'!BW66","v":0},{"$f":"'8. Feed details'!$M$15*X74","v":0},{"$f":"'Diet calcs'!CF66","v":0},{"$f":"'8. Feed details'!$M$13*Z74","v":0},{"$f":"'Diet calcs'!CO66","v":0},{"$f":"'8. Feed details'!$M$14*AB74","v":0},0.1049608716783996]
[{"$f":"'Diet calcs'!B67","v":"Fishmeal 65"},1870,24.245982479165544,45339.987236039568,2.0394530362274954E-2,null,0,{"$f":"'Diet calcs'!C67","v":2.5000000000000001E-3},{"$f":"'8. Feed details'!$M$17*H75","v":2.8750463999999993E-2},{"$f":"'Diet calcs'!L67","v":2.5000000000000001E-2},{"$f":"'8. Feed details'!$M$18*J75","v":24.217232015165543},{"$f":"'Diet calcs'!U67","v":0},{"$f":"'8. Feed details'!$M$19*L75","v":0},{"$f":"'Diet calcs'!AD67","v":0},{"$f":"'8. Feed details'!$M$20*N75","v":0},{"$f":"'Diet calcs'!AM67","v":0},{"$f":"'8. Feed details'!$M$21*P75","v":0},{"$f":"'Diet calcs'!AV67","v":0},{"$f":"'8. Feed details'!$M$22*R75","v":0},{"$f":"'Diet calcs'!BE67","v":0},{"$f":"'8. Feed details'!$M$23*T75","v":0},{"$f":"'Diet calcs'!BN67","v":0},{"$f":"'8. Feed details'!$M$16*V75","v":0},{"$f":"'Diet calcs'!BW67","v":0},{"$f":"'8. Feed details'!$M$15*X75","v":0},{"$f":"'Diet calcs'!CF67","v":0},{"$f":"'8. Feed details'!$M$13*Z75","v":0},{"$f":"'Diet calcs'!CO67","v":0},{"$f":"'8. Feed details'!$M$14*AB75","v":0},0.35271251534017278]
[{"$f":"'Diet calcs'!B68","v":"Fishmeal 70"},1870,0,0,0,null,0,{"$f":"'Diet calcs'!C68","v":0},{"$f":"'8. Feed details'!$M$17*H76","v":0},{"$f":"'Diet calcs'!L68","v":0},{"$f":"'8. Feed details'!$M$18*J76","v":0},{"$f":"'Diet calcs'!U68","v":0},{"$f":"'8. Feed details'!$M$19*L76","v":0},{"$f":"'Diet calcs'!AD68","v":0},{"$f":"'8. Feed details'!$M$20*N76","v":0},{"$f":"'Diet calcs'!AM68","v":0},{"$f":"'8. Feed details'!$M$21*P76","v":0},{"$f":"'Diet calcs'!AV68","v":0},{"$f":"'8. Feed details'!$M$22*R76","v":0},{"$f":"'Diet calcs'!BE68","v":0},{"$f":"'8. Feed details'!$M$23*T76","v":0},{"$f":"'Diet calcs'!BN68","v":0},{"$f":"'8. Feed details'!$M$16*V76","v":0},{"$f":"'Diet calcs'!BW68","v":0},{"$f":"'8. Feed details'!$M$15*X76","v":0},{"$f":"'Diet calcs'!CF68","v":0},{"$f":"'8. Feed details'!$M$13*Z76","v":0},{"$f":"'Diet calcs'!CO68","v":0},{"$f":"'8. Feed details'!$M$14*AB76","v":0},0]
[{"$f":"'Diet calcs'!B69","v":"Meat & bone meal 45 "},386,0,0,0,null,0,{"$f":"'Diet calcs'!C69","v":0},{"$f":"'8. Feed details'!$M$17*H77","v":0},{"$f":"'Diet calcs'!L69","v":0},{"$f":"'8. Feed details'!$M$18*J77","v":0},{"$f":"'Diet calcs'!U69","v":0},{"$f":"'8. Feed details'!$M$19*L77","v":0},{"$f":"'Diet calcs'!AD69","v":0},{"$f":"'8. Feed details'!$M$20*N77","v":0},{"$f":"'Diet calcs'!AM69","v":0},{"$f":"'8. Feed details'!$M$21*P77","v":0},{"$f":"'Diet calcs'!AV69","v":0},{"$f":"'8. Feed details'!$M$22*R77","v":0},{"$f":"'Diet calcs'!BE69","v":0},{"$f":"'8. Feed details'!$M$23*T77","v":0},{"$f":"'Diet calcs'!BN69","v":0},{"$f":"'8. Feed details'!$M$16*V77","v":0},{"$f":"'Diet calcs'!BW69","v":0},{"$f":"'8. Feed details'!$M$15*X77","v":0},{"$f":"'Diet calcs'!CF69","v":0},{"$f":"'8. Feed details'!$M$13*Z77","v":0},{"$f":"'Diet calcs'!CO69","v":0},{"$f":"'8. Feed details'!$M$14*AB77","v":0},0]
[{"$f":"'Diet calcs'!B70","v":"Meat & bone meal 50"},386,267.22874927737473,103150.29722106665,4.639837804984101E-2,null,0,{"$f":"'Diet calcs'!C70","v":4.4999999999999997E-3},{"$f":"'8. Feed details'!$M$17*H78","v":5.1750835199999977E-2},{"$f":"'Diet calcs'!L70","v":0.04},{"$f":"'8. Feed details'!$M$18*J78","v":38.747571224264867},{"$f":"'Diet calcs'!U70","v":3.7499999999999999E-2},{"$f":"'8. Feed details'!$M$19*L78","v":42.598894235331009},{"$f":"'Diet calcs'!AD70","v":3.5000000000000003E-2},{"$f":"'8. Feed details'!$M$20*N78","v":55.32312030545372},{"$f":"'Diet calcs'!AM70","v":3.5000000000000003E-2},{"$f":"'8. Feed details'!$M$21*P78","v":68.504247210926394},{"$f":"'Diet calcs'!AV70","v":0},{"$f":"'8. Feed details'!$M$22*R78","v":0},{"$f":"'Diet calcs'!BE70","v":0},{"$f":"'8. Feed details'!$M$23*T78","v":0},{"$f":"'Diet calcs'!BN70","v":3.1E-2},{"$f":"'8. Feed details'!$M$16*V78","v":11.183507771335886},{"$f":"'Diet calcs'!BW70","v":0.06},{"$f":"'8. Feed details'!$M$15*X78","v":45.118727631863869},{"$f":"'Diet calcs'!CF70","v":5.2499999999999998E-2},{"$f":"'8. Feed details'!$M$13*Z78","v":5.1707195366831593},{"$f":"'Diet calcs'!CO70","v":0.06},{"$f":"'8. Feed details'!$M$14*AB78","v":0.53021052631578947},3.8874450400112273]
[{"$f":"'Diet calcs'!B71","v":"Meat & bone meal 60"},386,0,0,0,null,0,{"$f":"'Diet calcs'!C71","v":0},{"$f":"'8. Feed details'!$M$17*H79","v":0},{"$f":"'Diet calcs'!L71","v":0},{"$f":"'8. Feed details'!$M$18*J79","v":0},{"$f":"'Diet calcs'!U71","v":0},{"$f":"'8. Feed details'!$M$19*L79","v":0},{"$f":"'Diet calcs'!AD71","v":0},{"$f":"'8. Feed details'!$M$20*N79","v":0},{"$f":"'Diet calcs'!AM71","v":0},{"$f":"'8. Feed details'!$M$21*P79","v":0},{"$f":"'Diet calcs'!AV71","v":0},{"$f":"'8. Feed details'!$M$22*R79","v":0},{"$f":"'Diet calcs'!BE71","v":0},{"$f":"'8. Feed details'!$M$23*T79","v":0},{"$f":"'Diet calcs'!BN71","v":0},{"$f":"'8. Feed details'!$M$16*V79","v":0},{"$f":"'Diet calcs'!BW71","v":0},{"$f":"'8. Feed details'!$M$15*X79","v":0},{"$f":"'Diet calcs'!CF71","v":0},{"$f":"'8. Feed details'!$M$13*Z79","v":0},{"$f":"'Diet calcs'!CO71","v":0},{"$f":"'8. Feed details'!$M$14*AB79","v":0},0]
[{"$f":"'Diet calcs'!B72","v":"Milk, chocolate milk powder"},514,0,0,0,null,0,{"$f":"'Diet calcs'!C72","v":0},{"$f":"'8. Feed details'!$M$17*H80","v":0},{"$f":"'Diet calcs'!L72","v":0},{"$f":"'8. Feed details'!$M$18*J80","v":0},{"$f":"'Diet calcs'!U72","v":0},{"$f":"'8. Feed details'!$M$19*L80","v":0},{"$f":"'Diet calcs'!AD72","v":0},{"$f":"'8. Feed details'!$M$20*N80","v":0},{"$f":"'Diet calcs'!AM72","v":0},{"$f":"'8. Feed details'!$M$21*P80","v":0},{"$f":"'Diet calcs'!AV72","v":0},{"$f":"'8. Feed details'!$M$22*R80","v":0},{"$f":"'Diet calcs'!BE72","v":0},{"$f":"'8. Feed details'!$M$23*T80","v":0},{"$f":"'Diet calcs'!BN72","v":0},{"$f":"'8. Feed details'!$M$16*V80","v":0},{"$f":"'Diet calcs'!BW72","v":0},{"$f":"'8. Feed details'!$M$15*X80","v":0},{"$f":"'Diet calcs'!CF72","v":0},{"$f":"'8. Feed details'!$M$13*Z80","v":0},{"$f":"'Diet calcs'!CO72","v":0},{"$f":"'8. Feed details'!$M$14*AB80","v":0},0]
[{"$f":"'Diet calcs'!B73","v":"Milk, skim milk powder"},514,0,0,0,null,0,{"$f":"'Diet calcs'!C73","v":0},{"$f":"'8. Feed details'!$M$17*H81","v":0},{"$f":"'Diet calcs'!L73","v":0},{"$f":"'8. Feed details'!$M$18*J81","v":0},{"$f":"'Diet calcs'!U73","v":0},{"$f":"'8. Feed details'!$M$19*L81","v":0},{"$f":"'Diet calcs'!AD73","v":0},{"$f":"'8. Feed details'!$M$20*N81","v":0},{"$f":"'Diet calcs'!AM73","v":0},{"$f":"'8. Feed details'!$M$21*P81","v":0},{"$f":"'Diet calcs'!AV73","v":0},{"$f":"'8. Feed details'!$M$22*R81","v":0},{"$f":"'Diet calcs'!BE73","v":0},{"$f":"'8. Feed details'!$M$23*T81","v":0},{"$f":"'Diet calcs'!BN73","v":0},{"$f":"'8. Feed details'!$M$16*V81","v":0},{"$f":"'Diet calcs'!BW73","v":0},{"$f":"'8. Feed details'!$M$15*X81","v":0},{"$f":"'Diet calcs'!CF73","v":0},{"$f":"'8. Feed details'!$M$13*Z81","v":0},{"$f":"'Diet calcs'!CO73","v":0},{"$f":"'8. Feed details'!$M$14*AB81","v":0},0]
[{"$f":"'Diet calcs'!B74","v":"Milk, full cream  powder"},514,0,0,0,null,0,{"$f":"'Diet calcs'!C74","v":0},{"$f":"'8. Feed details'!$M$17*H82","v":0},{"$f":"'Diet calcs'!L74","v":0},{"$f":"'8. Feed details'!$M$18*J82","v":0},{"$f":"'Diet calcs'!U74","v":0},{"$f":"'8. Feed details'!$M$19*L82","v":0},{"$f":"'Diet calcs'!AD74","v":0},{"$f":"'8. Feed details'!$M$20*N82","v":0},{"$f":"'Diet calcs'!AM74","v":0},{"$f":"'8. Feed details'!$M$21*P82","v":0},{"$f":"'Diet calcs'!AV74","v":0},{"$f":"'8. Feed details'!$M$22*R82","v":0},{"$f":"'Diet calcs'!BE74","v":0},{"$f":"'8. Feed details'!$M$23*T82","v":0},{"$f":"'Diet calcs'!BN74","v":0},{"$f":"'8. Feed details'!$M$16*V82","v":0},{"$f":"'Diet calcs'!BW74","v":0},{"$f":"'8. Feed details'!$M$15*X82","v":0},{"$f":"'Diet calcs'!CF74","v":0},{"$f":"'8. Feed details'!$M$13*Z82","v":0},{"$f":"'Diet calcs'!CO74","v":0},{"$f":"'8. Feed details'!$M$14*AB82","v":0},0]
[{"$f":"'Diet calcs'!B75","v":"Milk, whey powder"},959,0.11500185599999997,110.28677990399997,4.9608463046098857E-5,null,0,{"$f":"'Diet calcs'!C75","v":0.01},{"$f":"'8. Feed details'!$M$17*H83","v":0.11500185599999997},{"$f":"'Diet calcs'!L75","v":0},{"$f":"'8. Feed details'!$M$18*J83","v":0},{"$f":"'Diet calcs'!U75","v":0},{"$f":"'8. Feed details'!$M$19*L83","v":0},{"$f":"'Diet calcs'!AD75","v":0},{"$f":"'8. Feed details'!$M$20*N83","v":0},{"$f":"'Diet calcs'!AM75","v":0},{"$f":"'8. Feed details'!$M$21*P83","v":0},{"$f":"'Diet calcs'!AV75","v":0},{"$f":"'8. Feed details'!$M$22*R83","v":0},{"$f":"'Diet calcs'!BE75","v":0},{"$f":"'8. Feed details'!$M$23*T83","v":0},{"$f":"'Diet calcs'!BN75","v":0},{"$f":"'8. Feed details'!$M$16*V83","v":0},{"$f":"'Diet calcs'!BW75","v":0},{"$f":"'8. Feed details'!$M$15*X83","v":0},{"$f":"'Diet calcs'!CF75","v":0},{"$f":"'8. Feed details'!$M$13*Z83","v":0},{"$f":"'Diet calcs'!CO75","v":0},{"$f":"'8. Feed details'!$M$14*AB83","v":0},1.6729614456087135E-3]
["Hay & Straw"]
[{"$f":"'Diet calcs'!B77","v":"Barley straw"},67,{"$f":"SUM(I85,K85,M85,O85,Q85,S85,U85,W85,Y85,AA85,AC85)","v":0},{"$f":"B85*C85","v":0},{"$f":"D85/$D$160","v":0},null,0,{"$f":"'Diet calcs'!C77","v":0},{"$f":"'8. Feed details'!$M$17*H85","v":0},{"$f":"'Diet calcs'!L77","v":0},{"$f":"'8. Feed details'!$M$18*J85","v":0},{"$f":"'Diet calcs'!U77","v":0},{"$f":"'8. Feed details'!$M$19*L85","v":0},{"$f":"'Diet calcs'!AD77","v":0},{"$f":"'8. Feed details'!$M$20*N85","v":0},{"$f":"'Diet calcs'!AM77","v":0},{"$f":"'8. Feed details'!$M$21*P85","v":0},{"$f":"'Diet calcs'!AV77","v":0},{"$f":"'8. Feed details'!$M$22*R85","v":0},{"$f":"'Diet calcs'!BE77","v":0},{"$f":"'8. Feed details'!$M$23*T85","v":0},{"$f":"'Diet calcs'!BN77","v":0},{"$f":"'8. Feed details'!$M$16*V85","v":0},{"$f":"'Diet calcs'!BW77","v":0},{"$f":"'8. Feed details'!$M$15*X85","v":0},{"$f":"'Diet calcs'!CF77","v":0},{"$f":"'8. Feed details'!$M$13*Z85","v":0},{"$f":"'Diet calcs'!CO77","v":0},{"$f":"'8. Feed details'!$M$14*AB85","v":0},0]
[{"$f":"'Diet calcs'!B78","v":"Cereal straw pellets"},67,{"$f":"SUM(I86,K86,M86,O86,Q86,S86,U86,W86,Y86,AA86,AC86)","v":0},{"$f":"B86*C86","v":0},{"$f":"D86/$D$160","v":0},null,0,{"$f":"'Diet calcs'!C78","v":0},{"$f":"'8. Feed details'!$M$17*H86","v":0},{"$f":"'Diet calcs'!L78","v":0},{"$f":"'8. Feed details'!$M$18*J86","v":0},{"$f":"'Diet calcs'!U78","v":0},{"$f":"'8. Feed details'!$M$19*L86","v":0},{"$f":"'Diet calcs'!AD78","v":0},{"$f":"'8. Feed details'!$M$20*N86","v":0},{"$f":"'Diet calcs'!AM78","v":0},{"$f":"'8. Feed details'!$M$21*P86","v":0},{"$f":"'Diet calcs'!AV78","v":0},{"$f":"'8. Feed details'!$M$22*R86","v":0},{"$f":"'Diet calcs'!BE78","v":0},{"$f":"'8. Feed details'!$M$23*T86","v":0},{"$f":"'Diet calcs'!BN78","v":0},{"$f":"'8. Feed details'!$M$16*V86","v":0},{"$f":"'Diet calcs'!BW78","v":0},{"$f":"'8. Feed details'!$M$15*X86","v":0},{"$f":"'Diet calcs'!CF78","v":0},{"$f":"'8. Feed details'!$M$13*Z86","v":0},{"$f":"'Diet calcs'!CO78","v":0},{"$f":"'8. Feed details'!$M$14*AB86","v":0},0]
[{"$f":"'Diet calcs'!B79","v":"Lucerne meal/crumbles"},193,{"$f":"SUM(I87,K87,M87,O87,Q87,S87,U87,W87,Y87,AA87,AC87)","v":0},{"$f":"B87*C87","v":0},{"$f":"D87/$D$160","v":0},null,0,{"$f":"'Diet calcs'!C79","v":0},{"$f":"'8. Feed details'!$M$17*H87","v":0},{"$f":"'Diet calcs'!L79","v":0},{"$f":"'8. Feed details'!$M$18*J87","v":0},{"$f":"'Diet calcs'!U79","v":0},{"$f":"'8. Feed details'!$M$19*L87","v":0},{"$f":"'Diet calcs'!AD79","v":0},{"$f":"'8. Feed details'!$M$20*N87","v":0},{"$f":"'Diet calcs'!AM79","v":0},{"$f":"'8. Feed details'!$M$21*P87","v":0},{"$f":"'Diet calcs'!AV79","v":0},{"$f":"'8. Feed details'!$M$22*R87","v":0},{"$f":"'Diet calcs'!BE79","v":0},{"$f":"'8. Feed details'!$M$23*T87","v":0},{"$f":"'Diet calcs'!BN79","v":0},{"$f":"'8. Feed details'!$M$16*V87","v":0},{"$f":"'Diet calcs'!BW79","v":0},{"$f":"'8. Feed details'!$M$15*X87","v":0},{"$f":"'Diet calcs'!CF79","v":0},{"$f":"'8. Feed details'!$M$13*Z87","v":0},{"$f":"'Diet calcs'!CO79","v":0},{"$f":"'8. Feed details'!$M$14*AB87","v":0},0]
[{"$f":"'Diet calcs'!B80","v":"Oat straw"},67,{"$f":"SUM(I88,K88,M88,O88,Q88,S88,U88,W88,Y88,AA88,AC88)","v":0},{"$f":"B88*C88","v":0},{"$f":"D88/$D$160","v":0},null,0,{"$f":"'Diet calcs'!C80","v":0},{"$f":"'8. Feed details'!$M$17*H88","v":0},{"$f":"'Diet calcs'!L80","v":0},{"$f":"'8. Feed details'!$M$18*J88","v":0},{"$f":"'Diet calcs'!U80","v":0},{"$f":"'8. Feed details'!$M$19*L88","v":0},{"$f":"'Diet calcs'!AD80","v":0},{"$f":"'8. Feed details'!$M$20*N88","v":0},{"$f":"'Diet calcs'!AM80","v":0},{"$f":"'8. Feed details'!$M$21*P88","v":0},{"$f":"'Diet calcs'!AV80","v":0},{"$f":"'8. Feed details'!$M$22*R88","v":0},{"$f":"'Diet calcs'!BE80","v":0},{"$f":"'8. Feed details'!$M$23*T88","v":0},{"$f":"'Diet calcs'!BN80","v":0},{"$f":"'8. Feed details'!$M$16*V88","v":0},{"$f":"'Diet calcs'!BW80","v":0},{"$f":"'8. Feed details'!$M$15*X88","v":0},{"$f":"'Diet calcs'!CF80","v":0},{"$f":"'8. Feed details'!$M$13*Z88","v":0},{"$f":"'Diet calcs'!CO80","v":0},{"$f":"'8. Feed details'!$M$14*AB88","v":0},0]
[{"$f":"'Diet calcs'!B81","v":"Wheat straw"},67,{"$f":"SUM(I89,K89,M89,O89,Q89,S89,U89,W89,Y89,AA89,AC89)","v":0},{"$f":"B89*C89","v":0},{"$f":"D89/$D$160","v":0},null,0,{"$f":"'Diet calcs'!C81","v":0},{"$f":"'8. Feed details'!$M$17*H89","v":0},{"$f":"'Diet calcs'!L81","v":0},{"$f":"'8. Feed details'!$M$18*J89","v":0},{"$f":"'Diet calcs'!U81","v":0},{"$f":"'8. Feed details'!$M$19*L89","v":0},{"$f":"'Diet calcs'!AD81","v":0},{"$f":"'8. Feed details'!$M$20*N89","v":0},{"$f":"'Diet calcs'!AM81","v":0},{"$f":"'8. Feed details'!$M$21*P89","v":0},{"$f":"'Diet calcs'!AV81","v":0},{"$f":"'8. Feed details'!$M$22*R89","v":0},{"$f":"'Diet calcs'!BE81","v":0},{"$f":"'8. Feed details'!$M$23*T89","v":0},{"$f":"'Diet calcs'!BN81","v":0},{"$f":"'8. Feed details'!$M$16*V89","v":0},{"$f":"'Diet calcs'!BW81","v":0},{"$f":"'8. Feed details'!$M$15*X89","v":0},{"$f":"'Diet calcs'!CF81","v":0},{"$f":"'8. Feed details'!$M$13*Z89","v":0},{"$f":"'Diet calcs'!CO81","v":0},{"$f":"'8. Feed details'!$M$14*AB89","v":0},0]
["Fats"]
[{"$f":"'Diet calcs'!B83","v":"Tallow"},1040,{"$f":"SUM(I91,K91,M91,O91,Q91,S91,U91,W91,Y91,AA91,AC91)","v":0},{"$f":"B91*C91","v":0},{"$f":"D91/$D$160","v":0},null,0,{"$f":"'Diet calcs'!C83","v":0},{"$f":"'8. Feed details'!$M$17*H91","v":0},{"$f":"'Diet calcs'!L83","v":0},{"$f":"'8. Feed details'!$M$18*J91","v":0},{"$f":"'Diet calcs'!U83","v":0},{"$f":"'8. Feed details'!$M$19*L91","v":0},{"$f":"'Diet calcs'!AD83","v":0},{"$f":"'8. Feed details'!$M$20*N91","v":0},{"$f":"'Diet calcs'!AM83","v":0},{"$f":"'8. Feed details'!$M$21*P91","v":0},{"$f":"'Diet calcs'!AV83","v":0},{"$f":"'8. Feed details'!$M$22*R91","v":0},{"$f":"'Diet calcs'!BE83","v":0},{"$f":"'8. Feed details'!$M$23*T91","v":0},{"$f":"'Diet calcs'!BN83","v":0},{"$f":"'8. Feed details'!$M$16*V91","v":0},{"$f":"'Diet calcs'!BW83","v":0},{"$f":"'8. Feed details'!$M$15*X91","v":0},{"$f":"'Diet calcs'!CF83","v":0},{"$f":"'8. Feed details'!$M$13*Z91","v":0},{"$f":"'Diet calcs'!CO83","v":0},{"$f":"'8. Feed details'!$M$14*AB91","v":0},0]
[{"$f":"'Diet calcs'!B84","v":"Vegetable oil"},1096,{"$f":"SUM(I92,K92,M92,O92,Q92,S92,U92,W92,Y92,AA92,AC92)","v":35.744947184810876},{"$f":"B92*C92","v":39176.46211455272},{"$f":"D92/$D$160","v":1.7622094640703103E-2},null,0,{"$f":"'Diet calcs'!C84","v":1.3500000000000001E-3},{"$f":"'8. Feed details'!$M$17*H92","v":1.5525250559999997E-2},{"$f":"'Diet calcs'!L84","v":2.1000000000000001E-2},{"$f":"'8. Feed details'!$M$18*J92","v":20.342474892739055},{"$f":"'Diet calcs'!U84","v":5.0000000000000001E-3},{"$f":"'8. Feed details'!$M$19*L92","v":5.6798525647108011},{"$f":"'Diet calcs'!AD84","v":5.0000000000000001E-3},{"$f":"'8. Feed details'!$M$20*N92","v":7.9033029007791029},{"$f":"'Diet calcs'!AM84","v":0},{"$f":"'8. Feed details'!$M$21*P92","v":0},{"$f":"'Diet calcs'!AV84","v":0},{"$f":"'8. Feed details'!$M$22*R92","v":0},{"$f":"'Diet calcs'!BE84","v":0},{"$f":"'8. Feed details'!$M$23*T92","v":0},{"$f":"'Diet calcs'!BN84","v":5.0000000000000001E-3},{"$f":"'8. Feed details'!$M$16*V92","v":1.8037915760219172},{"$f":"'Diet calcs'!BW84","v":0},{"$f":"'8. Feed details'!$M$15*X92","v":0},{"$f":"'Diet calcs'!CF84","v":0},{"$f":"'8. Feed details'!$M$13*Z92","v":0},{"$f":"'Diet calcs'!CO84","v":0},{"$f":"'8. Feed details'!$M$14*AB92","v":0},0.51999089923825514]
["Minerals"]
[{"$f":"'Diet calcs'!B86","v":"Bentonite"},100,{"$f":"SUM(I94,K94,M94,O94,Q94,S94,U94,W94,Y94,AA94,AC94)","v":0},{"$f":"B94*C94","v":0},{"$f":"D94/$D$160","v":0},null,0,{"$f":"'Diet calcs'!C86","v":0},{"$f":"'8. Feed details'!$M$17*H94","v":0},{"$f":"'Diet calcs'!L86","v":0},{"$f":"'8. Feed details'!$M$18*J94","v":0},{"$f":"'Diet calcs'!U86","v":0},{"$f":"'8. Feed details'!$M$19*L94","v":0},{"$f":"'Diet calcs'!AD86","v":0},{"$f":"'8. Feed details'!$M$20*N94","v":0},{"$f":"'Diet calcs'!AM86","v":0},{"$f":"'8. Feed details'!$M$21*P94","v":0},{"$f":"'Diet calcs'!AV86","v":0},{"$f":"'8. Feed details'!$M$22*R94","v":0},{"$f":"'Diet calcs'!BE86","v":0},{"$f":"'8. Feed details'!$M$23*T94","v":0},{"$f":"'Diet calcs'!BN86","v":0},{"$f":"'8. Feed details'!$M$16*V94","v":0},{"$f":"'Diet calcs'!BW86","v":0},{"$f":"'8. Feed details'!$M$15*X94","v":0},{"$f":"'Diet calcs'!CF86","v":0},{"$f":"'8. Feed details'!$M$13*Z94","v":0},{"$f":"'Diet calcs'!CO86","v":0},{"$f":"'8. Feed details'!$M$14*AB94","v":0},0]
[{"$f":"'Diet calcs'!B87","v":"Choline Chloride"},2714,{"$f":"SUM(I95,K95,M95,O95,Q95,S95,U95,W95,Y95,AA95,AC95)","v":2.2789647778081248},{"$f":"B95*C95","v":6185.110406971251},{"$f":"D95/$D$160","v":2.7821450705819936E-3},null,{"$f":"C95*F95","v":0},{"$f":"'Diet calcs'!C87","v":0},{"$f":"'8. Feed details'!$M$17*H95","v":0},{"$f":"'Diet calcs'!L87","v":0},{"$f":"'8. Feed details'!$M$18*J95","v":0},{"$f":"'Diet calcs'!U87","v":0},{"$f":"'8. Feed details'!$M$19*L95","v":0},{"$f":"'Diet calcs'!AD87","v":5.7499999999999999E-4},{"$f":"'8. Feed details'!$M$20*N95","v":0.90887983358959679},{"$f":"'Diet calcs'!AM87","v":6.9999999999999999E-4},{"$f":"'8. Feed details'!$M$21*P95","v":1.3700849442185279},{"$f":"'Diet calcs'!AV87","v":0},{"$f":"'8. Feed details'!$M$22*R95","v":0},{"$f":"'Diet calcs'!BE87","v":0},{"$f":"'8. Feed details'!$M$23*T95","v":0},{"$f":"'Diet calcs'!BN87","v":0},{"$f":"'8. Feed details'!$M$16*V95","v":0},{"$f":"'Diet calcs'!BW87","v":0},{"$f":"'8. Feed details'!$M$15*X95","v":0},{"$f":"'Diet calcs'!CF87","v":0},{"$f":"'8. Feed details'!$M$13*Z95","v":0},{"$f":"'Diet calcs'!CO87","v":0},{"$f":"'8. Feed details'!$M$14*AB95","v":0},3.3152684154708095E-2]
[{"$f":"'Diet calcs'!B88","v":"Copper Sulphate"},100,0,0,0,null,0,{"$f":"'Diet calcs'!C88","v":0},{"$f":"'8. Feed details'!$M$17*H96","v":0},{"$f":"'Diet calcs'!L88","v":0},{"$f":"'8. Feed details'!$M$18*J96","v":0},{"$f":"'Diet calcs'!U88","v":0},{"$f":"'8. Feed details'!$M$19*L96","v":0},{"$f":"'Diet calcs'!AD88","v":0},{"$f":"'8. Feed details'!$M$20*N96","v":0},{"$f":"'Diet calcs'!AM88","v":0},{"$f":"'8. Feed details'!$M$21*P96","v":0},{"$f":"'Diet calcs'!AV88","v":0},{"$f":"'8. Feed details'!$M$22*R96","v":0},{"$f":"'Diet calcs'!BE88","v":0},{"$f":"'8. Feed details'!$M$23*T96","v":0},{"$f":"'Diet calcs'!BN88","v":0},{"$f":"'8. Feed details'!$M$16*V96","v":0},{"$f":"'Diet calcs'!BW88","v":0},{"$f":"'8. Feed details'!$M$15*X96","v":0},{"$f":"'Diet calcs'!CF88","v":0},{"$f":"'8. Feed details'!$M$13*Z96","v":0},{"$f":"'Diet calcs'!CO88","v":0},{"$f":"'8. Feed details'!$M$14*AB96","v":0},0]
[{"$f":"'Diet calcs'!B89","v":"Dicalcium phosphate (DCP)"},100,0,0,0,null,0,{"$f":"'Diet calcs'!C89","v":0},{"$f":"'8. Feed details'!$M$17*H97","v":0},{"$f":"'Diet calcs'!L89","v":0},{"$f":"'8. Feed details'!$M$18*J97","v":0},{"$f":"'Diet calcs'!U89","v":0},{"$f":"'8. Feed details'!$M$19*L97","v":0},{"$f":"'Diet calcs'!AD89","v":0},{"$f":"'8. Feed details'!$M$20*N97","v":0},{"$f":"'Diet calcs'!AM89","v":0},{"$f":"'8. Feed details'!$M$21*P97","v":0},{"$f":"'Diet calcs'!AV89","v":0},{"$f":"'8. Feed details'!$M$22*R97","v":0},{"$f":"'Diet calcs'!BE89","v":0},{"$f":"'8. Feed details'!$M$23*T97","v":0},{"$f":"'Diet calcs'!BN89","v":0},{"$f":"'8. Feed details'!$M$16*V97","v":0},{"$f":"'Diet calcs'!BW89","v":0},{"$f":"'8. Feed details'!$M$15*X97","v":0},{"$f":"'Diet calcs'!CF89","v":0},{"$f":"'8. Feed details'!$M$13*Z97","v":0},{"$f":"'Diet calcs'!CO89","v":0},{"$f":"'8. Feed details'!$M$14*AB97","v":0},0]
[{"$f":"'Diet calcs'!B90","v":"Ferrous Sulphate"},100,0,0,0,null,0,{"$f":"'Diet calcs'!C90","v":0},{"$f":"'8. Feed details'!$M$17*H98","v":0},{"$f":"'Diet calcs'!L90","v":0},{"$f":"'8. Feed details'!$M$18*J98","v":0},{"$f":"'Diet calcs'!U90","v":0},{"$f":"'8. Feed details'!$M$19*L98","v":0},{"$f":"'Diet calcs'!AD90","v":0},{"$f":"'8. Feed details'!$M$20*N98","v":0},{"$f":"'Diet calcs'!AM90","v":0},{"$f":"'8. Feed details'!$M$21*P98","v":0},{"$f":"'Diet calcs'!AV90","v":0},{"$f":"'8. Feed details'!$M$22*R98","v":0},{"$f":"'Diet calcs'!BE90","v":0},{"$f":"'8. Feed details'!$M$23*T98","v":0},{"$f":"'Diet calcs'!BN90","v":0},{"$f":"'8. Feed details'!$M$16*V98","v":0},{"$f":"'Diet calcs'!BW90","v":0},{"$f":"'8. Feed details'!$M$15*X98","v":0},{"$f":"'Diet calcs'!CF90","v":0},{"$f":"'8. Feed details'!$M$13*Z98","v":0},{"$f":"'Diet calcs'!CO90","v":0},{"$f":"'8. Feed details'!$M$14*AB98","v":0},0]
[{"$f":"'Diet calcs'!B91","v":"Kynofos"},851,0,0,0,1.5E-3,0,{"$f":"'Diet calcs'!C91","v":0},{"$f":"'8. Feed details'!$M$17*H99","v":0},{"$f":"'Diet calcs'!L91","v":0},{"$f":"'8. Feed details'!$M$18*J99","v":0},{"$f":"'Diet calcs'!U91","v":0},{"$f":"'8. Feed details'!$M$19*L99","v":0},{"$f":"'Diet calcs'!AD91","v":0},{"$f":"'8. Feed details'!$M$20*N99","v":0},{"$f":"'Diet calcs'!AM91","v":0},{"$f":"'8. Feed details'!$M$21*P99","v":0},{"$f":"'Diet calcs'!AV91","v":0},{"$f":"'8. Feed details'!$M$22*R99","v":0},{"$f":"'Diet calcs'!BE91","v":0},{"$f":"'8. Feed details'!$M$23*T99","v":0},{"$f":"'Diet calcs'!BN91","v":0},{"$f":"'8. Feed details'!$M$16*V99","v":0},{"$f":"'Diet calcs'!BW91","v":0},{"$f":"'8. Feed details'!$M$15*X99","v":0},{"$f":"'Diet calcs'!CF91","v":0},{"$f":"'8. Feed details'!$M$13*Z99","v":0},{"$f":"'Diet calcs'!CO91","v":0},{"$f":"'8. Feed details'!$M$14*AB99","v":0},0]
[{"$f":"'Diet calcs'!B92","v":"Limestone"},36,29.60505012639916,1065.7818045503698,4.7940285601106734E-4,null,0,{"$f":"'Diet calcs'!C92","v":0},{"$f":"'8. Feed details'!$M$17*H100","v":0},{"$f":"'Diet calcs'!L92","v":0},{"$f":"'8. Feed details'!$M$18*J100","v":0},{"$f":"'Diet calcs'!U92","v":5.0000000000000001E-3},{"$f":"'8. Feed details'!$M$19*L100","v":5.6798525647108011},{"$f":"'Diet calcs'!AD92","v":6.0000000000000001E-3},{"$f":"'8. Feed details'!$M$20*N100","v":9.4839634809349231},{"$f":"'Diet calcs'!AM92","v":6.0000000000000001E-3},{"$f":"'8. Feed details'!$M$21*P100","v":11.743585236158811},{"$f":"'Diet calcs'!AV92","v":0},{"$f":"'8. Feed details'!$M$22*R100","v":0},{"$f":"'Diet calcs'!BE92","v":0},{"$f":"'8. Feed details'!$M$23*T100","v":0},{"$f":"'Diet calcs'!BN92","v":6.0000000000000001E-3},{"$f":"'8. Feed details'!$M$16*V100","v":2.1645498912263008},{"$f":"'Diet calcs'!BW92","v":0},{"$f":"'8. Feed details'!$M$15*X100","v":0},{"$f":"'Diet calcs'!CF92","v":5.0000000000000001E-3},{"$f":"'8. Feed details'!$M$13*Z100","v":0.4924494796841104},{"$f":"'Diet calcs'!CO92","v":4.5999999999999999E-3},{"$f":"'8. Feed details'!$M$14*AB100","v":4.0649473684210527E-2},0.43067224460081044]
[{"$f":"'Diet calcs'!B93","v":"Monodicalcium phosphate (MDCP)"},100,0,0,{"$f":"D101/$D$160","v":0},null,0,{"$f":"'Diet calcs'!C93","v":0},{"$f":"'8. Feed details'!$M$17*H101","v":0},{"$f":"'Diet calcs'!L93","v":0},{"$f":"'8. Feed details'!$M$18*J101","v":0},{"$f":"'Diet calcs'!U93","v":0},{"$f":"'8. Feed details'!$M$19*L101","v":0},{"$f":"'Diet calcs'!AD93","v":0},{"$f":"'8. Feed details'!$M$20*N101","v":0},{"$f":"'Diet calcs'!AM93","v":0},{"$f":"'8. Feed details'!$M$21*P101","v":0},{"$f":"'Diet calcs'!AV93","v":0},{"$f":"'8. Feed details'!$M$22*R101","v":0},{"$f":"'Diet calcs'!BE93","v":0},{"$f":"'8. Feed details'!$M$23*T101","v":0},{"$f":"'Diet calcs'!BN93","v":0},{"$f":"'8. Feed details'!$M$16*V101","v":0},{"$f":"'Diet calcs'!BW93","v":0},{"$f":"'8. Feed details'!$M$15*X101","v":0},{"$f":"'Diet calcs'!CF93","v":0},{"$f":"'8. Feed details'!$M$13*Z101","v":0},{"$f":"'Diet calcs'!CO93","v":0},{"$f":"'8. Feed details'!$M$14*AB101","v":0},0]
[{"$f":"'Diet calcs'!B94","v":"Potassium Choride"},304,3.6989696424107272,1124.486771292861,5.0580913222841948E-4,null,0,{"$f":"'Diet calcs'!C94","v":0},{"$f":"'8. Feed details'!$M$17*H102","v":0},{"$f":"'Diet calcs'!L94","v":0},{"$f":"'8. Feed details'!$M$18*J102","v":0},{"$f":"'Diet calcs'!U94","v":0},{"$f":"'8. Feed details'!$M$19*L102","v":0},{"$f":"'Diet calcs'!AD94","v":0},{"$f":"'8. Feed details'!$M$20*N102","v":0},{"$f":"'Diet calcs'!AM94","v":0},{"$f":"'8. Feed details'!$M$21*P102","v":0},{"$f":"'Diet calcs'!AV94","v":0},{"$f":"'8. Feed details'!$M$22*R102","v":0},{"$f":"'Diet calcs'!BE94","v":0},{"$f":"'8. Feed details'!$M$23*T102","v":0},{"$f":"'Diet calcs'!BN94","v":4.0000000000000001E-3},{"$f":"'8. Feed details'!$M$16*V102","v":1.4430332608175338},{"$f":"'Diet calcs'!BW94","v":3.0000000000000001E-3},{"$f":"'8. Feed details'!$M$15*X102","v":2.2559363815931937},{"$f":"'Diet calcs'!CF94","v":0},{"$f":"'8. Feed details'!$M$13*Z102","v":0},{"$f":"'Diet calcs'!CO94","v":0},{"$f":"'8. Feed details'!$M$14*AB102","v":0},5.3809858514198228E-2]
[{"$f":"'Diet calcs'!B95","v":"Potassium sulphate"},1590,0,0,0,null,0,{"$f":"'Diet calcs'!C95","v":0},{"$f":"'8. Feed details'!$M$17*H103","v":0},{"$f":"'Diet calcs'!L95","v":0},{"$f":"'8. Feed details'!$M$18*J103","v":0},{"$f":"'Diet calcs'!U95","v":0},{"$f":"'8. Feed details'!$M$19*L103","v":0},{"$f":"'Diet calcs'!AD95","v":0},{"$f":"'8. Feed details'!$M$20*N103","v":0},{"$f":"'Diet calcs'!AM95","v":0},{"$f":"'8. Feed details'!$M$21*P103","v":0},{"$f":"'Diet calcs'!AV95","v":0},{"$f":"'8. Feed details'!$M$22*R103","v":0},{"$f":"'Diet calcs'!BE95","v":0},{"$f":"'8. Feed details'!$M$23*T103","v":0},{"$f":"'Diet calcs'!BN95","v":0},{"$f":"'8. Feed details'!$M$16*V103","v":0},{"$f":"'Diet calcs'!BW95","v":0},{"$f":"'8. Feed details'!$M$15*X103","v":0},{"$f":"'Diet calcs'!CF95","v":0},{"$f":"'8. Feed details'!$M$13*Z103","v":0},{"$f":"'Diet calcs'!CO95","v":0},{"$f":"'8. Feed details'!$M$14*AB103","v":0},0]
[{"$f":"'Diet calcs'!B96","v":"Sodium Bicarbonate"},100,0,0,0,null,0,{"$f":"'Diet calcs'!C96","v":0},{"$f":"'8. Feed details'!$M$17*H104","v":0},{"$f":"'Diet calcs'!L96","v":0},{"$f":"'8. Feed details'!$M$18*J104","v":0},{"$f":"'Diet calcs'!U96","v":0},{"$f":"'8. Feed details'!$M$19*L104","v":0},{"$f":"'Diet calcs'!AD96","v":0},{"$f":"'8. Feed details'!$M$20*N104","v":0},{"$f":"'Diet calcs'!AM96","v":0},{"$f":"'8. Feed details'!$M$21*P104","v":0},{"$f":"'Diet calcs'!AV96","v":0},{"$f":"'8. Feed details'!$M$22*R104","v":0},{"$f":"'Diet calcs'!BE96","v":0},{"$f":"'8. Feed details'!$M$23*T104","v":0},{"$f":"'Diet calcs'!BN96","v":0},{"$f":"'8. Feed details'!$M$16*V104","v":0},{"$f":"'Diet calcs'!BW96","v":0},{"$f":"'8. Feed details'!$M$15*X104","v":0},{"$f":"'Diet calcs'!CF96","v":0},{"$f":"'8. Feed details'!$M$13*Z104","v":0},{"$f":"'Diet calcs'!CO96","v":0},{"$f":"'8. Feed details'!$M$14*AB104","v":0},0]
[{"$f":"'Diet calcs'!B97","v":"Salt"},1590,18.990741902731145,30195.279625342519,1.3582239093065565E-2,null,0,{"$f":"'Diet calcs'!C97","v":3.5E-4},{"$f":"'8. Feed details'!$M$17*H105","v":4.0250649599999988E-3},{"$f":"'Diet calcs'!L97","v":2.5000000000000001E-3},{"$f":"'8. Feed details'!$M$18*J105","v":2.4217232015165542},{"$f":"'Diet calcs'!U97","v":2.5000000000000001E-3},{"$f":"'8. Feed details'!$M$19*L105","v":2.8399262823554006},{"$f":"'Diet calcs'!AD97","v":2.5000000000000001E-3},{"$f":"'8. Feed details'!$M$20*N105","v":3.9516514503895515},{"$f":"'Diet calcs'!AM97","v":2.5000000000000001E-3},{"$f":"'8. Feed details'!$M$21*P105","v":4.893160515066171},{"$f":"'Diet calcs'!AV97","v":0},{"$f":"'8. Feed details'!$M$22*R105","v":0},{"$f":"'Diet calcs'!BE97","v":0},{"$f":"'8. Feed details'!$M$23*T105","v":0},{"$f":"'Diet calcs'!BN97","v":4.0000000000000001E-3},{"$f":"'8. Feed details'!$M$16*V105","v":1.4430332608175338},{"$f":"'Diet calcs'!BW97","v":4.0000000000000001E-3},{"$f":"'8. Feed details'!$M$15*X105","v":3.0079151754575917},{"$f":"'Diet calcs'!CF97","v":4.0000000000000001E-3},{"$f":"'8. Feed details'!$M$13*Z105","v":0.39395958374728834},{"$f":"'Diet calcs'!CO97","v":4.0000000000000001E-3},{"$f":"'8. Feed details'!$M$14*AB105","v":3.5347368421052634E-2},0.27626318506350955]
[{"$f":"'Diet calcs'!B98","v":"HiZox/Zinco Plus"},3010,0,0,0,null,0,{"$f":"'Diet calcs'!C98","v":0},{"$f":"'8. Feed details'!$M$17*H106","v":0},{"$f":"'Diet calcs'!L98","v":0},{"$f":"'8. Feed details'!$M$18*J106","v":0},{"$f":"'Diet calcs'!U98","v":0},{"$f":"'8. Feed details'!$M$19*L106","v":0},{"$f":"'Diet calcs'!AD98","v":0},{"$f":"'8. Feed details'!$M$20*N106","v":0},{"$f":"'Diet calcs'!AM98","v":0},{"$f":"'8. Feed details'!$M$21*P106","v":0},{"$f":"'Diet calcs'!AV98","v":0},{"$f":"'8. Feed details'!$M$22*R106","v":0},{"$f":"'Diet calcs'!BE98","v":0},{"$f":"'8. Feed details'!$M$23*T106","v":0},{"$f":"'Diet calcs'!BN98","v":0},{"$f":"'8. Feed details'!$M$16*V106","v":0},{"$f":"'Diet calcs'!BW98","v":0},{"$f":"'8. Feed details'!$M$15*X106","v":0},{"$f":"'Diet calcs'!CF98","v":0},{"$f":"'8. Feed details'!$M$13*Z106","v":0},{"$f":"'Diet calcs'!CO98","v":0},{"$f":"'8. Feed details'!$M$14*AB106","v":0},0]
[{"$f":"'Diet calcs'!B99","v":"Zinc Oxide"},3010,2.9095178974998652,8757.6488714745938,3.9393071480501142E-3,null,0,{"$f":"'Diet calcs'!C99","v":2.9999999999999997E-4},{"$f":"'8. Feed details'!$M$17*H107","v":3.4500556799999986E-3},{"$f":"'Diet calcs'!L99","v":3.0000000000000001E-3},{"$f":"'8. Feed details'!$M$18*J107","v":2.9060678418198651},{"$f":"'Diet calcs'!U99","v":0},{"$f":"'8. Feed details'!$M$19*L107","v":0},{"$f":"'Diet calcs'!AD99","v":0},{"$f":"'8. Feed details'!$M$20*N107","v":0},{"$f":"'Diet calcs'!AM99","v":0},{"$f":"'8. Feed details'!$M$21*P107","v":0},{"$f":"'Diet calcs'!AV99","v":0},{"$f":"'8. Feed details'!$M$22*R107","v":0},{"$f":"'Diet calcs'!BE99","v":0},{"$f":"'8. Feed details'!$M$23*T107","v":0},{"$f":"'Diet calcs'!BN99","v":0},{"$f":"'8. Feed details'!$M$16*V107","v":0},{"$f":"'Diet calcs'!BW99","v":0},{"$f":"'8. Feed details'!$M$15*X107","v":0},{"$f":"'Diet calcs'!CF99","v":0},{"$f":"'8. Feed details'!$M$13*Z107","v":0},{"$f":"'Diet calcs'!CO99","v":0},{"$f":"'8. Feed details'!$M$14*AB107","v":0},4.2325501840820727E-2]
["Synthetic amino acids"]
[{"$f":"'Diet calcs'!B101","v":"L-Isoleucine"},3450,1.3536073790430001,{"$f":"B109*C109","v":4669.9454576983508},{"$f":"D109/$D$160","v":2.1006036885579927E-3},null,0,{"$f":"'Diet calcs'!C101","v":1.05E-4},{"$f":"'8. Feed details'!$M$17*H109","v":1.2075194879999998E-3},{"$f":"'Diet calcs'!L101","v":8.25E-4},{"$f":"'8. Feed details'!$M$18*J109","v":0.79916865650046287},{"$f":"'Diet calcs'!U101","v":0},{"$f":"'8. Feed details'!$M$19*L109","v":0},{"$f":"'Diet calcs'!AD101","v":3.5E-4},{"$f":"'8. Feed details'!$M$20*N109","v":0.55323120305453721},{"$f":"'Diet calcs'!AM101","v":0},{"$f":"'8. Feed details'!$M$21*P109","v":0},{"$f":"'Diet calcs'!AV101","v":0},{"$f":"'8. Feed details'!$M$22*R109","v":0},{"$f":"'Diet calcs'!BE101","v":0},{"$f":"'8. Feed details'!$M$23*T109","v":0},{"$f":"'Diet calcs'!BN101","v":0},{"$f":"'8. Feed details'!$M$16*V109","v":0},{"$f":"'Diet calcs'!BW101","v":0},{"$f":"'8. Feed details'!$M$15*X109","v":0},{"$f":"'Diet calcs'!CF101","v":0},{"$f":"'8. Feed details'!$M$13*Z109","v":0},{"$f":"'Diet calcs'!CO101","v":0},{"$f":"'8. Feed details'!$M$14*AB109","v":0},{"$f":"C109/$C$160*100","v":1.9691273135890953E-2}]
[{"$f":"'Diet calcs'!B102","v":"L-Lysine HCL"},6785,{"$f":"SUM(I110,K110,M110,O110,Q110,S110,U110,W110,Y110,AA110,AC110)","v":24.329120929299872},{"$f":"B110*C110","v":165073.08550529962},{"$f":"D110/$D$160","v":7.425207327046246E-2},null,{"$f":"C110*F110","v":0},{"$f":"'Diet calcs'!C102","v":4.4999999999999999E-4},{"$f":"'8. Feed details'!$M$17*H110","v":5.1750835199999984E-3},{"$f":"'Diet calcs'!L102","v":4.4999999999999997E-3},{"$f":"'8. Feed details'!$M$18*J110","v":4.3591017627297974},{"$f":"'Diet calcs'!U102","v":4.4999999999999997E-3},{"$f":"'8. Feed details'!$M$19*L110","v":5.1118673082397201},{"$f":"'Diet calcs'!AD102","v":4.4999999999999997E-3},{"$f":"'8. Feed details'!$M$20*N110","v":7.1129726107011919},{"$f":"'Diet calcs'!AM102","v":3.0000000000000001E-3},{"$f":"'8. Feed details'!$M$21*P110","v":5.8717926180794056},{"$f":"'Diet calcs'!AV102","v":0},{"$f":"'8. Feed details'!$M$22*R110","v":0},{"$f":"'Diet calcs'!BE102","v":0},{"$f":"'8. Feed details'!$M$23*T110","v":0},{"$f":"'Diet calcs'!BN102","v":3.3E-3},{"$f":"'8. Feed details'!$M$16*V110","v":1.1905024401744653},{"$f":"'Diet calcs'!BW102","v":5.0000000000000001E-4},{"$f":"'8. Feed details'!$M$15*X110","v":0.37598939693219896},{"$f":"'Diet calcs'!CF102","v":3.0500000000000002E-3},{"$f":"'8. Feed details'!$M$13*Z110","v":0.30039418260730738},{"$f":"'Diet calcs'!CO102","v":1.4999999999999999E-4},{"$f":"'8. Feed details'!$M$14*AB110","v":1.3255263157894738E-3},0.35392195166198653]
[{"$f":"'Diet calcs'!B103","v":"DL-Methionine"},6785,4.8853317857316307,33146.976166189117,1.4909951525120854E-2,null,0,{"$f":"'Diet calcs'!C103","v":2.2000000000000001E-4},{"$f":"'8. Feed details'!$M$17*H111","v":2.5300408319999992E-3},{"$f":"'Diet calcs'!L103","v":1.75E-3},{"$f":"'8. Feed details'!$M$18*J111","v":1.695206241061588},{"$f":"'Diet calcs'!U103","v":8.0000000000000004E-4},{"$f":"'8. Feed details'!$M$19*L111","v":0.90877641035372825},{"$f":"'Diet calcs'!AD103","v":7.7499999999999997E-4},{"$f":"'8. Feed details'!$M$20*N111","v":1.2250119496207608},{"$f":"'Diet calcs'!AM103","v":4.75E-4},{"$f":"'8. Feed details'!$M$21*P111","v":0.92970049786257247},{"$f":"'Diet calcs'!AV103","v":0},{"$f":"'8. Feed details'!$M$22*R111","v":0},{"$f":"'Diet calcs'!BE103","v":0},{"$f":"'8. Feed details'!$M$23*T111","v":0},{"$f":"'Diet calcs'!BN103","v":2.4000000000000001E-4},{"$f":"'8. Feed details'!$M$16*V111","v":8.6581995649052029E-2},{"$f":"'Diet calcs'!BW103","v":0},{"$f":"'8. Feed details'!$M$15*X111","v":0},{"$f":"'Diet calcs'!CF103","v":3.8099999999999999E-4},{"$f":"'8. Feed details'!$M$13*Z111","v":3.7524650351929215E-2},{"$f":"'Diet calcs'!CO103","v":0},{"$f":"'8. Feed details'!$M$14*AB111","v":0},7.1068172382676931E-2]
[{"$f":"'Diet calcs'!B104","v":"L-Threonine"},6785,6.6463884598438856,45095.745700040767,2.0284667265143407E-2,null,0,{"$f":"'Diet calcs'!C104","v":1.95E-4},{"$f":"'8. Feed details'!$M$17*H112","v":2.2425361919999991E-3},{"$f":"'Diet calcs'!L104","v":1.8E-3},{"$f":"'8. Feed details'!$M$18*J112","v":1.7436407050919189},{"$f":"'Diet calcs'!U104","v":1.25E-3},{"$f":"'8. Feed details'!$M$19*L112","v":1.4199631411777003},{"$f":"'Diet calcs'!AD104","v":1.2750000000000001E-3},{"$f":"'8. Feed details'!$M$20*N112","v":2.0153422396986711},{"$f":"'Diet calcs'!AM104","v":5.2499999999999997E-4},{"$f":"'8. Feed details'!$M$21*P112","v":1.0275637081638958},{"$f":"'Diet calcs'!AV104","v":0},{"$f":"'8. Feed details'!$M$22*R112","v":0},{"$f":"'Diet calcs'!BE104","v":0},{"$f":"'8. Feed details'!$M$23*T112","v":0},{"$f":"'Diet calcs'!BN104","v":8.4999999999999995E-4},{"$f":"'8. Feed details'!$M$16*V112","v":0.30664456792372591},{"$f":"'Diet calcs'!BW104","v":0},{"$f":"'8. Feed details'!$M$15*X112","v":0},{"$f":"'Diet calcs'!CF104","v":1.33E-3},{"$f":"'8. Feed details'!$M$13*Z112","v":0.13099156159597336},{"$f":"'Diet calcs'!CO104","v":0},{"$f":"'8. Feed details'!$M$14*AB112","v":0},9.6686714741869045E-2]
[{"$f":"'Diet calcs'!B105","v":"L-Tryptophan"},{"$f":"B112","v":6785},0.97467958278621192,6613.2009692044476,2.9747059092919011E-3,null,0,{"$f":"'Diet calcs'!C105","v":6.7500000000000001E-5},{"$f":"'8. Feed details'!$M$17*H113","v":7.7626252799999974E-4},{"$f":"'Diet calcs'!L105","v":2.9999999999999997E-4},{"$f":"'8. Feed details'!$M$18*J113","v":0.29060678418198649},{"$f":"'Diet calcs'!U105","v":5.0000000000000002E-5},{"$f":"'8. Feed details'!$M$19*L113","v":5.6798525647108015E-2},{"$f":"'Diet calcs'!AD105","v":1.75E-4},{"$f":"'8. Feed details'!$M$20*N113","v":0.27661560152726861},{"$f":"'Diet calcs'!AM105","v":1.4999999999999999E-4},{"$f":"'8. Feed details'!$M$21*P113","v":0.29358963090397022},{"$f":"'Diet calcs'!AV105","v":0},{"$f":"'8. Feed details'!$M$22*R113","v":0},{"$f":"'Diet calcs'!BE105","v":0},{"$f":"'8. Feed details'!$M$23*T113","v":0},{"$f":"'Diet calcs'!BN105","v":1.17E-4},{"$f":"'8. Feed details'!$M$16*V113","v":4.2208722878912863E-2},{"$f":"'Diet calcs'!BW105","v":0},{"$f":"'8. Feed details'!$M$15*X113","v":0},{"$f":"'Diet calcs'!CF105","v":1.4300000000000001E-4},{"$f":"'8. Feed details'!$M$13*Z113","v":1.4084055118965558E-2},{"$f":"'Diet calcs'!CO105","v":0},{"$f":"'8. Feed details'!$M$14*AB113","v":0},1.4178913458782087E-2]
["Micellaneous ingredients"]
[{"$f":"'Diet calcs'!B107","v":"Lactose"},16.600000000000001,{"$f":"SUM(I115,K115,M115,O115,Q115,S115,U115,W115,Y115,AA115,AC115)","v":2.8750463999999993E-2},{"$f":"B115*C115","v":0.47725770239999993},{"$f":"D115/$D$160","v":2.1467687345287829E-7},null,{"$f":"C115*F115","v":0},{"$f":"'Diet calcs'!C107","v":2.5000000000000001E-3},{"$f":"'8. Feed details'!$M$17*H115","v":2.8750463999999993E-2},{"$f":"'Diet calcs'!L107","v":0},{"$f":"'8. Feed details'!$M$18*J115","v":0},{"$f":"'Diet calcs'!U107","v":0},{"$f":"'8. Feed details'!$M$19*L115","v":0},{"$f":"'Diet calcs'!AD107","v":0},{"$f":"'8. Feed details'!$M$20*N115","v":0},{"$f":"'Diet calcs'!AM107","v":0},{"$f":"'8. Feed details'!$M$21*P115","v":0},{"$f":"'Diet calcs'!AV107","v":0},{"$f":"'8. Feed details'!$M$22*R115","v":0},{"$f":"'Diet calcs'!BE107","v":0},{"$f":"'8. Feed details'!$M$23*T115","v":0},{"$f":"'Diet calcs'!BN107","v":0},{"$f":"'8. Feed details'!$M$16*V115","v":0},{"$f":"'Diet calcs'!BW107","v":0},{"$f":"'8. Feed details'!$M$15*X115","v":0},{"$f":"'Diet calcs'!CF107","v":0},{"$f":"'8. Feed details'!$M$13*Z115","v":0},{"$f":"'Diet calcs'!CO107","v":0},{"$f":"'8. Feed details'!$M$14*AB115","v":0},4.1824036140217837E-4]
[{"$f":"'Diet calcs'!B108","v":"Levucell"},16.600000000000001,{"$f":"SUM(I116,K116,M116,O116,Q116,S116,U116,W116,Y116,AA116,AC116)","v":0},0,{"$f":"D116/$D$160","v":0},null,0,{"$f":"'Diet calcs'!C108","v":0},{"$f":"'8. Feed details'!$M$17*H116","v":0},{"$f":"'Diet calcs'!L108","v":0},{"$f":"'8. Feed details'!$M$18*J116","v":0},{"$f":"'Diet calcs'!U108","v":0},{"$f":"'8. Feed details'!$M$19*L116","v":0},{"$f":"'Diet calcs'!AD108","v":0},{"$f":"'8. Feed details'!$M$20*N116","v":0},{"$f":"'Diet calcs'!AM108","v":0},{"$f":"'8. Feed details'!$M$21*P116","v":0},{"$f":"'Diet calcs'!AV108","v":0},{"$f":"'8. Feed details'!$M$22*R116","v":0},{"$f":"'Diet calcs'!BE108","v":0},{"$f":"'8. Feed details'!$M$23*T116","v":0},{"$f":"'Diet calcs'!BN108","v":0},{"$f":"'8. Feed details'!$M$16*V116","v":0},{"$f":"'Diet calcs'!BW108","v":0},{"$f":"'8. Feed details'!$M$15*X116","v":0},{"$f":"'Diet calcs'!CF108","v":0},{"$f":"'8. Feed details'!$M$13*Z116","v":0},{"$f":"'Diet calcs'!CO108","v":0},{"$f":"'8. Feed details'!$M$14*AB116","v":0},0]
["Vitamin/mineral premixes"]
[{"$f":"'Diet calcs'!B110","v":"Breeder premix"},1345,{"$f":"SUM(I118,K118,M118,O118,Q118,S118,U118,W118,Y118,AA118,AC118)","v":2.4401276942217334},3281.9717487282314,{"$f":"D118/$D$160","v":1.4762746211000749E-3},null,0,{"$f":"'Diet calcs'!C110","v":0},{"$f":"'8. Feed details'!$M$17*H118","v":0},{"$f":"'Diet calcs'!L110","v":0},{"$f":"'8. Feed details'!$M$18*J118","v":0},{"$f":"'Diet calcs'!U110","v":0},{"$f":"'8. Feed details'!$M$19*L118","v":0},{"$f":"'Diet calcs'!AD110","v":0},{"$f":"'8. Feed details'!$M$20*N118","v":0},{"$f":"'Diet calcs'!AM110","v":0},{"$f":"'8. Feed details'!$M$21*P118","v":0},{"$f":"'Diet calcs'!AV110","v":0},{"$f":"'8. Feed details'!$M$22*R118","v":0},{"$f":"'Diet calcs'!BE110","v":0},{"$f":"'8. Feed details'!$M$23*T118","v":0},{"$f":"'Diet calcs'!BN110","v":2E-3},{"$f":"'8. Feed details'!$M$16*V118","v":0.7215166304087669},{"$f":"'Diet calcs'!BW110","v":2E-3},{"$f":"'8. Feed details'!$M$15*X118","v":1.5039575877287958},{"$f":"'Diet calcs'!CF110","v":2E-3},{"$f":"'8. Feed details'!$M$13*Z118","v":0.19697979187364417},{"$f":"'Diet calcs'!CO110","v":2E-3},{"$f":"'8. Feed details'!$M$14*AB118","v":1.7673684210526317E-2},3.5497162365753898E-2]
[{"$f":"'Diet calcs'!B111","v":"Grower premix"},1345,9.3477905982488974,12572.778354644766,{"$f":"D119/$D$160","v":5.6554032218195634E-3},null,0,{"$f":"'Diet calcs'!C111","v":0},{"$f":"'8. Feed details'!$M$17*H119","v":0},{"$f":"'Diet calcs'!L111","v":0},{"$f":"'8. Feed details'!$M$18*J119","v":0},{"$f":"'Diet calcs'!U111","v":2E-3},{"$f":"'8. Feed details'!$M$19*L119","v":2.2719410258843205},{"$f":"'Diet calcs'!AD111","v":2E-3},{"$f":"'8. Feed details'!$M$20*N119","v":3.1613211603116409},{"$f":"'Diet calcs'!AM111","v":2E-3},{"$f":"'8. Feed details'!$M$21*P119","v":3.9145284120529369},{"$f":"'Diet calcs'!AV111","v":0},{"$f":"'8. Feed details'!$M$22*R119","v":0},{"$f":"'Diet calcs'!BE111","v":0},{"$f":"'8. Feed details'!$M$23*T119","v":0},{"$f":"'Diet calcs'!BN111","v":0},{"$f":"'8. Feed details'!$M$16*V119","v":0},{"$f":"'Diet calcs'!BW111","v":0},{"$f":"'8. Feed details'!$M$15*X119","v":0},{"$f":"'Diet calcs'!CF111","v":0},{"$f":"'8. Feed details'!$M$13*Z119","v":0},{"$f":"'Diet calcs'!CO111","v":0},{"$f":"'8. Feed details'!$M$14*AB119","v":0},0.13598470334682269]
[{"$f":"'Diet calcs'!B112","v":"Weaner premix"},1345,1.9396785983332432,2608.8677147582121,{"$f":"D120/$D$160","v":1.1735034582784946E-3},null,0,{"$f":"'Diet calcs'!C112","v":2.0000000000000001E-4},{"$f":"'8. Feed details'!$M$17*H120","v":2.3000371199999995E-3},{"$f":"'Diet calcs'!L112","v":2E-3},{"$f":"'8. Feed details'!$M$18*J120","v":1.9373785612132433},{"$f":"'Diet calcs'!U112","v":0},{"$f":"'8. Feed details'!$M$19*L120","v":0},{"$f":"'Diet calcs'!AD112","v":0},{"$f":"'8. Feed details'!$M$20*N120","v":0},{"$f":"'Diet calcs'!AM112","v":0},{"$f":"'8. Feed details'!$M$21*P120","v":0},{"$f":"'Diet calcs'!AV112","v":0},{"$f":"'8. Feed details'!$M$22*R120","v":0},{"$f":"'Diet calcs'!BE112","v":0},{"$f":"'8. Feed details'!$M$23*T120","v":0},{"$f":"'Diet calcs'!BN112","v":0},{"$f":"'8. Feed details'!$M$16*V120","v":0},{"$f":"'Diet calcs'!BW112","v":0},{"$f":"'8. Feed details'!$M$15*X120","v":0},{"$f":"'Diet calcs'!CF112","v":0},{"$f":"'8. Feed details'!$M$13*Z120","v":0},{"$f":"'Diet calcs'!CO112","v":0},{"$f":"'8. Feed details'!$M$14*AB120","v":0},2.8217001227213816E-2]
["Enzymes"]
[{"$f":"'Diet calcs'!B114","v":"Feedzyme "},10500,0,0,{"$f":"D122/$D$160","v":0},null,0,{"$f":"'Diet calcs'!C114","v":0},{"$f":"'8. Feed details'!$M$17*H122","v":0},{"$f":"'Diet calcs'!L114","v":0},{"$f":"'8. Feed details'!$M$18*J122","v":0},{"$f":"'Diet calcs'!U114","v":0},{"$f":"'8. Feed details'!$M$19*L122","v":0},{"$f":"'Diet calcs'!AD114","v":0},{"$f":"'8. Feed details'!$M$20*N122","v":0},{"$f":"'Diet calcs'!AM114","v":0},{"$f":"'8. Feed details'!$M$21*P122","v":0},{"$f":"'Diet calcs'!AV114","v":0},{"$f":"'8. Feed details'!$M$22*R122","v":0},{"$f":"'Diet calcs'!BE114","v":0},{"$f":"'8. Feed details'!$M$23*T122","v":0},{"$f":"'Diet calcs'!BN114","v":0},{"$f":"'8. Feed details'!$M$16*V122","v":0},{"$f":"'Diet calcs'!BW114","v":0},{"$f":"'8. Feed details'!$M$15*X122","v":0},{"$f":"'Diet calcs'!CF114","v":0},{"$f":"'8. Feed details'!$M$13*Z122","v":0},{"$f":"'Diet calcs'!CO114","v":0},{"$f":"'8. Feed details'!$M$14*AB122","v":0},0]
[{"$f":"'Diet calcs'!B115","v":"Axtra Phy"},10500,0.68637984454019374,7206.9883676720347,3.2417993926609815E-3,null,0,{"$f":"'Diet calcs'!C115","v":1.0000000000000001E-5},{"$f":"'8. Feed details'!$M$17*H123","v":1.1500185599999997E-4},{"$f":"'Diet calcs'!L115","v":1E-4},{"$f":"'8. Feed details'!$M$18*J123","v":9.6868928060662177E-2},{"$f":"'Diet calcs'!U115","v":1E-4},{"$f":"'8. Feed details'!$M$19*L123","v":0.11359705129421603},{"$f":"'Diet calcs'!AD115","v":1E-4},{"$f":"'8. Feed details'!$M$20*N123","v":0.15806605801558207},{"$f":"'Diet calcs'!AM115","v":1E-4},{"$f":"'8. Feed details'!$M$21*P123","v":0.19572642060264686},{"$f":"'Diet calcs'!AV115","v":0},{"$f":"'8. Feed details'!$M$22*R123","v":0},{"$f":"'Diet calcs'!BE115","v":0},{"$f":"'8. Feed details'!$M$23*T123","v":0},{"$f":"'Diet calcs'!BN115","v":1E-4},{"$f":"'8. Feed details'!$M$16*V123","v":3.6075831520438348E-2},{"$f":"'Diet calcs'!BW115","v":1E-4},{"$f":"'8. Feed details'!$M$15*X123","v":7.5197879386439792E-2},{"$f":"'Diet calcs'!CF115","v":1E-4},{"$f":"'8. Feed details'!$M$13*Z123","v":9.8489895936822083E-3},{"$f":"'Diet calcs'!CO115","v":1E-4},{"$f":"'8. Feed details'!$M$14*AB123","v":8.8368421052631592E-4},9.98494334698952E-3]
[{"$f":"'Diet calcs'!B116","v":"Axtra XB"},10500,7.5197879386439792E-2,789.57773355761776,3.5516258477499472E-4,null,0,{"$f":"'Diet calcs'!C116","v":0},{"$f":"'8. Feed details'!$M$17*H124","v":0},{"$f":"'Diet calcs'!L116","v":0},{"$f":"'8. Feed details'!$M$18*J124","v":0},{"$f":"'Diet calcs'!U116","v":0},{"$f":"'8. Feed details'!$M$19*L124","v":0},{"$f":"'Diet calcs'!AD116","v":0},{"$f":"'8. Feed details'!$M$20*N124","v":0},{"$f":"'Diet calcs'!AM116","v":0},{"$f":"'8. Feed details'!$M$21*P124","v":0},{"$f":"'Diet calcs'!AV116","v":0},{"$f":"'8. Feed details'!$M$22*R124","v":0},{"$f":"'Diet calcs'!BE116","v":0},{"$f":"'8. Feed details'!$M$23*T124","v":0},{"$f":"'Diet calcs'!BN116","v":0},{"$f":"'8. Feed details'!$M$16*V124","v":0},{"$f":"'Diet calcs'!BW116","v":1E-4},{"$f":"'8. Feed details'!$M$15*X124","v":7.5197879386439792E-2},{"$f":"'Diet calcs'!CF116","v":0},{"$f":"'8. Feed details'!$M$13*Z124","v":0},{"$f":"'Diet calcs'!CO116","v":0},{"$f":"'8. Feed details'!$M$14*AB124","v":0},1.0939228059506103E-3]
[{"$f":"'Diet calcs'!B117","v":"Natuphos Blue"},10500,0,0,0,null,0,{"$f":"'Diet calcs'!C117","v":0},{"$f":"'8. Feed details'!$M$17*H125","v":0},{"$f":"'Diet calcs'!L117","v":0},{"$f":"'8. Feed details'!$M$18*J125","v":0},{"$f":"'Diet calcs'!U117","v":0},{"$f":"'8. Feed details'!$M$19*L125","v":0},{"$f":"'Diet calcs'!AD117","v":0},{"$f":"'8. Feed details'!$M$20*N125","v":0},{"$f":"'Diet calcs'!AM117","v":0},{"$f":"'8. Feed details'!$M$21*P125","v":0},{"$f":"'Diet calcs'!AV117","v":0},{"$f":"'8. Feed details'!$M$22*R125","v":0},{"$f":"'Diet calcs'!BE117","v":0},{"$f":"'8. Feed details'!$M$23*T125","v":0},{"$f":"'Diet calcs'!BN117","v":0},{"$f":"'8. Feed details'!$M$16*V125","v":0},{"$f":"'Diet calcs'!BW117","v":0},{"$f":"'8. Feed details'!$M$15*X125","v":0},{"$f":"'Diet calcs'!CF117","v":0},{"$f":"'8. Feed details'!$M$13*Z125","v":0},{"$f":"'Diet calcs'!CO117","v":0},{"$f":"'8. Feed details'!$M$14*AB125","v":0},0]
[{"$f":"'Diet calcs'!B118","v":"Ronozyme P 5000 (150g dose)"},10500,0,0,0,null,0,{"$f":"'Diet calcs'!C118","v":0},{"$f":"'8. Feed details'!$M$17*H126","v":0},{"$f":"'Diet calcs'!L118","v":0},{"$f":"'8. Feed details'!$M$18*J126","v":0},{"$f":"'Diet calcs'!U118","v":0},{"$f":"'8. Feed details'!$M$19*L126","v":0},{"$f":"'Diet calcs'!AD118","v":0},{"$f":"'8. Feed details'!$M$20*N126","v":0},{"$f":"'Diet calcs'!AM118","v":0},{"$f":"'8. Feed details'!$M$21*P126","v":0},{"$f":"'Diet calcs'!AV118","v":0},{"$f":"'8. Feed details'!$M$22*R126","v":0},{"$f":"'Diet calcs'!BE118","v":0},{"$f":"'8. Feed details'!$M$23*T126","v":0},{"$f":"'Diet calcs'!BN118","v":0},{"$f":"'8. Feed details'!$M$16*V126","v":0},{"$f":"'Diet calcs'!BW118","v":0},{"$f":"'8. Feed details'!$M$15*X126","v":0},{"$f":"'Diet calcs'!CF118","v":0},{"$f":"'8. Feed details'!$M$13*Z126","v":0},{"$f":"'Diet calcs'!CO118","v":0},{"$f":"'8. Feed details'!$M$14*AB126","v":0},0]
[{"$f":"'Diet calcs'!B119","v":"Rovabio Excel premix"},10500,3.0022464567477267,31523.58779585113,1.4179729806348396E-2,null,0,{"$f":"'Diet calcs'!C119","v":5.0000000000000002E-5},{"$f":"'8. Feed details'!$M$17*H127","v":5.7500927999999988E-4},{"$f":"'Diet calcs'!L119","v":5.0000000000000001E-4},{"$f":"'8. Feed details'!$M$18*J127","v":0.48434464030331081},{"$f":"'Diet calcs'!U119","v":5.0000000000000001E-4},{"$f":"'8. Feed details'!$M$19*L127","v":0.56798525647108011},{"$f":"'Diet calcs'!AD119","v":5.0000000000000001E-4},{"$f":"'8. Feed details'!$M$20*N127","v":0.79033029007791022},{"$f":"'Diet calcs'!AM119","v":5.0000000000000001E-4},{"$f":"'8. Feed details'!$M$21*P127","v":0.97863210301323422},{"$f":"'Diet calcs'!AV119","v":0},{"$f":"'8. Feed details'!$M$22*R127","v":0},{"$f":"'Diet calcs'!BE119","v":0},{"$f":"'8. Feed details'!$M$23*T127","v":0},{"$f":"'Diet calcs'!BN119","v":5.0000000000000001E-4},{"$f":"'8. Feed details'!$M$16*V127","v":0.18037915760219173},{"$f":"'Diet calcs'!BW119","v":0},{"$f":"'8. Feed details'!$M$15*X127","v":0},{"$f":"'Diet calcs'!CF119","v":0},{"$f":"'8. Feed details'!$M$13*Z127","v":0},{"$f":"'Diet calcs'!CO119","v":0},{"$f":"'8. Feed details'!$M$14*AB127","v":0},4.367444793546911E-2]
[{"$f":"'Diet calcs'!B120","v":"Rovabio T-Flex "},10500,0,0,0,null,0,{"$f":"'Diet calcs'!C120","v":0},{"$f":"'8. Feed details'!$M$17*H128","v":0},{"$f":"'Diet calcs'!L120","v":0},{"$f":"'8. Feed details'!$M$18*J128","v":0},{"$f":"'Diet calcs'!U120","v":0},{"$f":"'8. Feed details'!$M$19*L128","v":0},{"$f":"'Diet calcs'!AD120","v":0},{"$f":"'8. Feed details'!$M$20*N128","v":0},{"$f":"'Diet calcs'!AM120","v":0},{"$f":"'8. Feed details'!$M$21*P128","v":0},{"$f":"'Diet calcs'!AV120","v":0},{"$f":"'8. Feed details'!$M$22*R128","v":0},{"$f":"'Diet calcs'!BE120","v":0},{"$f":"'8. Feed details'!$M$23*T128","v":0},{"$f":"'Diet calcs'!BN120","v":0},{"$f":"'8. Feed details'!$M$16*V128","v":0},{"$f":"'Diet calcs'!BW120","v":0},{"$f":"'8. Feed details'!$M$15*X128","v":0},{"$f":"'Diet calcs'!CF120","v":0},{"$f":"'8. Feed details'!$M$13*Z128","v":0},{"$f":"'Diet calcs'!CO120","v":0},{"$f":"'8. Feed details'!$M$14*AB128","v":0},0]
["Toxin Binders"]
[{"$f":"'Diet calcs'!B122","v":"Mycofix"},{"$f":"$B$118","v":1345},{"$f":"SUM(I130,K130,M130,O130,Q130,S130,U130,W130,Y130,AA130,AC130)","v":2.424754047131207},{"$f":"B130*C130","v":3261.2941933914735},{"$f":"D130/$D$160","v":1.4669735812048118E-3},null,0,{"$f":"'Diet calcs'!C122","v":2.0000000000000001E-4},{"$f":"'8. Feed details'!$M$17*H130","v":2.3000371199999995E-3},{"$f":"'Diet calcs'!L122","v":0},{"$f":"'8. Feed details'!$M$18*J130","v":0},{"$f":"'Diet calcs'!U122","v":0},{"$f":"'8. Feed details'!$M$19*L130","v":0},{"$f":"'Diet calcs'!AD122","v":0},{"$f":"'8. Feed details'!$M$20*N130","v":0},{"$f":"'Diet calcs'!AM122","v":0},{"$f":"'8. Feed details'!$M$21*P130","v":0},{"$f":"'Diet calcs'!AV122","v":0},{"$f":"'8. Feed details'!$M$22*R130","v":0},{"$f":"'Diet calcs'!BE122","v":0},{"$f":"'8. Feed details'!$M$23*T130","v":0},{"$f":"'Diet calcs'!BN122","v":2E-3},{"$f":"'8. Feed details'!$M$16*V130","v":0.7215166304087669},{"$f":"'Diet calcs'!BW122","v":2E-3},{"$f":"'8. Feed details'!$M$15*X130","v":1.5039575877287958},{"$f":"'Diet calcs'!CF122","v":2E-3},{"$f":"'8. Feed details'!$M$13*Z130","v":0.19697979187364417},{"$f":"'Diet calcs'!CO122","v":0},{"$f":"'8. Feed details'!$M$14*AB130","v":0},3.527351798508542E-2]
[{"$f":"'Diet calcs'!B123","v":"Mycosorb"},{"$f":"$B$118","v":1345},{"$f":"SUM(I131,K131,M131,O131,Q131,S131,U131,W131,Y131,AA131,AC131)","v":0},{"$f":"B131*C131","v":0},{"$f":"D131/$D$160","v":0},null,0,{"$f":"'Diet calcs'!C123","v":0},{"$f":"'8. Feed details'!$M$17*H131","v":0},{"$f":"'Diet calcs'!L123","v":0},{"$f":"'8. Feed details'!$M$18*J131","v":0},{"$f":"'Diet calcs'!U123","v":0},{"$f":"'8. Feed details'!$M$19*L131","v":0},{"$f":"'Diet calcs'!AD123","v":0},{"$f":"'8. Feed details'!$M$20*N131","v":0},{"$f":"'Diet calcs'!AM123","v":0},{"$f":"'8. Feed details'!$M$21*P131","v":0},{"$f":"'Diet calcs'!AV123","v":0},{"$f":"'8. Feed details'!$M$22*R131","v":0},{"$f":"'Diet calcs'!BE123","v":0},{"$f":"'8. Feed details'!$M$23*T131","v":0},{"$f":"'Diet calcs'!BN123","v":0},{"$f":"'8. Feed details'!$M$16*V131","v":0},{"$f":"'Diet calcs'!BW123","v":0},{"$f":"'8. Feed details'!$M$15*X131","v":0},{"$f":"'Diet calcs'!CF123","v":0},{"$f":"'8. Feed details'!$M$13*Z131","v":0},{"$f":"'Diet calcs'!CO123","v":0},{"$f":"'8. Feed details'!$M$14*AB131","v":0},0]
[{"$f":"'Diet calcs'!B124","v":"Elitox"},{"$f":"$B$118","v":1345},{"$f":"SUM(I132,K132,M132,O132,Q132,S132,U132,W132,Y132,AA132,AC132)","v":3.6853203737046023},{"$f":"B132*C132","v":4956.7559026326899},{"$f":"D132/$D$160","v":2.2296148481108008E-3},null,0,{"$f":"'Diet calcs'!C124","v":0},{"$f":"'8. Feed details'!$M$17*H132","v":0},{"$f":"'Diet calcs'!L124","v":1E-3},{"$f":"'8. Feed details'!$M$18*J132","v":0.96868928060662163},{"$f":"'Diet calcs'!U124","v":1E-3},{"$f":"'8. Feed details'!$M$19*L132","v":1.1359705129421602},{"$f":"'Diet calcs'!AD124","v":1E-3},{"$f":"'8. Feed details'!$M$20*N132","v":1.5806605801558204},{"$f":"'Diet calcs'!AM124","v":0},{"$f":"'8. Feed details'!$M$21*P132","v":0},{"$f":"'Diet calcs'!AV124","v":0},{"$f":"'8. Feed details'!$M$22*R132","v":0},{"$f":"'Diet calcs'!BE124","v":0},{"$f":"'8. Feed details'!$M$23*T132","v":0},{"$f":"'Diet calcs'!BN124","v":0},{"$f":"'8. Feed details'!$M$16*V132","v":0},{"$f":"'Diet calcs'!BW124","v":0},{"$f":"'8. Feed details'!$M$15*X132","v":0},{"$f":"'Diet calcs'!CF124","v":0},{"$f":"'8. Feed details'!$M$13*Z132","v":0},{"$f":"'Diet calcs'!CO124","v":0},{"$f":"'8. Feed details'!$M$14*AB132","v":0},5.3611299107416993E-2]
[{"$f":"'Diet calcs'!B125","v":"Mastersorb "},{"$f":"$B$118","v":1345},{"$f":"SUM(I133,K133,M133,O133,Q133,S133,U133,W133,Y133,AA133,AC133)","v":0.97863210301323422},{"$f":"B133*C133","v":1316.2601785528},{"$f":"D133/$D$160","v":5.9207136597538639E-4},null,0,{"$f":"'Diet calcs'!C125","v":0},{"$f":"'8. Feed details'!$M$17*H133","v":0},{"$f":"'Diet calcs'!L125","v":0},{"$f":"'8. Feed details'!$M$18*J133","v":0},{"$f":"'Diet calcs'!U125","v":0},{"$f":"'8. Feed details'!$M$19*L133","v":0},{"$f":"'Diet calcs'!AD125","v":0},{"$f":"'8. Feed details'!$M$20*N133","v":0},{"$f":"'Diet calcs'!AM125","v":5.0000000000000001E-4},{"$f":"'8. Feed details'!$M$21*P133","v":0.97863210301323422},{"$f":"'Diet calcs'!AV125","v":0},{"$f":"'8. Feed details'!$M$22*R133","v":0},{"$f":"'Diet calcs'!BE125","v":0},{"$f":"'8. Feed details'!$M$23*T133","v":0},{"$f":"'Diet calcs'!BN125","v":0},{"$f":"'8. Feed details'!$M$16*V133","v":0},{"$f":"'Diet calcs'!BW125","v":0},{"$f":"'8. Feed details'!$M$15*X133","v":0},{"$f":"'Diet calcs'!CF125","v":0},{"$f":"'8. Feed details'!$M$13*Z133","v":0},{"$f":"'Diet calcs'!CO125","v":0},{"$f":"'8. Feed details'!$M$14*AB133","v":0},1.4236411782572589E-2]
["Acidifiers"]
[{"$f":"'Diet calcs'!B127","v":"Formi Acid"},{"$f":"$B$118","v":1345},{"$f":"SUM(I135,K135,M135,O135,Q135,S135,U135,W135,Y135,AA135,AC135)","v":0},{"$f":"B135*C135","v":0},{"$f":"D135/$D$160","v":0},null,0,{"$f":"'Diet calcs'!C127","v":0},{"$f":"'8. Feed details'!$M$17*H135","v":0},{"$f":"'Diet calcs'!L127","v":0},{"$f":"'8. Feed details'!$M$18*J135","v":0},{"$f":"'Diet calcs'!U127","v":0},{"$f":"'8. Feed details'!$M$19*L135","v":0},{"$f":"'Diet calcs'!AD127","v":0},{"$f":"'8. Feed details'!$M$20*N135","v":0},{"$f":"'Diet calcs'!AM127","v":0},{"$f":"'8. Feed details'!$M$21*P135","v":0},{"$f":"'Diet calcs'!AV127","v":0},{"$f":"'8. Feed details'!$M$22*R135","v":0},{"$f":"'Diet calcs'!BE127","v":0},{"$f":"'8. Feed details'!$M$23*T135","v":0},{"$f":"'Diet calcs'!BN127","v":0},{"$f":"'8. Feed details'!$M$16*V135","v":0},{"$f":"'Diet calcs'!BW127","v":0},{"$f":"'8. Feed details'!$M$15*X135","v":0},{"$f":"'Diet calcs'!CF127","v":0},{"$f":"'8. Feed details'!$M$13*Z135","v":0},{"$f":"'Diet calcs'!CO127","v":0},{"$f":"'8. Feed details'!$M$14*AB135","v":0},0]
[{"$f":"'Diet calcs'!B128","v":"Top3"},{"$f":"$B$118","v":1345},{"$f":"SUM(I136,K136,M136,O136,Q136,S136,U136,W136,Y136,AA136,AC136)","v":1.4530339209099326},{"$f":"B136*C136","v":1954.3306236238593},{"$f":"D136/$D$160","v":8.7908395372768744E-4},null,{"$f":"C136*F136","v":0},{"$f":"'Diet calcs'!C128","v":0},{"$f":"'8. Feed details'!$M$17*H136","v":0},{"$f":"'Diet calcs'!L128","v":1.5E-3},{"$f":"'8. Feed details'!$M$18*J136","v":1.4530339209099326},{"$f":"'Diet calcs'!U128","v":0},{"$f":"'8. Feed details'!$M$19*L136","v":0},{"$f":"'Diet calcs'!AD128","v":0},{"$f":"'8. Feed details'!$M$20*N136","v":0},{"$f":"'Diet calcs'!AM128","v":0},{"$f":"'8. Feed details'!$M$21*P136","v":0},{"$f":"'Diet calcs'!AV128","v":0},{"$f":"'8. Feed details'!$M$22*R136","v":0},{"$f":"'Diet calcs'!BE128","v":0},{"$f":"'8. Feed details'!$M$23*T136","v":0},{"$f":"'Diet calcs'!BN128","v":0},{"$f":"'8. Feed details'!$M$16*V136","v":0},{"$f":"'Diet calcs'!BW128","v":0},{"$f":"'8. Feed details'!$M$15*X136","v":0},{"$f":"'Diet calcs'!CF128","v":0},{"$f":"'8. Feed details'!$M$13*Z136","v":0},{"$f":"'Diet calcs'!CO128","v":0},{"$f":"'8. Feed details'!$M$14*AB136","v":0},2.1137656498726235E-2]
[{"$f":"'Diet calcs'!B129","v":"Tetracid 500"},1345,0,0,0,null,0,{"$f":"'Diet calcs'!C129","v":0},{"$f":"'8. Feed details'!$M$17*H137","v":0},{"$f":"'Diet calcs'!L129","v":0},{"$f":"'8. Feed details'!$M$18*J137","v":0},{"$f":"'Diet calcs'!U129","v":0},{"$f":"'8. Feed details'!$M$19*L137","v":0},{"$f":"'Diet calcs'!AD129","v":0},{"$f":"'8. Feed details'!$M$20*N137","v":0},{"$f":"'Diet calcs'!AM129","v":0},{"$f":"'8. Feed details'!$M$21*P137","v":0},{"$f":"'Diet calcs'!AV129","v":0},{"$f":"'8. Feed details'!$M$22*R137","v":0},{"$f":"'Diet calcs'!BE129","v":0},{"$f":"'8. Feed details'!$M$23*T137","v":0},{"$f":"'Diet calcs'!BN129","v":0},{"$f":"'8. Feed details'!$M$16*V137","v":0},{"$f":"'Diet calcs'!BW129","v":0},{"$f":"'8. Feed details'!$M$15*X137","v":0},{"$f":"'Diet calcs'!CF129","v":0},{"$f":"'8. Feed details'!$M$13*Z137","v":0},{"$f":"'Diet calcs'!CO129","v":0},{"$f":"'8. Feed details'!$M$14*AB137","v":0},0]
[{"$f":"'Diet calcs'!B130","v":"AcidLac"},1345,0,0,0,null,0,{"$f":"'Diet calcs'!C130","v":0},{"$f":"'8. Feed details'!$M$17*H138","v":0},{"$f":"'Diet calcs'!L130","v":0},{"$f":"'8. Feed details'!$M$18*J138","v":0},{"$f":"'Diet calcs'!U130","v":0},{"$f":"'8. Feed details'!$M$19*L138","v":0},{"$f":"'Diet calcs'!AD130","v":0},{"$f":"'8. Feed details'!$M$20*N138","v":0},{"$f":"'Diet calcs'!AM130","v":0},{"$f":"'8. Feed details'!$M$21*P138","v":0},{"$f":"'Diet calcs'!AV130","v":0},{"$f":"'8. Feed details'!$M$22*R138","v":0},{"$f":"'Diet calcs'!BE130","v":0},{"$f":"'8. Feed details'!$M$23*T138","v":0},{"$f":"'Diet calcs'!BN130","v":0},{"$f":"'8. Feed details'!$M$16*V138","v":0},{"$f":"'Diet calcs'!BW130","v":0},{"$f":"'8. Feed details'!$M$15*X138","v":0},{"$f":"'Diet calcs'!CF130","v":0},{"$f":"'8. Feed details'!$M$13*Z138","v":0},{"$f":"'Diet calcs'!CO130","v":0},{"$f":"'8. Feed details'!$M$14*AB138","v":0},0]
[{"$f":"'Diet calcs'!B131","v":"VevoVital "},1345,5.7500927999999986E-3,7.7338748159999984,3.4787999372785698E-6,null,0,{"$f":"'Diet calcs'!C131","v":5.0000000000000001E-4},{"$f":"'8. Feed details'!$M$17*H139","v":5.7500927999999986E-3},{"$f":"'Diet calcs'!L131","v":0},{"$f":"'8. Feed details'!$M$18*J139","v":0},{"$f":"'Diet calcs'!U131","v":0},{"$f":"'8. Feed details'!$M$19*L139","v":0},{"$f":"'Diet calcs'!AD131","v":0},{"$f":"'8. Feed details'!$M$20*N139","v":0},{"$f":"'Diet calcs'!AM131","v":0},{"$f":"'8. Feed details'!$M$21*P139","v":0},{"$f":"'Diet calcs'!AV131","v":0},{"$f":"'8. Feed details'!$M$22*R139","v":0},{"$f":"'Diet calcs'!BE131","v":0},{"$f":"'8. Feed details'!$M$23*T139","v":0},{"$f":"'Diet calcs'!BN131","v":0},{"$f":"'8. Feed details'!$M$16*V139","v":0},{"$f":"'Diet calcs'!BW131","v":0},{"$f":"'8. Feed details'!$M$15*X139","v":0},{"$f":"'Diet calcs'!CF131","v":0},{"$f":"'8. Feed details'!$M$13*Z139","v":0},{"$f":"'Diet calcs'!CO131","v":0},{"$f":"'8. Feed details'!$M$14*AB139","v":0},8.3648072280435675E-5]
["Other Additives"]
[{"$f":"'Diet calcs'!B133","v":"Krave"},10500,0.38793571966664869,{"$f":"B141*C141","v":4073.3250564998111},{"$f":"D141/$D$160","v":1.8322358828140066E-3},null,0,{"$f":"'Diet calcs'!C133","v":4.0000000000000003E-5},{"$f":"'8. Feed details'!$M$17*H141","v":4.6000742399999989E-4},{"$f":"'Diet calcs'!L133","v":4.0000000000000002E-4},{"$f":"'8. Feed details'!$M$18*J141","v":0.38747571224264871},{"$f":"'Diet calcs'!U133","v":0},{"$f":"'8. Feed details'!$M$19*L141","v":0},{"$f":"'Diet calcs'!AD133","v":0},{"$f":"'8. Feed details'!$M$20*N141","v":0},{"$f":"'Diet calcs'!AM133","v":0},{"$f":"'8. Feed details'!$M$21*P141","v":0},{"$f":"'Diet calcs'!AV133","v":0},{"$f":"'8. Feed details'!$M$22*R141","v":0},{"$f":"'Diet calcs'!BE133","v":0},{"$f":"'8. Feed details'!$M$23*T141","v":0},{"$f":"'Diet calcs'!BN133","v":0},{"$f":"'8. Feed details'!$M$16*V141","v":0},{"$f":"'Diet calcs'!BW133","v":0},{"$f":"'8. Feed details'!$M$15*X141","v":0},{"$f":"'Diet calcs'!CF133","v":0},{"$f":"'8. Feed details'!$M$13*Z141","v":0},{"$f":"'Diet calcs'!CO133","v":0},{"$f":"'8. Feed details'!$M$14*AB141","v":0},5.643400245442764E-3]
[{"$f":"'Diet calcs'!B134","v":"Betaine"},10500,3.4481710267481662,{"$f":"B142*C142","v":36205.795780855748},{"$f":"D142/$D$160","v":1.6285849343072908E-2},null,{"$f":"C142*F142","v":0},{"$f":"'Diet calcs'!C134","v":1E-4},{"$f":"'8. Feed details'!$M$17*H142","v":1.1500185599999998E-3},{"$f":"'Diet calcs'!L134","v":1E-3},{"$f":"'8. Feed details'!$M$18*J142","v":0.96868928060662163},{"$f":"'Diet calcs'!U134","v":1E-3},{"$f":"'8. Feed details'!$M$19*L142","v":1.1359705129421602},{"$f":"'Diet calcs'!AD134","v":0},{"$f":"'8. Feed details'!$M$20*N142","v":0},{"$f":"'Diet calcs'!AM134","v":0},{"$f":"'8. Feed details'!$M$21*P142","v":0},{"$f":"'Diet calcs'!AV134","v":0},{"$f":"'8. Feed details'!$M$22*R142","v":0},{"$f":"'Diet calcs'!BE134","v":0},{"$f":"'8. Feed details'!$M$23*T142","v":0},{"$f":"'Diet calcs'!BN134","v":1.5E-3},{"$f":"'8. Feed details'!$M$16*V142","v":0.5411374728065752},{"$f":"'Diet calcs'!BW134","v":1E-3},{"$f":"'8. Feed details'!$M$15*X142","v":0.75197879386439792},{"$f":"'Diet calcs'!CF134","v":5.0000000000000001E-4},{"$f":"'8. Feed details'!$M$13*Z142","v":4.9244947968411043E-2},{"$f":"'Diet calcs'!CO134","v":0},{"$f":"'8. Feed details'!$M$14*AB142","v":0},5.016142683483904E-2]
[{"$f":"'Diet calcs'!B135","v":"Biomos"},10500,0,{"$f":"B143*C143","v":0},{"$f":"D143/$D$160","v":0},null,0,{"$f":"'Diet calcs'!C135","v":0},{"$f":"'8. Feed details'!$M$17*H143","v":0},{"$f":"'Diet calcs'!L135","v":0},{"$f":"'8. Feed details'!$M$18*J143","v":0},{"$f":"'Diet calcs'!U135","v":0},{"$f":"'8. Feed details'!$M$19*L143","v":0},{"$f":"'Diet calcs'!AD135","v":0},{"$f":"'8. Feed details'!$M$20*N143","v":0},{"$f":"'Diet calcs'!AM135","v":0},{"$f":"'8. Feed details'!$M$21*P143","v":0},{"$f":"'Diet calcs'!AV135","v":0},{"$f":"'8. Feed details'!$M$22*R143","v":0},{"$f":"'Diet calcs'!BE135","v":0},{"$f":"'8. Feed details'!$M$23*T143","v":0},{"$f":"'Diet calcs'!BN135","v":0},{"$f":"'8. Feed details'!$M$16*V143","v":0},{"$f":"'Diet calcs'!BW135","v":0},{"$f":"'8. Feed details'!$M$15*X143","v":0},{"$f":"'Diet calcs'!CF135","v":0},{"$f":"'8. Feed details'!$M$13*Z143","v":0},{"$f":"'Diet calcs'!CO135","v":0},{"$f":"'8. Feed details'!$M$14*AB143","v":0},0]
[{"$f":"'Diet calcs'!B136","v":"De-Oderase"},10500,0,{"$f":"B144*C144","v":0},{"$f":"D144/$D$160","v":0},null,0,{"$f":"'Diet calcs'!C136","v":0},{"$f":"'8. Feed details'!$M$17*H144","v":0},{"$f":"'Diet calcs'!L136","v":0},{"$f":"'8. Feed details'!$M$18*J144","v":0},{"$f":"'Diet calcs'!U136","v":0},{"$f":"'8. Feed details'!$M$19*L144","v":0},{"$f":"'Diet calcs'!AD136","v":0},{"$f":"'8. Feed details'!$M$20*N144","v":0},{"$f":"'Diet calcs'!AM136","v":0},{"$f":"'8. Feed details'!$M$21*P144","v":0},{"$f":"'Diet calcs'!AV136","v":0},{"$f":"'8. Feed details'!$M$22*R144","v":0},{"$f":"'Diet calcs'!BE136","v":0},{"$f":"'8. Feed details'!$M$23*T144","v":0},{"$f":"'Diet calcs'!BN136","v":0},{"$f":"'8. Feed details'!$M$16*V144","v":0},{"$f":"'Diet calcs'!BW136","v":0},{"$f":"'8. Feed details'!$M$15*X144","v":0},{"$f":"'Diet calcs'!CF136","v":0},{"$f":"'8. Feed details'!$M$13*Z144","v":0},{"$f":"'Diet calcs'!CO136","v":0},{"$f":"'8. Feed details'!$M$14*AB144","v":0},0]
["Bedding Materials"]
[{"$f":"'Diet calcs'!B138","v":"Hardwood sawdust"},0.40699999999999997,{"$f":"SUM(I146,K146,M146,O146,Q146,S146,U146,W146,Y146,AA146,AC146)","v":0},{"$f":"B146*C146","v":0},{"$f":"D146/$D$160","v":0},null,0,{"$f":"'Diet calcs'!C138","v":0},{"$f":"'8. Feed details'!$M$17*H146","v":0},{"$f":"'Diet calcs'!L138","v":0},{"$f":"'8. Feed details'!$M$18*J146","v":0},{"$f":"'Diet calcs'!U138","v":0},{"$f":"'8. Feed details'!$M$19*L146","v":0},{"$f":"'Diet calcs'!AD138","v":0},{"$f":"'8. Feed details'!$M$20*N146","v":0},{"$f":"'Diet calcs'!AM138","v":0},{"$f":"'8. Feed details'!$M$21*P146","v":0},{"$f":"'Diet calcs'!AV138","v":0},{"$f":"'8. Feed details'!$M$22*R146","v":0},{"$f":"'Diet calcs'!BE138","v":0},{"$f":"'8. Feed details'!$M$23*T146","v":0},{"$f":"'Diet calcs'!BN138","v":0},{"$f":"'8. Feed details'!$M$16*V146","v":0},{"$f":"'Diet calcs'!BW138","v":0},{"$f":"'8. Feed details'!$M$15*X146","v":0},{"$f":"'Diet calcs'!CF138","v":0},{"$f":"'8. Feed details'!$M$13*Z146","v":0},{"$f":"'Diet calcs'!CO138","v":0},{"$f":"'8. Feed details'!$M$14*AB146","v":0},0]
[{"$f":"'Diet calcs'!B139","v":"Softwood sawdust/shavings"},5.61,0,0,0,null,0,{"$f":"'Diet calcs'!C139","v":0},{"$f":"'8. Feed details'!$M$17*H147","v":0},{"$f":"'Diet calcs'!L139","v":0},{"$f":"'8. Feed details'!$M$18*J147","v":0},{"$f":"'Diet calcs'!U139","v":0},{"$f":"'8. Feed details'!$M$19*L147","v":0},{"$f":"'Diet calcs'!AD139","v":0},{"$f":"'8. Feed details'!$M$20*N147","v":0},{"$f":"'Diet calcs'!AM139","v":0},{"$f":"'8. Feed details'!$M$21*P147","v":0},{"$f":"'Diet calcs'!AV139","v":0},{"$f":"'8. Feed details'!$M$22*R147","v":0},{"$f":"'Diet calcs'!BE139","v":0},{"$f":"'8. Feed details'!$M$23*T147","v":0},{"$f":"'Diet calcs'!BN139","v":0},{"$f":"'8. Feed details'!$M$16*V147","v":0},{"$f":"'Diet calcs'!BW139","v":0},{"$f":"'8. Feed details'!$M$15*X147","v":0},{"$f":"'Diet calcs'!CF139","v":0},{"$f":"'8. Feed details'!$M$13*Z147","v":0},{"$f":"'Diet calcs'!CO139","v":0},{"$f":"'8. Feed details'!$M$14*AB147","v":0},0]
[{"$f":"'Diet calcs'!B140","v":"Rice Hulls"},302,0,0,0,null,0,{"$f":"'Diet calcs'!C140","v":0},{"$f":"'8. Feed details'!$M$17*H148","v":0},{"$f":"'Diet calcs'!L140","v":0},{"$f":"'8. Feed details'!$M$18*J148","v":0},{"$f":"'Diet calcs'!U140","v":0},{"$f":"'8. Feed details'!$M$19*L148","v":0},{"$f":"'Diet calcs'!AD140","v":0},{"$f":"'8. Feed details'!$M$20*N148","v":0},{"$f":"'Diet calcs'!AM140","v":0},{"$f":"'8. Feed details'!$M$21*P148","v":0},{"$f":"'Diet calcs'!AV140","v":0},{"$f":"'8. Feed details'!$M$22*R148","v":0},{"$f":"'Diet calcs'!BE140","v":0},{"$f":"'8. Feed details'!$M$23*T148","v":0},{"$f":"'Diet calcs'!BN140","v":0},{"$f":"'8. Feed details'!$M$16*V148","v":0},{"$f":"'Diet calcs'!BW140","v":0},{"$f":"'8. Feed details'!$M$15*X148","v":0},{"$f":"'Diet calcs'!CF140","v":0},{"$f":"'8. Feed details'!$M$13*Z148","v":0},{"$f":"'Diet calcs'!CO140","v":0},{"$f":"'8. Feed details'!$M$14*AB148","v":0},0]
[{"$f":"'Diet calcs'!B141","v":"Barley straw"},108,0,0,0,null,0,{"$f":"'Diet calcs'!C141","v":0},{"$f":"'8. Feed details'!$M$17*H149","v":0},{"$f":"'Diet calcs'!L141","v":0},{"$f":"'8. Feed details'!$M$18*J149","v":0},{"$f":"'Diet calcs'!U141","v":0},{"$f":"'8. Feed details'!$M$19*L149","v":0},{"$f":"'Diet calcs'!AD141","v":0},{"$f":"'8. Feed details'!$M$20*N149","v":0},{"$f":"'Diet calcs'!AM141","v":0},{"$f":"'8. Feed details'!$M$21*P149","v":0},{"$f":"'Diet calcs'!AV141","v":0},{"$f":"'8. Feed details'!$M$22*R149","v":0},{"$f":"'Diet calcs'!BE141","v":0},{"$f":"'8. Feed details'!$M$23*T149","v":0},{"$f":"'Diet calcs'!BN141","v":0},{"$f":"'8. Feed details'!$M$16*V149","v":0},{"$f":"'Diet calcs'!BW141","v":0},{"$f":"'8. Feed details'!$M$15*X149","v":0},{"$f":"'Diet calcs'!CF141","v":0},{"$f":"'8. Feed details'!$M$13*Z149","v":0},{"$f":"'Diet calcs'!CO141","v":0},{"$f":"'8. Feed details'!$M$14*AB149","v":0},0]
[{"$f":"'Diet calcs'!B142","v":"Wheat straw"},38,0,0,0,null,0,{"$f":"'Diet calcs'!C142","v":0},{"$f":"'8. Feed details'!$M$17*H150","v":0},{"$f":"'Diet calcs'!L142","v":0},{"$f":"'8. Feed details'!$M$18*J150","v":0},{"$f":"'Diet calcs'!U142","v":0},{"$f":"'8. Feed details'!$M$19*L150","v":0},{"$f":"'Diet calcs'!AD142","v":0},{"$f":"'8. Feed details'!$M$20*N150","v":0},{"$f":"'Diet calcs'!AM142","v":0},{"$f":"'8. Feed details'!$M$21*P150","v":0},{"$f":"'Diet calcs'!AV142","v":0},{"$f":"'8. Feed details'!$M$22*R150","v":0},{"$f":"'Diet calcs'!BE142","v":0},{"$f":"'8. Feed details'!$M$23*T150","v":0},{"$f":"'Diet calcs'!BN142","v":0},{"$f":"'8. Feed details'!$M$16*V150","v":0},{"$f":"'Diet calcs'!BW142","v":0},{"$f":"'8. Feed details'!$M$15*X150","v":0},{"$f":"'Diet calcs'!CF142","v":0},{"$f":"'8. Feed details'!$M$13*Z150","v":0},{"$f":"'Diet calcs'!CO142","v":0},{"$f":"'8. Feed details'!$M$14*AB150","v":0},0]
[{"$f":"'Diet calcs'!B143","v":"Shredded paper"},0,0,0,0,null,0,{"$f":"'Diet calcs'!C143","v":0},{"$f":"'8. Feed details'!$M$17*H151","v":0},{"$f":"'Diet calcs'!L143","v":0},{"$f":"'8. Feed details'!$M$18*J151","v":0},{"$f":"'Diet calcs'!U143","v":0},{"$f":"'8. Feed details'!$M$19*L151","v":0},{"$f":"'Diet calcs'!AD143","v":0},{"$f":"'8. Feed details'!$M$20*N151","v":0},{"$f":"'Diet calcs'!AM143","v":0},{"$f":"'8. Feed details'!$M$21*P151","v":0},{"$f":"'Diet calcs'!AV143","v":0},{"$f":"'8. Feed details'!$M$22*R151","v":0},{"$f":"'Diet calcs'!BE143","v":0},{"$f":"'8. Feed details'!$M$23*T151","v":0},{"$f":"'Diet calcs'!BN143","v":0},{"$f":"'8. Feed details'!$M$16*V151","v":0},{"$f":"'Diet calcs'!BW143","v":0},{"$f":"'8. Feed details'!$M$15*X151","v":0},{"$f":"'Diet calcs'!CF143","v":0},{"$f":"'8. Feed details'!$M$13*Z151","v":0},{"$f":"'Diet calcs'!CO143","v":0},{"$f":"'8. Feed details'!$M$14*AB151","v":0},0]
["Additional Ingredients"]
[{"$f":"'Diet calcs'!B145","v":"Sow milk"},0,{"$f":"SUM(I153,K153,M153,O153,Q153,S153,U153,W153,Y153,AA153,AC153)","v":10.350167039999997},{"$f":"B153*C153","v":0},{"$f":"D153/$D$160","v":0},null,0,{"$f":"'Diet calcs'!C145","v":0.9},{"$f":"'8. Feed details'!$M$17*H153","v":10.350167039999997},{"$f":"'Diet calcs'!L145","v":0},{"$f":"'8. Feed details'!$M$18*J153","v":0},{"$f":"'Diet calcs'!U145","v":0},{"$f":"'8. Feed details'!$M$19*L153","v":0},{"$f":"'Diet calcs'!AD145","v":0},{"$f":"'8. Feed details'!$M$20*N153","v":0},{"$f":"'Diet calcs'!AM145","v":0},{"$f":"'8. Feed details'!$M$21*P153","v":0},{"$f":"'Diet calcs'!AV145","v":0},{"$f":"'8. Feed details'!$M$22*R153","v":0},{"$f":"'Diet calcs'!BE145","v":0},{"$f":"'8. Feed details'!$M$23*T153","v":0},{"$f":"'Diet calcs'!BN145","v":0},{"$f":"'8. Feed details'!$M$16*V153","v":0},{"$f":"'Diet calcs'!BW145","v":0},{"$f":"'8. Feed details'!$M$15*X153","v":0},{"$f":"'Diet calcs'!CF145","v":0},{"$f":"'8. Feed details'!$M$13*Z153","v":0},{"$f":"'Diet calcs'!CO145","v":0},{"$f":"'8. Feed details'!$M$14*AB153","v":0},0.15056653010478421]
[{"$f":"'Diet calcs'!B146","v":"Milk fat"},{"$f":"B83","v":959},{"$f":"SUM(I154,K154,M154,O154,Q154,S154,U154,W154,Y154,AA154,AC154)","v":0},{"$f":"B154*C154","v":0},{"$f":"D154/$D$160","v":0},null,0,{"$f":"'Diet calcs'!C146","v":0},{"$f":"'8. Feed details'!$M$17*H154","v":0},{"$f":"'Diet calcs'!L146","v":0},{"$f":"'8. Feed details'!$M$18*J154","v":0},{"$f":"'Diet calcs'!U146","v":0},{"$f":"'8. Feed details'!$M$19*L154","v":0},{"$f":"'Diet calcs'!AD146","v":0},{"$f":"'8. Feed details'!$M$20*N154","v":0},{"$f":"'Diet calcs'!AM146","v":0},{"$f":"'8. Feed details'!$M$21*P154","v":0},{"$f":"'Diet calcs'!AV146","v":0},{"$f":"'8. Feed details'!$M$22*R154","v":0},{"$f":"'Diet calcs'!BE146","v":0},{"$f":"'8. Feed details'!$M$23*T154","v":0},{"$f":"'Diet calcs'!BN146","v":0},{"$f":"'8. Feed details'!$M$16*V154","v":0},{"$f":"'Diet calcs'!BW146","v":0},{"$f":"'8. Feed details'!$M$15*X154","v":0},{"$f":"'Diet calcs'!CF146","v":0},{"$f":"'8. Feed details'!$M$13*Z154","v":0},{"$f":"'Diet calcs'!CO146","v":0},{"$f":"'8. Feed details'!$M$14*AB154","v":0},0]
[]
["Shed Bedding"]
["Deep Litter Straw",{"$f":"B85","v":67},{"$f":"'6. Deep litter'!G24*365/1000","v":0},{"$f":"B157*C157","v":0},null,null,0]
[]
[]
["TOTAL",null,{"$f":"SUM(C5:C154)","v":6874.148612441938},{"$f":"SUM(D5:D158)","v":2223144.4622969986},{"$f":"SUM(E5:E158)","v":1.0000000000000002},null,{"$f":"SUM(G5:G157)","v":760079.25875746447},{"$f":"SUM(H5:H158)","v":1},11.500185599999996,0.99999999999999989,968.68928060662165,0.99999999999999978,1135.9705129421598,0.99999999999999989,1580.6605801558208,0.99999999999999989,1957.2642060264686,0,0,0,0,1.0000000000000002,360.75831520438339,1,751.97879386439786,1,98.48989593682208,1,8.8368421052631589,100.00000000000001]
[null,null,null,{"$f":"D160/1000","v":2223.1444622969984},"t CO2-e",null,{"$f":"G160/1000","v":760.07925875746446}]
[null,null,{"$f":"'8. Feed details'!M25","v":6874.1486124419371},null,null,null,null,null,{"$f":"'8. Feed details'!M17","v":11.500185599999996},null,{"$f":"'8. Feed details'!M18","v":968.68928060662165},null,{"$f":"'8. Feed details'!M19","v":1135.9705129421602},null,null,null,null,null,null,null,null,null,null,null,null,null,null,null,null,"CHECK"]